BEGIN:VCALENDAR
VERSION:2.0
PRODID:-//Edible Reno-Tahoe - ECPv6.15.20//NONSGML v1.0//EN
CALSCALE:GREGORIAN
METHOD:PUBLISH
X-WR-CALNAME:Edible Reno-Tahoe
X-ORIGINAL-URL:https://oldediblerenotahoe.com
X-WR-CALDESC:Events for Edible Reno-Tahoe
REFRESH-INTERVAL;VALUE=DURATION:PT1H
X-Robots-Tag:noindex
X-PUBLISHED-TTL:PT1H
BEGIN:VTIMEZONE
TZID:America/Los_Angeles
BEGIN:DAYLIGHT
TZOFFSETFROM:-0800
TZOFFSETTO:-0700
TZNAME:PDT
DTSTART:20240310T100000
END:DAYLIGHT
BEGIN:STANDARD
TZOFFSETFROM:-0700
TZOFFSETTO:-0800
TZNAME:PST
DTSTART:20241103T090000
END:STANDARD
BEGIN:DAYLIGHT
TZOFFSETFROM:-0800
TZOFFSETTO:-0700
TZNAME:PDT
DTSTART:20250309T100000
END:DAYLIGHT
BEGIN:STANDARD
TZOFFSETFROM:-0700
TZOFFSETTO:-0800
TZNAME:PST
DTSTART:20251102T090000
END:STANDARD
BEGIN:DAYLIGHT
TZOFFSETFROM:-0800
TZOFFSETTO:-0700
TZNAME:PDT
DTSTART:20260308T100000
END:DAYLIGHT
BEGIN:STANDARD
TZOFFSETFROM:-0700
TZOFFSETTO:-0800
TZNAME:PST
DTSTART:20261101T090000
END:STANDARD
END:VTIMEZONE
BEGIN:VEVENT
DTSTART;VALUE=DATE:20251101
DTEND;VALUE=DATE:20260101
DTSTAMP:20260423T171519
CREATED:20250314T165702Z
LAST-MODIFIED:20250314T165702Z
UID:42463-1761955200-1767225599@oldediblerenotahoe.com
SUMMARY:Reno Rodeo Foundation's Denim Drive
DESCRIPTION:
URL:https://oldediblerenotahoe.com/event/reno-rodeo-foundations-denim-drive/
LOCATION:NV
END:VEVENT
BEGIN:VEVENT
DTSTART;TZID=America/Los_Angeles:20251130T090000
DTEND;TZID=America/Los_Angeles:20251130T130000
DTSTAMP:20260423T171519
CREATED:20250312T173605Z
LAST-MODIFIED:20250312T173605Z
UID:42073-1764493200-1764507600@oldediblerenotahoe.com
SUMMARY:Riverside Farmers Market
DESCRIPTION:The Riverside Farmers Market is Reno’s truly local market\, with all vendors growing\, raising\, or making their goods within the tightest possible radius around Reno. The event showcases small\, local\, and sustainable farmers and ranchers who believe that healthy food begins with a healthy land. They are also are home to Reno’s newest farmers and ranchers\, making it the perfect place to meet the fine folks growing food locally for the Truckee Meadows community.
URL:https://oldediblerenotahoe.com/event/riverside-farmers-market-4-2025-11-30/
LOCATION:Idlewild Park\, 1000 Cowan Dr.\, Reno\, NV\, 89509
END:VEVENT
BEGIN:VEVENT
DTSTART;TZID=America/Los_Angeles:20251130T160000
DTEND;TZID=America/Los_Angeles:20251130T210000
DTSTAMP:20260423T171519
CREATED:20250114T035446Z
LAST-MODIFIED:20250114T035446Z
UID:41192-1764518400-1764536400@oldediblerenotahoe.com
SUMMARY:Holiday Lights Festival
DESCRIPTION:Experience the magic of the holiday season at the Holiday Lights Festival\, a dazzling celebration that will illuminate downtown Reno from City Plaza to the iconic Reno Arch. Free for artists and local car clubs\, this enchanting event transforms the heart of Reno into a festive wonderland. \nIn partnership with the City of Reno’s annual Christmas tree lighting\, the festival features holiday train rides\, photos with Santa\, a charming Christmas Village\, and much more. With its blend of twinkling lights\, joyful activities\, and community spirit\, the Holiday Lights Festival is the perfect way to kick off the season in style.
URL:https://oldediblerenotahoe.com/event/holiday-lights-festival-2-2025-11-30/
LOCATION:Reno City Plaza
END:VEVENT
END:VCALENDAR