BEGIN:VCALENDAR
VERSION:2.0
PRODID:-//Edible Reno-Tahoe - ECPv6.15.20//NONSGML v1.0//EN
CALSCALE:GREGORIAN
METHOD:PUBLISH
X-ORIGINAL-URL:https://oldediblerenotahoe.com
X-WR-CALDESC:Events for Edible Reno-Tahoe
REFRESH-INTERVAL;VALUE=DURATION:PT1H
X-Robots-Tag:noindex
X-PUBLISHED-TTL:PT1H
BEGIN:VTIMEZONE
TZID:America/Los_Angeles
BEGIN:DAYLIGHT
TZOFFSETFROM:-0800
TZOFFSETTO:-0700
TZNAME:PDT
DTSTART:20230312T100000
END:DAYLIGHT
BEGIN:STANDARD
TZOFFSETFROM:-0700
TZOFFSETTO:-0800
TZNAME:PST
DTSTART:20231105T090000
END:STANDARD
BEGIN:DAYLIGHT
TZOFFSETFROM:-0800
TZOFFSETTO:-0700
TZNAME:PDT
DTSTART:20240310T100000
END:DAYLIGHT
BEGIN:STANDARD
TZOFFSETFROM:-0700
TZOFFSETTO:-0800
TZNAME:PST
DTSTART:20241103T090000
END:STANDARD
BEGIN:DAYLIGHT
TZOFFSETFROM:-0800
TZOFFSETTO:-0700
TZNAME:PDT
DTSTART:20250309T100000
END:DAYLIGHT
BEGIN:STANDARD
TZOFFSETFROM:-0700
TZOFFSETTO:-0800
TZNAME:PST
DTSTART:20251102T090000
END:STANDARD
END:VTIMEZONE
BEGIN:VEVENT
DTSTART;TZID=America/Los_Angeles:20241027T080000
DTEND;TZID=America/Los_Angeles:20241027T170000
DTSTAMP:20260424T073857
CREATED:20240514T230029Z
LAST-MODIFIED:20240514T230029Z
UID:38514-1730016000-1730048400@oldediblerenotahoe.com
SUMMARY:6th Dirty Wookie 10K
DESCRIPTION:
URL:https://oldediblerenotahoe.com/event/6th-dirty-wookie-10k/
LOCATION:CA
CATEGORIES:Activity,Sports
END:VEVENT
BEGIN:VEVENT
DTSTART;VALUE=DATE:20241026
DTEND;VALUE=DATE:20241028
DTSTAMP:20260424T073857
CREATED:20240318T024243Z
LAST-MODIFIED:20240318T024243Z
UID:37857-1729900800-1730073599@oldediblerenotahoe.com
SUMMARY:Animal Ark Harvest Festival
DESCRIPTION:Visit throughout the day to catch Animal Ark animals receiving special pumpkin treats and participate in fun harvest activities and stations.
URL:https://oldediblerenotahoe.com/event/animal-ark-harvest-festival/
LOCATION:Animal Ark\, 1265 Deerlodge Road\, Reno
CATEGORIES:Activity,Family friendly
END:VEVENT
BEGIN:VEVENT
DTSTART;TZID=America/Los_Angeles:20241006T080000
DTEND;TZID=America/Los_Angeles:20241006T170000
DTSTAMP:20260424T073857
CREATED:20240514T225928Z
LAST-MODIFIED:20240514T225928Z
UID:38512-1728201600-1728234000@oldediblerenotahoe.com
SUMMARY:Rock Reno Half Marathon\, Relay & 5K
DESCRIPTION:
URL:https://oldediblerenotahoe.com/event/rock-reno-half-marathon-relay-5k/
LOCATION:CA
CATEGORIES:Activity,Spirits
END:VEVENT
BEGIN:VEVENT
DTSTART;TZID=America/Los_Angeles:20240928T100000
DTEND;TZID=America/Los_Angeles:20240928T163000
DTSTAMP:20260424T073857
CREATED:20240318T024120Z
LAST-MODIFIED:20240318T024120Z
UID:37855-1727517600-1727541000@oldediblerenotahoe.com
SUMMARY:Animal Ark Conservation Expo
DESCRIPTION:Discover diverse wildlife preservation efforts through interactive booths and speakers to learn how you can make a difference in protecting our planet’s wildlife and biodiversity.
URL:https://oldediblerenotahoe.com/event/animal-ark-conservation-expo/
LOCATION:Animal Ark\, 1265 Deerlodge Road\, Reno
CATEGORIES:Activity,Community Class
END:VEVENT
BEGIN:VEVENT
DTSTART;TZID=America/Los_Angeles:20240915T073000
DTEND;TZID=America/Los_Angeles:20240915T120000
DTSTAMP:20260424T073857
CREATED:20240514T225844Z
LAST-MODIFIED:20240514T225844Z
UID:38510-1726385400-1726401600@oldediblerenotahoe.com
SUMMARY:7th Reno 10 Miler & Relay
DESCRIPTION:
URL:https://oldediblerenotahoe.com/event/7th-reno-10-miler-relay/
LOCATION:CA
CATEGORIES:Activity,Sports
END:VEVENT
BEGIN:VEVENT
DTSTART;VALUE=DATE:20240906
DTEND;VALUE=DATE:20240909
DTSTAMP:20260424T073857
CREATED:20240415T031411Z
LAST-MODIFIED:20240415T031411Z
UID:38144-1725580800-1725839999@oldediblerenotahoe.com
SUMMARY:The Great Reno Balloon Race
DESCRIPTION:
URL:https://oldediblerenotahoe.com/event/the-great-reno-balloon-race-2/
LOCATION:CA
CATEGORIES:Activity,Community Events
END:VEVENT
BEGIN:VEVENT
DTSTART;VALUE=DATE:20240828
DTEND;VALUE=DATE:20240903
DTSTAMP:20260424T073857
CREATED:20240318T025609Z
LAST-MODIFIED:20240318T025609Z
UID:37865-1724803200-1725321599@oldediblerenotahoe.com
SUMMARY:Best in the West Nugget Rib Cook Off
DESCRIPTION:
URL:https://oldediblerenotahoe.com/event/best-in-the-west-nugget-rib-cook-off-2/
LOCATION:Victorian Square\, Sparks\, NV\, 89431
CATEGORIES:Activity,Festival,Food & Drink
END:VEVENT
BEGIN:VEVENT
DTSTART;VALUE=DATE:20240825
DTEND;VALUE=DATE:20240826
DTSTAMP:20260424T073857
CREATED:20231024T223916Z
LAST-MODIFIED:20231024T223916Z
UID:34837-1724544000-1724630399@oldediblerenotahoe.com
SUMMARY:53rd Annual Journal Jog 8k
DESCRIPTION:
URL:https://oldediblerenotahoe.com/event/53rd-annual-journal-jog-8k/
LOCATION:CA
CATEGORIES:Activity,Exercise,Family friendly
END:VEVENT
BEGIN:VEVENT
DTSTART;TZID=America/Los_Angeles:20240824T200000
DTEND;TZID=America/Los_Angeles:20240824T223000
DTSTAMP:20260424T073857
CREATED:20240318T023948Z
LAST-MODIFIED:20240318T023948Z
UID:37853-1724529600-1724538600@oldediblerenotahoe.com
SUMMARY:Ark At Dark
DESCRIPTION:Wolves and coyotes howling and big cats growling in the night: its Ark at Dark! Enjoy a guided flashlight tour and see Animal Ark’s nocturnal predators in their element.
URL:https://oldediblerenotahoe.com/event/ark-at-dark-2-2024-08-24/
LOCATION:Animal Ark\, 1265 Deerlodge Road\, Reno
CATEGORIES:Activity
END:VEVENT
BEGIN:VEVENT
DTSTART;TZID=America/Los_Angeles:20240824T170000
DTEND;TZID=America/Los_Angeles:20240824T210000
DTSTAMP:20260424T073857
CREATED:20240318T030205Z
LAST-MODIFIED:20240318T030205Z
UID:37869-1724518800-1724533200@oldediblerenotahoe.com
SUMMARY:Water Lantern Festival
DESCRIPTION:Water Lantern Festival is filled with fun\, happiness\, hope\, and great memories that you’ll cherish for a lifetime. This is a family friendly event that can be shared by everyone. Friends\, families\, neighbors\, and lots of people that you haven’t met can come together to create a peaceful\, memorable experience.
URL:https://oldediblerenotahoe.com/event/water-lantern-festival-2/
LOCATION:Sparks Marina\, 300 Howard Dr\, Sparks
CATEGORIES:Activity,Family friendly
END:VEVENT
BEGIN:VEVENT
DTSTART;TZID=America/Los_Angeles:20240818T100000
DTEND;TZID=America/Los_Angeles:20240818T200000
DTSTAMP:20260424T073857
CREATED:20240318T023409Z
LAST-MODIFIED:20240318T023409Z
UID:37846-1723975200-1724011200@oldediblerenotahoe.com
SUMMARY:Andelin Family Farm Summer Festival
DESCRIPTION:The summer festival is a fun and memorable experience for all farm guests! Admission includes access to the U-pick fields\, hay ride\, mini zips\, meeting the farm animals\, kitten barn experience\, barnyard activities and more!
URL:https://oldediblerenotahoe.com/event/andelin-family-farm-summer-festival-2024-08-18/
LOCATION:Andelin Family Farm\, 8100 Pyramid Way\, Spanish Springs\, NV\, 89436
CATEGORIES:Activity,Family friendly,Festival
END:VEVENT
BEGIN:VEVENT
DTSTART;VALUE=DATE:20240817
DTEND;VALUE=DATE:20240818
DTSTAMP:20260424T073857
CREATED:20240318T030010Z
LAST-MODIFIED:20240318T030010Z
UID:37867-1723852800-1723939199@oldediblerenotahoe.com
SUMMARY:Northern Nevada International Dragon Boat Festival
DESCRIPTION:With eighty acres of water accommodating swimming\, boating\, fishing\, and scuba diving\, Sparks Marina provides the perfect conditions for stellar dragon boat racing. Add in breath-taking views of the nearby mountains\, and you’ve got one of the most picturesque venues on the MLDB calendar. \nLike all other MLDB festivals\, this event is a travel destination offering crews plenty to see and do before and after the races. Adventurous paddlers will want to extend their stay to enjoy Whitewater Park at Rock Park for kayaking\, tubing\, and rafting; while those with a fever for shopping will want to check out Scheels\, the largest total sports store in the world\, or nearby outlet malls. Seeking nighttime entertainment? Reno is only minutes from downtown Sparks. Whatever your flavor\, Sparks has you covered to make your stay a truly memorable one. \nPaddlers\, weekend warriors\, and families are invited to join us in the festivities and excitement throughout the day at Sparks Marina! Visit the many vendors and exhibitors in the Health and Wellness Village\, Food Truck Bazaar\, and more. \nGather your friends\, family\, and colleagues and register your team today to enjoy a full day of racing! Whether you’re a beginner paddler or dragon boat pro\, you’re sure to have a wonderful time racing in the City of Sparks!
URL:https://oldediblerenotahoe.com/event/northern-nevada-international-dragon-boat-festival-2/
LOCATION:Sparks Marina\, 300 Howard Dr\, Sparks
CATEGORIES:Activity
END:VEVENT
BEGIN:VEVENT
DTSTART;TZID=America/Los_Angeles:20240816T160000
DTEND;TZID=America/Los_Angeles:20240816T200000
DTSTAMP:20260424T073857
CREATED:20240318T023409Z
LAST-MODIFIED:20240318T023409Z
UID:37845-1723824000-1723838400@oldediblerenotahoe.com
SUMMARY:Andelin Family Farm Summer Festival
DESCRIPTION:The summer festival is a fun and memorable experience for all farm guests! Admission includes access to the U-pick fields\, hay ride\, mini zips\, meeting the farm animals\, kitten barn experience\, barnyard activities and more!
URL:https://oldediblerenotahoe.com/event/andelin-family-farm-summer-festival-2024-08-16/
LOCATION:Andelin Family Farm\, 8100 Pyramid Way\, Spanish Springs\, NV\, 89436
CATEGORIES:Activity,Family friendly,Festival
END:VEVENT
BEGIN:VEVENT
DTSTART;TZID=America/Los_Angeles:20240815T160000
DTEND;TZID=America/Los_Angeles:20240815T200000
DTSTAMP:20260424T073857
CREATED:20240318T023409Z
LAST-MODIFIED:20240318T023409Z
UID:37844-1723737600-1723752000@oldediblerenotahoe.com
SUMMARY:Andelin Family Farm Summer Festival
DESCRIPTION:The summer festival is a fun and memorable experience for all farm guests! Admission includes access to the U-pick fields\, hay ride\, mini zips\, meeting the farm animals\, kitten barn experience\, barnyard activities and more!
URL:https://oldediblerenotahoe.com/event/andelin-family-farm-summer-festival-2024-08-15-2/
LOCATION:Andelin Family Farm\, 8100 Pyramid Way\, Spanish Springs\, NV\, 89436
CATEGORIES:Activity,Family friendly,Festival
END:VEVENT
BEGIN:VEVENT
DTSTART;TZID=America/Los_Angeles:20240815T100000
DTEND;TZID=America/Los_Angeles:20240815T200000
DTSTAMP:20260424T073857
CREATED:20240318T023409Z
LAST-MODIFIED:20240318T023409Z
UID:37843-1723716000-1723752000@oldediblerenotahoe.com
SUMMARY:Andelin Family Farm Summer Festival
DESCRIPTION:The summer festival is a fun and memorable experience for all farm guests! Admission includes access to the U-pick fields\, hay ride\, mini zips\, meeting the farm animals\, kitten barn experience\, barnyard activities and more!
URL:https://oldediblerenotahoe.com/event/andelin-family-farm-summer-festival-2024-08-15/
LOCATION:Andelin Family Farm\, 8100 Pyramid Way\, Spanish Springs\, NV\, 89436
CATEGORIES:Activity,Family friendly,Festival
END:VEVENT
BEGIN:VEVENT
DTSTART;TZID=America/Los_Angeles:20240811T100000
DTEND;TZID=America/Los_Angeles:20240811T200000
DTSTAMP:20260424T073857
CREATED:20240318T023409Z
LAST-MODIFIED:20240318T023409Z
UID:37842-1723370400-1723406400@oldediblerenotahoe.com
SUMMARY:Andelin Family Farm Summer Festival
DESCRIPTION:The summer festival is a fun and memorable experience for all farm guests! Admission includes access to the U-pick fields\, hay ride\, mini zips\, meeting the farm animals\, kitten barn experience\, barnyard activities and more!
URL:https://oldediblerenotahoe.com/event/andelin-family-farm-summer-festival-2024-08-11/
LOCATION:Andelin Family Farm\, 8100 Pyramid Way\, Spanish Springs\, NV\, 89436
CATEGORIES:Activity,Family friendly,Festival
END:VEVENT
BEGIN:VEVENT
DTSTART;TZID=America/Los_Angeles:20240809T160000
DTEND;TZID=America/Los_Angeles:20240809T200000
DTSTAMP:20260424T073857
CREATED:20240318T023409Z
LAST-MODIFIED:20240318T023409Z
UID:37841-1723219200-1723233600@oldediblerenotahoe.com
SUMMARY:Andelin Family Farm Summer Festival
DESCRIPTION:The summer festival is a fun and memorable experience for all farm guests! Admission includes access to the U-pick fields\, hay ride\, mini zips\, meeting the farm animals\, kitten barn experience\, barnyard activities and more!
URL:https://oldediblerenotahoe.com/event/andelin-family-farm-summer-festival-2024-08-09/
LOCATION:Andelin Family Farm\, 8100 Pyramid Way\, Spanish Springs\, NV\, 89436
CATEGORIES:Activity,Family friendly,Festival
END:VEVENT
BEGIN:VEVENT
DTSTART;VALUE=DATE:20240809
DTEND;VALUE=DATE:20240811
DTSTAMP:20260424T073857
CREATED:20240408T031430Z
LAST-MODIFIED:20240408T031430Z
UID:38026-1723161600-1723334399@oldediblerenotahoe.com
SUMMARY:Lake Tahoe Concours D'Elegance
DESCRIPTION:The Lake Tahoe Concours d’Elegance celebrates its 50th anniversary August 9-10\, 2024 on Lake Tahoe’s scenic West Shore with a must-see Marque Class of 50 Years of Past Overall Best in Show Winners! Concours is renowned as a showcase of some of the most well-preserved and restored wooden boats in the world and is unrivaled in its exhibition and preservation of maritime tradition. Presented by the Tahoe Yacht Club Foundation and its perpetual partner\, Tahoe Luxury Properties\, the Concours experience features luxury shopping\, live jazz music\, cuisine prepared by local chefs\, the fully stocked Watering Hole bar\, and our famed Silent Auction. A portion of the proceeds from your ticket goes directly to the Lake Tahoe Community. This isn’t just a show. It’s a lifestyle.
URL:https://oldediblerenotahoe.com/event/lake-tahoe-concours-delegance/
LOCATION:Lake Tahoe
CATEGORIES:Activity
END:VEVENT
BEGIN:VEVENT
DTSTART;TZID=America/Los_Angeles:20240808T160000
DTEND;TZID=America/Los_Angeles:20240808T200000
DTSTAMP:20260424T073857
CREATED:20240318T023409Z
LAST-MODIFIED:20240318T023409Z
UID:37840-1723132800-1723147200@oldediblerenotahoe.com
SUMMARY:Andelin Family Farm Summer Festival
DESCRIPTION:The summer festival is a fun and memorable experience for all farm guests! Admission includes access to the U-pick fields\, hay ride\, mini zips\, meeting the farm animals\, kitten barn experience\, barnyard activities and more!
URL:https://oldediblerenotahoe.com/event/andelin-family-farm-summer-festival/
LOCATION:Andelin Family Farm\, 8100 Pyramid Way\, Spanish Springs\, NV\, 89436
CATEGORIES:Activity,Family friendly,Festival
END:VEVENT
BEGIN:VEVENT
DTSTART;TZID=America/Los_Angeles:20240803T200000
DTEND;TZID=America/Los_Angeles:20240803T223000
DTSTAMP:20260424T073857
CREATED:20240318T023948Z
LAST-MODIFIED:20240318T023948Z
UID:37852-1722715200-1722724200@oldediblerenotahoe.com
SUMMARY:Ark At Dark
DESCRIPTION:Wolves and coyotes howling and big cats growling in the night: its Ark at Dark! Enjoy a guided flashlight tour and see Animal Ark’s nocturnal predators in their element.
URL:https://oldediblerenotahoe.com/event/ark-at-dark-2/
LOCATION:Animal Ark\, 1265 Deerlodge Road\, Reno
CATEGORIES:Activity
END:VEVENT
BEGIN:VEVENT
DTSTART;TZID=America/Los_Angeles:20240720T170000
DTEND;TZID=America/Los_Angeles:20240720T190000
DTSTAMP:20260424T073857
CREATED:20240624T190510Z
LAST-MODIFIED:20240624T190510Z
UID:38885-1721494800-1721502000@oldediblerenotahoe.com
SUMMARY:Equestrian Saturday Night BBQ
DESCRIPTION:Join fellow equestrians for a fun-filled and family-friendly evening of games\, crafts\, contests and a delicious barbecue dinner.\nHighlights include: \n\nPony rides for ages 2-6 (must weigh less than 60 pounds)\nCornhole and roping station\nFamily dress-up and photo station\nHunt for the golden horseshoe\nFamily water balloon toss\n\nMenu features hot dogs\, veggie burgers and hamburgers personalized with favorites from an extensive topping bar that includes bacon\, sauteed mushrooms\, avocado\, veggies\, cheddar\, Swiss and blue cheese. Additional sides and desserts include baked beans\, salads\, brownies and vanilla ice cream.
URL:https://oldediblerenotahoe.com/event/equestrian-saturday-night-bbq/
LOCATION:Alder Creek Adventure Center\, 15275 Alder Creek Rd\, Truckee\, CA\, 96161
CATEGORIES:Activity,Food & Drink
END:VEVENT
BEGIN:VEVENT
DTSTART;TZID=America/Los_Angeles:20240706T163000
DTEND;TZID=America/Los_Angeles:20240706T193000
DTSTAMP:20260424T073857
CREATED:20240318T023808Z
LAST-MODIFIED:20240318T023808Z
UID:37850-1720283400-1720294200@oldediblerenotahoe.com
SUMMARY:Ales & Tails
DESCRIPTION:Enjoy a cool summer evening amongst big cats\, foxes\, and bears with Animal Ark’s 21+ evening featuring local beer and wine vendors.
URL:https://oldediblerenotahoe.com/event/ales-tails/
LOCATION:Animal Ark\, 1265 Deerlodge Road\, Reno
CATEGORIES:21+,Activity,Beer
END:VEVENT
BEGIN:VEVENT
DTSTART;TZID=America/Los_Angeles:20240629T090000
DTEND;TZID=America/Los_Angeles:20240629T110000
DTSTAMP:20260424T073857
CREATED:20240506T023911Z
LAST-MODIFIED:20240506T023911Z
UID:38443-1719651600-1719658800@oldediblerenotahoe.com
SUMMARY:Historic Reno Preservation Society Walking Tour: Movie Footprints
DESCRIPTION:Walk in the footsteps of Marilyn Monroe\, Clint Eastwood\, Helen Mirren and more. Explore downtown’s film history inspired by divorce\, gambling and the city’s distinct look in such movies as The Misfits\, Sister Act and Love Ranch. Meet by the Northeast lobby\nentrance of the National Automobile Museum\, 10 South Lake Street. Guide: Robin Holabird. \nThe Historic Walking Tours are HRPS’ longest running educational service. Come celebrate our 27th anniversary with this mix of oldies but goodies\, revised and resurrected tours. Reservations required. Space is limited. If the tour is full\, you will be waitlisted and emailed if space opens. Please cancel if you make a reservation and cannot attend.
URL:https://oldediblerenotahoe.com/event/historic-reno-preservation-society-walking-tour-movie-footprints/
LOCATION:CA
CATEGORIES:Activity
END:VEVENT
BEGIN:VEVENT
DTSTART;TZID=America/Los_Angeles:20240625T180000
DTEND;TZID=America/Los_Angeles:20240625T200000
DTSTAMP:20260424T073857
CREATED:20240506T023824Z
LAST-MODIFIED:20240506T023824Z
UID:38444-1719338400-1719345600@oldediblerenotahoe.com
SUMMARY:Historic Reno Preservation Society Walking Tour: Circle Drive/Southridge
DESCRIPTION:Learn about Southridge Estates\, one of Reno’s most outstanding residential areas in the early 1950s. This neighborhood features large yards\, big trees and the beautiful ranch style homes of many prominent Renoites. Meet outside 1615 Circle Drive. Guide: Caroline Asikainen. \nThe Historic Walking Tours are HRPS’ longest running educational service. Come celebrate our 27th anniversary with this mix of oldies but goodies\, revised and resurrected tours. Reservations required. Space is limited. If the tour is full\, you will be waitlisted and emailed if space opens. Please cancel if you make a reservation and cannot attend.
URL:https://oldediblerenotahoe.com/event/historic-reno-preservation-society-walking-tour-circle-drive-southridge/
LOCATION:CA
CATEGORIES:Activity
END:VEVENT
BEGIN:VEVENT
DTSTART;TZID=America/Los_Angeles:20240622T090000
DTEND;TZID=America/Los_Angeles:20240622T110000
DTSTAMP:20260424T073857
CREATED:20240506T023732Z
LAST-MODIFIED:20240506T023732Z
UID:38445-1719046800-1719054000@oldediblerenotahoe.com
SUMMARY:Historic Reno Preservation Society Walking Tour: Parson/Mills Architecture
DESCRIPTION:View some of the designs of Reno architects Edward Parsons and Russell Mills who were known to collaborate on designs in this unique neighborhood. Hear about the families who first lived in these homes. Meet at the corner of Marsh and LaRue Avenues. Guide: Madeline Van der Voort. \nThe Historic Walking Tours are HRPS’ longest running educational service. Come celebrate our 27th anniversary with this mix of oldies but goodies\, revised and resurrected tours. Reservations required. Space is limited. If the tour is full\, you will be waitlisted and emailed if space opens. Please cancel if you make a reservation and cannot attend.
URL:https://oldediblerenotahoe.com/event/historic-reno-preservation-society-walking-tour-parson-mills-architecture/
LOCATION:CA
CATEGORIES:Activity
END:VEVENT
BEGIN:VEVENT
DTSTART;VALUE=DATE:20240621
DTEND;VALUE=DATE:20240624
DTSTAMP:20260424T073857
CREATED:20231217T002710Z
LAST-MODIFIED:20231217T002710Z
UID:36207-1718928000-1719187199@oldediblerenotahoe.com
SUMMARY:14th Annual Franktown Meadows Hunter Derby
DESCRIPTION:The Franktown Meadows Hunter Derby is truly a remarkable experience for athletes and spectators alike. This one-of-a-kind equestrian competition raises charitable funds for deserving nonprofit organizations serving the northern Nevada community. \nSpectators are invited to enjoy three days of competition\, promenade of shops\, and an array of food trucks. 
URL:https://oldediblerenotahoe.com/event/14th-annual-franktown-meadows-hunter-derby/
LOCATION:Franktown Meadows Equestrian Facility\, 4200 State Rd 429\, Carson City\, NV\, 89704
CATEGORIES:Activity,Sports
ATTACH;FMTTYPE=image/jpeg:https://oldediblerenotahoe.com/wp-content/uploads/2023/12/327440069_732259358181999_1912511038994361192_n.jpeg
END:VEVENT
BEGIN:VEVENT
DTSTART;TZID=America/Los_Angeles:20240618T180000
DTEND;TZID=America/Los_Angeles:20240618T200000
DTSTAMP:20260424T073857
CREATED:20240506T023647Z
LAST-MODIFIED:20240506T023647Z
UID:38446-1718733600-1718740800@oldediblerenotahoe.com
SUMMARY:Historic Reno Preservation Society Walking Tour: El Reno Apartments
DESCRIPTION:Visit the original site of these unique homes and view seven at their new locations. See other Sierra Vista Addition architecture such as the August Hill brick houses and the impressive stone home of eccentric millionaire LaVere Redfield. Meet in the Northwest corner of the Statewide Lighting parking lot\, 1311 S. Virginia Street. Guide: Deb Hinman. \nThe Historic Walking Tours are HRPS’ longest running educational service. Come celebrate our 27th anniversary with this mix of oldies but goodies\, revised and resurrected tours. Reservations required. Space is limited. If the tour is full\, you will be waitlisted and emailed if space opens. Please cancel if you make a reservation and cannot attend.
URL:https://oldediblerenotahoe.com/event/historic-reno-preservation-society-walking-tour-el-reno-apartments/
LOCATION:CA
CATEGORIES:Activity
END:VEVENT
BEGIN:VEVENT
DTSTART;TZID=America/Los_Angeles:20240616T110000
DTEND;TZID=America/Los_Angeles:20240616T220000
DTSTAMP:20260424T073857
CREATED:20240318T024856Z
LAST-MODIFIED:20240318T024856Z
UID:37863-1718535600-1718575200@oldediblerenotahoe.com
SUMMARY:Nevada State Fair
DESCRIPTION:Nevada State Fair returns to Carson City\, Nevada’s great capital. Four fun filled days of entertainment\, carnival rides\, culture\, music and so much more. The Nevada State Fair is proud to celebrate our great State of Nevada. Come on out and enjoy our beautiful June weather with a full day of activities at Mills Park. \nPark at Carson High School or Mills Park Parking Lot and use crosswalks when crossing streets to access the park.
URL:https://oldediblerenotahoe.com/event/nevada-state-fair-2024-06-16/
LOCATION:Mills Park\, 111 E William St\, Carson City\, NV\, 89701
CATEGORIES:Activity,Family friendly
END:VEVENT
BEGIN:VEVENT
DTSTART;TZID=America/Los_Angeles:20240616T090000
DTEND;TZID=America/Los_Angeles:20240616T110000
DTSTAMP:20260424T073857
CREATED:20240506T023540Z
LAST-MODIFIED:20240506T023540Z
UID:38466-1718528400-1718535600@oldediblerenotahoe.com
SUMMARY:Historic Reno Preservation Society Walking Tour: Mansions on The Bluff/Court Street
DESCRIPTION:Many of Reno’s prominent families built generous homes on this once treeless bluff overlooking the Truckee River with panoramic views of Peavine Mountain and the Sierra. Take in the beauty and charm of this neighborhood. Meet on the sidewalk at the McCarran Mansion\, 401 Court Street. Guide: Pat Cantwell. \nThe Historic Walking Tours are HRPS’ longest running educational service. Come celebrate our 27th anniversary with this mix of oldies but goodies\, revised and resurrected tours. Reservations required. Space is limited. If the tour is full\, you will be waitlisted and emailed if space opens. Please cancel if you make a reservation and cannot attend.
URL:https://oldediblerenotahoe.com/event/historic-reno-preservation-society-walking-tour-mansions-on-the-bluff-court-street-2024-06-16/
LOCATION:CA
CATEGORIES:Activity
END:VEVENT
BEGIN:VEVENT
DTSTART;TZID=America/Los_Angeles:20240615T110000
DTEND;TZID=America/Los_Angeles:20240615T220000
DTSTAMP:20260424T073857
CREATED:20240318T024856Z
LAST-MODIFIED:20240318T024856Z
UID:37862-1718449200-1718488800@oldediblerenotahoe.com
SUMMARY:Nevada State Fair
DESCRIPTION:Nevada State Fair returns to Carson City\, Nevada’s great capital. Four fun filled days of entertainment\, carnival rides\, culture\, music and so much more. The Nevada State Fair is proud to celebrate our great State of Nevada. Come on out and enjoy our beautiful June weather with a full day of activities at Mills Park. \nPark at Carson High School or Mills Park Parking Lot and use crosswalks when crossing streets to access the park.
URL:https://oldediblerenotahoe.com/event/nevada-state-fair-2024-06-15/
LOCATION:Mills Park\, 111 E William St\, Carson City\, NV\, 89701
CATEGORIES:Activity,Family friendly
END:VEVENT
END:VCALENDAR