BEGIN:VCALENDAR
VERSION:2.0
PRODID:-//Edible Reno-Tahoe - ECPv6.15.20//NONSGML v1.0//EN
CALSCALE:GREGORIAN
METHOD:PUBLISH
X-WR-CALNAME:Edible Reno-Tahoe
X-ORIGINAL-URL:https://oldediblerenotahoe.com
X-WR-CALDESC:Events for Edible Reno-Tahoe
REFRESH-INTERVAL;VALUE=DURATION:PT1H
X-Robots-Tag:noindex
X-PUBLISHED-TTL:PT1H
BEGIN:VTIMEZONE
TZID:America/Los_Angeles
BEGIN:DAYLIGHT
TZOFFSETFROM:-0800
TZOFFSETTO:-0700
TZNAME:PDT
DTSTART:20220313T100000
END:DAYLIGHT
BEGIN:STANDARD
TZOFFSETFROM:-0700
TZOFFSETTO:-0800
TZNAME:PST
DTSTART:20221106T090000
END:STANDARD
BEGIN:DAYLIGHT
TZOFFSETFROM:-0800
TZOFFSETTO:-0700
TZNAME:PDT
DTSTART:20230312T100000
END:DAYLIGHT
BEGIN:STANDARD
TZOFFSETFROM:-0700
TZOFFSETTO:-0800
TZNAME:PST
DTSTART:20231105T090000
END:STANDARD
BEGIN:DAYLIGHT
TZOFFSETFROM:-0800
TZOFFSETTO:-0700
TZNAME:PDT
DTSTART:20240310T100000
END:DAYLIGHT
BEGIN:STANDARD
TZOFFSETFROM:-0700
TZOFFSETTO:-0800
TZNAME:PST
DTSTART:20241103T090000
END:STANDARD
END:VTIMEZONE
BEGIN:VEVENT
DTSTART;TZID=America/Los_Angeles:20231031T150000
DTEND;TZID=America/Los_Angeles:20231031T180000
DTSTAMP:20260425T191746
CREATED:20231031T162417Z
LAST-MODIFIED:20231031T162417Z
UID:35116-1698764400-1698775200@oldediblerenotahoe.com
SUMMARY:Trick or Treat CAR-Nival Halloween Party
DESCRIPTION:The National Automobile Museum is holding its Trick or Treat CAR-Nival Halloween Party on October 31st from 3 to 6:30 pm. Admission is $3 at the door. People can indulge in candy stations\, play games\, and win amazing prizes! Plus\, the Museum’s theatre will be showing It’s the Great Pumpkin\, Charlie Brown!
URL:https://oldediblerenotahoe.com/event/trick-or-treat-car-nival-halloween-party/
LOCATION:National Automobile Museum\, 10 South Lake St.\, Reno\, 89501
CATEGORIES:Activity,Family friendly,Holiday
END:VEVENT
BEGIN:VEVENT
DTSTART;TZID=America/Los_Angeles:20231031T100000
DTEND;TZID=America/Los_Angeles:20231031T200000
DTSTAMP:20260425T191746
CREATED:20231002T214842Z
LAST-MODIFIED:20231002T214842Z
UID:34450-1698746400-1698782400@oldediblerenotahoe.com
SUMMARY:Ferrari Farms Fall Festival
DESCRIPTION:Explore Ferrari Farms’ haunted corn maze\, country story\, farm animals\, and more during their Fall Festival.
URL:https://oldediblerenotahoe.com/event/ferrarifestival-2023-10-31/
LOCATION:Ferrari Farms\, 4701 Mill Street\, Reno\, NV\, 89502
CATEGORIES:Activity,Festival
END:VEVENT
BEGIN:VEVENT
DTSTART;TZID=America/Los_Angeles:20231030T170000
DTEND;TZID=America/Los_Angeles:20231030T210000
DTSTAMP:20260425T191746
CREATED:20231004T020351Z
LAST-MODIFIED:20231004T020351Z
UID:34501-1698685200-1698699600@oldediblerenotahoe.com
SUMMARY:Halloween Wine & Movie Nights
DESCRIPTION:Join in for a delightful blend of sips and scares this Halloween at Wine and Movie Nights! Enjoy seasonal classics while savoring a glass of wine\, providing a perfect atmosphere for relaxation. The movies commence at 5 pm\, and this event is exclusively for adults aged 21 and over. Admission is free!
URL:https://oldediblerenotahoe.com/event/wineandmovienights-2023-10-30/
LOCATION:Tahoe Wine Collective\, 760 North Lake Boulevard\, Tahoe City\, CA
CATEGORIES:21+,Activity,Wine
ATTACH;FMTTYPE=image/png:https://oldediblerenotahoe.com/wp-content/uploads/2023/10/halloweenmovie.png
END:VEVENT
BEGIN:VEVENT
DTSTART;TZID=America/Los_Angeles:20231030T100000
DTEND;TZID=America/Los_Angeles:20231030T200000
DTSTAMP:20260425T191746
CREATED:20231002T214842Z
LAST-MODIFIED:20231002T214842Z
UID:34449-1698660000-1698696000@oldediblerenotahoe.com
SUMMARY:Ferrari Farms Fall Festival
DESCRIPTION:Explore Ferrari Farms’ haunted corn maze\, country story\, farm animals\, and more during their Fall Festival.
URL:https://oldediblerenotahoe.com/event/ferrarifestival-2023-10-30/
LOCATION:Ferrari Farms\, 4701 Mill Street\, Reno\, NV\, 89502
CATEGORIES:Activity,Festival
END:VEVENT
BEGIN:VEVENT
DTSTART;TZID=America/Los_Angeles:20231029T170000
DTEND;TZID=America/Los_Angeles:20231029T210000
DTSTAMP:20260425T191746
CREATED:20231004T020351Z
LAST-MODIFIED:20231004T020351Z
UID:34500-1698598800-1698613200@oldediblerenotahoe.com
SUMMARY:Halloween Wine & Movie Nights
DESCRIPTION:Join in for a delightful blend of sips and scares this Halloween at Wine and Movie Nights! Enjoy seasonal classics while savoring a glass of wine\, providing a perfect atmosphere for relaxation. The movies commence at 5 pm\, and this event is exclusively for adults aged 21 and over. Admission is free!
URL:https://oldediblerenotahoe.com/event/wineandmovienights-2023-10-29/
LOCATION:Tahoe Wine Collective\, 760 North Lake Boulevard\, Tahoe City\, CA
CATEGORIES:21+,Activity,Wine
ATTACH;FMTTYPE=image/png:https://oldediblerenotahoe.com/wp-content/uploads/2023/10/halloweenmovie.png
END:VEVENT
BEGIN:VEVENT
DTSTART;TZID=America/Los_Angeles:20231029T100000
DTEND;TZID=America/Los_Angeles:20231029T200000
DTSTAMP:20260425T191746
CREATED:20231002T214842Z
LAST-MODIFIED:20231002T214842Z
UID:34448-1698573600-1698609600@oldediblerenotahoe.com
SUMMARY:Ferrari Farms Fall Festival
DESCRIPTION:Explore Ferrari Farms’ haunted corn maze\, country story\, farm animals\, and more during their Fall Festival.
URL:https://oldediblerenotahoe.com/event/ferrarifestival-2023-10-29/
LOCATION:Ferrari Farms\, 4701 Mill Street\, Reno\, NV\, 89502
CATEGORIES:Activity,Festival
END:VEVENT
BEGIN:VEVENT
DTSTART;TZID=America/Los_Angeles:20231028T173000
DTEND;TZID=America/Los_Angeles:20231028T193000
DTSTAMP:20260425T191746
CREATED:20231004T015853Z
LAST-MODIFIED:20231004T015853Z
UID:34493-1698514200-1698521400@oldediblerenotahoe.com
SUMMARY:Pumpkin Carving Contest
DESCRIPTION:Participate in a spook-tacular pumpkin carving contest at Boatworks at Lake Tahoe! Bring your expertly carved pumpkins to showcase your hauntingly good skills and a chance to win exciting prizes.
URL:https://oldediblerenotahoe.com/event/pumpkincarvingcontest/
LOCATION:Boatworks Mall\, 760 North Lake Boulevard\, #2\, Tahoe City\, CA\, 96145
CATEGORIES:Activity,Holiday
ATTACH;FMTTYPE=image/png:https://oldediblerenotahoe.com/wp-content/uploads/2023/10/pumpkin.png
END:VEVENT
BEGIN:VEVENT
DTSTART;TZID=America/Los_Angeles:20231028T170000
DTEND;TZID=America/Los_Angeles:20231028T210000
DTSTAMP:20260425T191746
CREATED:20231004T020351Z
LAST-MODIFIED:20231004T020351Z
UID:34496-1698512400-1698526800@oldediblerenotahoe.com
SUMMARY:Halloween Wine & Movie Nights
DESCRIPTION:Join in for a delightful blend of sips and scares this Halloween at Wine and Movie Nights! Enjoy seasonal classics while savoring a glass of wine\, providing a perfect atmosphere for relaxation. The movies commence at 5 pm\, and this event is exclusively for adults aged 21 and over. Admission is free!
URL:https://oldediblerenotahoe.com/event/wineandmovienights/
LOCATION:Tahoe Wine Collective\, 760 North Lake Boulevard\, Tahoe City\, CA
CATEGORIES:21+,Activity,Wine
ATTACH;FMTTYPE=image/png:https://oldediblerenotahoe.com/wp-content/uploads/2023/10/halloweenmovie.png
END:VEVENT
BEGIN:VEVENT
DTSTART;TZID=America/Los_Angeles:20231028T163000
DTEND;TZID=America/Los_Angeles:20231028T210000
DTSTAMP:20260425T191746
CREATED:20231016T204201Z
LAST-MODIFIED:20231016T204201Z
UID:34602-1698510600-1698526800@oldediblerenotahoe.com
SUMMARY:Galena Creek Fall Festival
DESCRIPTION:Join KTMB for adult beverages\, costumes\, music\, food\, crafts\, and more at the 2nd Annual Galena Creek Fall Festival.
URL:https://oldediblerenotahoe.com/event/galena-creek-fall-festival-2023-10-28/
LOCATION:Galena Creek Visitors Center\, 18250 Mount Rose Highway\, Reno\, NV\, 89511
CATEGORIES:Activity,Festival
ATTACH;FMTTYPE=image/png:https://oldediblerenotahoe.com/wp-content/uploads/2023/10/KTMB-Galena-Fall-Fest.png
END:VEVENT
BEGIN:VEVENT
DTSTART;TZID=America/Los_Angeles:20231028T100000
DTEND;TZID=America/Los_Angeles:20231028T200000
DTSTAMP:20260425T191746
CREATED:20231002T214842Z
LAST-MODIFIED:20231002T214842Z
UID:34447-1698487200-1698523200@oldediblerenotahoe.com
SUMMARY:Ferrari Farms Fall Festival
DESCRIPTION:Explore Ferrari Farms’ haunted corn maze\, country story\, farm animals\, and more during their Fall Festival.
URL:https://oldediblerenotahoe.com/event/ferrarifestival-2023-10-28/
LOCATION:Ferrari Farms\, 4701 Mill Street\, Reno\, NV\, 89502
CATEGORIES:Activity,Festival
END:VEVENT
BEGIN:VEVENT
DTSTART;TZID=America/Los_Angeles:20231028T100000
DTEND;TZID=America/Los_Angeles:20231028T200000
DTSTAMP:20260425T191746
CREATED:20231002T214047Z
LAST-MODIFIED:20231002T214047Z
UID:34416-1698487200-1698523200@oldediblerenotahoe.com
SUMMARY:Lattin Farms Fall Festival
DESCRIPTION:Lattin Farms’ Fall Festival is its premier event featuring all your favorite activities and a whole lot of fun. The corn maze\, pumpkin patch\, scarecrow factory and more will help you celebrate Fall and the bounty of the farm harvest.
URL:https://oldediblerenotahoe.com/event/lattinfarms2023festival-2023-10-28/
LOCATION:Lattin Farms\, 1955 McLean Road\, Fallon\, NV\, 89406
CATEGORIES:Activity,Family friendly
END:VEVENT
BEGIN:VEVENT
DTSTART;TZID=America/Los_Angeles:20231028T100000
DTEND;TZID=America/Los_Angeles:20231028T170000
DTSTAMP:20260425T191746
CREATED:20231024T231404Z
LAST-MODIFIED:20231024T231404Z
UID:34851-1698487200-1698512400@oldediblerenotahoe.com
SUMMARY:12th Annual Halloween Trick or Treat at The Discovery
DESCRIPTION:Head to The Discovery for a hauntingly good time at the 12th annual Halloween Trick or Treat. Visit the museum in costume and trick-or-treat from gallery to gallery. There’ll be spooky decorations and delicious treats for all the friendly or scary ghosts\, ghouls and goblins who dare to attend.
URL:https://oldediblerenotahoe.com/event/12th-annual-halloween-trick-or-treat-at-the-discovery/
LOCATION:Terry Lee Wells Discovery Museum\, 490 S. Center Street\, Reno\, NV\, 89501
CATEGORIES:Activity,Family friendly,Holiday
ATTACH;FMTTYPE=image/jpeg:https://oldediblerenotahoe.com/wp-content/uploads/2023/10/2023_Halloween_Trick_or_Treat-1180x550-1.jpg
END:VEVENT
BEGIN:VEVENT
DTSTART;VALUE=DATE:20231028
DTEND;VALUE=DATE:20231029
DTSTAMP:20260425T191746
CREATED:20230921T001809Z
LAST-MODIFIED:20230921T001926Z
UID:33716-1698451200-1698537599@oldediblerenotahoe.com
SUMMARY:Zombie Paintball
DESCRIPTION:Experience the thrill of Zombie Paintball at Andelin Family Farm! Ride the paintball bus and shoot zombies with paintballs. Lasts 15 minutes\, includes 100 paintballs plus a free refill. \nSelect date and time slot\, arrive 10 minutes early at the farm\, exchange online ticket for physical one\, and join the Zombie Paintball queue. Open on Thursdays\, Fridays\, and Saturdays from September 30 to November 4\, 2023. Recommended for ages 5 and up. \nOnline tickets cost $25; $28 at the farm\, with early-season discounts available. \nLearn more and secure your ticket(s) here.
URL:https://oldediblerenotahoe.com/event/zombiepaintball2023-2023-10-28/
LOCATION:Andelin Family Farm\, 8100 Pyramid Way\, Spanish Springs\, NV\, 89436
CATEGORIES:Activity
ATTACH;FMTTYPE=image/jpeg:https://oldediblerenotahoe.com/wp-content/uploads/2023/09/zpajpg20210904102509.jpeg
END:VEVENT
BEGIN:VEVENT
DTSTART;VALUE=DATE:20231028
DTEND;VALUE=DATE:20231029
DTSTAMP:20260425T191746
CREATED:20230921T001127Z
LAST-MODIFIED:20230921T001127Z
UID:33844-1698451200-1698537599@oldediblerenotahoe.com
SUMMARY:Corn Creepers
DESCRIPTION:Prepare for a spine-chilling experience in Nevada’s largest haunted attraction – Corn Creepers at Andelin Family Farm! With over half a mile of terrifying scares\, this haunted cornfield promises thrills and chills. \nAdmission is $25 per person when purchased online or $28 per person at the farm. Be aware that tickets often sell out\, so it’s recommended to purchase online in advance. \nYou can select your preferred date and time slot for this haunted adventure\, with ticket slots available every 15 minutes. Arrive approximately 10 minutes before your scheduled time and check in at the ticket booth to redeem your online ticket. Get ready for a night of spine-tingling frights! \nLearn more and secure your ticket(s) here.
URL:https://oldediblerenotahoe.com/event/corncreepers2023-2023-10-28/
LOCATION:Andelin Family Farm\, 8100 Pyramid Way\, Spanish Springs\, NV\, 89436
CATEGORIES:Activity
ATTACH;FMTTYPE=image/jpeg:https://oldediblerenotahoe.com/wp-content/uploads/2023/09/scarecrow.jpeg
END:VEVENT
BEGIN:VEVENT
DTSTART;VALUE=DATE:20231028
DTEND;VALUE=DATE:20231029
DTSTAMP:20260425T191746
CREATED:20230921T000631Z
LAST-MODIFIED:20230921T000631Z
UID:33869-1698451200-1698537599@oldediblerenotahoe.com
SUMMARY:Mining in Nevada 5-Acre Corn Maze
DESCRIPTION:Discover mining facts as you navigate the hard-packed dirt paths of the Mining in Nevada 5-Acre Corn Maze at Andelin Family Farm. Note that rain may create muddy conditions. The maze offers wheelchair accessibility. Hours vary by date\, and nighttime visitors can bring flashlights. Admission is $8 online or $10 at the farm\, with free entry for children under 2. \nLearn more and secure your ticket(s) here.
URL:https://oldediblerenotahoe.com/event/cornmaze2023-2023-10-28/
LOCATION:Andelin Family Farm\, 8100 Pyramid Way\, Spanish Springs\, NV\, 89436
CATEGORIES:Activity,Family friendly
ATTACH;FMTTYPE=image/jpeg:https://oldediblerenotahoe.com/wp-content/uploads/2023/09/image000000jpeg20230907120826.jpeg
END:VEVENT
BEGIN:VEVENT
DTSTART;VALUE=DATE:20231028
DTEND;VALUE=DATE:20231029
DTSTAMP:20260425T191746
CREATED:20230920T235921Z
LAST-MODIFIED:20230920T235921Z
UID:33832-1698451200-1698537599@oldediblerenotahoe.com
SUMMARY:Andelin Adventure Farm
DESCRIPTION:Andelin Adventure Farm is open Wednesdays to Saturdays from Sep 23 to Oct 28\, starting at 10 am with varying closing times (8 pm in the last two weeks). Choose your entry time and stay as long as you like\, even return on the same day. \nTickets are $13 on weekdays and $15 on Saturdays\, free for kids under 2. Included activities: U-Pick pumpkin patches\, wagon and barrel train rides\, mini zip lines\, slide mountain\, petting zoo\, maze\, and more. Meet various animals\, buy goat food for petting pens. \nPumpkins are not included (priced at $0.60-$0.75 per pound). Horse & pony rides are $8/person. Corn maze is a separate add-on option. \nLearn more and purchase ticket(s) here.
URL:https://oldediblerenotahoe.com/event/andelinadventure2023-2023-10-28/
LOCATION:Andelin Family Farm\, 8100 Pyramid Way\, Spanish Springs\, NV\, 89436
CATEGORIES:Activity,Family friendly
ATTACH;FMTTYPE=image/jpeg:https://oldediblerenotahoe.com/wp-content/uploads/2023/09/img2213jpg20210901124355-1.jpeg
END:VEVENT
BEGIN:VEVENT
DTSTART;TZID=America/Los_Angeles:20231027T163000
DTEND;TZID=America/Los_Angeles:20231027T210000
DTSTAMP:20260425T191746
CREATED:20231016T204201Z
LAST-MODIFIED:20231016T204201Z
UID:34598-1698424200-1698440400@oldediblerenotahoe.com
SUMMARY:Galena Creek Fall Festival
DESCRIPTION:Join KTMB for adult beverages\, costumes\, music\, food\, crafts\, and more at the 2nd Annual Galena Creek Fall Festival.
URL:https://oldediblerenotahoe.com/event/galena-creek-fall-festival/
LOCATION:Galena Creek Visitors Center\, 18250 Mount Rose Highway\, Reno\, NV\, 89511
CATEGORIES:Activity,Festival
ATTACH;FMTTYPE=image/png:https://oldediblerenotahoe.com/wp-content/uploads/2023/10/KTMB-Galena-Fall-Fest.png
END:VEVENT
BEGIN:VEVENT
DTSTART;TZID=America/Los_Angeles:20231027T100000
DTEND;TZID=America/Los_Angeles:20231027T200000
DTSTAMP:20260425T191746
CREATED:20231002T214842Z
LAST-MODIFIED:20231002T214842Z
UID:34446-1698400800-1698436800@oldediblerenotahoe.com
SUMMARY:Ferrari Farms Fall Festival
DESCRIPTION:Explore Ferrari Farms’ haunted corn maze\, country story\, farm animals\, and more during their Fall Festival.
URL:https://oldediblerenotahoe.com/event/ferrarifestival-2023-10-27/
LOCATION:Ferrari Farms\, 4701 Mill Street\, Reno\, NV\, 89502
CATEGORIES:Activity,Festival
END:VEVENT
BEGIN:VEVENT
DTSTART;TZID=America/Los_Angeles:20231027T100000
DTEND;TZID=America/Los_Angeles:20231027T200000
DTSTAMP:20260425T191746
CREATED:20231002T214047Z
LAST-MODIFIED:20231002T214047Z
UID:34415-1698400800-1698436800@oldediblerenotahoe.com
SUMMARY:Lattin Farms Fall Festival
DESCRIPTION:Lattin Farms’ Fall Festival is its premier event featuring all your favorite activities and a whole lot of fun. The corn maze\, pumpkin patch\, scarecrow factory and more will help you celebrate Fall and the bounty of the farm harvest.
URL:https://oldediblerenotahoe.com/event/lattinfarms2023festival-2023-10-27/
LOCATION:Lattin Farms\, 1955 McLean Road\, Fallon\, NV\, 89406
CATEGORIES:Activity,Family friendly
END:VEVENT
BEGIN:VEVENT
DTSTART;VALUE=DATE:20231027
DTEND;VALUE=DATE:20231028
DTSTAMP:20260425T191746
CREATED:20230921T001809Z
LAST-MODIFIED:20230921T001925Z
UID:33715-1698364800-1698451199@oldediblerenotahoe.com
SUMMARY:Zombie Paintball
DESCRIPTION:Experience the thrill of Zombie Paintball at Andelin Family Farm! Ride the paintball bus and shoot zombies with paintballs. Lasts 15 minutes\, includes 100 paintballs plus a free refill. \nSelect date and time slot\, arrive 10 minutes early at the farm\, exchange online ticket for physical one\, and join the Zombie Paintball queue. Open on Thursdays\, Fridays\, and Saturdays from September 30 to November 4\, 2023. Recommended for ages 5 and up. \nOnline tickets cost $25; $28 at the farm\, with early-season discounts available. \nLearn more and secure your ticket(s) here.
URL:https://oldediblerenotahoe.com/event/zombiepaintball2023-2023-10-27/
LOCATION:Andelin Family Farm\, 8100 Pyramid Way\, Spanish Springs\, NV\, 89436
CATEGORIES:Activity
ATTACH;FMTTYPE=image/jpeg:https://oldediblerenotahoe.com/wp-content/uploads/2023/09/zpajpg20210904102509.jpeg
END:VEVENT
BEGIN:VEVENT
DTSTART;VALUE=DATE:20231027
DTEND;VALUE=DATE:20231028
DTSTAMP:20260425T191746
CREATED:20230921T001127Z
LAST-MODIFIED:20230921T001127Z
UID:33843-1698364800-1698451199@oldediblerenotahoe.com
SUMMARY:Corn Creepers
DESCRIPTION:Prepare for a spine-chilling experience in Nevada’s largest haunted attraction – Corn Creepers at Andelin Family Farm! With over half a mile of terrifying scares\, this haunted cornfield promises thrills and chills. \nAdmission is $25 per person when purchased online or $28 per person at the farm. Be aware that tickets often sell out\, so it’s recommended to purchase online in advance. \nYou can select your preferred date and time slot for this haunted adventure\, with ticket slots available every 15 minutes. Arrive approximately 10 minutes before your scheduled time and check in at the ticket booth to redeem your online ticket. Get ready for a night of spine-tingling frights! \nLearn more and secure your ticket(s) here.
URL:https://oldediblerenotahoe.com/event/corncreepers2023-2023-10-27/
LOCATION:Andelin Family Farm\, 8100 Pyramid Way\, Spanish Springs\, NV\, 89436
CATEGORIES:Activity
ATTACH;FMTTYPE=image/jpeg:https://oldediblerenotahoe.com/wp-content/uploads/2023/09/scarecrow.jpeg
END:VEVENT
BEGIN:VEVENT
DTSTART;VALUE=DATE:20231027
DTEND;VALUE=DATE:20231028
DTSTAMP:20260425T191746
CREATED:20230921T000631Z
LAST-MODIFIED:20230921T000631Z
UID:33868-1698364800-1698451199@oldediblerenotahoe.com
SUMMARY:Mining in Nevada 5-Acre Corn Maze
DESCRIPTION:Discover mining facts as you navigate the hard-packed dirt paths of the Mining in Nevada 5-Acre Corn Maze at Andelin Family Farm. Note that rain may create muddy conditions. The maze offers wheelchair accessibility. Hours vary by date\, and nighttime visitors can bring flashlights. Admission is $8 online or $10 at the farm\, with free entry for children under 2. \nLearn more and secure your ticket(s) here.
URL:https://oldediblerenotahoe.com/event/cornmaze2023-2023-10-27/
LOCATION:Andelin Family Farm\, 8100 Pyramid Way\, Spanish Springs\, NV\, 89436
CATEGORIES:Activity,Family friendly
ATTACH;FMTTYPE=image/jpeg:https://oldediblerenotahoe.com/wp-content/uploads/2023/09/image000000jpeg20230907120826.jpeg
END:VEVENT
BEGIN:VEVENT
DTSTART;VALUE=DATE:20231027
DTEND;VALUE=DATE:20231028
DTSTAMP:20260425T191746
CREATED:20230920T235921Z
LAST-MODIFIED:20230920T235921Z
UID:33831-1698364800-1698451199@oldediblerenotahoe.com
SUMMARY:Andelin Adventure Farm
DESCRIPTION:Andelin Adventure Farm is open Wednesdays to Saturdays from Sep 23 to Oct 28\, starting at 10 am with varying closing times (8 pm in the last two weeks). Choose your entry time and stay as long as you like\, even return on the same day. \nTickets are $13 on weekdays and $15 on Saturdays\, free for kids under 2. Included activities: U-Pick pumpkin patches\, wagon and barrel train rides\, mini zip lines\, slide mountain\, petting zoo\, maze\, and more. Meet various animals\, buy goat food for petting pens. \nPumpkins are not included (priced at $0.60-$0.75 per pound). Horse & pony rides are $8/person. Corn maze is a separate add-on option. \nLearn more and purchase ticket(s) here.
URL:https://oldediblerenotahoe.com/event/andelinadventure2023-2023-10-27/
LOCATION:Andelin Family Farm\, 8100 Pyramid Way\, Spanish Springs\, NV\, 89436
CATEGORIES:Activity,Family friendly
ATTACH;FMTTYPE=image/jpeg:https://oldediblerenotahoe.com/wp-content/uploads/2023/09/img2213jpg20210901124355-1.jpeg
END:VEVENT
BEGIN:VEVENT
DTSTART;TZID=America/Los_Angeles:20231026T100000
DTEND;TZID=America/Los_Angeles:20231026T200000
DTSTAMP:20260425T191746
CREATED:20231002T214842Z
LAST-MODIFIED:20231002T214842Z
UID:34445-1698314400-1698350400@oldediblerenotahoe.com
SUMMARY:Ferrari Farms Fall Festival
DESCRIPTION:Explore Ferrari Farms’ haunted corn maze\, country story\, farm animals\, and more during their Fall Festival.
URL:https://oldediblerenotahoe.com/event/ferrarifestival-2023-10-26/
LOCATION:Ferrari Farms\, 4701 Mill Street\, Reno\, NV\, 89502
CATEGORIES:Activity,Festival
END:VEVENT
BEGIN:VEVENT
DTSTART;VALUE=DATE:20231026
DTEND;VALUE=DATE:20231027
DTSTAMP:20260425T191746
CREATED:20230921T001809Z
LAST-MODIFIED:20230921T001916Z
UID:33714-1698278400-1698364799@oldediblerenotahoe.com
SUMMARY:Zombie Paintball
DESCRIPTION:Experience the thrill of Zombie Paintball at Andelin Family Farm! Ride the paintball bus and shoot zombies with paintballs. Lasts 15 minutes\, includes 100 paintballs plus a free refill. \nSelect date and time slot\, arrive 10 minutes early at the farm\, exchange online ticket for physical one\, and join the Zombie Paintball queue. Open on Thursdays\, Fridays\, and Saturdays from September 30 to November 4\, 2023. Recommended for ages 5 and up. \nOnline tickets cost $25; $28 at the farm\, with early-season discounts available. \nLearn more and secure your ticket(s) here.
URL:https://oldediblerenotahoe.com/event/zombiepaintball2023-2023-10-26/
LOCATION:Andelin Family Farm\, 8100 Pyramid Way\, Spanish Springs\, NV\, 89436
CATEGORIES:Activity
ATTACH;FMTTYPE=image/jpeg:https://oldediblerenotahoe.com/wp-content/uploads/2023/09/zpajpg20210904102509.jpeg
END:VEVENT
BEGIN:VEVENT
DTSTART;VALUE=DATE:20231026
DTEND;VALUE=DATE:20231027
DTSTAMP:20260425T191746
CREATED:20230921T001127Z
LAST-MODIFIED:20230921T001127Z
UID:33842-1698278400-1698364799@oldediblerenotahoe.com
SUMMARY:Corn Creepers
DESCRIPTION:Prepare for a spine-chilling experience in Nevada’s largest haunted attraction – Corn Creepers at Andelin Family Farm! With over half a mile of terrifying scares\, this haunted cornfield promises thrills and chills. \nAdmission is $25 per person when purchased online or $28 per person at the farm. Be aware that tickets often sell out\, so it’s recommended to purchase online in advance. \nYou can select your preferred date and time slot for this haunted adventure\, with ticket slots available every 15 minutes. Arrive approximately 10 minutes before your scheduled time and check in at the ticket booth to redeem your online ticket. Get ready for a night of spine-tingling frights! \nLearn more and secure your ticket(s) here.
URL:https://oldediblerenotahoe.com/event/corncreepers2023-2023-10-26/
LOCATION:Andelin Family Farm\, 8100 Pyramid Way\, Spanish Springs\, NV\, 89436
CATEGORIES:Activity
ATTACH;FMTTYPE=image/jpeg:https://oldediblerenotahoe.com/wp-content/uploads/2023/09/scarecrow.jpeg
END:VEVENT
BEGIN:VEVENT
DTSTART;VALUE=DATE:20231026
DTEND;VALUE=DATE:20231027
DTSTAMP:20260425T191746
CREATED:20230921T000631Z
LAST-MODIFIED:20230921T000631Z
UID:33867-1698278400-1698364799@oldediblerenotahoe.com
SUMMARY:Mining in Nevada 5-Acre Corn Maze
DESCRIPTION:Discover mining facts as you navigate the hard-packed dirt paths of the Mining in Nevada 5-Acre Corn Maze at Andelin Family Farm. Note that rain may create muddy conditions. The maze offers wheelchair accessibility. Hours vary by date\, and nighttime visitors can bring flashlights. Admission is $8 online or $10 at the farm\, with free entry for children under 2. \nLearn more and secure your ticket(s) here.
URL:https://oldediblerenotahoe.com/event/cornmaze2023-2023-10-26/
LOCATION:Andelin Family Farm\, 8100 Pyramid Way\, Spanish Springs\, NV\, 89436
CATEGORIES:Activity,Family friendly
ATTACH;FMTTYPE=image/jpeg:https://oldediblerenotahoe.com/wp-content/uploads/2023/09/image000000jpeg20230907120826.jpeg
END:VEVENT
BEGIN:VEVENT
DTSTART;VALUE=DATE:20231026
DTEND;VALUE=DATE:20231027
DTSTAMP:20260425T191746
CREATED:20230920T235921Z
LAST-MODIFIED:20230920T235921Z
UID:33830-1698278400-1698364799@oldediblerenotahoe.com
SUMMARY:Andelin Adventure Farm
DESCRIPTION:Andelin Adventure Farm is open Wednesdays to Saturdays from Sep 23 to Oct 28\, starting at 10 am with varying closing times (8 pm in the last two weeks). Choose your entry time and stay as long as you like\, even return on the same day. \nTickets are $13 on weekdays and $15 on Saturdays\, free for kids under 2. Included activities: U-Pick pumpkin patches\, wagon and barrel train rides\, mini zip lines\, slide mountain\, petting zoo\, maze\, and more. Meet various animals\, buy goat food for petting pens. \nPumpkins are not included (priced at $0.60-$0.75 per pound). Horse & pony rides are $8/person. Corn maze is a separate add-on option. \nLearn more and purchase ticket(s) here.
URL:https://oldediblerenotahoe.com/event/andelinadventure2023-2023-10-26/
LOCATION:Andelin Family Farm\, 8100 Pyramid Way\, Spanish Springs\, NV\, 89436
CATEGORIES:Activity,Family friendly
ATTACH;FMTTYPE=image/jpeg:https://oldediblerenotahoe.com/wp-content/uploads/2023/09/img2213jpg20210901124355-1.jpeg
END:VEVENT
BEGIN:VEVENT
DTSTART;TZID=America/Los_Angeles:20231025T100000
DTEND;TZID=America/Los_Angeles:20231025T200000
DTSTAMP:20260425T191746
CREATED:20231002T214842Z
LAST-MODIFIED:20231002T214842Z
UID:34444-1698228000-1698264000@oldediblerenotahoe.com
SUMMARY:Ferrari Farms Fall Festival
DESCRIPTION:Explore Ferrari Farms’ haunted corn maze\, country story\, farm animals\, and more during their Fall Festival.
URL:https://oldediblerenotahoe.com/event/ferrarifestival-2023-10-25/
LOCATION:Ferrari Farms\, 4701 Mill Street\, Reno\, NV\, 89502
CATEGORIES:Activity,Festival
END:VEVENT
BEGIN:VEVENT
DTSTART;VALUE=DATE:20231025
DTEND;VALUE=DATE:20231026
DTSTAMP:20260425T191746
CREATED:20230921T000631Z
LAST-MODIFIED:20230921T000631Z
UID:33866-1698192000-1698278399@oldediblerenotahoe.com
SUMMARY:Mining in Nevada 5-Acre Corn Maze
DESCRIPTION:Discover mining facts as you navigate the hard-packed dirt paths of the Mining in Nevada 5-Acre Corn Maze at Andelin Family Farm. Note that rain may create muddy conditions. The maze offers wheelchair accessibility. Hours vary by date\, and nighttime visitors can bring flashlights. Admission is $8 online or $10 at the farm\, with free entry for children under 2. \nLearn more and secure your ticket(s) here.
URL:https://oldediblerenotahoe.com/event/cornmaze2023-2023-10-25/
LOCATION:Andelin Family Farm\, 8100 Pyramid Way\, Spanish Springs\, NV\, 89436
CATEGORIES:Activity,Family friendly
ATTACH;FMTTYPE=image/jpeg:https://oldediblerenotahoe.com/wp-content/uploads/2023/09/image000000jpeg20230907120826.jpeg
END:VEVENT
END:VCALENDAR