BEGIN:VCALENDAR
VERSION:2.0
PRODID:-//Edible Reno-Tahoe - ECPv6.15.20//NONSGML v1.0//EN
CALSCALE:GREGORIAN
METHOD:PUBLISH
X-WR-CALNAME:Edible Reno-Tahoe
X-ORIGINAL-URL:https://oldediblerenotahoe.com
X-WR-CALDESC:Events for Edible Reno-Tahoe
REFRESH-INTERVAL;VALUE=DURATION:PT1H
X-Robots-Tag:noindex
X-PUBLISHED-TTL:PT1H
BEGIN:VTIMEZONE
TZID:America/Los_Angeles
BEGIN:DAYLIGHT
TZOFFSETFROM:-0800
TZOFFSETTO:-0700
TZNAME:PDT
DTSTART:20230312T100000
END:DAYLIGHT
BEGIN:STANDARD
TZOFFSETFROM:-0700
TZOFFSETTO:-0800
TZNAME:PST
DTSTART:20231105T090000
END:STANDARD
BEGIN:DAYLIGHT
TZOFFSETFROM:-0800
TZOFFSETTO:-0700
TZNAME:PDT
DTSTART:20240310T100000
END:DAYLIGHT
BEGIN:STANDARD
TZOFFSETFROM:-0700
TZOFFSETTO:-0800
TZNAME:PST
DTSTART:20241103T090000
END:STANDARD
BEGIN:DAYLIGHT
TZOFFSETFROM:-0800
TZOFFSETTO:-0700
TZNAME:PDT
DTSTART:20250309T100000
END:DAYLIGHT
BEGIN:STANDARD
TZOFFSETFROM:-0700
TZOFFSETTO:-0800
TZNAME:PST
DTSTART:20251102T090000
END:STANDARD
END:VTIMEZONE
BEGIN:VEVENT
DTSTART;TZID=America/Los_Angeles:20241109T100000
DTEND;TZID=America/Los_Angeles:20241109T180000
DTSTAMP:20260424T073859
CREATED:20231216T223823Z
LAST-MODIFIED:20231216T223823Z
UID:36096-1731146400-1731175200@oldediblerenotahoe.com
SUMMARY:Hands ON! Second Saturday
DESCRIPTION:Estelle J. Kelsey Foundation Hands ON! Second Saturdays offers monthly free admission\, hands-on art activities\, storytelling\, docent-guided tours\, live performances\, and community collaborations.  “Art Expeditions” provides children the opportunity to engage with Museum staff and take a closer look at current work on view. New exhibitions\, community collaborations\, guest performances and monthly themes rotate in this engaging series of monthly programs.
URL:https://oldediblerenotahoe.com/event/hands-on-second-saturday-2024-11-09/
LOCATION:Nevada Museum of Art\, 160 West Liberty\, Reno\, Nevada\, 89501
CATEGORIES:Arts,Community Class
END:VEVENT
BEGIN:VEVENT
DTSTART;TZID=America/Los_Angeles:20241012T100000
DTEND;TZID=America/Los_Angeles:20241012T180000
DTSTAMP:20260424T073859
CREATED:20231216T223823Z
LAST-MODIFIED:20231216T223823Z
UID:36095-1728727200-1728756000@oldediblerenotahoe.com
SUMMARY:Hands ON! Second Saturday
DESCRIPTION:Estelle J. Kelsey Foundation Hands ON! Second Saturdays offers monthly free admission\, hands-on art activities\, storytelling\, docent-guided tours\, live performances\, and community collaborations.  “Art Expeditions” provides children the opportunity to engage with Museum staff and take a closer look at current work on view. New exhibitions\, community collaborations\, guest performances and monthly themes rotate in this engaging series of monthly programs.
URL:https://oldediblerenotahoe.com/event/hands-on-second-saturday-2024-10-12/
LOCATION:Nevada Museum of Art\, 160 West Liberty\, Reno\, Nevada\, 89501
CATEGORIES:Arts,Community Class
END:VEVENT
BEGIN:VEVENT
DTSTART;TZID=America/Los_Angeles:20241006T100000
DTEND;TZID=America/Los_Angeles:20241006T160000
DTSTAMP:20260424T073859
CREATED:20240114T155116Z
LAST-MODIFIED:20240114T155116Z
UID:37064-1728208800-1728230400@oldediblerenotahoe.com
SUMMARY:The Great Pumpkin Festival
DESCRIPTION:Who doesn’t love fall? In addition to the one hundred artists\, you can off the fall season with: pumpkin throwing\, pumpkin beer & treats\, pumpkin crafts & activities\, and more! \nThe Festival is geared towards the family and guarantees to find something every member will enjoy.
URL:https://oldediblerenotahoe.com/event/the-great-pumpkin-festival-2024-10-06/
LOCATION:McKinley Arts and Culture Center\, 925 Riverside Dr.\, Reno\, NV
CATEGORIES:Arts,Holiday
END:VEVENT
BEGIN:VEVENT
DTSTART;TZID=America/Los_Angeles:20241005T100000
DTEND;TZID=America/Los_Angeles:20241005T170000
DTSTAMP:20260424T073859
CREATED:20240114T155116Z
LAST-MODIFIED:20240114T155116Z
UID:37063-1728122400-1728147600@oldediblerenotahoe.com
SUMMARY:The Great Pumpkin Festival
DESCRIPTION:Who doesn’t love fall? In addition to the one hundred artists\, you can off the fall season with: pumpkin throwing\, pumpkin beer & treats\, pumpkin crafts & activities\, and more! \nThe Festival is geared towards the family and guarantees to find something every member will enjoy.
URL:https://oldediblerenotahoe.com/event/the-great-pumpkin-festival/
LOCATION:McKinley Arts and Culture Center\, 925 Riverside Dr.\, Reno\, NV
CATEGORIES:Arts,Holiday
END:VEVENT
BEGIN:VEVENT
DTSTART;VALUE=DATE:20240926
DTEND;VALUE=DATE:20241001
DTSTAMP:20260424T073859
CREATED:20240515T001803Z
LAST-MODIFIED:20240515T001803Z
UID:38773-1727308800-1727740799@oldediblerenotahoe.com
SUMMARY:Cordillera International Film Festival
DESCRIPTION:As a champion of diverse voices and curator of independent stories for the screen\, the Cordillera International Film Festival strives to showcase the best in film while providing an environment for emerging and established artists to create and thrive. Cordillera brings filmmakers together with diverse audiences to celebrate the power of storytelling through engaging exhibitions\, panels\, educational workshops & premieres that enrich and inspire the community
URL:https://oldediblerenotahoe.com/event/cordillera-international-film-festival/
CATEGORIES:Arts,Film
END:VEVENT
BEGIN:VEVENT
DTSTART;TZID=America/Los_Angeles:20240914T100000
DTEND;TZID=America/Los_Angeles:20240914T180000
DTSTAMP:20260424T073859
CREATED:20231216T223823Z
LAST-MODIFIED:20231216T223823Z
UID:36094-1726308000-1726336800@oldediblerenotahoe.com
SUMMARY:Hands ON! Second Saturday
DESCRIPTION:Estelle J. Kelsey Foundation Hands ON! Second Saturdays offers monthly free admission\, hands-on art activities\, storytelling\, docent-guided tours\, live performances\, and community collaborations.  “Art Expeditions” provides children the opportunity to engage with Museum staff and take a closer look at current work on view. New exhibitions\, community collaborations\, guest performances and monthly themes rotate in this engaging series of monthly programs.
URL:https://oldediblerenotahoe.com/event/hands-on-second-saturday-2024-09-14/
LOCATION:Nevada Museum of Art\, 160 West Liberty\, Reno\, Nevada\, 89501
CATEGORIES:Arts,Community Class
END:VEVENT
BEGIN:VEVENT
DTSTART;VALUE=DATE:20240912
DTEND;VALUE=DATE:20240916
DTSTAMP:20260424T073859
CREATED:20231128T023553Z
LAST-MODIFIED:20231128T023553Z
UID:35562-1726099200-1726444799@oldediblerenotahoe.com
SUMMARY:RTIA Show 2024
DESCRIPTION:The Reno Tahoe International Art Show (RTIA Show) is the premiere art fair of the West. Set against the backdrop of the Sierra\, the four-day RTIA Show is uniquely structured with exhibiting national and international galleries\, independent artists\, short film programming from around the world\, and one of the nation’s largest presentations of sculpture. The RTIA Show anchors The Reno Creative Movement\, a vision to position Reno Tahoe as a nationally recognized center for arts and culture. The annual event is intrinsically tied to its location\, featuring the ‘Heart of Reno’ showcase\, locally created bespoke furniture\, musical talent from the region\, and ongoing local hospitality. The third edition\, September 2024\, will present over 130\,000’ of fine art\, design\, sculpture\, film and music – see you there.
URL:https://oldediblerenotahoe.com/event/rtia-show-2024/
CATEGORIES:Arts
END:VEVENT
BEGIN:VEVENT
DTSTART;TZID=America/Los_Angeles:20240908T090000
DTEND;TZID=America/Los_Angeles:20240908T170000
DTSTAMP:20260424T073859
CREATED:20240514T233830Z
LAST-MODIFIED:20240514T233830Z
UID:38545-1725786000-1725814800@oldediblerenotahoe.com
SUMMARY:Silver State Art Festival
DESCRIPTION:
URL:https://oldediblerenotahoe.com/event/silver-state-art-festival-2024-09-08/
LOCATION:Fuji Park
CATEGORIES:Arts
END:VEVENT
BEGIN:VEVENT
DTSTART;TZID=America/Los_Angeles:20240907T090000
DTEND;TZID=America/Los_Angeles:20240907T170000
DTSTAMP:20260424T073859
CREATED:20240514T233830Z
LAST-MODIFIED:20240514T233830Z
UID:38544-1725699600-1725728400@oldediblerenotahoe.com
SUMMARY:Silver State Art Festival
DESCRIPTION:
URL:https://oldediblerenotahoe.com/event/silver-state-art-festival-2024-09-07/
LOCATION:Fuji Park
CATEGORIES:Arts
END:VEVENT
BEGIN:VEVENT
DTSTART;TZID=America/Los_Angeles:20240906T090000
DTEND;TZID=America/Los_Angeles:20240906T170000
DTSTAMP:20260424T073859
CREATED:20240514T233830Z
LAST-MODIFIED:20240514T233830Z
UID:38543-1725613200-1725642000@oldediblerenotahoe.com
SUMMARY:Silver State Art Festival
DESCRIPTION:
URL:https://oldediblerenotahoe.com/event/silver-state-art-festival/
LOCATION:Fuji Park
CATEGORIES:Arts
END:VEVENT
BEGIN:VEVENT
DTSTART;TZID=America/Los_Angeles:20240825T100000
DTEND;TZID=America/Los_Angeles:20240825T160000
DTSTAMP:20260424T073859
CREATED:20240114T154713Z
LAST-MODIFIED:20240114T154713Z
UID:37002-1724580000-1724601600@oldediblerenotahoe.com
SUMMARY:Art Walk on the Comstock
DESCRIPTION:There couldn’t possible be a better setting than the Historic District of Virginia City. One hundred artists and crafters are dwarfed only by the buildings of one of the largest cities in the West of its time. Sprawling multiple blocks of C St\, booths will be tastefully placed in front of merchants\, eateries and saloons to provide the best experience one could imagine.
URL:https://oldediblerenotahoe.com/event/art-walk-on-the-comstock-2024-08-25/
LOCATION:Virginia City
CATEGORIES:Arts
END:VEVENT
BEGIN:VEVENT
DTSTART;TZID=America/Los_Angeles:20240824T100000
DTEND;TZID=America/Los_Angeles:20240824T170000
DTSTAMP:20260424T073859
CREATED:20240114T154713Z
LAST-MODIFIED:20240114T154713Z
UID:37001-1724493600-1724518800@oldediblerenotahoe.com
SUMMARY:Art Walk on the Comstock
DESCRIPTION:There couldn’t possible be a better setting than the Historic District of Virginia City. One hundred artists and crafters are dwarfed only by the buildings of one of the largest cities in the West of its time. Sprawling multiple blocks of C St\, booths will be tastefully placed in front of merchants\, eateries and saloons to provide the best experience one could imagine.
URL:https://oldediblerenotahoe.com/event/art-walk-on-the-comstock/
LOCATION:Virginia City
CATEGORIES:Arts
END:VEVENT
BEGIN:VEVENT
DTSTART;TZID=America/Los_Angeles:20240810T100000
DTEND;TZID=America/Los_Angeles:20240810T180000
DTSTAMP:20260424T073859
CREATED:20231216T223823Z
LAST-MODIFIED:20231216T223823Z
UID:36093-1723284000-1723312800@oldediblerenotahoe.com
SUMMARY:Hands ON! Second Saturday
DESCRIPTION:Estelle J. Kelsey Foundation Hands ON! Second Saturdays offers monthly free admission\, hands-on art activities\, storytelling\, docent-guided tours\, live performances\, and community collaborations.  “Art Expeditions” provides children the opportunity to engage with Museum staff and take a closer look at current work on view. New exhibitions\, community collaborations\, guest performances and monthly themes rotate in this engaging series of monthly programs.
URL:https://oldediblerenotahoe.com/event/hands-on-second-saturday-2024-08-10/
LOCATION:Nevada Museum of Art\, 160 West Liberty\, Reno\, Nevada\, 89501
CATEGORIES:Arts,Community Class
END:VEVENT
BEGIN:VEVENT
DTSTART;VALUE=DATE:20240723
DTEND;VALUE=DATE:20240727
DTSTAMP:20260424T073859
CREATED:20240514T232701Z
LAST-MODIFIED:20240514T232701Z
UID:38537-1721692800-1722038399@oldediblerenotahoe.com
SUMMARY:12th Annual Lake Tahoe Dance Festival
DESCRIPTION:The 12th Annual Lake Tahoe Dance Festival kicks off with an opening night gala in Tahoe City\, followed by Tahoe City Community Night\, Kings Beach Community Night\, and concludes in a closing night gala in Incline Village\, featuring new commissions and performances from artists from New York City Ballet\, Broadway\, LA Dance Project\, Boston Ballet\, and more!
URL:https://oldediblerenotahoe.com/event/12th-annual-lake-tahoe-dance-festival/
CATEGORIES:Arts,Dance
END:VEVENT
BEGIN:VEVENT
DTSTART;TZID=America/Los_Angeles:20240721T100000
DTEND;TZID=America/Los_Angeles:20240721T160000
DTSTAMP:20260424T073859
CREATED:20240114T154449Z
LAST-MODIFIED:20240114T154449Z
UID:36999-1721556000-1721577600@oldediblerenotahoe.com
SUMMARY:Graeagle Arts & Crafts Fair
DESCRIPTION:Started in 1971\, the Graeagle Arts & Crafts Fair continues to be one of the most critically acclaimed handmade shows in Northern California. Every year on the third weekend of July\, 175 handmade artisans\, craftspersons\, specialty food and confection booths are prepared to offer only the best to more than 15\,000 visitors. \nShopper tip: Sundays are a great way to avoid the crowd and even find special deals and discounts!
URL:https://oldediblerenotahoe.com/event/graeagle-arts-crafts-fair-2024-07-21/
LOCATION:Graeagle Town Park
CATEGORIES:Arts
END:VEVENT
BEGIN:VEVENT
DTSTART;TZID=America/Los_Angeles:20240720T100000
DTEND;TZID=America/Los_Angeles:20240720T170000
DTSTAMP:20260424T073859
CREATED:20240114T154449Z
LAST-MODIFIED:20240114T154449Z
UID:36997-1721469600-1721494800@oldediblerenotahoe.com
SUMMARY:Graeagle Arts & Crafts Fair
DESCRIPTION:Started in 1971\, the Graeagle Arts & Crafts Fair continues to be one of the most critically acclaimed handmade shows in Northern California. Every year on the third weekend of July\, 175 handmade artisans\, craftspersons\, specialty food and confection booths are prepared to offer only the best to more than 15\,000 visitors. \nShopper tip: Sundays are a great way to avoid the crowd and even find special deals and discounts!
URL:https://oldediblerenotahoe.com/event/graeagle-arts-crafts-fair/
LOCATION:Graeagle Town Park
CATEGORIES:Arts
END:VEVENT
BEGIN:VEVENT
DTSTART;TZID=America/Los_Angeles:20240719T203000
DTEND;TZID=America/Los_Angeles:20240719T223000
DTSTAMP:20260424T073859
CREATED:20240311T042653Z
LAST-MODIFIED:20240311T042653Z
UID:37768-1721421000-1721428200@oldediblerenotahoe.com
SUMMARY:Rock Ballet Vortex
DESCRIPTION:The Robert Z. Hawkins Amphitheater at the Bartley Ranch Regional Park will come alive with ballet grace and passionate rock\, dance\, and alternative music as A.V.A. Ballet Theatre presents Vortex\, the Ballet That Rocks July 19th and 20th as part of the Artown celebration. \nArtistic director Alexander Van Alstyne has choreographed an exciting contemporary ballet that will be like no other you have ever seen. Imagine ballerinas performing grande jetés to music by popular rock artists. The stage will feature scaffolding and exciting props and sets that will create a visual spectacle that cannot be missed. \nThanks to generous support from the Robert Z. Hawkins Foundation\, the E.L. Cord Foundation\, the Nell J. Redfield Foundation\, and the Arthur and Mae Orvis Foundation\, the rock ballet Vortex is free to the public. The gates open at 7:00pm for picnicking and the shows begin at 8:30pm. \nA.V.A. Ballet Theatre is the resident ballet company for the Pioneer Center for the Performing Arts. They are northern Nevada’s largest company under the instruction of a professional faculty with years of performing experience in renowned metropolitan ballet and production companies across the United States and Europe. \nVortex during the month of July is part of the 29th annual Artown festival. The month-long summer arts festival features more than 500 events produced by more than 100 cultural organizations and businesses in locations citywide.
URL:https://oldediblerenotahoe.com/event/rock-ballet-vortex/
LOCATION:Bartley Ranch
CATEGORIES:Arts,Dance
ATTACH;FMTTYPE=image/jpeg:https://oldediblerenotahoe.com/wp-content/uploads/2024/03/Vortex-Gaga-2023.jpg
END:VEVENT
BEGIN:VEVENT
DTSTART;TZID=America/Los_Angeles:20240713T100000
DTEND;TZID=America/Los_Angeles:20240713T180000
DTSTAMP:20260424T073859
CREATED:20231216T223823Z
LAST-MODIFIED:20231216T223823Z
UID:36092-1720864800-1720893600@oldediblerenotahoe.com
SUMMARY:Hands ON! Second Saturday
DESCRIPTION:Estelle J. Kelsey Foundation Hands ON! Second Saturdays offers monthly free admission\, hands-on art activities\, storytelling\, docent-guided tours\, live performances\, and community collaborations.  “Art Expeditions” provides children the opportunity to engage with Museum staff and take a closer look at current work on view. New exhibitions\, community collaborations\, guest performances and monthly themes rotate in this engaging series of monthly programs.
URL:https://oldediblerenotahoe.com/event/hands-on-second-saturday-2024-07-13/
LOCATION:Nevada Museum of Art\, 160 West Liberty\, Reno\, Nevada\, 89501
CATEGORIES:Arts,Community Class
END:VEVENT
BEGIN:VEVENT
DTSTART;TZID=America/Los_Angeles:20240704T100000
DTEND;TZID=America/Los_Angeles:20240704T170000
DTSTAMP:20260424T073859
CREATED:20240114T154139Z
LAST-MODIFIED:20240114T154139Z
UID:36993-1720087200-1720112400@oldediblerenotahoe.com
SUMMARY:The Great American Craft Fair
DESCRIPTION:One hundred artisans neatly organized on the lawns of the McKinley Park School are surrounded by the music of only the best local musicians. Beer and food trucks fill the parking lot leaving room for a classic American auto show.
URL:https://oldediblerenotahoe.com/event/the-great-american-craft-fair/
LOCATION:McKinley Arts and Culture Center\, 925 Riverside Dr.\, Reno\, NV
CATEGORIES:Arts,Holiday
END:VEVENT
BEGIN:VEVENT
DTSTART;TZID=America/Los_Angeles:20240608T100000
DTEND;TZID=America/Los_Angeles:20240608T180000
DTSTAMP:20260424T073859
CREATED:20231216T223823Z
LAST-MODIFIED:20231216T223823Z
UID:36091-1717840800-1717869600@oldediblerenotahoe.com
SUMMARY:Hands ON! Second Saturday
DESCRIPTION:Estelle J. Kelsey Foundation Hands ON! Second Saturdays offers monthly free admission\, hands-on art activities\, storytelling\, docent-guided tours\, live performances\, and community collaborations.  “Art Expeditions” provides children the opportunity to engage with Museum staff and take a closer look at current work on view. New exhibitions\, community collaborations\, guest performances and monthly themes rotate in this engaging series of monthly programs.
URL:https://oldediblerenotahoe.com/event/hands-on-second-saturday-2024-06-08/
LOCATION:Nevada Museum of Art\, 160 West Liberty\, Reno\, Nevada\, 89501
CATEGORIES:Arts,Community Class
END:VEVENT
BEGIN:VEVENT
DTSTART;TZID=America/Los_Angeles:20240526T110000
DTEND;TZID=America/Los_Angeles:20240526T170000
DTSTAMP:20260424T073859
CREATED:20231227T235035Z
LAST-MODIFIED:20231227T235035Z
UID:36502-1716721200-1716742800@oldediblerenotahoe.com
SUMMARY:2024 Made in Tahoe Festival
DESCRIPTION:Made in Tahoe celebrates all things LOCAL. The Village at Palisades Tahoe will host a wide array of offerings that are made in or inspired by the Lake Tahoe Basin and Truckee areas: local artisans\, businesses\, chefs\, organizations\, and entertainers. Discover\, explore\, and experience our rich community full of talented creators while enjoying a variety of local food and beer. All proceeds from the Made in Tahoe bars benefit the Tahoe Food Hub.
URL:https://oldediblerenotahoe.com/event/2024-made-in-tahoe-festival-2024-05-26/
LOCATION:The Village at Palisades Tahoe\, Olympic Valley\, CA
CATEGORIES:Activity,Arts
END:VEVENT
BEGIN:VEVENT
DTSTART;TZID=America/Los_Angeles:20240525T110000
DTEND;TZID=America/Los_Angeles:20240525T170000
DTSTAMP:20260424T073859
CREATED:20231227T235035Z
LAST-MODIFIED:20231227T235035Z
UID:36501-1716634800-1716656400@oldediblerenotahoe.com
SUMMARY:2024 Made in Tahoe Festival
DESCRIPTION:Made in Tahoe celebrates all things LOCAL. The Village at Palisades Tahoe will host a wide array of offerings that are made in or inspired by the Lake Tahoe Basin and Truckee areas: local artisans\, businesses\, chefs\, organizations\, and entertainers. Discover\, explore\, and experience our rich community full of talented creators while enjoying a variety of local food and beer. All proceeds from the Made in Tahoe bars benefit the Tahoe Food Hub.
URL:https://oldediblerenotahoe.com/event/2024-made-in-tahoe-festival/
LOCATION:The Village at Palisades Tahoe\, Olympic Valley\, CA
CATEGORIES:Activity,Arts
END:VEVENT
BEGIN:VEVENT
DTSTART;TZID=America/Los_Angeles:20240511T100000
DTEND;TZID=America/Los_Angeles:20240511T180000
DTSTAMP:20260424T073859
CREATED:20231216T223823Z
LAST-MODIFIED:20231216T223823Z
UID:36090-1715421600-1715450400@oldediblerenotahoe.com
SUMMARY:Hands ON! Second Saturday
DESCRIPTION:Estelle J. Kelsey Foundation Hands ON! Second Saturdays offers monthly free admission\, hands-on art activities\, storytelling\, docent-guided tours\, live performances\, and community collaborations.  “Art Expeditions” provides children the opportunity to engage with Museum staff and take a closer look at current work on view. New exhibitions\, community collaborations\, guest performances and monthly themes rotate in this engaging series of monthly programs.
URL:https://oldediblerenotahoe.com/event/hands-on-second-saturday-2024-05-11/
LOCATION:Nevada Museum of Art\, 160 West Liberty\, Reno\, Nevada\, 89501
CATEGORIES:Arts,Community Class
END:VEVENT
BEGIN:VEVENT
DTSTART;TZID=America/Los_Angeles:20240505T120000
DTEND;TZID=America/Los_Angeles:20240505T160000
DTSTAMP:20260424T073859
CREATED:20231227T230553Z
LAST-MODIFIED:20231227T230553Z
UID:36367-1714910400-1714924800@oldediblerenotahoe.com
SUMMARY:Cinco De Mayo Celebración
DESCRIPTION:
URL:https://oldediblerenotahoe.com/event/cinco-de-mayo-celebracion-2024-05-05/
LOCATION:Brewery Arts Center\, 449 W King St.\, Carson City\, NV\, 89703
CATEGORIES:Activity,Arts,Family friendly,Holiday
END:VEVENT
BEGIN:VEVENT
DTSTART;TZID=America/Los_Angeles:20240505T100000
DTEND;TZID=America/Los_Angeles:20240505T130000
DTSTAMP:20260424T073859
CREATED:20240318T045127Z
LAST-MODIFIED:20240318T045127Z
UID:37964-1714903200-1714914000@oldediblerenotahoe.com
SUMMARY:Wild Women Artists & Friends Silent Auction & Show
DESCRIPTION:Wild Women Artists are pleased to announce a silent auction benefitting the Kathleen Durham Emerging Artist Award and Scholarship. Wild Women Artists have funded this scholarship for over 20 years and in partnership with the Nevada Museum of Art\, we aim to endow this incredible award in perpetuity. \nThis scholarship is always in conjunction with the Northern Nevada Scholastic Art Award which showcases our young local artists each year. \nYou will be greeted by the Folks from Underwood who are always excited to attend. \nA show with direct sales is also included at the auction. \nSchedule of Events: \nMay 3 – Reception\nMay 4 – Auction/Show\nMay 5 – Winners Pick Up
URL:https://oldediblerenotahoe.com/event/wild-women-artists-friends-silent-auction-show-2024-05-05/
LOCATION:Nevada Museum of Art\, 160 West Liberty\, Reno\, Nevada\, 89501
CATEGORIES:Arts,Nonprofit
END:VEVENT
BEGIN:VEVENT
DTSTART;TZID=America/Los_Angeles:20240504T190000
DTEND;TZID=America/Los_Angeles:20240504T220000
DTSTAMP:20260424T073859
CREATED:20231227T230553Z
LAST-MODIFIED:20231227T230553Z
UID:36366-1714849200-1714860000@oldediblerenotahoe.com
SUMMARY:Cinco De Mayo Celebración
DESCRIPTION:
URL:https://oldediblerenotahoe.com/event/cinco-de-mayo-celebracion/
LOCATION:Brewery Arts Center\, 449 W King St.\, Carson City\, NV\, 89703
CATEGORIES:Activity,Arts,Family friendly,Holiday
END:VEVENT
BEGIN:VEVENT
DTSTART;TZID=America/Los_Angeles:20240504T100000
DTEND;TZID=America/Los_Angeles:20240504T160000
DTSTAMP:20260424T073859
CREATED:20240318T045127Z
LAST-MODIFIED:20240318T045127Z
UID:37963-1714816800-1714838400@oldediblerenotahoe.com
SUMMARY:Wild Women Artists & Friends Silent Auction & Show
DESCRIPTION:Wild Women Artists are pleased to announce a silent auction benefitting the Kathleen Durham Emerging Artist Award and Scholarship. Wild Women Artists have funded this scholarship for over 20 years and in partnership with the Nevada Museum of Art\, we aim to endow this incredible award in perpetuity. \nThis scholarship is always in conjunction with the Northern Nevada Scholastic Art Award which showcases our young local artists each year. \nYou will be greeted by the Folks from Underwood who are always excited to attend. \nA show with direct sales is also included at the auction. \nSchedule of Events: \nMay 3 – Reception\nMay 4 – Auction/Show\nMay 5 – Winners Pick Up
URL:https://oldediblerenotahoe.com/event/wild-women-artists-friends-silent-auction-show-2024-05-04/
LOCATION:Nevada Museum of Art\, 160 West Liberty\, Reno\, Nevada\, 89501
CATEGORIES:Arts,Nonprofit
END:VEVENT
BEGIN:VEVENT
DTSTART;TZID=America/Los_Angeles:20240503T160000
DTEND;TZID=America/Los_Angeles:20240503T200000
DTSTAMP:20260424T073859
CREATED:20240318T045127Z
LAST-MODIFIED:20240318T045127Z
UID:37962-1714752000-1714766400@oldediblerenotahoe.com
SUMMARY:Wild Women Artists & Friends Silent Auction & Show
DESCRIPTION:Wild Women Artists are pleased to announce a silent auction benefitting the Kathleen Durham Emerging Artist Award and Scholarship. Wild Women Artists have funded this scholarship for over 20 years and in partnership with the Nevada Museum of Art\, we aim to endow this incredible award in perpetuity. \nThis scholarship is always in conjunction with the Northern Nevada Scholastic Art Award which showcases our young local artists each year. \nYou will be greeted by the Folks from Underwood who are always excited to attend. \nA show with direct sales is also included at the auction. \nSchedule of Events: \nMay 3 – Reception\nMay 4 – Auction/Show\nMay 5 – Winners Pick Up
URL:https://oldediblerenotahoe.com/event/wild-women-artists-friends-silent-auction-show/
LOCATION:Nevada Museum of Art\, 160 West Liberty\, Reno\, Nevada\, 89501
CATEGORIES:Arts,Nonprofit
END:VEVENT
BEGIN:VEVENT
DTSTART;TZID=America/Los_Angeles:20240413T100000
DTEND;TZID=America/Los_Angeles:20240413T180000
DTSTAMP:20260424T073859
CREATED:20231216T223823Z
LAST-MODIFIED:20231216T223823Z
UID:36089-1713002400-1713031200@oldediblerenotahoe.com
SUMMARY:Hands ON! Second Saturday
DESCRIPTION:Estelle J. Kelsey Foundation Hands ON! Second Saturdays offers monthly free admission\, hands-on art activities\, storytelling\, docent-guided tours\, live performances\, and community collaborations.  “Art Expeditions” provides children the opportunity to engage with Museum staff and take a closer look at current work on view. New exhibitions\, community collaborations\, guest performances and monthly themes rotate in this engaging series of monthly programs.
URL:https://oldediblerenotahoe.com/event/hands-on-second-saturday-2024-04-13/
LOCATION:Nevada Museum of Art\, 160 West Liberty\, Reno\, Nevada\, 89501
CATEGORIES:Arts,Community Class
END:VEVENT
BEGIN:VEVENT
DTSTART;TZID=America/Los_Angeles:20240309T100000
DTEND;TZID=America/Los_Angeles:20240309T180000
DTSTAMP:20260424T073859
CREATED:20231216T223823Z
LAST-MODIFIED:20231216T223823Z
UID:36088-1709978400-1710007200@oldediblerenotahoe.com
SUMMARY:Hands ON! Second Saturday
DESCRIPTION:Estelle J. Kelsey Foundation Hands ON! Second Saturdays offers monthly free admission\, hands-on art activities\, storytelling\, docent-guided tours\, live performances\, and community collaborations.  “Art Expeditions” provides children the opportunity to engage with Museum staff and take a closer look at current work on view. New exhibitions\, community collaborations\, guest performances and monthly themes rotate in this engaging series of monthly programs.
URL:https://oldediblerenotahoe.com/event/hands-on-second-saturday-2024-03-09/
LOCATION:Nevada Museum of Art\, 160 West Liberty\, Reno\, Nevada\, 89501
CATEGORIES:Arts,Community Class
END:VEVENT
END:VCALENDAR