BEGIN:VCALENDAR
VERSION:2.0
PRODID:-//Edible Reno-Tahoe - ECPv6.15.20//NONSGML v1.0//EN
CALSCALE:GREGORIAN
METHOD:PUBLISH
X-ORIGINAL-URL:https://oldediblerenotahoe.com
X-WR-CALDESC:Events for Edible Reno-Tahoe
REFRESH-INTERVAL;VALUE=DURATION:PT1H
X-Robots-Tag:noindex
X-PUBLISHED-TTL:PT1H
BEGIN:VTIMEZONE
TZID:America/Los_Angeles
BEGIN:DAYLIGHT
TZOFFSETFROM:-0800
TZOFFSETTO:-0700
TZNAME:PDT
DTSTART:20230312T100000
END:DAYLIGHT
BEGIN:STANDARD
TZOFFSETFROM:-0700
TZOFFSETTO:-0800
TZNAME:PST
DTSTART:20231105T090000
END:STANDARD
BEGIN:DAYLIGHT
TZOFFSETFROM:-0800
TZOFFSETTO:-0700
TZNAME:PDT
DTSTART:20240310T100000
END:DAYLIGHT
BEGIN:STANDARD
TZOFFSETFROM:-0700
TZOFFSETTO:-0800
TZNAME:PST
DTSTART:20241103T090000
END:STANDARD
BEGIN:DAYLIGHT
TZOFFSETFROM:-0800
TZOFFSETTO:-0700
TZNAME:PDT
DTSTART:20250309T100000
END:DAYLIGHT
BEGIN:STANDARD
TZOFFSETFROM:-0700
TZOFFSETTO:-0800
TZNAME:PST
DTSTART:20251102T090000
END:STANDARD
END:VTIMEZONE
BEGIN:VEVENT
DTSTART;TZID=America/Los_Angeles:20240205T130000
DTEND;TZID=America/Los_Angeles:20240205T150000
DTSTAMP:20260425T192013
CREATED:20231216T193924Z
LAST-MODIFIED:20231216T193924Z
UID:35812-1707138000-1707145200@oldediblerenotahoe.com
SUMMARY:Cocktail & Spirit Class: Cinnamon Schnapps
DESCRIPTION:Participants will have the opportunity to learn the art of making cinnamon schnapps while sipping on a spiked apple pie martini.  To complement these drinks\, attendees will savor snickerdoodle cookies. \nLed by either Master Distiller Felicia Keith-Jones or a skilled local Mixologist\, each class offers a comprehensive experience\, including a bottle of spirits to make and take home\, a cocktail to create and enjoy during the session\, a delectable treat that pairs perfectly with the cocktails\, all the recipes\, memorable photos from the day\, and\, most importantly\, a lot of fun!
URL:https://oldediblerenotahoe.com/event/cinnamonschnappsclass/
LOCATION:High Mark Distillery\, 4690 Longley Lane\, Unit 28\, Reno\, Nevada\, 89502
CATEGORIES:21+,Cocktail & Spirit Class,Spirits
ATTACH;FMTTYPE=image/jpeg:https://oldediblerenotahoe.com/wp-content/uploads/2023/12/mixology-class-Dallas-1.jpeg
END:VEVENT
BEGIN:VEVENT
DTSTART;TZID=America/Los_Angeles:20240212T130000
DTEND;TZID=America/Los_Angeles:20240212T150000
DTSTAMP:20260425T192013
CREATED:20231216T194126Z
LAST-MODIFIED:20231216T194142Z
UID:35811-1707742800-1707750000@oldediblerenotahoe.com
SUMMARY:Cocktail & Spirit Class: Love Martini
DESCRIPTION:Participants will have the opportunity to learn the art of making a martini. To complement these drinks\, attendees will savor chocolate covered strawberries and chocolate truffles. \nLed by either Master Distiller Felicia Keith-Jones or a skilled local Mixologist\, each class offers a comprehensive experience\, including a bottle of spirits to make and take home\, a cocktail to create and enjoy during the session\, a delectable treat that pairs perfectly with the cocktails\, all the recipes\, memorable photos from the day\, and\, most importantly\, a lot of fun!
URL:https://oldediblerenotahoe.com/event/martiniclass/
LOCATION:High Mark Distillery\, 4690 Longley Lane\, Unit 28\, Reno\, Nevada\, 89502
CATEGORIES:21+,Cocktail & Spirit Class,Spirits
ATTACH;FMTTYPE=image/jpeg:https://oldediblerenotahoe.com/wp-content/uploads/2023/12/mixology-class-Dallas-1.jpeg
END:VEVENT
BEGIN:VEVENT
DTSTART;TZID=America/Los_Angeles:20240219T130000
DTEND;TZID=America/Los_Angeles:20240219T150000
DTSTAMP:20260425T192013
CREATED:20231216T194352Z
LAST-MODIFIED:20231216T194352Z
UID:35804-1708347600-1708354800@oldediblerenotahoe.com
SUMMARY:Cocktail & Spirit Class: Chocolate Liqueur
DESCRIPTION:Participants will have the opportunity to learn the art of making chocolate liqueur while sipping on a chocolate espresso martini. To complement these drinks\, attendees will savor Mexican wedding cookies. \nLed by either Master Distiller Felicia Keith-Jones or a skilled local Mixologist\, each class offers a comprehensive experience\, including a bottle of spirits to make and take home\, a cocktail to create and enjoy during the session\, a delectable treat that pairs perfectly with the cocktails\, all the recipes\, memorable photos from the day\, and\, most importantly\, a lot of fun!
URL:https://oldediblerenotahoe.com/event/chocolateliqueurclass/
LOCATION:High Mark Distillery\, 4690 Longley Lane\, Unit 28\, Reno\, Nevada\, 89502
CATEGORIES:21+,Cocktail & Spirit Class,Spirits
ATTACH;FMTTYPE=image/jpeg:https://oldediblerenotahoe.com/wp-content/uploads/2023/12/mixology-class-Dallas-1.jpeg
END:VEVENT
BEGIN:VEVENT
DTSTART;TZID=America/Los_Angeles:20240226T130000
DTEND;TZID=America/Los_Angeles:20240226T150000
DTSTAMP:20260425T192013
CREATED:20231216T194515Z
LAST-MODIFIED:20231216T194515Z
UID:35803-1708952400-1708959600@oldediblerenotahoe.com
SUMMARY:Cocktail & Spirit Class: Root Beer Schnapps
DESCRIPTION:Participants will have the opportunity to learn the art of making root beer schnapps while sipping on spiked root beer floats. To complement these drinks\, attendees will savor crisp butter cookies. \nLed by either Master Distiller Felicia Keith-Jones or a skilled local Mixologist\, each class offers a comprehensive experience\, including a bottle of spirits to make and take home\, a cocktail to create and enjoy during the session\, a delectable treat that pairs perfectly with the cocktails\, all the recipes\, memorable photos from the day\, and\, most importantly\, a lot of fun!
URL:https://oldediblerenotahoe.com/event/rootbeerschnappsclass/
LOCATION:High Mark Distillery\, 4690 Longley Lane\, Unit 28\, Reno\, Nevada\, 89502
CATEGORIES:21+,Cocktail & Spirit Class,Spirits
ATTACH;FMTTYPE=image/jpeg:https://oldediblerenotahoe.com/wp-content/uploads/2023/12/mixology-class-Dallas-1.jpeg
END:VEVENT
END:VCALENDAR