BEGIN:VCALENDAR
VERSION:2.0
PRODID:-//Edible Reno-Tahoe - ECPv6.15.20//NONSGML v1.0//EN
CALSCALE:GREGORIAN
METHOD:PUBLISH
X-ORIGINAL-URL:https://oldediblerenotahoe.com
X-WR-CALDESC:Events for Edible Reno-Tahoe
REFRESH-INTERVAL;VALUE=DURATION:PT1H
X-Robots-Tag:noindex
X-PUBLISHED-TTL:PT1H
BEGIN:VTIMEZONE
TZID:America/Los_Angeles
BEGIN:DAYLIGHT
TZOFFSETFROM:-0800
TZOFFSETTO:-0700
TZNAME:PDT
DTSTART:20230312T100000
END:DAYLIGHT
BEGIN:STANDARD
TZOFFSETFROM:-0700
TZOFFSETTO:-0800
TZNAME:PST
DTSTART:20231105T090000
END:STANDARD
BEGIN:DAYLIGHT
TZOFFSETFROM:-0800
TZOFFSETTO:-0700
TZNAME:PDT
DTSTART:20240310T100000
END:DAYLIGHT
BEGIN:STANDARD
TZOFFSETFROM:-0700
TZOFFSETTO:-0800
TZNAME:PST
DTSTART:20241103T090000
END:STANDARD
BEGIN:DAYLIGHT
TZOFFSETFROM:-0800
TZOFFSETTO:-0700
TZNAME:PDT
DTSTART:20250309T100000
END:DAYLIGHT
BEGIN:STANDARD
TZOFFSETFROM:-0700
TZOFFSETTO:-0800
TZNAME:PST
DTSTART:20251102T090000
END:STANDARD
END:VTIMEZONE
BEGIN:VEVENT
DTSTART;TZID=America/Los_Angeles:20240404T130000
DTEND;TZID=America/Los_Angeles:20240404T140000
DTSTAMP:20260425T164211
CREATED:20240408T034724Z
LAST-MODIFIED:20240408T034724Z
UID:38073-1712235600-1712239200@oldediblerenotahoe.com
SUMMARY:Gin School: Make Your Own
DESCRIPTION:
URL:https://oldediblerenotahoe.com/event/gin-school-make-your-own/
LOCATION:Ferino Distillery\, 541 E. 4th St.\, Reno\, NV\, 89512
CATEGORIES:Cocktail & Spirit Class
END:VEVENT
BEGIN:VEVENT
DTSTART;TZID=America/Los_Angeles:20240405T130000
DTEND;TZID=America/Los_Angeles:20240405T140000
DTSTAMP:20260425T164211
CREATED:20240408T034724Z
LAST-MODIFIED:20240408T034724Z
UID:38074-1712322000-1712325600@oldediblerenotahoe.com
SUMMARY:Gin School: Make Your Own
DESCRIPTION:
URL:https://oldediblerenotahoe.com/event/gin-school-make-your-own-2024-04-05/
LOCATION:Ferino Distillery\, 541 E. 4th St.\, Reno\, NV\, 89512
CATEGORIES:Cocktail & Spirit Class
END:VEVENT
BEGIN:VEVENT
DTSTART;TZID=America/Los_Angeles:20240406T130000
DTEND;TZID=America/Los_Angeles:20240406T140000
DTSTAMP:20260425T164211
CREATED:20240408T034724Z
LAST-MODIFIED:20240408T034724Z
UID:38075-1712408400-1712412000@oldediblerenotahoe.com
SUMMARY:Gin School: Make Your Own
DESCRIPTION:
URL:https://oldediblerenotahoe.com/event/gin-school-make-your-own-2024-04-06/
LOCATION:Ferino Distillery\, 541 E. 4th St.\, Reno\, NV\, 89512
CATEGORIES:Cocktail & Spirit Class
END:VEVENT
BEGIN:VEVENT
DTSTART;TZID=America/Los_Angeles:20240411T130000
DTEND;TZID=America/Los_Angeles:20240411T140000
DTSTAMP:20260425T164211
CREATED:20240408T034724Z
LAST-MODIFIED:20240408T034724Z
UID:38076-1712840400-1712844000@oldediblerenotahoe.com
SUMMARY:Gin School: Make Your Own
DESCRIPTION:
URL:https://oldediblerenotahoe.com/event/gin-school-make-your-own-2024-04-11/
LOCATION:Ferino Distillery\, 541 E. 4th St.\, Reno\, NV\, 89512
CATEGORIES:Cocktail & Spirit Class
END:VEVENT
BEGIN:VEVENT
DTSTART;TZID=America/Los_Angeles:20240412T130000
DTEND;TZID=America/Los_Angeles:20240412T140000
DTSTAMP:20260425T164211
CREATED:20240408T034724Z
LAST-MODIFIED:20240408T034724Z
UID:38077-1712926800-1712930400@oldediblerenotahoe.com
SUMMARY:Gin School: Make Your Own
DESCRIPTION:
URL:https://oldediblerenotahoe.com/event/gin-school-make-your-own-2024-04-12/
LOCATION:Ferino Distillery\, 541 E. 4th St.\, Reno\, NV\, 89512
CATEGORIES:Cocktail & Spirit Class
END:VEVENT
BEGIN:VEVENT
DTSTART;TZID=America/Los_Angeles:20240412T173000
DTEND;TZID=America/Los_Angeles:20240412T183000
DTSTAMP:20260425T164211
CREATED:20240408T034426Z
LAST-MODIFIED:20240408T034426Z
UID:38065-1712943000-1712946600@oldediblerenotahoe.com
SUMMARY:History of the Old Fashioned Class
DESCRIPTION:
URL:https://oldediblerenotahoe.com/event/history-of-the-old-fashioned-class/
LOCATION:Ferino Distillery\, 541 E. 4th St.\, Reno\, NV\, 89512
CATEGORIES:Cocktail & Spirit Class
END:VEVENT
BEGIN:VEVENT
DTSTART;TZID=America/Los_Angeles:20240413T130000
DTEND;TZID=America/Los_Angeles:20240413T140000
DTSTAMP:20260425T164211
CREATED:20240408T034724Z
LAST-MODIFIED:20240408T034724Z
UID:38078-1713013200-1713016800@oldediblerenotahoe.com
SUMMARY:Gin School: Make Your Own
DESCRIPTION:
URL:https://oldediblerenotahoe.com/event/gin-school-make-your-own-2024-04-13/
LOCATION:Ferino Distillery\, 541 E. 4th St.\, Reno\, NV\, 89512
CATEGORIES:Cocktail & Spirit Class
END:VEVENT
BEGIN:VEVENT
DTSTART;TZID=America/Los_Angeles:20240418T130000
DTEND;TZID=America/Los_Angeles:20240418T140000
DTSTAMP:20260425T164211
CREATED:20240408T034724Z
LAST-MODIFIED:20240408T034724Z
UID:38079-1713445200-1713448800@oldediblerenotahoe.com
SUMMARY:Gin School: Make Your Own
DESCRIPTION:
URL:https://oldediblerenotahoe.com/event/gin-school-make-your-own-2024-04-18/
LOCATION:Ferino Distillery\, 541 E. 4th St.\, Reno\, NV\, 89512
CATEGORIES:Cocktail & Spirit Class
END:VEVENT
BEGIN:VEVENT
DTSTART;TZID=America/Los_Angeles:20240419T130000
DTEND;TZID=America/Los_Angeles:20240419T140000
DTSTAMP:20260425T164211
CREATED:20240408T034724Z
LAST-MODIFIED:20240408T034724Z
UID:38080-1713531600-1713535200@oldediblerenotahoe.com
SUMMARY:Gin School: Make Your Own
DESCRIPTION:
URL:https://oldediblerenotahoe.com/event/gin-school-make-your-own-2024-04-19/
LOCATION:Ferino Distillery\, 541 E. 4th St.\, Reno\, NV\, 89512
CATEGORIES:Cocktail & Spirit Class
END:VEVENT
BEGIN:VEVENT
DTSTART;TZID=America/Los_Angeles:20240419T173000
DTEND;TZID=America/Los_Angeles:20240419T183000
DTSTAMP:20260425T164211
CREATED:20240408T034508Z
LAST-MODIFIED:20240408T034508Z
UID:38067-1713547800-1713551400@oldediblerenotahoe.com
SUMMARY:Learn & Sip the Classics Class
DESCRIPTION:
URL:https://oldediblerenotahoe.com/event/learn-sip-the-classics-class/
LOCATION:Ferino Distillery\, 541 E. 4th St.\, Reno\, NV\, 89512
CATEGORIES:Cocktail & Spirit Class
END:VEVENT
BEGIN:VEVENT
DTSTART;TZID=America/Los_Angeles:20240420T130000
DTEND;TZID=America/Los_Angeles:20240420T140000
DTSTAMP:20260425T164211
CREATED:20240408T034724Z
LAST-MODIFIED:20240408T034724Z
UID:38081-1713618000-1713621600@oldediblerenotahoe.com
SUMMARY:Gin School: Make Your Own
DESCRIPTION:
URL:https://oldediblerenotahoe.com/event/gin-school-make-your-own-2024-04-20/
LOCATION:Ferino Distillery\, 541 E. 4th St.\, Reno\, NV\, 89512
CATEGORIES:Cocktail & Spirit Class
END:VEVENT
BEGIN:VEVENT
DTSTART;TZID=America/Los_Angeles:20240420T130000
DTEND;TZID=America/Los_Angeles:20240420T150000
DTSTAMP:20260425T164211
CREATED:20240415T025940Z
LAST-MODIFIED:20240415T025940Z
UID:38131-1713618000-1713625200@oldediblerenotahoe.com
SUMMARY:Moonshine Class
DESCRIPTION:Join High Mark Distillery for this Cocktail & Spirit Making Class where you will learn how to make the World’s Best Moonshine Margaritas. You’ll also be sipping on a Blackberry “Salty Dog” moonshine drink. \nThese delicious drinks will be paired with a Blackberry Crumble Bars. \nEach class is taught by Master Distiller\, Felicia Keith-Jones\, or an excellent local Mixologist!
URL:https://oldediblerenotahoe.com/event/moonshine-class/
LOCATION:High Mark Distillery\, 4690 Longley Lane\, Unit 28\, Reno\, Nevada\, 89502
CATEGORIES:Cocktail & Spirit Class
END:VEVENT
BEGIN:VEVENT
DTSTART;TZID=America/Los_Angeles:20240425T130000
DTEND;TZID=America/Los_Angeles:20240425T140000
DTSTAMP:20260425T164211
CREATED:20240408T034724Z
LAST-MODIFIED:20240408T034724Z
UID:38082-1714050000-1714053600@oldediblerenotahoe.com
SUMMARY:Gin School: Make Your Own
DESCRIPTION:
URL:https://oldediblerenotahoe.com/event/gin-school-make-your-own-2024-04-25/
LOCATION:Ferino Distillery\, 541 E. 4th St.\, Reno\, NV\, 89512
CATEGORIES:Cocktail & Spirit Class
END:VEVENT
BEGIN:VEVENT
DTSTART;TZID=America/Los_Angeles:20240426T130000
DTEND;TZID=America/Los_Angeles:20240426T140000
DTSTAMP:20260425T164211
CREATED:20240408T034724Z
LAST-MODIFIED:20240408T034724Z
UID:38083-1714136400-1714140000@oldediblerenotahoe.com
SUMMARY:Gin School: Make Your Own
DESCRIPTION:
URL:https://oldediblerenotahoe.com/event/gin-school-make-your-own-2024-04-26/
LOCATION:Ferino Distillery\, 541 E. 4th St.\, Reno\, NV\, 89512
CATEGORIES:Cocktail & Spirit Class
END:VEVENT
BEGIN:VEVENT
DTSTART;TZID=America/Los_Angeles:20240426T173000
DTEND;TZID=America/Los_Angeles:20240426T183000
DTSTAMP:20260425T164211
CREATED:20240408T034540Z
LAST-MODIFIED:20240408T034540Z
UID:38069-1714152600-1714156200@oldediblerenotahoe.com
SUMMARY:Mastering Non-Alcoholic Cocktails Class
DESCRIPTION:
URL:https://oldediblerenotahoe.com/event/mastering-non-alcoholic-cocktails-class/
LOCATION:Ferino Distillery\, 541 E. 4th St.\, Reno\, NV\, 89512
CATEGORIES:Cocktail & Spirit Class
END:VEVENT
BEGIN:VEVENT
DTSTART;TZID=America/Los_Angeles:20240427T130000
DTEND;TZID=America/Los_Angeles:20240427T150000
DTSTAMP:20260425T164211
CREATED:20240415T030721Z
LAST-MODIFIED:20240415T030721Z
UID:38139-1714222800-1714230000@oldediblerenotahoe.com
SUMMARY:Peanut Butter Whiskey Class
DESCRIPTION:Join High Mark Distillery for this Cocktail & Spirit Making Class where you will learn how to make Peanut Butter Whiskey while sipping on two great cocktails paired with freshly baked peanut butter cookies. \nEach class is taught by Master Distiller\, Felicia Keith-Jones\, or an excellent local Mixologist!
URL:https://oldediblerenotahoe.com/event/peanut-butter-whiskey-class/
LOCATION:High Mark Distillery\, 4690 Longley Lane\, Unit 28\, Reno\, Nevada\, 89502
CATEGORIES:Cocktail & Spirit Class
END:VEVENT
END:VCALENDAR