BEGIN:VCALENDAR
VERSION:2.0
PRODID:-//Edible Reno-Tahoe - ECPv6.15.20//NONSGML v1.0//EN
CALSCALE:GREGORIAN
METHOD:PUBLISH
X-ORIGINAL-URL:https://oldediblerenotahoe.com
X-WR-CALDESC:Events for Edible Reno-Tahoe
REFRESH-INTERVAL;VALUE=DURATION:PT1H
X-Robots-Tag:noindex
X-PUBLISHED-TTL:PT1H
BEGIN:VTIMEZONE
TZID:America/Los_Angeles
BEGIN:DAYLIGHT
TZOFFSETFROM:-0800
TZOFFSETTO:-0700
TZNAME:PDT
DTSTART:20230312T100000
END:DAYLIGHT
BEGIN:STANDARD
TZOFFSETFROM:-0700
TZOFFSETTO:-0800
TZNAME:PST
DTSTART:20231105T090000
END:STANDARD
BEGIN:DAYLIGHT
TZOFFSETFROM:-0800
TZOFFSETTO:-0700
TZNAME:PDT
DTSTART:20240310T100000
END:DAYLIGHT
BEGIN:STANDARD
TZOFFSETFROM:-0700
TZOFFSETTO:-0800
TZNAME:PST
DTSTART:20241103T090000
END:STANDARD
BEGIN:DAYLIGHT
TZOFFSETFROM:-0800
TZOFFSETTO:-0700
TZNAME:PDT
DTSTART:20250309T100000
END:DAYLIGHT
BEGIN:STANDARD
TZOFFSETFROM:-0700
TZOFFSETTO:-0800
TZNAME:PST
DTSTART:20251102T090000
END:STANDARD
END:VTIMEZONE
BEGIN:VEVENT
DTSTART;TZID=America/Los_Angeles:20240518T130000
DTEND;TZID=America/Los_Angeles:20240518T150000
DTSTAMP:20260425T175648
CREATED:20240415T030148Z
LAST-MODIFIED:20240415T030148Z
UID:38133-1716037200-1716044400@oldediblerenotahoe.com
SUMMARY:Strawberry Moonshine Class
DESCRIPTION:Join High Mark Distillery for this Cocktail & Spirit Making Class where you will learn how to make “Pinkies Up”\, a light\, refreshing Strawberry Moonshine Cocktail and Strawberry Daiquiri Floats with our Strawberry Moonshine and High Mark Rum. \nThese delicious drinks will be paired with Old Fashioned Strawberry Shortcakes. \nEach class is taught by Master Distiller\, Felicia Keith-Jones\, or an excellent local Mixologist!
URL:https://oldediblerenotahoe.com/event/strawberry-moonshine-class/
LOCATION:High Mark Distillery\, 4690 Longley Lane\, Unit 28\, Reno\, Nevada\, 89502
CATEGORIES:Cocktail & Spirit Class
END:VEVENT
END:VCALENDAR