BEGIN:VCALENDAR
VERSION:2.0
PRODID:-//Edible Reno-Tahoe - ECPv6.15.20//NONSGML v1.0//EN
CALSCALE:GREGORIAN
METHOD:PUBLISH
X-WR-CALNAME:Edible Reno-Tahoe
X-ORIGINAL-URL:https://oldediblerenotahoe.com
X-WR-CALDESC:Events for Edible Reno-Tahoe
REFRESH-INTERVAL;VALUE=DURATION:PT1H
X-Robots-Tag:noindex
X-PUBLISHED-TTL:PT1H
BEGIN:VTIMEZONE
TZID:America/Los_Angeles
BEGIN:DAYLIGHT
TZOFFSETFROM:-0800
TZOFFSETTO:-0700
TZNAME:PDT
DTSTART:20230312T100000
END:DAYLIGHT
BEGIN:STANDARD
TZOFFSETFROM:-0700
TZOFFSETTO:-0800
TZNAME:PST
DTSTART:20231105T090000
END:STANDARD
BEGIN:DAYLIGHT
TZOFFSETFROM:-0800
TZOFFSETTO:-0700
TZNAME:PDT
DTSTART:20240310T100000
END:DAYLIGHT
BEGIN:STANDARD
TZOFFSETFROM:-0700
TZOFFSETTO:-0800
TZNAME:PST
DTSTART:20241103T090000
END:STANDARD
BEGIN:DAYLIGHT
TZOFFSETFROM:-0800
TZOFFSETTO:-0700
TZNAME:PDT
DTSTART:20250309T100000
END:DAYLIGHT
BEGIN:STANDARD
TZOFFSETFROM:-0700
TZOFFSETTO:-0800
TZNAME:PST
DTSTART:20251102T090000
END:STANDARD
END:VTIMEZONE
BEGIN:VEVENT
DTSTART;TZID=America/Los_Angeles:20240205T130000
DTEND;TZID=America/Los_Angeles:20240205T150000
DTSTAMP:20260424T135254
CREATED:20231216T193924Z
LAST-MODIFIED:20231216T193924Z
UID:35812-1707138000-1707145200@oldediblerenotahoe.com
SUMMARY:Cocktail & Spirit Class: Cinnamon Schnapps
DESCRIPTION:Participants will have the opportunity to learn the art of making cinnamon schnapps while sipping on a spiked apple pie martini.  To complement these drinks\, attendees will savor snickerdoodle cookies. \nLed by either Master Distiller Felicia Keith-Jones or a skilled local Mixologist\, each class offers a comprehensive experience\, including a bottle of spirits to make and take home\, a cocktail to create and enjoy during the session\, a delectable treat that pairs perfectly with the cocktails\, all the recipes\, memorable photos from the day\, and\, most importantly\, a lot of fun!
URL:https://oldediblerenotahoe.com/event/cinnamonschnappsclass/
LOCATION:High Mark Distillery\, 4690 Longley Lane\, Unit 28\, Reno\, Nevada\, 89502
CATEGORIES:21+,Cocktail & Spirit Class,Spirits
ATTACH;FMTTYPE=image/jpeg:https://oldediblerenotahoe.com/wp-content/uploads/2023/12/mixology-class-Dallas-1.jpeg
END:VEVENT
BEGIN:VEVENT
DTSTART;TZID=America/Los_Angeles:20240127T130000
DTEND;TZID=America/Los_Angeles:20240127T150000
DTSTAMP:20260424T135254
CREATED:20231216T192338Z
LAST-MODIFIED:20231216T192338Z
UID:35800-1706360400-1706367600@oldediblerenotahoe.com
SUMMARY:Cocktail & Spirit Class: Cranberry Vodka
DESCRIPTION:Participants will have the opportunity to learn the art of crafting Cranberry Vodka while indulging in Figgy Spritzers. The delightful beverages will feature a blend of Cranberries\, Figs\, Oranges\, Vodka\, and Champagne. To complement these drinks\, attendees will savor Homemade Fig Newtons\, described as amazing. \nLed by either Master Distiller Felicia Keith-Jones or a skilled local Mixologist\, each class offers a comprehensive experience\, including a bottle of spirits to make and take home\, a cocktail to create and enjoy during the session\, a delectable treat that pairs perfectly with the cocktails\, all the recipes\, memorable photos from the day\, and\, most importantly\, a lot of fun!
URL:https://oldediblerenotahoe.com/event/cranberryvodkaclass/
LOCATION:High Mark Distillery\, 4690 Longley Lane\, Unit 28\, Reno\, Nevada\, 89502
CATEGORIES:21+,Cocktail & Spirit Class,Spirits
ATTACH;FMTTYPE=image/jpeg:https://oldediblerenotahoe.com/wp-content/uploads/2023/12/mixology-class-Dallas-1.jpeg
END:VEVENT
BEGIN:VEVENT
DTSTART;TZID=America/Los_Angeles:20240120T130000
DTEND;TZID=America/Los_Angeles:20240120T150000
DTSTAMP:20260424T135254
CREATED:20231216T193354Z
LAST-MODIFIED:20231216T193354Z
UID:35805-1705755600-1705762800@oldediblerenotahoe.com
SUMMARY:Cocktail & Spirit Class: Zavarka (Tipsy Russian Tea)
DESCRIPTION:Participants will learn how to make Zavarka\, tipsy Russian tea. Attendees will have the pleasure of sipping on both London fog-style and traditional Russian tea-style beverages. To enhance the tasting experience\, these delightful drinks will be paired with pistachio & honey-baklava and salted nuts\, promising a harmonious blend of flavors and an immersive exploration of cocktail craftsmanship. \nLed by either Master Distiller Felicia Keith-Jones or a skilled local Mixologist\, each class offers a comprehensive experience\, including a bottle of spirits to make and take home\, a cocktail to create and enjoy during the session\, a delectable treat that pairs perfectly with the cocktails\, all the recipes\, memorable photos from the day\, and\, most importantly\, a lot of fun!
URL:https://oldediblerenotahoe.com/event/russianteaclass/
LOCATION:High Mark Distillery\, 4690 Longley Lane\, Unit 28\, Reno\, Nevada\, 89502
CATEGORIES:21+,Cocktail & Spirit Class,Spirits
ATTACH;FMTTYPE=image/jpeg:https://oldediblerenotahoe.com/wp-content/uploads/2023/12/mixology-class-Dallas-1.jpeg
END:VEVENT
BEGIN:VEVENT
DTSTART;TZID=America/Los_Angeles:20240113T130000
DTEND;TZID=America/Los_Angeles:20240113T150000
DTSTAMP:20260424T135254
CREATED:20231216T193053Z
LAST-MODIFIED:20231216T193053Z
UID:35806-1705150800-1705158000@oldediblerenotahoe.com
SUMMARY:Cocktail & Spirit Class: Spicy Margaritas & Caipirinhas
DESCRIPTION:Attendees are invited to participate in a Cocktail & Spirit Making Class where they will learn the art of crafting and sipping Habanero Blood Orange Margaritas and Rum Kumquat-Ginger Caipirinha. The flavorful drinks will be complemented by the addition of Ultimate Orange Cake with a light citrus glaze\, providing a perfect pairing for the tasting experience. This event promises an engaging and educational exploration of mixology\, featuring unique cocktail creations alongside delightful culinary accompaniments. \nLed by either Master Distiller Felicia Keith-Jones or a skilled local Mixologist\, each class offers a comprehensive experience\, including a bottle of spirits to make and take home\, a cocktail to create and enjoy during the session\, a delectable treat that pairs perfectly with the cocktails\, all the recipes\, memorable photos from the day\, and\, most importantly\, a lot of fun!
URL:https://oldediblerenotahoe.com/event/margaritaclass/
LOCATION:High Mark Distillery\, 4690 Longley Lane\, Unit 28\, Reno\, Nevada\, 89502
CATEGORIES:21+,Cocktail & Spirit Class,Spirits
ATTACH;FMTTYPE=image/jpeg:https://oldediblerenotahoe.com/wp-content/uploads/2023/12/mixology-class-Dallas-1.jpeg
END:VEVENT
BEGIN:VEVENT
DTSTART;TZID=America/Los_Angeles:20240106T130000
DTEND;TZID=America/Los_Angeles:20240106T150000
DTSTAMP:20260424T135254
CREATED:20231216T192837Z
LAST-MODIFIED:20231216T192837Z
UID:35807-1704546000-1704553200@oldediblerenotahoe.com
SUMMARY:Cocktail & Spirit Class: Gin & Tonic
DESCRIPTION:Participants will embark on a journey to master the art of crafting Gin & Tonic. Attendees will savor the experience of sipping on Gin & Tonic Cocktails\, each adorned with a variety of delectable garnishes. The delightful drinks will be thoughtfully paired with Charcuterie Boards\, Roasted Nuts\, and Fresh Berries\, enhancing the overall tasting experience. This immersive class promises not only the acquisition of mixology skills but also a flavorful exploration of complementary food pairings. \nLed by either Master Distiller Felicia Keith-Jones or a skilled local Mixologist\, each class offers a comprehensive experience\, including a bottle of spirits to make and take home\, a cocktail to create and enjoy during the session\, a delectable treat that pairs perfectly with the cocktails\, all the recipes\, memorable photos from the day\, and\, most importantly\, a lot of fun!
URL:https://oldediblerenotahoe.com/event/ginandtonicclass/
LOCATION:High Mark Distillery\, 4690 Longley Lane\, Unit 28\, Reno\, Nevada\, 89502
CATEGORIES:21+,Cocktail & Spirit Class,Spirits
ATTACH;FMTTYPE=image/jpeg:https://oldediblerenotahoe.com/wp-content/uploads/2023/12/mixology-class-Dallas-1.jpeg
END:VEVENT
END:VCALENDAR