BEGIN:VCALENDAR
VERSION:2.0
PRODID:-//Edible Reno-Tahoe - ECPv6.15.20//NONSGML v1.0//EN
CALSCALE:GREGORIAN
METHOD:PUBLISH
X-WR-CALNAME:Edible Reno-Tahoe
X-ORIGINAL-URL:https://oldediblerenotahoe.com
X-WR-CALDESC:Events for Edible Reno-Tahoe
REFRESH-INTERVAL;VALUE=DURATION:PT1H
X-Robots-Tag:noindex
X-PUBLISHED-TTL:PT1H
BEGIN:VTIMEZONE
TZID:America/Los_Angeles
BEGIN:DAYLIGHT
TZOFFSETFROM:-0800
TZOFFSETTO:-0700
TZNAME:PDT
DTSTART:20230312T100000
END:DAYLIGHT
BEGIN:STANDARD
TZOFFSETFROM:-0700
TZOFFSETTO:-0800
TZNAME:PST
DTSTART:20231105T090000
END:STANDARD
BEGIN:DAYLIGHT
TZOFFSETFROM:-0800
TZOFFSETTO:-0700
TZNAME:PDT
DTSTART:20240310T100000
END:DAYLIGHT
BEGIN:STANDARD
TZOFFSETFROM:-0700
TZOFFSETTO:-0800
TZNAME:PST
DTSTART:20241103T090000
END:STANDARD
BEGIN:DAYLIGHT
TZOFFSETFROM:-0800
TZOFFSETTO:-0700
TZNAME:PDT
DTSTART:20250309T100000
END:DAYLIGHT
BEGIN:STANDARD
TZOFFSETFROM:-0700
TZOFFSETTO:-0800
TZNAME:PST
DTSTART:20251102T090000
END:STANDARD
END:VTIMEZONE
BEGIN:VEVENT
DTSTART;TZID=America/Los_Angeles:20240614T200000
DTEND;TZID=America/Los_Angeles:20240614T220000
DTSTAMP:20260424T091150
CREATED:20240318T032209Z
LAST-MODIFIED:20240318T032209Z
UID:37877-1718395200-1718402400@oldediblerenotahoe.com
SUMMARY:Jeff Foxworthy
DESCRIPTION:Jeff Foxworthy is one of the most respected and successful comedians in the country. He is the largest selling comedy-recording artist in history\, a multiple Grammy Award nominee and best selling author of more than 26 books. In 2014\, he was inducted into the Georgia Music Hall of Fame. Widely known for his redneck jokes\, his act goes well beyond that to explore the humor in everyday family interactions and human nature\, a style that has been compared to Mark Twain’s.
URL:https://oldediblerenotahoe.com/event/jeff-foxworthy/
LOCATION:Nugget Casino Resort\, 1100 Nugget Avenue\,\, Sparks\, NV
CATEGORIES:Comedy Show
ATTACH;FMTTYPE=image/jpeg:https://oldediblerenotahoe.com/wp-content/uploads/2024/03/06.14_Jeff-Foxworthy_WebDetail_1200x830__1_.jpg
END:VEVENT
BEGIN:VEVENT
DTSTART;TZID=America/Los_Angeles:20240503T200000
DTEND;TZID=America/Los_Angeles:20240503T220000
DTSTAMP:20260424T091150
CREATED:20240118T225740Z
LAST-MODIFIED:20240118T230541Z
UID:37114-1714766400-1714773600@oldediblerenotahoe.com
SUMMARY:Wanda Sykes: Please & Thank You Tour
DESCRIPTION:Wanda Sykes is an Emmy winning stand up comic\, writer\, actress and producer who has been entertaining audiences for over twenty years. She has ranked among Entertainment Weekly’s “25 Funniest People in America” and her peers have called her “one of the funniest stand-up comics” in the field.
URL:https://oldediblerenotahoe.com/event/wanda-sykes-please-thank-you-tour/
LOCATION:Silver Legacy Resort & Casino\, 407 North Virginia Street\, Reno\, NV\, 89501
CATEGORIES:Comedy Show
END:VEVENT
BEGIN:VEVENT
DTSTART;TZID=America/Los_Angeles:20240427T200000
DTEND;TZID=America/Los_Angeles:20240427T220000
DTSTAMP:20260424T091150
CREATED:20240118T230435Z
LAST-MODIFIED:20240118T230435Z
UID:37116-1714248000-1714255200@oldediblerenotahoe.com
SUMMARY:Jerry Seinfeld
DESCRIPTION:Jerry Seinfeld’s comedy career took off after his first appearance on The Tonight Show with Johnny Carson in 1981. Eight years later\, he teamed up with fellow comedian Larry David to create what was to become the most successful comedy series in the history of television: Seinfeld. The show ran on NBC for nine seasons\, winning numerous Emmy\, Golden Globe and People’s Choice awards\, and was named the greatest television show of all time in 2009 by TV Guide\, and in 2012 was identified as the best sitcom ever in a 60 Minutes/Vanity Fair poll.
URL:https://oldediblerenotahoe.com/event/jerry-seinfeld/
LOCATION:Reno Events Center\, 400 North Center St.\, Reno\, NV\, 89501
CATEGORIES:Comedy Show
END:VEVENT
BEGIN:VEVENT
DTSTART;TZID=America/Los_Angeles:20240330T183000
DTEND;TZID=America/Los_Angeles:20240330T220000
DTSTAMP:20260424T091150
CREATED:20231228T000009Z
LAST-MODIFIED:20231228T000009Z
UID:36509-1711823400-1711836000@oldediblerenotahoe.com
SUMMARY:Jay Leno
DESCRIPTION:
URL:https://oldediblerenotahoe.com/event/jay-leno/
LOCATION:Nugget Casino Resort\, 1100 Nugget Avenue\,\, Sparks\, NV
CATEGORIES:Comedy Show
END:VEVENT
BEGIN:VEVENT
DTSTART;TZID=America/Los_Angeles:20240224T150000
DTEND;TZID=America/Los_Angeles:20240224T170000
DTSTAMP:20260424T091150
CREATED:20231217T000233Z
LAST-MODIFIED:20231217T000233Z
UID:36188-1708786800-1708794000@oldediblerenotahoe.com
SUMMARY:Jeff Dunham: Still Not Canceled
DESCRIPTION:
URL:https://oldediblerenotahoe.com/event/jeff-dunham-still-not-canceled/
LOCATION:Reno Events Center\, 400 North Center St.\, Reno\, NV\, 89501
CATEGORIES:Comedy Show
END:VEVENT
BEGIN:VEVENT
DTSTART;TZID=America/Los_Angeles:20240216T190000
DTEND;TZID=America/Los_Angeles:20240216T210000
DTSTAMP:20260424T091150
CREATED:20231216T235655Z
LAST-MODIFIED:20231216T235655Z
UID:36181-1708110000-1708117200@oldediblerenotahoe.com
SUMMARY:Bert Kreischer: Tops Off The World Tour
DESCRIPTION:Bert Kreischer’s career has evolved from being Rolling Stone’s 1997 “Number One Partier in the Nation\,” to one of the top grossing stand-up comics in the business\, and most recently\, star of a major motion picture. According to Forbes\, Kreischer has been hailed as\, “one of the best storytellers of his generation\, seamlessly and sincerely sharing anecdotes about his family and fatherhood while proving that there’s a way to take his [party-boy] antics into middle-age.” In March\, Kreischer released his highly anticipated 5th stand-up special\, Razzle Dazzle and his stand-up specials\, Secret Time\, The Machine\, and Hey Big Boy are currently streaming on Netflix\, as well.
URL:https://oldediblerenotahoe.com/event/bert-kreischer-tops-off-the-world-tour/
LOCATION:Grand Sierra Resort\, 2500 E 2nd St\, Reno\, NV
CATEGORIES:Comedy Show
END:VEVENT
BEGIN:VEVENT
DTSTART;TZID=America/Los_Angeles:20240209T200000
DTEND;TZID=America/Los_Angeles:20240209T220000
DTSTAMP:20260424T091150
CREATED:20231216T234942Z
LAST-MODIFIED:20231216T234942Z
UID:36170-1707508800-1707516000@oldediblerenotahoe.com
SUMMARY:Chris Distefano: Right Intention\, Wrong Move
DESCRIPTION:Chris Distefano is one of today’s biggest and most beloved names in comedy. Chris quickly rose to success after being named the funniest person on MTV for his show-stopping performances on the Guy Code/Girl Code series. When Chris isn’t on stage delivering his gut-busting jokes\, you can catch him in his element in the comfort of his own couch where he records his wildly successful podcasts\, “Chrissy Chaos” and “Hey Babe”\, the latter of which he co-hosts with Impractical Jokers‘ Sal Vulcano. Chris has a fearless\, yet endearing stage presence\, and his natural ability to connect with audiences around the world has made him a household name in not just comedy\, but all of entertainment. Since selling out the world-famous Beacon Theater in New York City\, Chris continues to travel the country on a sold out comedy tour\, entertaining thousands by poking fun at the world—and himself—with his uniquely warm energy.
URL:https://oldediblerenotahoe.com/event/chris-distefano-right-intention-wrong-move/
LOCATION:Grand Sierra Resort\, 2500 E 2nd St\, Reno\, NV
CATEGORIES:Comedy Show
END:VEVENT
BEGIN:VEVENT
DTSTART;TZID=America/Los_Angeles:20240203T200000
DTEND;TZID=America/Los_Angeles:20240203T220000
DTSTAMP:20260424T091150
CREATED:20231216T234751Z
LAST-MODIFIED:20231216T234751Z
UID:36168-1706990400-1706997600@oldediblerenotahoe.com
SUMMARY:Bad Friends with Andrew Santino & Bobby Lee
DESCRIPTION:
URL:https://oldediblerenotahoe.com/event/bad-friends-with-andrew-santino-bobby-lee/
LOCATION:Grand Sierra Resort\, 2500 E 2nd St\, Reno\, NV
CATEGORIES:Comedy Show
END:VEVENT
BEGIN:VEVENT
DTSTART;TZID=America/Los_Angeles:20240127T200000
DTEND;TZID=America/Los_Angeles:20240127T220000
DTSTAMP:20260424T091150
CREATED:20231216T234145Z
LAST-MODIFIED:20231216T234145Z
UID:36164-1706385600-1706392800@oldediblerenotahoe.com
SUMMARY:Hannah Berner
DESCRIPTION:One of JFL’s 2022 New Faces\, Hannah Berner emerged on the comedy scene by directing\, editing\, and acting in videos on Instagram and writing viral tweets. She has two podcasts\, Giggly Squad and Berning In Hell\, with over 20 million combined downloads. She was a cohost on Bravo’s Chat Room\, as well as a member of Bravo’s Summer House for three seasons\, and has over 3.3 million followers across her social media platforms. She currently performs standup in NYC and at clubs and theaters all around the country.
URL:https://oldediblerenotahoe.com/event/hannah-berner/
LOCATION:Grand Sierra Resort\, 2500 E 2nd St\, Reno\, NV
CATEGORIES:Comedy Show
END:VEVENT
BEGIN:VEVENT
DTSTART;TZID=America/Los_Angeles:20240113T200000
DTEND;TZID=America/Los_Angeles:20240113T220000
DTSTAMP:20260424T091150
CREATED:20231216T225838Z
LAST-MODIFIED:20231216T225838Z
UID:36128-1705176000-1705183200@oldediblerenotahoe.com
SUMMARY:Anthony Jeselnik: Bones and All
DESCRIPTION:Anthony Jeselnik is a stand-up comedian widely known for his Netflix specials\, podcast and Comedy Central roasts. He currently hosts the podcast\, THE JESELNIK AND ROSENTHAL VANITY PROJECT\, alongside co-host Gregg Rosenthal for All Things Comedy. His most recent stand up special\, FIRE IN THE MATERNITY WARD\, premiered on Netflix to critical acclaim. Anthony was the creator\, host and producer of his series\, GOOD TALK and THE JESELNIK OFFENSIVE on Comedy Central.
URL:https://oldediblerenotahoe.com/event/anthony-jeselnik-bones-and-all/
LOCATION:Grand Sierra Resort\, 2500 E 2nd St\, Reno\, NV
CATEGORIES:Comedy Show
END:VEVENT
END:VCALENDAR