BEGIN:VCALENDAR
VERSION:2.0
PRODID:-//Edible Reno-Tahoe - ECPv6.15.20//NONSGML v1.0//EN
CALSCALE:GREGORIAN
METHOD:PUBLISH
X-ORIGINAL-URL:https://oldediblerenotahoe.com
X-WR-CALDESC:Events for Edible Reno-Tahoe
REFRESH-INTERVAL;VALUE=DURATION:PT1H
X-Robots-Tag:noindex
X-PUBLISHED-TTL:PT1H
BEGIN:VTIMEZONE
TZID:America/Los_Angeles
BEGIN:DAYLIGHT
TZOFFSETFROM:-0800
TZOFFSETTO:-0700
TZNAME:PDT
DTSTART:20230312T100000
END:DAYLIGHT
BEGIN:STANDARD
TZOFFSETFROM:-0700
TZOFFSETTO:-0800
TZNAME:PST
DTSTART:20231105T090000
END:STANDARD
BEGIN:DAYLIGHT
TZOFFSETFROM:-0800
TZOFFSETTO:-0700
TZNAME:PDT
DTSTART:20240310T100000
END:DAYLIGHT
BEGIN:STANDARD
TZOFFSETFROM:-0700
TZOFFSETTO:-0800
TZNAME:PST
DTSTART:20241103T090000
END:STANDARD
BEGIN:DAYLIGHT
TZOFFSETFROM:-0800
TZOFFSETTO:-0700
TZNAME:PDT
DTSTART:20250309T100000
END:DAYLIGHT
BEGIN:STANDARD
TZOFFSETFROM:-0700
TZOFFSETTO:-0800
TZNAME:PST
DTSTART:20251102T090000
END:STANDARD
END:VTIMEZONE
BEGIN:VEVENT
DTSTART;TZID=America/Los_Angeles:20241109T100000
DTEND;TZID=America/Los_Angeles:20241109T180000
DTSTAMP:20260424T091906
CREATED:20231216T223823Z
LAST-MODIFIED:20231216T223823Z
UID:36096-1731146400-1731175200@oldediblerenotahoe.com
SUMMARY:Hands ON! Second Saturday
DESCRIPTION:Estelle J. Kelsey Foundation Hands ON! Second Saturdays offers monthly free admission\, hands-on art activities\, storytelling\, docent-guided tours\, live performances\, and community collaborations.  “Art Expeditions” provides children the opportunity to engage with Museum staff and take a closer look at current work on view. New exhibitions\, community collaborations\, guest performances and monthly themes rotate in this engaging series of monthly programs.
URL:https://oldediblerenotahoe.com/event/hands-on-second-saturday-2024-11-09/
LOCATION:Nevada Museum of Art\, 160 West Liberty\, Reno\, Nevada\, 89501
CATEGORIES:Arts,Community Class
END:VEVENT
BEGIN:VEVENT
DTSTART;TZID=America/Los_Angeles:20241012T100000
DTEND;TZID=America/Los_Angeles:20241012T180000
DTSTAMP:20260424T091906
CREATED:20231216T223823Z
LAST-MODIFIED:20231216T223823Z
UID:36095-1728727200-1728756000@oldediblerenotahoe.com
SUMMARY:Hands ON! Second Saturday
DESCRIPTION:Estelle J. Kelsey Foundation Hands ON! Second Saturdays offers monthly free admission\, hands-on art activities\, storytelling\, docent-guided tours\, live performances\, and community collaborations.  “Art Expeditions” provides children the opportunity to engage with Museum staff and take a closer look at current work on view. New exhibitions\, community collaborations\, guest performances and monthly themes rotate in this engaging series of monthly programs.
URL:https://oldediblerenotahoe.com/event/hands-on-second-saturday-2024-10-12/
LOCATION:Nevada Museum of Art\, 160 West Liberty\, Reno\, Nevada\, 89501
CATEGORIES:Arts,Community Class
END:VEVENT
BEGIN:VEVENT
DTSTART;TZID=America/Los_Angeles:20241006T090000
DTEND;TZID=America/Los_Angeles:20241006T140000
DTSTAMP:20260424T091906
CREATED:20240212T180258Z
LAST-MODIFIED:20240212T180258Z
UID:37283-1728205200-1728223200@oldediblerenotahoe.com
SUMMARY:Practical Permaculture Class
DESCRIPTION:Imagine heading outside to your yard and being able to gather ingredients for a delicious main course or side dish. It is easier than you think. \nEvery site requires site-specific techniques\, and we’ll teach you how to identify what is needed to implement a successful project. \nStudents will gain the confidence to read their own landscapes and identify resources and weaknesses. Using permaculture design principles and the very best organic gardening techniques\, they will then learn how to plan and install a system for prolific production. \nLearn more at cobitat.org/practical-permaculture
URL:https://oldediblerenotahoe.com/event/practical-permaculture-class-2024-10-06/
CATEGORIES:Community Class,Gardening
ATTACH;FMTTYPE=image/png:https://oldediblerenotahoe.com/wp-content/uploads/2024/02/IMG_20230702_070452234.png
END:VEVENT
BEGIN:VEVENT
DTSTART;TZID=America/Los_Angeles:20240928T100000
DTEND;TZID=America/Los_Angeles:20240928T163000
DTSTAMP:20260424T091906
CREATED:20240318T024120Z
LAST-MODIFIED:20240318T024120Z
UID:37855-1727517600-1727541000@oldediblerenotahoe.com
SUMMARY:Animal Ark Conservation Expo
DESCRIPTION:Discover diverse wildlife preservation efforts through interactive booths and speakers to learn how you can make a difference in protecting our planet’s wildlife and biodiversity.
URL:https://oldediblerenotahoe.com/event/animal-ark-conservation-expo/
LOCATION:Animal Ark\, 1265 Deerlodge Road\, Reno
CATEGORIES:Activity,Community Class
END:VEVENT
BEGIN:VEVENT
DTSTART;TZID=America/Los_Angeles:20240915T090000
DTEND;TZID=America/Los_Angeles:20240915T140000
DTSTAMP:20260424T091906
CREATED:20240212T180258Z
LAST-MODIFIED:20240212T180258Z
UID:37282-1726390800-1726408800@oldediblerenotahoe.com
SUMMARY:Practical Permaculture Class
DESCRIPTION:Imagine heading outside to your yard and being able to gather ingredients for a delicious main course or side dish. It is easier than you think. \nEvery site requires site-specific techniques\, and we’ll teach you how to identify what is needed to implement a successful project. \nStudents will gain the confidence to read their own landscapes and identify resources and weaknesses. Using permaculture design principles and the very best organic gardening techniques\, they will then learn how to plan and install a system for prolific production. \nLearn more at cobitat.org/practical-permaculture
URL:https://oldediblerenotahoe.com/event/practical-permaculture-class-2024-09-15/
CATEGORIES:Community Class,Gardening
ATTACH;FMTTYPE=image/png:https://oldediblerenotahoe.com/wp-content/uploads/2024/02/IMG_20230702_070452234.png
END:VEVENT
BEGIN:VEVENT
DTSTART;TZID=America/Los_Angeles:20240914T100000
DTEND;TZID=America/Los_Angeles:20240914T180000
DTSTAMP:20260424T091906
CREATED:20231216T223823Z
LAST-MODIFIED:20231216T223823Z
UID:36094-1726308000-1726336800@oldediblerenotahoe.com
SUMMARY:Hands ON! Second Saturday
DESCRIPTION:Estelle J. Kelsey Foundation Hands ON! Second Saturdays offers monthly free admission\, hands-on art activities\, storytelling\, docent-guided tours\, live performances\, and community collaborations.  “Art Expeditions” provides children the opportunity to engage with Museum staff and take a closer look at current work on view. New exhibitions\, community collaborations\, guest performances and monthly themes rotate in this engaging series of monthly programs.
URL:https://oldediblerenotahoe.com/event/hands-on-second-saturday-2024-09-14/
LOCATION:Nevada Museum of Art\, 160 West Liberty\, Reno\, Nevada\, 89501
CATEGORIES:Arts,Community Class
END:VEVENT
BEGIN:VEVENT
DTSTART;TZID=America/Los_Angeles:20240818T090000
DTEND;TZID=America/Los_Angeles:20240818T140000
DTSTAMP:20260424T091906
CREATED:20240212T180258Z
LAST-MODIFIED:20240212T180258Z
UID:37281-1723971600-1723989600@oldediblerenotahoe.com
SUMMARY:Practical Permaculture Class
DESCRIPTION:Imagine heading outside to your yard and being able to gather ingredients for a delicious main course or side dish. It is easier than you think. \nEvery site requires site-specific techniques\, and we’ll teach you how to identify what is needed to implement a successful project. \nStudents will gain the confidence to read their own landscapes and identify resources and weaknesses. Using permaculture design principles and the very best organic gardening techniques\, they will then learn how to plan and install a system for prolific production. \nLearn more at cobitat.org/practical-permaculture
URL:https://oldediblerenotahoe.com/event/practical-permaculture-class-2024-08-18/
CATEGORIES:Community Class,Gardening
ATTACH;FMTTYPE=image/png:https://oldediblerenotahoe.com/wp-content/uploads/2024/02/IMG_20230702_070452234.png
END:VEVENT
BEGIN:VEVENT
DTSTART;TZID=America/Los_Angeles:20240810T100000
DTEND;TZID=America/Los_Angeles:20240810T180000
DTSTAMP:20260424T091906
CREATED:20231216T223823Z
LAST-MODIFIED:20231216T223823Z
UID:36093-1723284000-1723312800@oldediblerenotahoe.com
SUMMARY:Hands ON! Second Saturday
DESCRIPTION:Estelle J. Kelsey Foundation Hands ON! Second Saturdays offers monthly free admission\, hands-on art activities\, storytelling\, docent-guided tours\, live performances\, and community collaborations.  “Art Expeditions” provides children the opportunity to engage with Museum staff and take a closer look at current work on view. New exhibitions\, community collaborations\, guest performances and monthly themes rotate in this engaging series of monthly programs.
URL:https://oldediblerenotahoe.com/event/hands-on-second-saturday-2024-08-10/
LOCATION:Nevada Museum of Art\, 160 West Liberty\, Reno\, Nevada\, 89501
CATEGORIES:Arts,Community Class
END:VEVENT
BEGIN:VEVENT
DTSTART;TZID=America/Los_Angeles:20240713T100000
DTEND;TZID=America/Los_Angeles:20240713T180000
DTSTAMP:20260424T091906
CREATED:20231216T223823Z
LAST-MODIFIED:20231216T223823Z
UID:36092-1720864800-1720893600@oldediblerenotahoe.com
SUMMARY:Hands ON! Second Saturday
DESCRIPTION:Estelle J. Kelsey Foundation Hands ON! Second Saturdays offers monthly free admission\, hands-on art activities\, storytelling\, docent-guided tours\, live performances\, and community collaborations.  “Art Expeditions” provides children the opportunity to engage with Museum staff and take a closer look at current work on view. New exhibitions\, community collaborations\, guest performances and monthly themes rotate in this engaging series of monthly programs.
URL:https://oldediblerenotahoe.com/event/hands-on-second-saturday-2024-07-13/
LOCATION:Nevada Museum of Art\, 160 West Liberty\, Reno\, Nevada\, 89501
CATEGORIES:Arts,Community Class
END:VEVENT
BEGIN:VEVENT
DTSTART;TZID=America/Los_Angeles:20240712T090000
DTEND;TZID=America/Los_Angeles:20240712T140000
DTSTAMP:20260424T091906
CREATED:20240212T180258Z
LAST-MODIFIED:20240212T180258Z
UID:37280-1720774800-1720792800@oldediblerenotahoe.com
SUMMARY:Practical Permaculture Class
DESCRIPTION:Imagine heading outside to your yard and being able to gather ingredients for a delicious main course or side dish. It is easier than you think. \nEvery site requires site-specific techniques\, and we’ll teach you how to identify what is needed to implement a successful project. \nStudents will gain the confidence to read their own landscapes and identify resources and weaknesses. Using permaculture design principles and the very best organic gardening techniques\, they will then learn how to plan and install a system for prolific production. \nLearn more at cobitat.org/practical-permaculture
URL:https://oldediblerenotahoe.com/event/practical-permaculture-class-2024-07-12/
CATEGORIES:Community Class,Gardening
ATTACH;FMTTYPE=image/png:https://oldediblerenotahoe.com/wp-content/uploads/2024/02/IMG_20230702_070452234.png
END:VEVENT
BEGIN:VEVENT
DTSTART;TZID=America/Los_Angeles:20240623T090000
DTEND;TZID=America/Los_Angeles:20240623T140000
DTSTAMP:20260424T091906
CREATED:20240212T180258Z
LAST-MODIFIED:20240212T180258Z
UID:37279-1719133200-1719151200@oldediblerenotahoe.com
SUMMARY:Practical Permaculture Class
DESCRIPTION:Imagine heading outside to your yard and being able to gather ingredients for a delicious main course or side dish. It is easier than you think. \nEvery site requires site-specific techniques\, and we’ll teach you how to identify what is needed to implement a successful project. \nStudents will gain the confidence to read their own landscapes and identify resources and weaknesses. Using permaculture design principles and the very best organic gardening techniques\, they will then learn how to plan and install a system for prolific production. \nLearn more at cobitat.org/practical-permaculture
URL:https://oldediblerenotahoe.com/event/practical-permaculture-class-2024-06-23/
CATEGORIES:Community Class,Gardening
ATTACH;FMTTYPE=image/png:https://oldediblerenotahoe.com/wp-content/uploads/2024/02/IMG_20230702_070452234.png
END:VEVENT
BEGIN:VEVENT
DTSTART;TZID=America/Los_Angeles:20240608T100000
DTEND;TZID=America/Los_Angeles:20240608T180000
DTSTAMP:20260424T091906
CREATED:20231216T223823Z
LAST-MODIFIED:20231216T223823Z
UID:36091-1717840800-1717869600@oldediblerenotahoe.com
SUMMARY:Hands ON! Second Saturday
DESCRIPTION:Estelle J. Kelsey Foundation Hands ON! Second Saturdays offers monthly free admission\, hands-on art activities\, storytelling\, docent-guided tours\, live performances\, and community collaborations.  “Art Expeditions” provides children the opportunity to engage with Museum staff and take a closer look at current work on view. New exhibitions\, community collaborations\, guest performances and monthly themes rotate in this engaging series of monthly programs.
URL:https://oldediblerenotahoe.com/event/hands-on-second-saturday-2024-06-08/
LOCATION:Nevada Museum of Art\, 160 West Liberty\, Reno\, Nevada\, 89501
CATEGORIES:Arts,Community Class
END:VEVENT
BEGIN:VEVENT
DTSTART;TZID=America/Los_Angeles:20240519T090000
DTEND;TZID=America/Los_Angeles:20240519T140000
DTSTAMP:20260424T091906
CREATED:20240212T180258Z
LAST-MODIFIED:20240212T180258Z
UID:37278-1716109200-1716127200@oldediblerenotahoe.com
SUMMARY:Practical Permaculture Class
DESCRIPTION:Imagine heading outside to your yard and being able to gather ingredients for a delicious main course or side dish. It is easier than you think. \nEvery site requires site-specific techniques\, and we’ll teach you how to identify what is needed to implement a successful project. \nStudents will gain the confidence to read their own landscapes and identify resources and weaknesses. Using permaculture design principles and the very best organic gardening techniques\, they will then learn how to plan and install a system for prolific production. \nLearn more at cobitat.org/practical-permaculture
URL:https://oldediblerenotahoe.com/event/practical-permaculture-class-2024-05-19/
CATEGORIES:Community Class,Gardening
ATTACH;FMTTYPE=image/png:https://oldediblerenotahoe.com/wp-content/uploads/2024/02/IMG_20230702_070452234.png
END:VEVENT
BEGIN:VEVENT
DTSTART;TZID=America/Los_Angeles:20240511T100000
DTEND;TZID=America/Los_Angeles:20240511T180000
DTSTAMP:20260424T091906
CREATED:20231216T223823Z
LAST-MODIFIED:20231216T223823Z
UID:36090-1715421600-1715450400@oldediblerenotahoe.com
SUMMARY:Hands ON! Second Saturday
DESCRIPTION:Estelle J. Kelsey Foundation Hands ON! Second Saturdays offers monthly free admission\, hands-on art activities\, storytelling\, docent-guided tours\, live performances\, and community collaborations.  “Art Expeditions” provides children the opportunity to engage with Museum staff and take a closer look at current work on view. New exhibitions\, community collaborations\, guest performances and monthly themes rotate in this engaging series of monthly programs.
URL:https://oldediblerenotahoe.com/event/hands-on-second-saturday-2024-05-11/
LOCATION:Nevada Museum of Art\, 160 West Liberty\, Reno\, Nevada\, 89501
CATEGORIES:Arts,Community Class
END:VEVENT
BEGIN:VEVENT
DTSTART;TZID=America/Los_Angeles:20240421T090000
DTEND;TZID=America/Los_Angeles:20240421T140000
DTSTAMP:20260424T091906
CREATED:20240212T180258Z
LAST-MODIFIED:20240212T180258Z
UID:37274-1713690000-1713708000@oldediblerenotahoe.com
SUMMARY:Practical Permaculture Class
DESCRIPTION:Imagine heading outside to your yard and being able to gather ingredients for a delicious main course or side dish. It is easier than you think. \nEvery site requires site-specific techniques\, and we’ll teach you how to identify what is needed to implement a successful project. \nStudents will gain the confidence to read their own landscapes and identify resources and weaknesses. Using permaculture design principles and the very best organic gardening techniques\, they will then learn how to plan and install a system for prolific production. \nLearn more at cobitat.org/practical-permaculture
URL:https://oldediblerenotahoe.com/event/practical-permaculture-class/
CATEGORIES:Community Class,Gardening
ATTACH;FMTTYPE=image/png:https://oldediblerenotahoe.com/wp-content/uploads/2024/02/IMG_20230702_070452234.png
END:VEVENT
BEGIN:VEVENT
DTSTART;TZID=America/Los_Angeles:20240420T190000
DTEND;TZID=America/Los_Angeles:20240420T220000
DTSTAMP:20260424T091906
CREATED:20240226T203416Z
LAST-MODIFIED:20240226T203416Z
UID:37428-1713639600-1713650400@oldediblerenotahoe.com
SUMMARY:Social Science: Goes Mental (Health)
DESCRIPTION:Free your mind by learning how it works. Explore psychedelic therapy\, hold a human brain in your hands\, feel a rush of endorphins\, manifest your worries in a doll\, experience the Mental Health: Mind Matters exhibition\, and more. It’s gonna be a trip!
URL:https://oldediblerenotahoe.com/event/social-science-goes-mental-health/
LOCATION:Terry Lee Wells Discovery Museum\, 490 S. Center Street\, Reno\, NV\, 89501
CATEGORIES:21+,Community Class
END:VEVENT
BEGIN:VEVENT
DTSTART;TZID=America/Los_Angeles:20240420T100000
DTEND;TZID=America/Los_Angeles:20240420T123000
DTSTAMP:20260424T091906
CREATED:20240311T044502Z
LAST-MODIFIED:20240311T044502Z
UID:37790-1713607200-1713616200@oldediblerenotahoe.com
SUMMARY:Dead Plant Society: Chickens 101
DESCRIPTION:Have you been entertaining the idea of chickens? These feathered friends are more beneficial in the garden than you think. Besides pest control and incredible fertilizer\, chickens make great friends and can be super social! In this workshop we’ll dive into the basics of chicken care and how to get started. One lucky Dead Plant Society attendee will go home with a Greens Feed gift card to get started on your chicken supplies and farm fresh eggs!
URL:https://oldediblerenotahoe.com/event/dead-plant-society-chickens-101/
LOCATION:Urban Teaching Farm\, 1700 E 2nd Street\, Reno\, NV\, 89502
CATEGORIES:Community Class
END:VEVENT
BEGIN:VEVENT
DTSTART;TZID=America/Los_Angeles:20240413T100000
DTEND;TZID=America/Los_Angeles:20240413T180000
DTSTAMP:20260424T091906
CREATED:20231216T223823Z
LAST-MODIFIED:20231216T223823Z
UID:36089-1713002400-1713031200@oldediblerenotahoe.com
SUMMARY:Hands ON! Second Saturday
DESCRIPTION:Estelle J. Kelsey Foundation Hands ON! Second Saturdays offers monthly free admission\, hands-on art activities\, storytelling\, docent-guided tours\, live performances\, and community collaborations.  “Art Expeditions” provides children the opportunity to engage with Museum staff and take a closer look at current work on view. New exhibitions\, community collaborations\, guest performances and monthly themes rotate in this engaging series of monthly programs.
URL:https://oldediblerenotahoe.com/event/hands-on-second-saturday-2024-04-13/
LOCATION:Nevada Museum of Art\, 160 West Liberty\, Reno\, Nevada\, 89501
CATEGORIES:Arts,Community Class
END:VEVENT
BEGIN:VEVENT
DTSTART;TZID=America/Los_Angeles:20240326T180000
DTEND;TZID=America/Los_Angeles:20240326T200000
DTSTAMP:20260424T091906
CREATED:20240202T004428Z
LAST-MODIFIED:20240202T004428Z
UID:37237-1711476000-1711483200@oldediblerenotahoe.com
SUMMARY:Gardening in Nevada: Successful Vegetable Gardening
DESCRIPTION:Randy Robison will give information on how to have the most successful vegetable gardens\, including information on amending the soil to help plants thrive\, the importance of crop rotation\, strategies to increase yields\, companion planting benefits and how to discourage unwanted pests.
URL:https://oldediblerenotahoe.com/event/gardening-in-nevada-successful-vegetable-gardening/
LOCATION:Bartley Ranch
CATEGORIES:Community Class,Gardening
END:VEVENT
BEGIN:VEVENT
DTSTART;TZID=America/Los_Angeles:20240325T120000
DTEND;TZID=America/Los_Angeles:20240325T140000
DTSTAMP:20260424T091906
CREATED:20240226T200531Z
LAST-MODIFIED:20240226T200531Z
UID:37410-1711368000-1711375200@oldediblerenotahoe.com
SUMMARY:Cooking & Nutrition Workshop for Seniors
DESCRIPTION:Learn the nutritional value of different recipes to stay healthy and how to cook meals that are senior-friendly\, healthy\, and nutritious.
URL:https://oldediblerenotahoe.com/event/cooking-nutrition-workshop-for-seniors-2024-03-25/
CATEGORIES:Community Class,Seniors
END:VEVENT
BEGIN:VEVENT
DTSTART;VALUE=DATE:20240322
DTEND;VALUE=DATE:20240325
DTSTAMP:20260424T091906
CREATED:20240216T233259Z
LAST-MODIFIED:20240216T233259Z
UID:37402-1711065600-1711324799@oldediblerenotahoe.com
SUMMARY:Bee and Garden Conference
DESCRIPTION:This conference will focus on beekeeping\, pollinators\, and landscaping for homeowners and small acreages. There will also be hands-on classes for floral design\, making medicinal products from the hive\, and value-added honey products. \nRegistration for the main sessions of the conference\, running from Friday evening through Sunday morning is $125\, and offers two tracks\, one on honey bee and value-added products from the hive\, and the other on ”NevadaScapes” and gardening. Continental breakfast on Saturday and Sunday and lunch on Saturday is included. In addition\, there is an option for 10 youth\, ages 9-13\, to attend a Jr. Master Gardener session all day Saturday\, for $80\, which includes hands-on learning\, continental breakfast and lunch. \nFinally\, there are also three other optional hands-on sessions offered for $25 per session (not included with conference registration)\, and limited to 30 people per session: \n\nMedicinal products from the hive\, Saturday\, 6:30 – 9 p.m.\nShrubs\, syrups and oxymels (herbal extractions of vinegar and honey)\, Sunday\, 8:30 – 10:15 a.m.\nApothecary (preparing and selling products for medicinal purposes)\, Sunday\, 10:30 a.m. – noon
URL:https://oldediblerenotahoe.com/event/bee-and-garden-conference/
LOCATION:Carson Valley Inn\, 1627 Hwy 395 N\,\, Minden\, NV
CATEGORIES:Community Class
END:VEVENT
BEGIN:VEVENT
DTSTART;TZID=America/Los_Angeles:20240321T090000
DTEND;TZID=America/Los_Angeles:20240321T110000
DTSTAMP:20260424T091906
CREATED:20240226T200531Z
LAST-MODIFIED:20240226T200531Z
UID:37409-1711011600-1711018800@oldediblerenotahoe.com
SUMMARY:Cooking & Nutrition Workshop for Seniors
DESCRIPTION:Learn the nutritional value of different recipes to stay healthy and how to cook meals that are senior-friendly\, healthy\, and nutritious.
URL:https://oldediblerenotahoe.com/event/cooking-nutrition-workshop-for-seniors-2024-03-21/
CATEGORIES:Community Class,Seniors
END:VEVENT
BEGIN:VEVENT
DTSTART;TZID=America/Los_Angeles:20240319T180000
DTEND;TZID=America/Los_Angeles:20240319T200000
DTSTAMP:20260424T091906
CREATED:20240202T004251Z
LAST-MODIFIED:20240202T004251Z
UID:37238-1710871200-1710878400@oldediblerenotahoe.com
SUMMARY:Gardening in Nevada: Totally Tomatoes
DESCRIPTION:Beth Heggeness and Deborah Whitehouse will about tomatoes\, from pests to zest\, including selection\, growing seedlings\, planting and feeding.
URL:https://oldediblerenotahoe.com/event/gardening-in-nevada-totally-tomatoes/
LOCATION:Bartley Ranch
CATEGORIES:Community Class,Gardening
END:VEVENT
BEGIN:VEVENT
DTSTART;TZID=America/Los_Angeles:20240312T180000
DTEND;TZID=America/Los_Angeles:20240312T200000
DTSTAMP:20260424T091906
CREATED:20240202T004216Z
LAST-MODIFIED:20240202T004341Z
UID:37239-1710266400-1710273600@oldediblerenotahoe.com
SUMMARY:Gardening in Nevada: Turf Alternatives
DESCRIPTION:Carol Lister\, Jill Strawder-Bubala and Karen Seaward will discuss how to let go of your grass. They will talk about why it might be time for lawn lovers to make a switch\, and will explore the best times and ways to tackle removing lawns\, as well as options of what to plant in place of grass.
URL:https://oldediblerenotahoe.com/event/gardening-in-nevada-turf-alternatives/
LOCATION:Bartley Ranch
CATEGORIES:Community Class,Gardening
END:VEVENT
BEGIN:VEVENT
DTSTART;TZID=America/Los_Angeles:20240309T100000
DTEND;TZID=America/Los_Angeles:20240309T180000
DTSTAMP:20260424T091906
CREATED:20231216T223823Z
LAST-MODIFIED:20231216T223823Z
UID:36088-1709978400-1710007200@oldediblerenotahoe.com
SUMMARY:Hands ON! Second Saturday
DESCRIPTION:Estelle J. Kelsey Foundation Hands ON! Second Saturdays offers monthly free admission\, hands-on art activities\, storytelling\, docent-guided tours\, live performances\, and community collaborations.  “Art Expeditions” provides children the opportunity to engage with Museum staff and take a closer look at current work on view. New exhibitions\, community collaborations\, guest performances and monthly themes rotate in this engaging series of monthly programs.
URL:https://oldediblerenotahoe.com/event/hands-on-second-saturday-2024-03-09/
LOCATION:Nevada Museum of Art\, 160 West Liberty\, Reno\, Nevada\, 89501
CATEGORIES:Arts,Community Class
END:VEVENT
BEGIN:VEVENT
DTSTART;TZID=America/Los_Angeles:20240305T180000
DTEND;TZID=America/Los_Angeles:20240305T200000
DTSTAMP:20260424T091906
CREATED:20240202T004144Z
LAST-MODIFIED:20240202T004355Z
UID:37240-1709661600-1709668800@oldediblerenotahoe.com
SUMMARY:Gardening in Nevada: Shade Gardening
DESCRIPTION:Anna Anderson and Leslie Edgington will discuss shade plants\, some of which are the first to break through the soil in late winter and early spring\, and then continue to grow and bloom until the first hard freeze. They will also discuss the plant blooms\, which attract pollinators and hummingbirds.
URL:https://oldediblerenotahoe.com/event/gardening-in-nevada-shade-gardening/
LOCATION:Bartley Ranch
CATEGORIES:Community Class,Gardening
END:VEVENT
BEGIN:VEVENT
DTSTART;TZID=America/Los_Angeles:20240227T180000
DTEND;TZID=America/Los_Angeles:20240227T200000
DTSTAMP:20260424T091906
CREATED:20231216T201315Z
LAST-MODIFIED:20240202T003748Z
UID:35848-1709056800-1709064000@oldediblerenotahoe.com
SUMMARY:Gardening in Nevada: Gardening in Small Spaces
DESCRIPTION:Liz Morrow will introduce ideas and methods for gardening in small spaces to enable gardeners to enjoy a variety of plants\, both edible or ornamental\, whether living in a condominium or apartment\, traveling in an RV\, or living in other spaces with limited growing areas.
URL:https://oldediblerenotahoe.com/event/bartleyranchgardening-2024-02-27/
LOCATION:Bartley Ranch
CATEGORIES:Community Class,Gardening
END:VEVENT
BEGIN:VEVENT
DTSTART;TZID=America/Los_Angeles:20240226T120000
DTEND;TZID=America/Los_Angeles:20240226T140000
DTSTAMP:20260424T091906
CREATED:20240226T200531Z
LAST-MODIFIED:20240226T200531Z
UID:37408-1708948800-1708956000@oldediblerenotahoe.com
SUMMARY:Cooking & Nutrition Workshop for Seniors
DESCRIPTION:Learn the nutritional value of different recipes to stay healthy and how to cook meals that are senior-friendly\, healthy\, and nutritious.
URL:https://oldediblerenotahoe.com/event/cooking-nutrition-workshop-for-seniors-2024-02-26/
CATEGORIES:Community Class,Seniors
END:VEVENT
BEGIN:VEVENT
DTSTART;TZID=America/Los_Angeles:20240221T090000
DTEND;TZID=America/Los_Angeles:20240221T110000
DTSTAMP:20260424T091906
CREATED:20240226T200531Z
LAST-MODIFIED:20240226T200531Z
UID:37407-1708506000-1708513200@oldediblerenotahoe.com
SUMMARY:Cooking & Nutrition Workshop for Seniors
DESCRIPTION:Learn the nutritional value of different recipes to stay healthy and how to cook meals that are senior-friendly\, healthy\, and nutritious.
URL:https://oldediblerenotahoe.com/event/cooking-nutrition-workshop-for-seniors/
CATEGORIES:Community Class,Seniors
END:VEVENT
BEGIN:VEVENT
DTSTART;TZID=America/Los_Angeles:20240220T180000
DTEND;TZID=America/Los_Angeles:20240220T200000
DTSTAMP:20260424T091906
CREATED:20231216T201315Z
LAST-MODIFIED:20240202T003847Z
UID:35847-1708452000-1708459200@oldediblerenotahoe.com
SUMMARY:Gardening in Nevada: Vertebrate Pests
DESCRIPTION:Melody Hefner will share knowledge on management of a variety of local vertebrate pests\, including mice\, ground squirrels\, rabbits and more. Learn strategies to control these pests and prevent future infestations.
URL:https://oldediblerenotahoe.com/event/bartleyranchgardening-2024-02-20/
LOCATION:Bartley Ranch
CATEGORIES:Community Class,Gardening
END:VEVENT
END:VCALENDAR