BEGIN:VCALENDAR
VERSION:2.0
PRODID:-//Edible Reno-Tahoe - ECPv6.15.20//NONSGML v1.0//EN
CALSCALE:GREGORIAN
METHOD:PUBLISH
X-ORIGINAL-URL:https://oldediblerenotahoe.com
X-WR-CALDESC:Events for Edible Reno-Tahoe
REFRESH-INTERVAL;VALUE=DURATION:PT1H
X-Robots-Tag:noindex
X-PUBLISHED-TTL:PT1H
BEGIN:VTIMEZONE
TZID:America/Los_Angeles
BEGIN:DAYLIGHT
TZOFFSETFROM:-0800
TZOFFSETTO:-0700
TZNAME:PDT
DTSTART:20200308T100000
END:DAYLIGHT
BEGIN:STANDARD
TZOFFSETFROM:-0700
TZOFFSETTO:-0800
TZNAME:PST
DTSTART:20201101T090000
END:STANDARD
BEGIN:DAYLIGHT
TZOFFSETFROM:-0800
TZOFFSETTO:-0700
TZNAME:PDT
DTSTART:20210314T100000
END:DAYLIGHT
BEGIN:STANDARD
TZOFFSETFROM:-0700
TZOFFSETTO:-0800
TZNAME:PST
DTSTART:20211107T090000
END:STANDARD
BEGIN:DAYLIGHT
TZOFFSETFROM:-0800
TZOFFSETTO:-0700
TZNAME:PDT
DTSTART:20220313T100000
END:DAYLIGHT
BEGIN:STANDARD
TZOFFSETFROM:-0700
TZOFFSETTO:-0800
TZNAME:PST
DTSTART:20221106T090000
END:STANDARD
BEGIN:DAYLIGHT
TZOFFSETFROM:-0800
TZOFFSETTO:-0700
TZNAME:PDT
DTSTART:20230312T100000
END:DAYLIGHT
BEGIN:STANDARD
TZOFFSETFROM:-0700
TZOFFSETTO:-0800
TZNAME:PST
DTSTART:20231105T090000
END:STANDARD
BEGIN:DAYLIGHT
TZOFFSETFROM:-0800
TZOFFSETTO:-0700
TZNAME:PDT
DTSTART:20240310T100000
END:DAYLIGHT
BEGIN:STANDARD
TZOFFSETFROM:-0700
TZOFFSETTO:-0800
TZNAME:PST
DTSTART:20241103T090000
END:STANDARD
BEGIN:DAYLIGHT
TZOFFSETFROM:-0800
TZOFFSETTO:-0700
TZNAME:PDT
DTSTART:20250309T100000
END:DAYLIGHT
BEGIN:STANDARD
TZOFFSETFROM:-0700
TZOFFSETTO:-0800
TZNAME:PST
DTSTART:20251102T090000
END:STANDARD
END:VTIMEZONE
BEGIN:VTIMEZONE
TZID:UTC
BEGIN:STANDARD
TZOFFSETFROM:+0000
TZOFFSETTO:+0000
TZNAME:UTC
DTSTART:20200101T000000
END:STANDARD
END:VTIMEZONE
BEGIN:VEVENT
DTSTART;TZID=America/Los_Angeles:20240113T100000
DTEND;TZID=America/Los_Angeles:20240113T180000
DTSTAMP:20260424T190654
CREATED:20231216T223823Z
LAST-MODIFIED:20231216T223823Z
UID:36086-1705140000-1705168800@oldediblerenotahoe.com
SUMMARY:Hands ON! Second Saturday
DESCRIPTION:Estelle J. Kelsey Foundation Hands ON! Second Saturdays offers monthly free admission\, hands-on art activities\, storytelling\, docent-guided tours\, live performances\, and community collaborations.  “Art Expeditions” provides children the opportunity to engage with Museum staff and take a closer look at current work on view. New exhibitions\, community collaborations\, guest performances and monthly themes rotate in this engaging series of monthly programs.
URL:https://oldediblerenotahoe.com/event/hands-on-second-saturday/
LOCATION:Nevada Museum of Art\, 160 West Liberty\, Reno\, Nevada\, 89501
CATEGORIES:Arts,Community Class
END:VEVENT
BEGIN:VEVENT
DTSTART;TZID=America/Los_Angeles:20230929T170000
DTEND;TZID=America/Los_Angeles:20230929T190000
DTSTAMP:20260424T190654
CREATED:20230922T190444Z
LAST-MODIFIED:20230922T190526Z
UID:33915-1696006800-1696014000@oldediblerenotahoe.com
SUMMARY:Seeding Food System Transformation through Agroecology
DESCRIPTION:Mountain Lotus is hosting a program exploring food system transformation through Agroecology on September 29\, 2023. The event will feature delicious fare from the Tahoe Food Hub and Mountain Lotus Provisions. Featured guests include renowned author and activist\, Anna Lappe\, Indigenous seed steward\, Rowan White\, Washoe Warrior Elder Frank Grayshield and WGZT Board Member Dr. Lisa Grayshield\, as well as Sacred Songs sharing from Washoe Spiritual Leaders. This is a fundraising event for the Tahoe Food Hub and WGZT. Tickets are $10 and include one drink ticket and appetizers. \nLearn more and secure your ticket(s) here.
URL:https://oldediblerenotahoe.com/event/agroecology/
LOCATION:Mountain Lotus Yoga (Truckee)\, 10124 E Street\, Truckee\, CA\, 96161
CATEGORIES:Community Class,Nonprofit
ATTACH;FMTTYPE=image/jpeg:https://oldediblerenotahoe.com/wp-content/uploads/2023/09/seeding.jpg
END:VEVENT
BEGIN:VEVENT
DTSTART;TZID=America/Los_Angeles:20220522T070000
DTEND;TZID=America/Los_Angeles:20220522T130000
DTSTAMP:20260424T190654
CREATED:20220225T214759Z
LAST-MODIFIED:20220225T214813Z
UID:25961-1653202800-1653224400@oldediblerenotahoe.com
SUMMARY:Nature's Pharmacy: Herbal Medicine Making Workshop
DESCRIPTION:Come join us as we learn to create a variety of botanical medicines using many native Nevada plants. During this intensive class we will learn the fundamental methods for making a number of preparations\, including: teas\, tinctures\, herbal oils\, salves\, liniments\, and syrups. Starting with an overview of some basic principles of plant chemistry\, we will examine different extraction methods while learning when they can be best applied. The remainder of the class will be devoted to preparing a number of different herbal products\, giving us a chance to put theory into practice. This is an interactive class so please come ready to get your hands dirty while having a lot of fun! All materials will be provided and each student will leave with a product they helped prepare.\n.
URL:https://oldediblerenotahoe.com/event/natures-pharmacy-herbal-medicine-making-workshop/
LOCATION:NV
CATEGORIES:Activity,Community Class
END:VEVENT
BEGIN:VEVENT
DTSTART;TZID=America/Los_Angeles:20220521T100000
DTEND;TZID=America/Los_Angeles:20220521T120000
DTSTAMP:20260424T190654
CREATED:20220519T215850Z
LAST-MODIFIED:20220519T215850Z
UID:26757-1653127200-1653134400@oldediblerenotahoe.com
SUMMARY:Cold Brew: How\, When\, Why
DESCRIPTION:In the summertime\, we have the opportunity to look at coffee in a slightly different manner. On hot afternoons\, sometimes a hot cup of coffee may be a bit too much. This is when we welcome our good friend “Cold Brew.” At this event\, we will demonstrate the quick and easy way we brew\, serve\, and blend our cold brews. As always\, we will have a caffeinated time\, with lots of fun\, stories\, and learning.\nThis will be a tasty and a different perspective on your summertime coffee ritual.\nPlease RSVP 775-856-2033
URL:https://oldediblerenotahoe.com/event/cold-brew-how-when-why/
LOCATION:Wood-Fire Roasted Coffee Company\, 30 Ohm Pl.\, Ste. 2\, Reno
CATEGORIES:Activity,Community Class,Educational
END:VEVENT
BEGIN:VEVENT
DTSTART;TZID=America/Los_Angeles:20220518T173000
DTEND;TZID=America/Los_Angeles:20220518T203000
DTSTAMP:20260424T190654
CREATED:20220225T230634Z
LAST-MODIFIED:20220225T230634Z
UID:26045-1652895000-1652905800@oldediblerenotahoe.com
SUMMARY:Sauces and Marinades
DESCRIPTION:Join EPIC’s Sauces and Marinades and utilize a variety of ingredients to whip up sauces for seafood\, barbeque\, spring rolls and salads. Learn to convert sauces to marinades or top dressings and sample small bites with your creations. Course runs Wed.\, May 18 from 5:30-8:30 p.m. for a cost of $59 and a materials fee of $20. Registration deadline is May 11. Register at epic.tmcc.edu.
URL:https://oldediblerenotahoe.com/event/sauces-and-marinades/
LOCATION:Reno – TBA
CATEGORIES:Activity,Community Class,Cooking Classes,Food & Drink
END:VEVENT
BEGIN:VEVENT
DTSTART;TZID=America/Los_Angeles:20220326T110000
DTEND;TZID=America/Los_Angeles:20220326T120000
DTSTAMP:20260424T190654
CREATED:20220225T222002Z
LAST-MODIFIED:20220225T222002Z
UID:25991-1648292400-1648296000@oldediblerenotahoe.com
SUMMARY:Getting Started on Veggies Class
DESCRIPTION:Wanna grow veggies from seed? Come learn how! \nLearn all the tips and tricks for starting veggies from seed to have all the best homegrown veggies for your table. Learn about transplanting\, pest management and feeding.
URL:https://oldediblerenotahoe.com/event/getting-started-on-veggies-class/
LOCATION:Rail City Garden Center\, 1720 Brierley Way\, Sparks\, NV\, 89434
CATEGORIES:Community Class,Gardening
END:VEVENT
BEGIN:VEVENT
DTSTART;TZID=America/Los_Angeles:20220319T110000
DTEND;TZID=America/Los_Angeles:20220319T120000
DTSTAMP:20260424T190654
CREATED:20220225T221850Z
LAST-MODIFIED:20220225T221850Z
UID:25989-1647687600-1647691200@oldediblerenotahoe.com
SUMMARY:Straw Bale Gardening Class
DESCRIPTION:Learn how to garden using straw bales instead of traditional gardening methods! Fun and easy for the whole family. \nStraw Bale Gardening is simply a different type of container gardening. The main difference is that the container is the straw bale itself and is held together with two or three strings. Once the straw inside the bale begins to decay the straw becomes “conditioned” compost that creates an extraordinary plant rooting environment. Getting the straw bales conditioned is an essential part of the process\, and should be started two weeks prior to your target planting date wherever you are located. This gardening technique works well anywhere in the country or the world for that matter.
URL:https://oldediblerenotahoe.com/event/straw-bale-gardening-class/
LOCATION:Rail City Garden Center\, 1720 Brierley Way\, Sparks\, NV\, 89434
CATEGORIES:Activity,Community Class,Gardening
END:VEVENT
BEGIN:VEVENT
DTSTART;TZID=America/Los_Angeles:20220312T110000
DTEND;TZID=America/Los_Angeles:20220312T120000
DTSTAMP:20260424T190654
CREATED:20220225T221726Z
LAST-MODIFIED:20220225T221726Z
UID:25987-1647082800-1647086400@oldediblerenotahoe.com
SUMMARY:Square Foot Gardening Class
DESCRIPTION:Square foot gardening is a simple method of creating small\, orderly\, and productive kitchen vegetable gardens. \nSquare foot gardening is a simple method of creating small\, orderly\, and highly productive kitchen gardens. It was invented by backyard gardener\, retired engineer\, and efficiency expert Mel Bartholomew as a better way to grow a vegetable garden\, and it became a huge hit. Its easy and fun to do!
URL:https://oldediblerenotahoe.com/event/square-foot-gardening-class/
LOCATION:Rail City Garden Center\, 1720 Brierley Way\, Sparks\, NV\, 89434
CATEGORIES:Community Class,Gardening
END:VEVENT
BEGIN:VEVENT
DTSTART;TZID=America/Los_Angeles:20220305T110000
DTEND;TZID=America/Los_Angeles:20220305T120000
DTSTAMP:20260424T190654
CREATED:20220225T221541Z
LAST-MODIFIED:20220225T221541Z
UID:25985-1646478000-1646481600@oldediblerenotahoe.com
SUMMARY:Winter Pruning
DESCRIPTION:Learn all the ins and outs of pruing your trees and shrubs- the best time and what can be pruned during the winter\, how to properly prune and what tools to use.
URL:https://oldediblerenotahoe.com/event/winter-pruning-2/
LOCATION:Rail City Garden Center\, 1720 Brierley Way\, Sparks\, NV\, 89434
CATEGORIES:Activity,Community Class,Gardening
END:VEVENT
BEGIN:VEVENT
DTSTART;TZID=America/Los_Angeles:20220305T110000
DTEND;TZID=America/Los_Angeles:20220305T120000
DTSTAMP:20260424T190654
CREATED:20220207T203556Z
LAST-MODIFIED:20220207T203556Z
UID:25841-1646478000-1646481600@oldediblerenotahoe.com
SUMMARY:Winter Pruning
DESCRIPTION:Learn all the ins and outs of pruing your trees and shrubs- the best time and what can be pruned during the winter\, how to properly prune and what tools to use.
URL:https://oldediblerenotahoe.com/event/winter-pruning/
LOCATION:Rail City Garden Center\, 1720 Brierley Way\, Sparks\, NV\, 89434
CATEGORIES:Community Class,Gardening,Outdoors
END:VEVENT
BEGIN:VEVENT
DTSTART;TZID=America/Los_Angeles:20220212T110000
DTEND;TZID=America/Los_Angeles:20220212T110000
DTSTAMP:20260424T190654
CREATED:20220207T203130Z
LAST-MODIFIED:20220207T203130Z
UID:25821-1644663600-1644663600@oldediblerenotahoe.com
SUMMARY:Straw Bale Gardening
DESCRIPTION:Learn how to garden using straw bales instead of traditional gardening methods! Fun and easy for the whole family.\n\n\n\n\n\nAbout this event\n\n\nStraw Bale Gardening is simply a different type of container gardening. The main difference is that the container is the straw bale itself and is held together with two or three strings. Once the straw inside the bale begins to decay the straw becomes “conditioned” compost that creates an extraordinary plant rooting environment. Getting the straw bales conditioned is an essential part of the process\, and should be started two weeks prior to your target planting date wherever you are located. This gardening technique works well anywhere in the country or the world for that matter.
URL:https://oldediblerenotahoe.com/event/straw-bale-gardening/
LOCATION:Rail City Garden Center\, 1720 Brierley Way\, Sparks\, NV\, 89434
CATEGORIES:Activity,Community Class,Gardening,Outdoors
END:VEVENT
BEGIN:VEVENT
DTSTART;TZID=America/Los_Angeles:20220209T180000
DTEND;TZID=America/Los_Angeles:20220209T210000
DTSTAMP:20260424T190654
CREATED:20211111T021733Z
LAST-MODIFIED:20211111T021733Z
UID:25406-1644429600-1644440400@oldediblerenotahoe.com
SUMMARY:Gourmet Holiday Chocolates
DESCRIPTION:Whip up sweet treats for the Valentine’s season during TMCC EPIC’s Gourmet Holiday Chocolates. Make rich truffles and learn about the equally rich history of chocolate-making. Take home these delicious recipes with gifting inspiration. Course runs Wed.\, Feb. 9 from 6-9 p.m. for a cost of $59 and a materials fee of $15. Registration deadline is Feb. 2. Register at epic.tmcc.edu.
URL:https://oldediblerenotahoe.com/event/gourmet-holiday-chocolates-2/
LOCATION:Truckee Meadows Community College\, 5270 Neil Road\, S216\, Reno\, NV\, 89502\, United States
CATEGORIES:Community Class,Cooking Classes,Food & Drink,Holiday
END:VEVENT
BEGIN:VEVENT
DTSTART;TZID=America/Los_Angeles:20220122T120000
DTEND;TZID=America/Los_Angeles:20220122T170000
DTSTAMP:20260424T190654
CREATED:20211111T013650Z
LAST-MODIFIED:20211111T013650Z
UID:25387-1642852800-1642870800@oldediblerenotahoe.com
SUMMARY:Herb Workshop
DESCRIPTION:
URL:https://oldediblerenotahoe.com/event/herb-workshop/
LOCATION:River School Farm\, 7777 White Fir Street\, Reno\, NV\, 89523
CATEGORIES:Community Class,Gardening
END:VEVENT
BEGIN:VEVENT
DTSTART;TZID=America/Los_Angeles:20220122T080000
DTEND;TZID=America/Los_Angeles:20220122T160000
DTSTAMP:20260424T190654
CREATED:20211202T191748Z
LAST-MODIFIED:20211202T191748Z
UID:25443-1642838400-1642867200@oldediblerenotahoe.com
SUMMARY:Introduction to Bees and Beekeeping
DESCRIPTION:A one-day workshop for people wanting to start beekeeping.  You will be given all the basic knowledge to get started in beekeeping. \nSessions will include basic bee biology\, equipment needed to get started\, how to get your bees\, terminology\, and the care of a colony of bees through the first year. \nTentative Schedule \nRegistration includes a book\, lunch and snacks.\n​$60 by January 15; $40 students
URL:https://oldediblerenotahoe.com/event/introduction-to-bees-and-beekeeping/
LOCATION:Catholic Center\, 311 Virginia St.\, Yerington\, NV
CATEGORIES:Community Class,Educational,Family friendly,Gardening
END:VEVENT
BEGIN:VEVENT
DTSTART;TZID=America/Los_Angeles:20211216T180000
DTEND;TZID=America/Los_Angeles:20211216T180000
DTSTAMP:20260424T190654
CREATED:20211215T201826Z
LAST-MODIFIED:20211215T201826Z
UID:25476-1639677600-1639677600@oldediblerenotahoe.com
SUMMARY:GIRLS' NIGHT OUT- CREPES OF FRANCE
DESCRIPTION:The crepe is a culinary mainstay in France. In fact\, it even has its own day on the French calendar! These wafer-thin pancakes\, packed with scrumptious fillings\, offer foods that are fast\, easy\, and versatile. Crepes can be rolled\, folded\, or stacked for scores of different delicious dishes\, ranging from main courses to fabulous desserts. Join us for this hands-on class as we explore sweet and savory crepes from different regions of France.
URL:https://oldediblerenotahoe.com/event/girls-night-out-crepes-of-france/
LOCATION:Nothing To It!\, 225 Crummer Lane\, Reno\, NV\, 89502\, United States
CATEGORIES:Community Class,Cooking Classes
END:VEVENT
BEGIN:VEVENT
DTSTART;TZID=America/Los_Angeles:20211215T080000
DTEND;TZID=America/Los_Angeles:20211215T170000
DTSTAMP:20260424T190654
CREATED:20211215T201456Z
LAST-MODIFIED:20211215T201456Z
UID:25474-1639555200-1639587600@oldediblerenotahoe.com
SUMMARY:CHOCOLATE TRUFFLE WORKSHOP
DESCRIPTION:The class that keeps on giving! Treat yourself to a versatile chocolate truffle making workshop with master chocolatier and owner of Grimaldi’s Fine Chocolates & Marshmallows\, Brian Wilkin. Savor these handmade truffles yourself. Or\, if you can part with them\, these chocolate creations make an excellent Valentine’s Day gift!
URL:https://oldediblerenotahoe.com/event/chocolate-truffle-workshop/
LOCATION:Nothing To It!\, 225 Crummer Lane\, Reno\, NV\, 89502\, United States
CATEGORIES:Community Class,Cooking Classes,Food & Drink
END:VEVENT
BEGIN:VEVENT
DTSTART;TZID=America/Los_Angeles:20211113T170000
DTEND;TZID=America/Los_Angeles:20211113T220000
DTSTAMP:20260424T190654
CREATED:20210512T224110Z
LAST-MODIFIED:20210512T224110Z
UID:24108-1636822800-1636840800@oldediblerenotahoe.com
SUMMARY:Eddy House 10 Year Anniversary Gala
DESCRIPTION:Eddy House is excited to invite you to a night full of dinner\, drinks\, & dancing to help the homeless youth in our community.
URL:https://oldediblerenotahoe.com/event/eddy-house-10-year-anniversary-gala/
LOCATION:Whitney Peak Hotel
CATEGORIES:Community Class,Nonprofit
END:VEVENT
BEGIN:VEVENT
DTSTART;TZID=America/Los_Angeles:20211103T180000
DTEND;TZID=America/Los_Angeles:20211103T210000
DTSTAMP:20260424T190654
CREATED:20210916T222019Z
LAST-MODIFIED:20210916T222037Z
UID:25070-1635962400-1635973200@oldediblerenotahoe.com
SUMMARY:Gourmet Holiday Chocolates
DESCRIPTION:Take a quick\, yet deep dive into the fascinating world of chocolate and cook up your own special gift for the holidays. With the owner of Sugar Love Chocolates\, make rich truffles as you learn about the equally rich history of chocolate-making including its chemistry and economics. $15 materials fee
URL:https://oldediblerenotahoe.com/event/gourmet-holiday-chocolates/
LOCATION:Galena High School\, 3600 Butch Cassidy Dr\, Reno\, NV\, 89511
CATEGORIES:Community Class,Educational,Food & Drink,Holiday
END:VEVENT
BEGIN:VEVENT
DTSTART;VALUE=DATE:20211021
DTEND;VALUE=DATE:20211024
DTSTAMP:20260424T190654
CREATED:20210527T201031Z
LAST-MODIFIED:20210527T201031Z
UID:24301-1634774400-1635033599@oldediblerenotahoe.com
SUMMARY:Art + Environment Conference
DESCRIPTION:Commemorating 50 years of Land Art\, the Nevada Museum of Art convenes its triennial Art + Environment Conference on the subject of Land Art: Past\, Present\, and Futures. The gathering will bring together prominent artists\, art historians\, and critics who have shaped the pioneering genre\, alongside interdisciplinary scholars\, artists\, and social activists who are exploring “What’s next?” \n\nOrganizerVenue
URL:https://oldediblerenotahoe.com/event/art-environment-conference/
LOCATION:Nevada Museum of Art\, 160 West Liberty\, Reno\, Nevada\, 89501
CATEGORIES:Arts,Community Class,Cultural,Educational,Outdoors,Science
END:VEVENT
BEGIN:VEVENT
DTSTART;TZID=UTC:20211016T190000
DTEND;TZID=UTC:20211016T220000
DTSTAMP:20260424T190654
CREATED:20210428T015604Z
LAST-MODIFIED:20210428T015604Z
UID:23855-1634410800-1634421600@oldediblerenotahoe.com
SUMMARY:Social Science: Wizards & Snitches
DESCRIPTION:Wands at the ready! Now boarding at Platform 9 3/4 for your chance to explore the science of witchcraft and wizardry. Get sorted\, discover your Patronus\, explore herbology\, challenge your friends to a game of Quidditch\, and so much more. Fear not\, Muggles are allowed. \nProgramming for this Social Science is still in the works. Please check back. \nDue to the popularity of this event\, we strongly recommend that you purchase tickets in advance as capacity is limited and may sell out. \n\nSocial Science is The Discovery’s wildly popular adults-only\, brain-building event series that features science demonstrations\, hands-on labs\, expert presentations\, a live DJ\, libations\, and tasty bites.
URL:https://oldediblerenotahoe.com/event/social-science-wizards-snitches/
LOCATION:Terry Lee Wells Discovery Museum\, 490 S. Center Street\, Reno\, NV\, 89501
CATEGORIES:Community Class,Educational,Science
END:VEVENT
BEGIN:VEVENT
DTSTART;TZID=America/Los_Angeles:20210916T080000
DTEND;TZID=America/Los_Angeles:20210916T170000
DTSTAMP:20260424T190654
CREATED:20210916T222206Z
LAST-MODIFIED:20210916T222206Z
UID:25073-1631779200-1631811600@oldediblerenotahoe.com
SUMMARY:Cooking with Beer
DESCRIPTION:
URL:https://oldediblerenotahoe.com/event/cooking-with-beer/
LOCATION:Nothing To It!\, 225 Crummer Lane\, Reno\, NV\, 89502\, United States
CATEGORIES:Community Class,Cooking Classes,Educational,Food & Drink
END:VEVENT
BEGIN:VEVENT
DTSTART;TZID=America/Los_Angeles:20210821T100000
DTEND;TZID=America/Los_Angeles:20210821T120000
DTSTAMP:20260424T190654
CREATED:20210512T235513Z
LAST-MODIFIED:20210512T235513Z
UID:24148-1629540000-1629547200@oldediblerenotahoe.com
SUMMARY:Art of Chai
DESCRIPTION:Brew three variations of chai including masala\, almond and cold brew using black tea and a fragrant mixture of Indian spices and herbs. Learn the best methods to prepare this traditional Indian drink with a variety of ingredients including ginger\, mint\, cardamom\, whole cloves\, fennel seeds\, cinnamon\, honey\, peppercorns\, sugar\, almonds\, turmeric and milk.  $10 materials fee
URL:https://oldediblerenotahoe.com/event/art-of-chai/
LOCATION:TMCC Meadowood Center\, 5270 Neil Rd.\, South Bldg.\, Reno\, NV\, 89502\, United States
CATEGORIES:Community Class,Educational,Food & Drink
END:VEVENT
BEGIN:VEVENT
DTSTART;TZID=UTC:20210814T190000
DTEND;TZID=UTC:20210814T220000
DTSTAMP:20260424T190654
CREATED:20210428T015446Z
LAST-MODIFIED:20210428T015446Z
UID:23853-1628967600-1628978400@oldediblerenotahoe.com
SUMMARY:Social Science: Happy Accidents
DESCRIPTION:Art doesn’t just happen by accident! Science always plays a role. From the centrifugal force of a potter’s wheel\, to the hand-eye coordination needed to sketch a nude model\, explore the science in art and create your very own masterpieces—no artistic skills required! \nProgramming for this Social Science is still in the works. Please check back. \nDue to the popularity of this event\, we strongly recommend that you purchase tickets in advance as capacity is limited and may sell out. \n\nSocial Science is The Discovery’s wildly popular adults-only\, brain-building event series that features science demonstrations\, hands-on labs\, expert presentations\, a live DJ\, libations\, and tasty bites. \n 
URL:https://oldediblerenotahoe.com/event/social-science-happy-accidents-2/
LOCATION:Terry Lee Wells Discovery Museum\, 490 S. Center Street\, Reno\, NV\, 89501
CATEGORIES:Community Class,Educational,Science
END:VEVENT
BEGIN:VEVENT
DTSTART;TZID=America/Los_Angeles:20210814T090000
DTEND;TZID=America/Los_Angeles:20210814T120000
DTSTAMP:20260424T190654
CREATED:20210513T224510Z
LAST-MODIFIED:20210513T224510Z
UID:24229-1628931600-1628942400@oldediblerenotahoe.com
SUMMARY:Water Efficient Gardening
DESCRIPTION:Water is a precious and expensive resource.\nInstead of letting your yard die\, try a low\nwater garden. Save time on maintenance by\nusing plants that are adapted to our climate.\nBecome familiar with the wide range of\nplant textures and colors. You’ll find this\nclass beneficial whether you are starting\nfrom scratch\, redoing your landscaping or\nseeking to enhance your existing garden\nwith native and native-like plants.
URL:https://oldediblerenotahoe.com/event/water-efficient-gardening-2/
LOCATION:TMCC Meadowood Center\, 5270 Neil Rd.\, South Bldg.\, Reno\, NV\, 89502\, United States
CATEGORIES:Community Class,Gardening
END:VEVENT
BEGIN:VEVENT
DTSTART;TZID=America/Los_Angeles:20210814T090000
DTEND;TZID=America/Los_Angeles:20210814T120000
DTSTAMP:20260424T190654
CREATED:20210512T235906Z
LAST-MODIFIED:20210512T235906Z
UID:24154-1628931600-1628942400@oldediblerenotahoe.com
SUMMARY:Water Efficient Gardening
DESCRIPTION:Water is a precious and expensive resource. Instead of letting your yard wither and die\, try a xeriscape or low-water garden and enjoy a more attractive alternative to an all-gravel or sagebrush garden. Save time on maintenance by using plants that are naturally adapted to dry climates and our mountainous environment. Become familiar with the wide range of plant textures and colors. You’ll find this class beneficial whether you are starting from scratch\, redoing your landscaping or seeking to enhance your existing garden with native and native-like plants.
URL:https://oldediblerenotahoe.com/event/water-efficient-gardening/
LOCATION:TMCC Meadowood Center\, 5270 Neil Rd.\, South Bldg.\, Reno\, NV\, 89502\, United States
CATEGORIES:Community Class,Educational,Gardening
END:VEVENT
BEGIN:VEVENT
DTSTART;TZID=America/Los_Angeles:20210811T180000
DTEND;TZID=America/Los_Angeles:20210811T200000
DTSTAMP:20260424T190654
CREATED:20210805T191848Z
LAST-MODIFIED:20210805T191848Z
UID:24759-1628704800-1628712000@oldediblerenotahoe.com
SUMMARY:Growing Under the Stars with Master Gardeners: fall and winter gardening
DESCRIPTION:Leafy greens\, carrots\, beets\, radishes\, broccoli\, and cauliflower are never sweeter or more delicious than when grown in the fall.  Autumn can be the best time of year for your garden: more moderate temperatures\, fewer insect issues\, and great tasting vegetables are just a few reasons to garden in the fall.  Master Gardener Lori Evans will share her tips on how to prepare your garden for fall\, what to plant and when to plant it for gardening success.
URL:https://oldediblerenotahoe.com/event/growing-under-the-stars-with-master-gardeners-fall-and-winter-gardening/
LOCATION:NV
CATEGORIES:Community Class,Educational,Gardening
END:VEVENT
BEGIN:VEVENT
DTSTART;TZID=America/Los_Angeles:20210731T110000
DTEND;TZID=America/Los_Angeles:20210731T130000
DTSTAMP:20260424T190654
CREATED:20210512T235616Z
LAST-MODIFIED:20210512T235616Z
UID:24150-1627729200-1627736400@oldediblerenotahoe.com
SUMMARY:Indian Desserts
DESCRIPTION:Take a sweet journey and explore flavors\, textures and mixtures that you’ve yet to discover. Mixing nuts\, cardamom\, dairy\, noodles\, plus hot and cold elements\, the end result is a calming\, tantalizing dessert. $15 materials fee
URL:https://oldediblerenotahoe.com/event/indian-desserts/
LOCATION:TMCC Meadowood Center\, 5270 Neil Rd.\, South Bldg.\, Reno\, NV\, 89502\, United States
CATEGORIES:Community Class,Educational,Food & Drink
END:VEVENT
BEGIN:VEVENT
DTSTART;TZID=America/Los_Angeles:20210725T160000
DTEND;TZID=America/Los_Angeles:20210725T170000
DTSTAMP:20260424T190654
CREATED:20210629T213307Z
LAST-MODIFIED:20210629T213307Z
UID:24548-1627228800-1627232400@oldediblerenotahoe.com
SUMMARY:Paa Kow Afro-Fusion Drum Clinic
DESCRIPTION:Paa Kow\, dubbed “Ghana’s most artistic drummer”\, blends the rhythm and artistry from his native Ghanaian Highlife music with modern jazz\, creating his own unique Afro-Fusion sound. He plays a custom\, hand-carved\, traditionally inspired Ghanaian drum set that is the only one of its kind in the world.  Join us for an exceptional cultural and musical experience exploring Paa Kow’s West African drumming rhythms and techniques\, his story growing up as a drummer in Ghana\, and how jazz has contributed to his Afro-Fusion sound. \nTickets are FREE and open to the public\, but advanced reservations are HIGHLY recommended.
URL:https://oldediblerenotahoe.com/event/paa-kow-afro-fusion-drum-clinic/
LOCATION:Reno Little Theatre\, 147 E Pueblo St\, Reno
CATEGORIES:Activity,Community Class,Cultural,Educational,Music
END:VEVENT
BEGIN:VEVENT
DTSTART;TZID=America/Los_Angeles:20210719T171500
DTEND;TZID=America/Los_Angeles:20210719T184500
DTSTAMP:20260424T190654
CREATED:20210707T222454Z
LAST-MODIFIED:20210707T222454Z
UID:24619-1626714900-1626720300@oldediblerenotahoe.com
SUMMARY:Tahoe Forest Cooking Club: Elevated Boutique Style Soup and Salads
DESCRIPTION:Learn how to layer salads in jars for on-the-go meals and make slow cooker soups that keep your kitchen cool at our Health Supportive Cooking Club! Each month\, we will choose a different health topic and our Registered Dietitian will do a fun and interactive cooking demo. You get to taste test and take home easy\, healthy\, and delicious recipes! $30. In-person with appropriate spacing for COVID-19 safety. Please call the Center for Health at 530-587-3769 to register.
URL:https://oldediblerenotahoe.com/event/tahoe-forest-cooking-club-elevated-boutique-style-soup-and-salads/
LOCATION:Tahoe Forest Center for Health\, 11012 Donner Pass Road\, Truckee\, CA
CATEGORIES:Community Class,Cooking Classes,Educational,Food & Drink
END:VEVENT
BEGIN:VEVENT
DTSTART;TZID=America/Los_Angeles:20210719T140000
DTEND;TZID=America/Los_Angeles:20210719T160000
DTSTAMP:20260424T190654
CREATED:20210512T234945Z
LAST-MODIFIED:20210512T234945Z
UID:24144-1626703200-1626710400@oldediblerenotahoe.com
SUMMARY:Basque Cider and Wine Tasting
DESCRIPTION:Enjoy sampling wines\, cheeses and ciders as you learn about the significance of Basque culinary practices and how they have evolved throughout history. Hear common vocabulary as you get to know Basque beverages and how they pair with traditional foods. Discover the Basque language\, wine and cider making processes and find out how their cultural identity has shaped much of Nevada. $30 materials fee
URL:https://oldediblerenotahoe.com/event/basque-cider-and-wine-tasting/
LOCATION:TMCC Meadowood Center\, 5270 Neil Rd.\, South Bldg.\, Reno\, NV\, 89502\, United States
CATEGORIES:Community Class,Food & Drink
END:VEVENT
END:VCALENDAR