BEGIN:VCALENDAR
VERSION:2.0
PRODID:-//Edible Reno-Tahoe - ECPv6.15.20//NONSGML v1.0//EN
CALSCALE:GREGORIAN
METHOD:PUBLISH
X-WR-CALNAME:Edible Reno-Tahoe
X-ORIGINAL-URL:https://oldediblerenotahoe.com
X-WR-CALDESC:Events for Edible Reno-Tahoe
REFRESH-INTERVAL;VALUE=DURATION:PT1H
X-Robots-Tag:noindex
X-PUBLISHED-TTL:PT1H
BEGIN:VTIMEZONE
TZID:UTC
BEGIN:STANDARD
TZOFFSETFROM:+0000
TZOFFSETTO:+0000
TZNAME:UTC
DTSTART:20200101T000000
END:STANDARD
END:VTIMEZONE
BEGIN:VEVENT
DTSTART;TZID=UTC:20210330T180000
DTEND;TZID=UTC:20210330T200000
DTSTAMP:20260425T040035
CREATED:20210305T030818Z
LAST-MODIFIED:20210305T030818Z
UID:23399-1617127200-1617134400@oldediblerenotahoe.com
SUMMARY:Gardening in Nevada: The Bartley Ranch Series - Successful Vegetable Gardening
DESCRIPTION:Randy Robison\, Washoe County Extension Master Gardener Volunteer\, will share his secrets to harvesting abundant\, award-winning produce from in-ground and raised garden beds in our high desert climate. Randy will share information about amending the soil to help plants thrive\, the importance of crop rotation\, and strategies to increase yields. Plus\, companion planting benefits and how to discourage unwanted pests.
URL:https://oldediblerenotahoe.com/event/gardening-in-nevada-the-bartley-ranch-series-successful-vegetable-gardening/
CATEGORIES:Community Class,Gardening,Virtual
END:VEVENT
BEGIN:VEVENT
DTSTART;TZID=UTC:20210323T180000
DTEND;TZID=UTC:20210323T200000
DTSTAMP:20260425T040035
CREATED:20210305T030705Z
LAST-MODIFIED:20210305T030714Z
UID:23397-1616522400-1616529600@oldediblerenotahoe.com
SUMMARY:Gardening in Nevada: The Bartley Ranch Series - Native Plants in the Landscape
DESCRIPTION:Unlike many non-native plants\, native plants introduced into landscape plantings are hardy\, less susceptible to pests and diseases\, and unlikely to escape and become invasive. Join Dr. Heidi Kratsch and learn about the great variety of plants native to our region and options that will work in any type of garden design.
URL:https://oldediblerenotahoe.com/event/gardening-in-nevada-the-bartley-ranch-series-native-plants-in-the-landscape/
CATEGORIES:Community Class,Gardening,Virtual
END:VEVENT
BEGIN:VEVENT
DTSTART;TZID=UTC:20210320T090000
DTEND;TZID=UTC:20210320T113000
DTSTAMP:20260425T040035
CREATED:20210210T053355Z
LAST-MODIFIED:20210210T053355Z
UID:22943-1616230800-1616239800@oldediblerenotahoe.com
SUMMARY:Gardening in Small Places: composting - Zoom Class
DESCRIPTION:University of Nevada Cooperative Extension is an outreach arm of the University that extends unbiased\, research-based knowledge to local communities. Educational programs and projects are developed based on local needs in partnership with other agencies and volunteers. \nIf you think you can’t compost in the Mojave Desert or if you’ve tried to compost in the desert and haven’t been successful\, please consider joining our compost class.  When purchased in the stores\, compost can be expensive.  So why not make your own?  If you eat fruits vegetables and throw any parts of them away\, you have the beginning makings of compost.  Even if you live in an apartment\, you can make compost.  You can make compost in the smallest of areas…just maybe not conventionally. \nIf you are interested in being greener\, come join Dr. O’Callaghan show you how to make the perfectly balanced compost\, and it’s easier than you think!  In addition\, you will see our compost demonstration area.  If you are considering purchasing a composter\, the compost demonstration area is for you. \nPre-registration is required. \nThere are no refunds for this class.
URL:https://oldediblerenotahoe.com/event/gardening-in-small-places-composting-zoom-class/
LOCATION:University of Nevada\, Reno Extension
CATEGORIES:Community Class,Virtual
END:VEVENT
BEGIN:VEVENT
DTSTART;TZID=UTC:20210316T180000
DTEND;TZID=UTC:20210316T200000
DTSTAMP:20260425T040035
CREATED:20210305T030608Z
LAST-MODIFIED:20210305T030608Z
UID:23395-1615917600-1615924800@oldediblerenotahoe.com
SUMMARY:Gardening in Nevada: The Bartley Ranch Series - Insect Pests of the Vegetable Garden
DESCRIPTION:Melody Hefner\, Urban IPM and Pesticide Safety Education Program Coordinator will discuss identification and integrated pest management (IPM) for common insect pests of the vegetable garden. IPM measures include prevention\, cultural controls\, sanitation\, mechanical/physical controls\, biological controls and chemical controls. Early identification of insect pests and implementation of pest control plans can greatly reduce insect pests in your vegetable garden.
URL:https://oldediblerenotahoe.com/event/gardening-in-nevada-the-bartley-ranch-series-insect-pests-of-the-vegetable-garden/
LOCATION:Bartley Ranch
CATEGORIES:Community Class,Gardening,Virtual
END:VEVENT
BEGIN:VEVENT
DTSTART;TZID=UTC:20210310T123000
DTEND;TZID=UTC:20210310T133000
DTSTAMP:20260425T040035
CREATED:20210305T031206Z
LAST-MODIFIED:20210305T031206Z
UID:23401-1615379400-1615383000@oldediblerenotahoe.com
SUMMARY:Seed Starting with the Desert Farming Initiative
DESCRIPTION:Come out and help UNR’s Community Garden Club start our season’s crops with the help of the Desert Farming Initiative. We’ll be prepping our seed trays and planting our seedlings for this season.
URL:https://oldediblerenotahoe.com/event/seed-starting-with-the-desert-farming-initiative/
LOCATION:Nevada Agricultural Experiment Station\, 920 Valley Rd\, Reno\, NV
CATEGORIES:Community Class,Gardening
END:VEVENT
BEGIN:VEVENT
DTSTART;TZID=UTC:20210309T180000
DTEND;TZID=UTC:20210309T200000
DTSTAMP:20260425T040035
CREATED:20210305T030427Z
LAST-MODIFIED:20210305T030427Z
UID:23392-1615312800-1615320000@oldediblerenotahoe.com
SUMMARY:Gardening in Nevada: The Bartley Ranch Series - Gardening is for the Birds
DESCRIPTION:Would you like to attract more feathered visitors?  Washoe County Master Gardener Volunteer Suzanne Adams will focus on which plants encourage wild birds to visit and perhaps make homes in your garden.  Plants provide food and habitat for many migratory birds as well as those who stay in the area year-round.  Some of the more common birds will be identified along with their preferred plants for both diet and homes. Discussion will focus on techniques to keep these attractive plants healthy.
URL:https://oldediblerenotahoe.com/event/gardening-in-nevada-the-bartley-ranch-series-gardening-is-for-the-birds/
LOCATION:Bartley Ranch
CATEGORIES:Community Class,Virtual
END:VEVENT
BEGIN:VEVENT
DTSTART;TZID=UTC:20210223T180000
DTEND;TZID=UTC:20210223T200000
DTSTAMP:20260425T040035
CREATED:20210210T050205Z
LAST-MODIFIED:20210210T050313Z
UID:22922-1614103200-1614110400@oldediblerenotahoe.com
SUMMARY:Perennials in the Garden
DESCRIPTION:Part of Gardening in Nevada: The Bartley Ranch Series\n\n\n\nPerennials in the Garden — Georgette Porter\, Extension Master Gardener volunteer\, will show participants how to have perennial flowers in their gardens year after year. From the common to the unexpected\, Porter will talk about the rewards of planting perennials in our high-desert environment. Register online at https://unr.zoom.us/meeting/register/tZAqce6srDopH9fjZuqkzS-TrrIoqmdizQPF. 
URL:https://oldediblerenotahoe.com/event/22922/
LOCATION:University of Nevada\, Reno Extension
CATEGORIES:Community Class,Virtual
END:VEVENT
BEGIN:VEVENT
DTSTART;TZID=UTC:20210220T090000
DTEND;TZID=UTC:20210220T113000
DTSTAMP:20260425T040035
CREATED:20210210T053156Z
LAST-MODIFIED:20210210T053207Z
UID:22941-1613811600-1613820600@oldediblerenotahoe.com
SUMMARY:Gardening in Small Places: vegetable gardening ZOOM CLASS
DESCRIPTION:The Gardening in Small Places: vegetables workshop is geared to help the beginning gardener\, returning gardener\, gardeners from outside the desert or current gardeners that just want a little refresher\, learn how to be successful growing their own food in the Mojave Desert.  Hint…it’s not as hard as you might think!  Come and join us and let Dr. Angela O’Callaghan teach you what you need to know to get started and have a successful garden this year.  Let us help you to make 2021 your most successful garden yet! \nPreregistration is required for this class \nThere are no refunds for this class
URL:https://oldediblerenotahoe.com/event/gardening-in-small-places-vegetable-gardening-zoom-class/
LOCATION:University of Nevada\, Reno Extension
CATEGORIES:Community Class,Virtual
END:VEVENT
BEGIN:VEVENT
DTSTART;TZID=UTC:20210216T180000
DTEND;TZID=UTC:20210216T200000
DTSTAMP:20260425T040035
CREATED:20210210T050018Z
LAST-MODIFIED:20210210T050046Z
UID:22920-1613498400-1613505600@oldediblerenotahoe.com
SUMMARY:Beekeeping: 10 Lessons Learned in the First Year
DESCRIPTION:Part of Gardening in Nevada: The Bartley Ranch Series. Lindsay Chichester\, Extension educator for Douglas County\, will discuss what she learned through trial and error keeping bees during the 2020 COVID-19 pandemic. She will also provide suggestions and advice to others who may be interested in keeping honeybees and discuss future plans for expanding the Douglas County Beekeeping Project. Register online at https://unr.zoom.us/meeting/register/tZYucOmppjkrGNBozH2t35FdxpBDa7ClKNt3.
URL:https://oldediblerenotahoe.com/event/beekeeping-10-lessons-learned-in-the-first-year/
LOCATION:University of Nevada\, Reno Extension
CATEGORIES:Community Class,Virtual
END:VEVENT
END:VCALENDAR