BEGIN:VCALENDAR
VERSION:2.0
PRODID:-//Edible Reno-Tahoe - ECPv6.15.20//NONSGML v1.0//EN
CALSCALE:GREGORIAN
METHOD:PUBLISH
X-ORIGINAL-URL:https://oldediblerenotahoe.com
X-WR-CALDESC:Events for Edible Reno-Tahoe
REFRESH-INTERVAL;VALUE=DURATION:PT1H
X-Robots-Tag:noindex
X-PUBLISHED-TTL:PT1H
BEGIN:VTIMEZONE
TZID:America/Los_Angeles
BEGIN:DAYLIGHT
TZOFFSETFROM:-0800
TZOFFSETTO:-0700
TZNAME:PDT
DTSTART:20230312T100000
END:DAYLIGHT
BEGIN:STANDARD
TZOFFSETFROM:-0700
TZOFFSETTO:-0800
TZNAME:PST
DTSTART:20231105T090000
END:STANDARD
BEGIN:DAYLIGHT
TZOFFSETFROM:-0800
TZOFFSETTO:-0700
TZNAME:PDT
DTSTART:20240310T100000
END:DAYLIGHT
BEGIN:STANDARD
TZOFFSETFROM:-0700
TZOFFSETTO:-0800
TZNAME:PST
DTSTART:20241103T090000
END:STANDARD
BEGIN:DAYLIGHT
TZOFFSETFROM:-0800
TZOFFSETTO:-0700
TZNAME:PDT
DTSTART:20250309T100000
END:DAYLIGHT
BEGIN:STANDARD
TZOFFSETFROM:-0700
TZOFFSETTO:-0800
TZNAME:PST
DTSTART:20251102T090000
END:STANDARD
END:VTIMEZONE
BEGIN:VEVENT
DTSTART;VALUE=DATE:20240510
DTEND;VALUE=DATE:20240513
DTSTAMP:20260425T154704
CREATED:20240415T032440Z
LAST-MODIFIED:20240415T032440Z
UID:38161-1715299200-1715558399@oldediblerenotahoe.com
SUMMARY:Mark Twain Days Festival
DESCRIPTION:Celebrate a local legend with the return of Mark Twain Days! Hop on the Twain Train from Carson City and spend the day like Twain would himself in historic Virginia City. Museums and organizations participating this year include Fourth Ward School\, St. Mary’s Art Center\, Mark Twain Casino\, Territorial Enterprise and Gallery of the West.
URL:https://oldediblerenotahoe.com/event/mark-twain-days-festival/
LOCATION:Virginia City
CATEGORIES:Community Events
END:VEVENT
BEGIN:VEVENT
DTSTART;TZID=America/Los_Angeles:20240525T080000
DTEND;TZID=America/Los_Angeles:20240525T170000
DTSTAMP:20260425T154704
CREATED:20240114T160552Z
LAST-MODIFIED:20240114T160552Z
UID:37078-1716624000-1716656400@oldediblerenotahoe.com
SUMMARY:Memorial Day Celebration of Heroes Parade
DESCRIPTION:To pay tribute to our fallen heroes\, Virginia City invite’s you to join them for a family friendly parade full of decorated floats\, color guards\, marching bands and more. Celebrate our community while honoring all those who served and their families.
URL:https://oldediblerenotahoe.com/event/memorial-day-celebration-of-heroes-parade/
LOCATION:Virginia City
CATEGORIES:Community Events
END:VEVENT
BEGIN:VEVENT
DTSTART;VALUE=DATE:20240530
DTEND;VALUE=DATE:20240602
DTSTAMP:20260425T154704
CREATED:20240514T232253Z
LAST-MODIFIED:20240514T232253Z
UID:38532-1717027200-1717286399@oldediblerenotahoe.com
SUMMARY:Intersections: The Nevada Creative Conference
DESCRIPTION:Spend three days connecting with Nevada’s diverse arts and culture community of artists\, educators\, arts\, business\, and community leaders. Join us for a full schedule of workshops\, art tours\, networking\, learning\, and collaboration opportunities. We look forward to hosting arts leaders from across our state\, as well as national and regional organizations.
URL:https://oldediblerenotahoe.com/event/intersections-the-nevada-creative-conference/
LOCATION:Renaissance Reno\, One Lake St.\, Reno\, NV
CATEGORIES:Community Events
END:VEVENT
END:VCALENDAR