BEGIN:VCALENDAR
VERSION:2.0
PRODID:-//Edible Reno-Tahoe - ECPv6.15.20//NONSGML v1.0//EN
CALSCALE:GREGORIAN
METHOD:PUBLISH
X-ORIGINAL-URL:https://oldediblerenotahoe.com
X-WR-CALDESC:Events for Edible Reno-Tahoe
REFRESH-INTERVAL;VALUE=DURATION:PT1H
X-Robots-Tag:noindex
X-PUBLISHED-TTL:PT1H
BEGIN:VTIMEZONE
TZID:America/Los_Angeles
BEGIN:DAYLIGHT
TZOFFSETFROM:-0800
TZOFFSETTO:-0700
TZNAME:PDT
DTSTART:20200308T100000
END:DAYLIGHT
BEGIN:STANDARD
TZOFFSETFROM:-0700
TZOFFSETTO:-0800
TZNAME:PST
DTSTART:20201101T090000
END:STANDARD
BEGIN:DAYLIGHT
TZOFFSETFROM:-0800
TZOFFSETTO:-0700
TZNAME:PDT
DTSTART:20210314T100000
END:DAYLIGHT
BEGIN:STANDARD
TZOFFSETFROM:-0700
TZOFFSETTO:-0800
TZNAME:PST
DTSTART:20211107T090000
END:STANDARD
BEGIN:DAYLIGHT
TZOFFSETFROM:-0800
TZOFFSETTO:-0700
TZNAME:PDT
DTSTART:20220313T100000
END:DAYLIGHT
BEGIN:STANDARD
TZOFFSETFROM:-0700
TZOFFSETTO:-0800
TZNAME:PST
DTSTART:20221106T090000
END:STANDARD
END:VTIMEZONE
BEGIN:VTIMEZONE
TZID:UTC
BEGIN:STANDARD
TZOFFSETFROM:+0000
TZOFFSETTO:+0000
TZNAME:UTC
DTSTART:20200101T000000
END:STANDARD
END:VTIMEZONE
BEGIN:VEVENT
DTSTART;VALUE=DATE:20210604
DTEND;VALUE=DATE:20210605
DTSTAMP:20260425T122750
CREATED:20210527T200658Z
LAST-MODIFIED:20210527T200658Z
UID:24296-1622764800-1622851199@oldediblerenotahoe.com
SUMMARY:35th Annual RMHC Golf Tournament
DESCRIPTION:Use your golf game to help us keep families close. Proceeds from your drives\, chip shots\, and putts go toward giving children the most comforting gift they can receive in the hospital: their families.\n\nGrab your clubs and join us Friday\, June 4\, 2021\, at Red Hawk Golf and Resort for our 35th Annual RMHC Golf Tournament.\n\nThe day begins at 8:00 a.m. with assigned tee times and will be a  scramble format. Breakfast and lunch will be served.\n\nBecause of your generosity\, 100% of tournament and raffle proceeds directly impact families by ensuring we can keep them together when their child deals with medical challenges. Won’t you be a part of this incredible legacy?
URL:https://oldediblerenotahoe.com/event/35th-annual-rmhc-golf-tournament/
LOCATION:Red Hawk Golf and Resort\, 6600 N Wingfield Pkwy\, Sparks\, NV
CATEGORIES:Community Events,Nonprofit,Outdoors
END:VEVENT
BEGIN:VEVENT
DTSTART;TZID=America/Los_Angeles:20210603T180000
DTEND;TZID=America/Los_Angeles:20210603T190000
DTSTAMP:20260425T122750
CREATED:20210513T000135Z
LAST-MODIFIED:20210513T000135Z
UID:24156-1622743200-1622746800@oldediblerenotahoe.com
SUMMARY:Virtual First Thursday
DESCRIPTION:In response to the health and safety guidelines for Covid-19\, traditional First Thursday has been temporarily postponed. In the meantime\, tune in for a special broadcast featuring music and interviews with Wheatstone Bridge\, art introductions\, and more fun. The program will premiere on the Museum’s Facebook page\, where you can engage in a real-time conversation with fellow participants. The broadcast can also be accessed through our YouTube channel. Visit Great Basin Brewing Company (Reno or Sparks locations) any time on First Thursday for 50% off any Growler or Growler Fill.*
URL:https://oldediblerenotahoe.com/event/virtual-first-thursday/
LOCATION:Nevada Museum of Art\, 160 West Liberty\, Reno\, Nevada\, 89501
CATEGORIES:Community Events
END:VEVENT
BEGIN:VEVENT
DTSTART;TZID=America/Los_Angeles:20210526T173000
DTEND;TZID=America/Los_Angeles:20210526T193000
DTSTAMP:20260425T122750
CREATED:20210513T231115Z
LAST-MODIFIED:20210513T231115Z
UID:24245-1622050200-1622057400@oldediblerenotahoe.com
SUMMARY:13TH ANNUAL NON-PROFIT NIGHT
DESCRIPTION:Reno Tahoe YPN announces the Thirteenth Annual Non-Profit Night to be held at the National Automobile Museum.  Reno Tahoe YPN will be hosting over 45 nonprofits to help these organizations recruit new members\, volunteers\, and community connections.  Non-profit night is dedicated to helping community members engage with local non-profits and encourage community members to become more involved in community service outreach in our community. \nThis is a premier opportunity for non-profit organizations to attract and retain talent as well as promote their cause to the community.  The event also provides both YPN members and individuals from the community an opportunity to learn about and join many of these non profit organizations. Everyone that attends will automatically be entered into a prize raffle. \n 
URL:https://oldediblerenotahoe.com/event/13th-annual-non-profit-night/
LOCATION:National Automobile Museum\, 10 South Lake St.\, Reno\, 89501
CATEGORIES:Activity,Community Events,Nonprofit
END:VEVENT
BEGIN:VEVENT
DTSTART;TZID=America/Los_Angeles:20210523T093000
DTEND;TZID=America/Los_Angeles:20210523T113000
DTSTAMP:20260425T122750
CREATED:20210512T210832Z
LAST-MODIFIED:20210512T210848Z
UID:24081-1621762200-1621769400@oldediblerenotahoe.com
SUMMARY:COOKIE RIDE
DESCRIPTION:  \n\n\n\n\n\n\n\n\n\n\n\n\n\n\n\n\nAfter a hiatus in 2020\, the 16th ALMOST-ANNUAL “COOKIE RIDE”will be Sunday May 23\, celebrating the anniversary of the Mogul-Verdi trail 2005 opening. Homemade cookies and lemonade will be served at Crystal Peak Park in Verdi from 9:30 a.m. to 11:30 a.m.\, with each bike club\, running club\, and friends’ groups planning your own departure time and place. We serve only home-baked cookies\, and we need more bakers to make 2 dozen cookies each. To volunteer\, email Anna Bell at bellaj2006@yahoo.com\n\n\n\n\n\n\n\n\n\n\n\n\n\n\n\n\n 
URL:https://oldediblerenotahoe.com/event/cookie-ride/
LOCATION:Crystal Peak Park
CATEGORIES:Activity,Community Events,Nonprofit,Outdoors
END:VEVENT
BEGIN:VEVENT
DTSTART;TZID=America/Los_Angeles:20210523T080000
DTEND;TZID=America/Los_Angeles:20210523T160000
DTSTAMP:20260425T122751
CREATED:20210512T211138Z
LAST-MODIFIED:20210512T211138Z
UID:24085-1621756800-1621785600@oldediblerenotahoe.com
SUMMARY:Sierra Foothill Farm Tour
DESCRIPTION:Get connected to where your food comes from and meet the farmers who grow the food we eat! Visit three Sierra Foothill farms in and around the Grass Valley and Nevada City area. Enjoy a seasonal lunch in the field prepared with local food by Three Forks Bakery & Brewery Co. in Nevada City. $40 includes the tour and lunch. \nIn compliance with Covid precautions\, attendees will drive in their own car and caravan (carpooling is suggested for groups comfortable traveling together). Detailed maps and directions will provided. Participants will be required to socially distance while on farm. \nFor Tickets\, visit our ticket page\, click here!\nFor more information: contact us at shawna@tahoefoodhub.org or call 530-562-7150
URL:https://oldediblerenotahoe.com/event/sierra-foothill-farm-tour/
LOCATION:Grass Valley/Nevada City
CATEGORIES:Community Events,Food & Drink,Gardening,Outdoors
END:VEVENT
BEGIN:VEVENT
DTSTART;TZID=America/Los_Angeles:20210522T190000
DTEND;TZID=America/Los_Angeles:20210522T190000
DTSTAMP:20260425T122751
CREATED:20210514T001442Z
LAST-MODIFIED:20210514T001442Z
UID:24261-1621710000-1621710000@oldediblerenotahoe.com
SUMMARY:Arts Reawakening Ceremony and Candlelight Vigil
DESCRIPTION:Join all of us at Sierra Arts for a candlelight vigil celebrating the reawakening of Reno’s arts community.  We will commemorate this opening of Reno art scene with music by Kingwhistler and Free Range\, with words from leaders in the  Reno arts community.  The conclusion of the event will be honored with the lighting of candles\, a blessing by Ray Valdez\, and the signing of a ‘Welcome Back’ banner to the arts.
URL:https://oldediblerenotahoe.com/event/arts-reawakening-ceremony-and-candlelight-vigil/
LOCATION:Reno City Plaza
CATEGORIES:Activity,Arts,Community Events,Nonprofit,Outdoors
END:VEVENT
BEGIN:VEVENT
DTSTART;VALUE=DATE:20210519
DTEND;VALUE=DATE:20210524
DTSTAMP:20260425T122751
CREATED:20210512T210503Z
LAST-MODIFIED:20210512T210503Z
UID:24077-1621382400-1621814399@oldediblerenotahoe.com
SUMMARY:CANstruction
DESCRIPTION:For the 18th year the American Institute of Architects of Northern Nevada (AIANN) prepares for CANstruction\, presented by Growing Smiles Pediatric Dentistry\, an event to benefit the Food Bank of Northern Nevada.  There are nine participating this year\, with five of those being student teams.  Each team designs a structure that they will create out of canned food and which will be judged\, viewed and finally donated to the hungry in the community through the Food Bank of Northern Nevada. \nThis year’s CANstruction event will be held at Meadowood Mall from Wednesday\, May 19 through Sunday May 23\, 2021.  The structures will be built during a twelve-hour period on Wednesday\, May 19.  Teams will gather with their food and build in the mall keeping the structure inside a 10’x10’x10’ area.  Teams will practice teamwork\, planning\, design and giving back to the community all at one event.  Participants and spectators of CANstruction this year are asked to wear masks and practice social distancing when possible to help keep all involved safe. \n“We are excited that even with the challenges throughout the last year\, we are able to come together to build structures that will ultimately serve the many families who need help in our community right now\,” said Fred Graham\, architect and CANstruction committee co-chairman for northern Nevada.  “I always look forward to CANstruction and I am grateful that we will have five student teams joining us this year.” \nThe structures will be judged on Thursday morning by a panel of jurors in 5 categories.  Teams will be competing for the following awards:  Best Original Design\, Structural Ingenuity\, Best Meal\, Best Use of Labels and Most Cans.  This year’s award will be held virtually to limit the number of people that will in one place at a time.  All entries will be submitted to the national level of CANstruction to be judged at the international level against award winners in over 100 other cities worldwide.    The public is invited to vote in the People’s Choice award from 10 a.m. on Wednesday\, May 19 through Monday\, May 24.    Each vote is $1 and all of the money goes to the Food Bank of Northern Nevada where $1 helps to deliver 3 meals to those who need them.  People’s choice voting will take place virtually with a ($10 vote minimum) at fbnn.org.  The structures will be on display\, however\, throughout the weekend at Meadowood Mall for the public to see. 
URL:https://oldediblerenotahoe.com/event/canstruction/
LOCATION:Meadowood Mall
CATEGORIES:Arts,Community Events,Nonprofit
END:VEVENT
BEGIN:VEVENT
DTSTART;TZID=UTC:20210501T120000
DTEND;TZID=UTC:20210501T160000
DTSTAMP:20260425T122751
CREATED:20210428T013209Z
LAST-MODIFIED:20210428T013209Z
UID:23842-1619870400-1619884800@oldediblerenotahoe.com
SUMMARY:6th Annual Kentucky Derby party
DESCRIPTION:The event will feature a selection of bottomless favorites such as mimosas\, Ranch Hand American Ale and Mint Julips. Traditional Hot Brown sandwiches and a full spread of assorted food favorites will be paired with the drinks. Tickets are $80 per person and available for purchase at The Depot or by calling 775-737-4330.
URL:https://oldediblerenotahoe.com/event/6th-annual-kentucky-derby-party/
LOCATION:The Depot\, 325 EAST FOURTH STREET\, Reno\, Nevada\, 89501
CATEGORIES:Community Events,Food & Drink
END:VEVENT
BEGIN:VEVENT
DTSTART;TZID=UTC:20210501T080000
DTEND;TZID=UTC:20210501T120000
DTSTAMP:20260425T122751
CREATED:20210305T031317Z
LAST-MODIFIED:20210305T031317Z
UID:23404-1619856000-1619870400@oldediblerenotahoe.com
SUMMARY:KTMB’s Great Community Cleanup
DESCRIPTION:Join KTMB for our annual Great Community Cleanup on May 1st\, 2021! \nKTMB’s Great Community Cleanup’s focuses on the problems invasive weeds cause for native ecosystems and the hazards posed by illegal dumping in our open spaces. By tackling these problems head on\, we have the opportunity to improve our regions sustainability for years to come. \nVolunteers will join us at local parks and open spaces to complete projects that improve the health of our local environment by completing projects that address our focus areas. Projects will range from litter pickup to invasive weed removal to the cleanup of illegal dumpsites and much more. \nVolunteer signups coming in March!
URL:https://oldediblerenotahoe.com/event/ktmbs-great-community-cleanup/
CATEGORIES:Community Events
END:VEVENT
BEGIN:VEVENT
DTSTART;VALUE=DATE:20210501
DTEND;VALUE=DATE:20210502
DTSTAMP:20260425T122751
CREATED:20210406T031613Z
LAST-MODIFIED:20210406T031613Z
UID:23655-1619827200-1619913599@oldediblerenotahoe.com
SUMMARY:Race for the Roses
DESCRIPTION:Join us for the Race for the Roses – the annual fundraising gala for the Carson Valley Medical Center Hospital Foundation. CVMC Hospital Foundation’s philanthropic promise is to work diligently to raise funds to acquire healthcare equipment and programs that meet the needs of\, and enrich the lives of\, our community. \nTo purchase tickets or for sponsorship opportunities\, visit http://weblink.donorperfect.com/racefortheroses \nProceeds from this event will support our Imagine Cancer Care Campaign here at CVMC. \nThis year we will be celebrating health\, wellness and supporting our local hospital and healthcare workers from the comfort of your own home! We know that face to face connection is so important\, so gather your closest friends and family\, be COVID compliant\, enjoy the Kentucky Derby in the comfort of your own home and watch a prerecorded segment at your leisure on our CVMC YouTube channel (will be posted on our CVMC Foundation Facebook page as well). We will be on Facebook live from 1:00pm – 2:00pm on May 1st to draw raffle tickets and announce the grand prize winner! \nEmail questions to: kbodenstein@cvmchospital.org
URL:https://oldediblerenotahoe.com/event/race-for-the-roses/
LOCATION:Carson Valley Medical Center\, 1107 U.S. Highway 395 North\, Gardnerville\, Nevada\, 89410
CATEGORIES:Community Events,Virtual
END:VEVENT
BEGIN:VEVENT
DTSTART;TZID=UTC:20210422T080000
DTEND;TZID=UTC:20210422T120000
DTSTAMP:20260425T122751
CREATED:20210406T031242Z
LAST-MODIFIED:20210406T031242Z
UID:23652-1619078400-1619092800@oldediblerenotahoe.com
SUMMARY:Annual Seedling Sale
DESCRIPTION:This year’s seedling sale will be a hybrid of last year’s online sale andthe wonderful in-person community street event of prior years. Here’s howit will work: \n\nThe farmer seedling sale website goes live today (April 2). You can view the offerings and place pre-orders from home at https://gbcfc-seedling-sale.myshopify.com/. Or simply click on the 2021 Seedling Sale picture above. \n\n\nAll pre-ordered seedlings will be picked up directly from the farmer you ordered them from between 8 am and 11 am at the farmer’s booth. You must have your receipt either printed or on your phone in order to pick up your plants.\n\n\nAll seedlings not committed to pre-orders will be available for purchase on a first-come\, first-served basis from 11 am until noon directly from the farmers at their booths. Please bring cash.\n\n\nThe city of Reno is letting us hold the street event in front of the Co-op like we’ve done for the last 15 years as long as we have a COVID-19 plan in place. So please bring your mask and prepare to social distance.
URL:https://oldediblerenotahoe.com/event/annual-seedling-sale/
LOCATION:Great Basin Community Food Co-op\, 240 Court St\, Reno\, Nevada\, 89501
CATEGORIES:Community Events,Gardening
END:VEVENT
BEGIN:VEVENT
DTSTART;VALUE=DATE:20210402
DTEND;VALUE=DATE:20210404
DTSTAMP:20260425T122751
CREATED:20210319T102300Z
LAST-MODIFIED:20210319T102300Z
UID:23552-1617321600-1617494399@oldediblerenotahoe.com
SUMMARY:Amick Events Spring Fling at Lattin Farms
DESCRIPTION:
URL:https://oldediblerenotahoe.com/event/amick-events-spring-fling-at-lattin-farms/
LOCATION:Lattin Farms\, 1955 McLean Road\, Fallon\, NV\, 89406
CATEGORIES:Community Events,Food & Drink
END:VEVENT
BEGIN:VEVENT
DTSTART;TZID=UTC:20210328T160000
DTEND;TZID=UTC:20210328T170000
DTSTAMP:20260425T122751
CREATED:20210319T101138Z
LAST-MODIFIED:20210319T101138Z
UID:23547-1616947200-1616950800@oldediblerenotahoe.com
SUMMARY:Serenade for Strings - A Virtual Concert Event
DESCRIPTION:Featuring: \nRuth Lenz\, Violin \n  \nOn the Program: \nNikolai RIMSKY-KORSAKOV Procession of the Nobles \nJoseph Boulogne de SAINT-GEORGES Violin Concerto No. 2 in A Major\, op. 5 \nPyotr Ilyich TCHAIKOVSKY Serenade for Strings in C Major\, op. 48 \n  \nWe invite you to a grand affair featuring Tchaikovsky’s Serenade in C Major and Reno Phil concertmaster\, Ruth Lenz\, as a featured soloist. Considered one of Tchaikovsky’s best works\, the composer himself described Serenade for Strings as a “piece from the heart.” Opening with an homage to Mozart\, it is a graceful and poised composition with a memorable waltz melody that has been used in a variety of movies and ballets. The program also includes Chevalier de Saint-Georges’s Violin Concerto No. 2\, a showcase for violinist Ruth Lenz. The performance will burst to life with Rimsky-Korsakov’s Procession of the Nobles (from Mlada)\, which features a brass quintet performing a rousing and festive march tune that will have you envisioning an ornate gathering of royalty. \nConcert & Ticket Information \nEstimated runtime: 2 hours \n  \nBuy tickets online by clicking on one of the dates in the upper right corner (or scroll down to the bottom of this text on mobile)\, or by calling 775.323.6393. Box office hours are 9:00AM-5:00PM PT\, Monday-Friday. \n  \nLIVESTREAMS: \nTickets are $25.00 for single viewers or $40.00 for a household \nThe livestream\, virtual concerts will begin at 7:30 PM (Pacific Time) on Saturday and 4:00 PM (Pacific Time) on Sunday\, with the pre-show concert talk starting 30 minutes prior. Only one ticket per viewing device\, per concert is necessary: \n\nIf multiple members of a household plan to watch together on the same device\, only one ticket is required.\nIf you would like to stream the concert on multiple devices at the same time\, you will need to complete separate ticket orders for each device (regardless of whether “single” or “household” is selected).\n\nThe order confirmation email is your ticket! In that email\, there will be a link that is unique to each ticket purchased. Remember\, only one device at a time will be able to use that link\, and the link will only be good for the concert date you selected. Once the livestream for that day has ended\, the concert will not be available to view with this link. To view the concert on your own schedule\, see the On Demand details below. \nVIDEO ON DEMAND: \nTickets are $30.00* per household (or per access link) \n*Subscriber promo codes and comps not applicable to on-demand. \nThis option will be available for purchase after the livestream premieres. On-sale dates are Mar. 29 – Apr. 4\, 2021. Video will be available to watch for 7 days from the first time you click into the stream player and will not be available to view after Apr. 11\, 2021 at 11:59 PM PT. \n 
URL:https://oldediblerenotahoe.com/event/serenade-for-strings-a-virtual-concert-event-2/
LOCATION:Reno Philharmonic\, 925 Riverside Dr.\, Suite 3\, Reno\, NV
CATEGORIES:Arts,Community Events,Music,Virtual
END:VEVENT
BEGIN:VEVENT
DTSTART;TZID=UTC:20210328T100000
DTEND;TZID=UTC:20210328T140000
DTSTAMP:20260425T122751
CREATED:20210319T091436Z
LAST-MODIFIED:20210319T091436Z
UID:23510-1616925600-1616940000@oldediblerenotahoe.com
SUMMARY:Spring Seedling Sale
DESCRIPTION:Reno Food Systems presents its first seedling sale of 2021 at the Farm Stand
URL:https://oldediblerenotahoe.com/event/spring-seedling-sale/
LOCATION:Betsy Caughlin Donnelly Park\, 3295 Mayberry Dr.\, Reno\, NV\, 89519
CATEGORIES:Community Events,Gardening
END:VEVENT
BEGIN:VEVENT
DTSTART;TZID=UTC:20210327T193000
DTEND;TZID=UTC:20210327T193000
DTSTAMP:20260425T122751
CREATED:20210319T101002Z
LAST-MODIFIED:20210319T101002Z
UID:23544-1616873400-1616873400@oldediblerenotahoe.com
SUMMARY:Serenade for Strings - A Virtual Concert Event
DESCRIPTION:Featuring: \nRuth Lenz\, Violin \n  \nOn the Program: \nNikolai RIMSKY-KORSAKOV Procession of the Nobles \nJoseph Boulogne de SAINT-GEORGES Violin Concerto No. 2 in A Major\, op. 5 \nPyotr Ilyich TCHAIKOVSKY Serenade for Strings in C Major\, op. 48 \n  \nWe invite you to a grand affair featuring Tchaikovsky’s Serenade in C Major and Reno Phil concertmaster\, Ruth Lenz\, as a featured soloist. Considered one of Tchaikovsky’s best works\, the composer himself described Serenade for Strings as a “piece from the heart.” Opening with an homage to Mozart\, it is a graceful and poised composition with a memorable waltz melody that has been used in a variety of movies and ballets. The program also includes Chevalier de Saint-Georges’s Violin Concerto No. 2\, a showcase for violinist Ruth Lenz. The performance will burst to life with Rimsky-Korsakov’s Procession of the Nobles (from Mlada)\, which features a brass quintet performing a rousing and festive march tune that will have you envisioning an ornate gathering of royalty. \nConcert & Ticket Information \nEstimated runtime: 2 hours \n  \nBuy tickets online by clicking on one of the dates in the upper right corner (or scroll down to the bottom of this text on mobile)\, or by calling 775.323.6393. Box office hours are 9:00AM-5:00PM PT\, Monday-Friday. \n  \nLIVESTREAMS: \nTickets are $25.00 for single viewers or $40.00 for a household \nThe livestream\, virtual concerts will begin at 7:30 PM (Pacific Time) on Saturday and 4:00 PM (Pacific Time) on Sunday\, with the pre-show concert talk starting 30 minutes prior. Only one ticket per viewing device\, per concert is necessary: \n\nIf multiple members of a household plan to watch together on the same device\, only one ticket is required.\nIf you would like to stream the concert on multiple devices at the same time\, you will need to complete separate ticket orders for each device (regardless of whether “single” or “household” is selected).\n\nThe order confirmation email is your ticket! In that email\, there will be a link that is unique to each ticket purchased. Remember\, only one device at a time will be able to use that link\, and the link will only be good for the concert date you selected. Once the livestream for that day has ended\, the concert will not be available to view with this link. To view the concert on your own schedule\, see the On Demand details below. \nVIDEO ON DEMAND: \nTickets are $30.00* per household (or per access link) \n*Subscriber promo codes and comps not applicable to on-demand. \nThis option will be available for purchase after the livestream premieres. On-sale dates are Mar. 29 – Apr. 4\, 2021. Video will be available to watch for 7 days from the first time you click into the stream player and will not be available to view after Apr. 11\, 2021 at 11:59 PM PT. \n 
URL:https://oldediblerenotahoe.com/event/serenade-for-strings-a-virtual-concert-event/
LOCATION:Reno Philharmonic\, 925 Riverside Dr.\, Suite 3\, Reno\, NV
CATEGORIES:Arts,Community Events,Virtual
END:VEVENT
BEGIN:VEVENT
DTSTART;TZID=UTC:20210209T180000
DTEND;TZID=UTC:20210209T200000
DTSTAMP:20260425T122751
CREATED:20210204T055844Z
LAST-MODIFIED:20210204T055844Z
UID:22883-1612893600-1612900800@oldediblerenotahoe.com
SUMMARY:Gardening in Nevada: The Bartley Ranch Series
DESCRIPTION:The series\, online this year via Zoom\, is for anyone who wants to garden – those with big yards\, small yards\, or just patio or balcony space. These classes\, offered in partnership with Bartley Ranch and Washoe County Regional Parks and Open Space\, are free and run 6-8 p.m.\, every Tuesday\, Feb. 9 – March 30.\n\nThe classes are taught by Extension horticulturists\, experts and certified Master Gardener volunteers\, as well as local business owners. International Society of Arboriculture continuing education units may be available for some classes. The next three classes are: \n\n\n\nFeb. 9: Container and Indoor Gardening — Rachel McClure\, Master Gardener coordinator for Extension in Washoe County\, will discuss the ins and outs of container and indoor growing for year-round food production indoors. This talk will help participants set realistic goals and see the possibilities. Register online at https://unr.zoom.us/meeting/register/tZAufuyvpzIoE9DTWs7t0B-pHP1vtl-HNH-U. \n\nFeb. 16: Beekeeping: 10 Lessons Learned in the First Year — Lindsay Chichester\, Extension educator for Douglas County\, will discuss what she learned through trial and error keeping bees during the 2020 COVID-19 pandemic. She will also provide suggestions and advice to others who may be interested in keeping honeybees and discuss future plans for expanding the Douglas County Beekeeping Project. Register online at https://unr.zoom.us/meeting/register/tZYucOmppjkrGNBozH2t35FdxpBDa7ClKNt3.\nFeb. 23: Perennials in the Garden — Georgette Porter\, Extension Master Gardener volunteer\, will show participants how to have perennial flowers in their gardens year after year. From the common to the unexpected\, Porter will talk about the rewards of planting perennials in our high-desert environment. Register online at https://unr.zoom.us/meeting/register/tZAqce6srDopH9fjZuqkzS-TrrIoqmdizQPF. 
URL:https://oldediblerenotahoe.com/event/gardening-in-nevada-the-bartley-ranch-series/
LOCATION:University of Nevada\, Reno Extension
CATEGORIES:Community Events,Virtual
END:VEVENT
BEGIN:VEVENT
DTSTART;TZID=UTC:20210204T180000
DTEND;TZID=UTC:20210204T190000
DTSTAMP:20260425T122751
CREATED:20210127T084954Z
LAST-MODIFIED:20210127T084954Z
UID:22818-1612461600-1612465200@oldediblerenotahoe.com
SUMMARY:Virtual First Thursday: Jammal Tarkington
DESCRIPTION:In response to the health and safety guidelines for Covid-19\, traditional First Thursday has been temporarily postponed. In the meantime\, tune in for a special broadcast featuring music and interviews with longtime Reno musician Jammal Tarkington\, art introductions\, and more fun. The program will premiere on the Museum’s Facebook page\, where you can engage in a real-time conversation with fellow participants. The broadcast can also be accessed through our YouTube channel. Visit Great Basin Brewing Company (Reno or Sparks locations) any time on First Thursday for 50% off any Growler or Growler Fill.* \n*Museum members: mention offer “First Thursday Growler” during purchase. Limit one per membership. Must be 21 or over to redeem. \nPowered by Tesla\nSponsored by Bank of America\nHosted by Great Basin Brewing Company\nand The X 100.1 FM Radio
URL:https://oldediblerenotahoe.com/event/virtual-first-thursday-jammal-tarkington/
LOCATION:Nevada Museum of Art\, 160 West Liberty\, Reno\, Nevada\, 89501
CATEGORIES:Community Events,Virtual
END:VEVENT
END:VCALENDAR