BEGIN:VCALENDAR
VERSION:2.0
PRODID:-//Edible Reno-Tahoe - ECPv6.15.20//NONSGML v1.0//EN
CALSCALE:GREGORIAN
METHOD:PUBLISH
X-WR-CALNAME:Edible Reno-Tahoe
X-ORIGINAL-URL:https://oldediblerenotahoe.com
X-WR-CALDESC:Events for Edible Reno-Tahoe
REFRESH-INTERVAL;VALUE=DURATION:PT1H
X-Robots-Tag:noindex
X-PUBLISHED-TTL:PT1H
BEGIN:VTIMEZONE
TZID:UTC
BEGIN:STANDARD
TZOFFSETFROM:+0000
TZOFFSETTO:+0000
TZNAME:UTC
DTSTART:20200101T000000
END:STANDARD
END:VTIMEZONE
BEGIN:VEVENT
DTSTART;TZID=UTC:20210328T160000
DTEND;TZID=UTC:20210328T170000
DTSTAMP:20260425T133417
CREATED:20210319T101138Z
LAST-MODIFIED:20210319T101138Z
UID:23547-1616947200-1616950800@oldediblerenotahoe.com
SUMMARY:Serenade for Strings - A Virtual Concert Event
DESCRIPTION:Featuring: \nRuth Lenz\, Violin \n  \nOn the Program: \nNikolai RIMSKY-KORSAKOV Procession of the Nobles \nJoseph Boulogne de SAINT-GEORGES Violin Concerto No. 2 in A Major\, op. 5 \nPyotr Ilyich TCHAIKOVSKY Serenade for Strings in C Major\, op. 48 \n  \nWe invite you to a grand affair featuring Tchaikovsky’s Serenade in C Major and Reno Phil concertmaster\, Ruth Lenz\, as a featured soloist. Considered one of Tchaikovsky’s best works\, the composer himself described Serenade for Strings as a “piece from the heart.” Opening with an homage to Mozart\, it is a graceful and poised composition with a memorable waltz melody that has been used in a variety of movies and ballets. The program also includes Chevalier de Saint-Georges’s Violin Concerto No. 2\, a showcase for violinist Ruth Lenz. The performance will burst to life with Rimsky-Korsakov’s Procession of the Nobles (from Mlada)\, which features a brass quintet performing a rousing and festive march tune that will have you envisioning an ornate gathering of royalty. \nConcert & Ticket Information \nEstimated runtime: 2 hours \n  \nBuy tickets online by clicking on one of the dates in the upper right corner (or scroll down to the bottom of this text on mobile)\, or by calling 775.323.6393. Box office hours are 9:00AM-5:00PM PT\, Monday-Friday. \n  \nLIVESTREAMS: \nTickets are $25.00 for single viewers or $40.00 for a household \nThe livestream\, virtual concerts will begin at 7:30 PM (Pacific Time) on Saturday and 4:00 PM (Pacific Time) on Sunday\, with the pre-show concert talk starting 30 minutes prior. Only one ticket per viewing device\, per concert is necessary: \n\nIf multiple members of a household plan to watch together on the same device\, only one ticket is required.\nIf you would like to stream the concert on multiple devices at the same time\, you will need to complete separate ticket orders for each device (regardless of whether “single” or “household” is selected).\n\nThe order confirmation email is your ticket! In that email\, there will be a link that is unique to each ticket purchased. Remember\, only one device at a time will be able to use that link\, and the link will only be good for the concert date you selected. Once the livestream for that day has ended\, the concert will not be available to view with this link. To view the concert on your own schedule\, see the On Demand details below. \nVIDEO ON DEMAND: \nTickets are $30.00* per household (or per access link) \n*Subscriber promo codes and comps not applicable to on-demand. \nThis option will be available for purchase after the livestream premieres. On-sale dates are Mar. 29 – Apr. 4\, 2021. Video will be available to watch for 7 days from the first time you click into the stream player and will not be available to view after Apr. 11\, 2021 at 11:59 PM PT. \n 
URL:https://oldediblerenotahoe.com/event/serenade-for-strings-a-virtual-concert-event-2/
LOCATION:Reno Philharmonic\, 925 Riverside Dr.\, Suite 3\, Reno\, NV
CATEGORIES:Arts,Community Events,Music,Virtual
END:VEVENT
BEGIN:VEVENT
DTSTART;TZID=UTC:20210328T100000
DTEND;TZID=UTC:20210328T140000
DTSTAMP:20260425T133417
CREATED:20210319T091436Z
LAST-MODIFIED:20210319T091436Z
UID:23510-1616925600-1616940000@oldediblerenotahoe.com
SUMMARY:Spring Seedling Sale
DESCRIPTION:Reno Food Systems presents its first seedling sale of 2021 at the Farm Stand
URL:https://oldediblerenotahoe.com/event/spring-seedling-sale/
LOCATION:Betsy Caughlin Donnelly Park\, 3295 Mayberry Dr.\, Reno\, NV\, 89519
CATEGORIES:Community Events,Gardening
END:VEVENT
BEGIN:VEVENT
DTSTART;TZID=UTC:20210327T193000
DTEND;TZID=UTC:20210327T193000
DTSTAMP:20260425T133417
CREATED:20210319T101002Z
LAST-MODIFIED:20210319T101002Z
UID:23544-1616873400-1616873400@oldediblerenotahoe.com
SUMMARY:Serenade for Strings - A Virtual Concert Event
DESCRIPTION:Featuring: \nRuth Lenz\, Violin \n  \nOn the Program: \nNikolai RIMSKY-KORSAKOV Procession of the Nobles \nJoseph Boulogne de SAINT-GEORGES Violin Concerto No. 2 in A Major\, op. 5 \nPyotr Ilyich TCHAIKOVSKY Serenade for Strings in C Major\, op. 48 \n  \nWe invite you to a grand affair featuring Tchaikovsky’s Serenade in C Major and Reno Phil concertmaster\, Ruth Lenz\, as a featured soloist. Considered one of Tchaikovsky’s best works\, the composer himself described Serenade for Strings as a “piece from the heart.” Opening with an homage to Mozart\, it is a graceful and poised composition with a memorable waltz melody that has been used in a variety of movies and ballets. The program also includes Chevalier de Saint-Georges’s Violin Concerto No. 2\, a showcase for violinist Ruth Lenz. The performance will burst to life with Rimsky-Korsakov’s Procession of the Nobles (from Mlada)\, which features a brass quintet performing a rousing and festive march tune that will have you envisioning an ornate gathering of royalty. \nConcert & Ticket Information \nEstimated runtime: 2 hours \n  \nBuy tickets online by clicking on one of the dates in the upper right corner (or scroll down to the bottom of this text on mobile)\, or by calling 775.323.6393. Box office hours are 9:00AM-5:00PM PT\, Monday-Friday. \n  \nLIVESTREAMS: \nTickets are $25.00 for single viewers or $40.00 for a household \nThe livestream\, virtual concerts will begin at 7:30 PM (Pacific Time) on Saturday and 4:00 PM (Pacific Time) on Sunday\, with the pre-show concert talk starting 30 minutes prior. Only one ticket per viewing device\, per concert is necessary: \n\nIf multiple members of a household plan to watch together on the same device\, only one ticket is required.\nIf you would like to stream the concert on multiple devices at the same time\, you will need to complete separate ticket orders for each device (regardless of whether “single” or “household” is selected).\n\nThe order confirmation email is your ticket! In that email\, there will be a link that is unique to each ticket purchased. Remember\, only one device at a time will be able to use that link\, and the link will only be good for the concert date you selected. Once the livestream for that day has ended\, the concert will not be available to view with this link. To view the concert on your own schedule\, see the On Demand details below. \nVIDEO ON DEMAND: \nTickets are $30.00* per household (or per access link) \n*Subscriber promo codes and comps not applicable to on-demand. \nThis option will be available for purchase after the livestream premieres. On-sale dates are Mar. 29 – Apr. 4\, 2021. Video will be available to watch for 7 days from the first time you click into the stream player and will not be available to view after Apr. 11\, 2021 at 11:59 PM PT. \n 
URL:https://oldediblerenotahoe.com/event/serenade-for-strings-a-virtual-concert-event/
LOCATION:Reno Philharmonic\, 925 Riverside Dr.\, Suite 3\, Reno\, NV
CATEGORIES:Arts,Community Events,Virtual
END:VEVENT
BEGIN:VEVENT
DTSTART;TZID=UTC:20210209T180000
DTEND;TZID=UTC:20210209T200000
DTSTAMP:20260425T133417
CREATED:20210204T055844Z
LAST-MODIFIED:20210204T055844Z
UID:22883-1612893600-1612900800@oldediblerenotahoe.com
SUMMARY:Gardening in Nevada: The Bartley Ranch Series
DESCRIPTION:The series\, online this year via Zoom\, is for anyone who wants to garden – those with big yards\, small yards\, or just patio or balcony space. These classes\, offered in partnership with Bartley Ranch and Washoe County Regional Parks and Open Space\, are free and run 6-8 p.m.\, every Tuesday\, Feb. 9 – March 30.\n\nThe classes are taught by Extension horticulturists\, experts and certified Master Gardener volunteers\, as well as local business owners. International Society of Arboriculture continuing education units may be available for some classes. The next three classes are: \n\n\n\nFeb. 9: Container and Indoor Gardening — Rachel McClure\, Master Gardener coordinator for Extension in Washoe County\, will discuss the ins and outs of container and indoor growing for year-round food production indoors. This talk will help participants set realistic goals and see the possibilities. Register online at https://unr.zoom.us/meeting/register/tZAufuyvpzIoE9DTWs7t0B-pHP1vtl-HNH-U. \n\nFeb. 16: Beekeeping: 10 Lessons Learned in the First Year — Lindsay Chichester\, Extension educator for Douglas County\, will discuss what she learned through trial and error keeping bees during the 2020 COVID-19 pandemic. She will also provide suggestions and advice to others who may be interested in keeping honeybees and discuss future plans for expanding the Douglas County Beekeeping Project. Register online at https://unr.zoom.us/meeting/register/tZYucOmppjkrGNBozH2t35FdxpBDa7ClKNt3.\nFeb. 23: Perennials in the Garden — Georgette Porter\, Extension Master Gardener volunteer\, will show participants how to have perennial flowers in their gardens year after year. From the common to the unexpected\, Porter will talk about the rewards of planting perennials in our high-desert environment. Register online at https://unr.zoom.us/meeting/register/tZAqce6srDopH9fjZuqkzS-TrrIoqmdizQPF. 
URL:https://oldediblerenotahoe.com/event/gardening-in-nevada-the-bartley-ranch-series/
LOCATION:University of Nevada\, Reno Extension
CATEGORIES:Community Events,Virtual
END:VEVENT
BEGIN:VEVENT
DTSTART;TZID=UTC:20210204T180000
DTEND;TZID=UTC:20210204T190000
DTSTAMP:20260425T133417
CREATED:20210127T084954Z
LAST-MODIFIED:20210127T084954Z
UID:22818-1612461600-1612465200@oldediblerenotahoe.com
SUMMARY:Virtual First Thursday: Jammal Tarkington
DESCRIPTION:In response to the health and safety guidelines for Covid-19\, traditional First Thursday has been temporarily postponed. In the meantime\, tune in for a special broadcast featuring music and interviews with longtime Reno musician Jammal Tarkington\, art introductions\, and more fun. The program will premiere on the Museum’s Facebook page\, where you can engage in a real-time conversation with fellow participants. The broadcast can also be accessed through our YouTube channel. Visit Great Basin Brewing Company (Reno or Sparks locations) any time on First Thursday for 50% off any Growler or Growler Fill.* \n*Museum members: mention offer “First Thursday Growler” during purchase. Limit one per membership. Must be 21 or over to redeem. \nPowered by Tesla\nSponsored by Bank of America\nHosted by Great Basin Brewing Company\nand The X 100.1 FM Radio
URL:https://oldediblerenotahoe.com/event/virtual-first-thursday-jammal-tarkington/
LOCATION:Nevada Museum of Art\, 160 West Liberty\, Reno\, Nevada\, 89501
CATEGORIES:Community Events,Virtual
END:VEVENT
END:VCALENDAR