BEGIN:VCALENDAR
VERSION:2.0
PRODID:-//Edible Reno-Tahoe - ECPv6.15.20//NONSGML v1.0//EN
CALSCALE:GREGORIAN
METHOD:PUBLISH
X-ORIGINAL-URL:https://oldediblerenotahoe.com
X-WR-CALDESC:Events for Edible Reno-Tahoe
REFRESH-INTERVAL;VALUE=DURATION:PT1H
X-Robots-Tag:noindex
X-PUBLISHED-TTL:PT1H
BEGIN:VTIMEZONE
TZID:America/Los_Angeles
BEGIN:DAYLIGHT
TZOFFSETFROM:-0800
TZOFFSETTO:-0700
TZNAME:PDT
DTSTART:20210314T100000
END:DAYLIGHT
BEGIN:STANDARD
TZOFFSETFROM:-0700
TZOFFSETTO:-0800
TZNAME:PST
DTSTART:20211107T090000
END:STANDARD
BEGIN:DAYLIGHT
TZOFFSETFROM:-0800
TZOFFSETTO:-0700
TZNAME:PDT
DTSTART:20220313T100000
END:DAYLIGHT
BEGIN:STANDARD
TZOFFSETFROM:-0700
TZOFFSETTO:-0800
TZNAME:PST
DTSTART:20221106T090000
END:STANDARD
BEGIN:DAYLIGHT
TZOFFSETFROM:-0800
TZOFFSETTO:-0700
TZNAME:PDT
DTSTART:20230312T100000
END:DAYLIGHT
BEGIN:STANDARD
TZOFFSETFROM:-0700
TZOFFSETTO:-0800
TZNAME:PST
DTSTART:20231105T090000
END:STANDARD
BEGIN:DAYLIGHT
TZOFFSETFROM:-0800
TZOFFSETTO:-0700
TZNAME:PDT
DTSTART:20240310T100000
END:DAYLIGHT
BEGIN:STANDARD
TZOFFSETFROM:-0700
TZOFFSETTO:-0800
TZNAME:PST
DTSTART:20241103T090000
END:STANDARD
BEGIN:DAYLIGHT
TZOFFSETFROM:-0800
TZOFFSETTO:-0700
TZNAME:PDT
DTSTART:20250309T100000
END:DAYLIGHT
BEGIN:STANDARD
TZOFFSETFROM:-0700
TZOFFSETTO:-0800
TZNAME:PST
DTSTART:20251102T090000
END:STANDARD
END:VTIMEZONE
BEGIN:VEVENT
DTSTART;VALUE=DATE:20240707
DTEND;VALUE=DATE:20240714
DTSTAMP:20260424T140723
CREATED:20231227T212556Z
LAST-MODIFIED:20231227T212556Z
UID:36236-1720310400-1720915199@oldediblerenotahoe.com
SUMMARY:Brubeck Jazz Summit
DESCRIPTION:Brubeck Jazz Summit is a transformative jazz education program for outstanding pre-college musicians from around the world. \nLed by Artistic Directors Roxy Coss and Lucas Pino\, students learn from a diverse and passionate roster of world-class faculty and guest artists through combo rehearsals\, masterclasses\, career development\, jam sessions\, and performances. \nThe Summit provides an inclusive and nurturing learning environment\, where students and faculty build a strong community of lifelong connections. Students are challenged to grow musically and personally\, and are provided with an educational experience designed to inspire and equip them in their journey as the next generation of creative leaders in jazz. \nA living legacy of the musician and international statesman\, Dave Brubeck\, the week-long Brubeck Jazz Summit is a partnership between Classical Tahoe and Brubeck Living Legacy\, hosted at the University of Nevada\, Reno at Lake Tahoe campus located in a stunning mountain environment on the North Shore of beautiful Lake Tahoe.
URL:https://oldediblerenotahoe.com/event/brubeck-jazz-summit/
CATEGORIES:Conference,Music
ATTACH;FMTTYPE=image/jpeg:https://oldediblerenotahoe.com/wp-content/uploads/2023/12/Image-12-27-23-at-1.22-PM.jpg
END:VEVENT
BEGIN:VEVENT
DTSTART;VALUE=DATE:20240406
DTEND;VALUE=DATE:20240407
DTSTAMP:20260424T140723
CREATED:20231005T200026Z
LAST-MODIFIED:20231005T200026Z
UID:34522-1712361600-1712447999@oldediblerenotahoe.com
SUMMARY:2024 TEDxReno
DESCRIPTION:
URL:https://oldediblerenotahoe.com/event/2024tedx/
LOCATION:Lawlor Events Center\, 1664 North Virginia Street\, Reno\, NV\, 89557
CATEGORIES:Conference,Speaker
ATTACH;FMTTYPE=image/jpeg:https://oldediblerenotahoe.com/wp-content/uploads/2023/10/tedx.jpg
END:VEVENT
BEGIN:VEVENT
DTSTART;VALUE=DATE:20240222
DTEND;VALUE=DATE:20240225
DTSTAMP:20260424T140723
CREATED:20231004T014003Z
LAST-MODIFIED:20231208T005946Z
UID:34465-1708560000-1708819199@oldediblerenotahoe.com
SUMMARY:2024 Nevada State Beekeeper Conference
DESCRIPTION:Meet new and experienced beekeepers\, celebrate new friendships\, and gain extensive bee-knowledge at the 14th Annual Nevada State Beekeepers Conference. Outstanding food\, delightful libations\, silent auction\, and lively discussions about the many benefits of beekeeping.
URL:https://oldediblerenotahoe.com/event/2024beekeeper/
LOCATION:Catholic Center\, 311 Virginia St.\, Yerington\, NV
CATEGORIES:Conference
ATTACH;FMTTYPE=image/png:https://oldediblerenotahoe.com/wp-content/uploads/2023/10/bees.png
END:VEVENT
BEGIN:VEVENT
DTSTART;VALUE=DATE:20231118
DTEND;VALUE=DATE:20231120
DTSTAMP:20260424T140723
CREATED:20230922T191845Z
LAST-MODIFIED:20230922T191845Z
UID:33922-1700265600-1700438399@oldediblerenotahoe.com
SUMMARY:2023 IGRA Convention
DESCRIPTION:
URL:https://oldediblerenotahoe.com/event/2023igra/
LOCATION:Circus Circus Hotel Casino\, 500 N Sierra Street\, Reno\, NV\, 89503
CATEGORIES:Conference
END:VEVENT
BEGIN:VEVENT
DTSTART;VALUE=DATE:20220224
DTEND;VALUE=DATE:20220227
DTSTAMP:20260424T140723
CREATED:20211111T020427Z
LAST-MODIFIED:20211111T020721Z
UID:25401-1645660800-1645919999@oldediblerenotahoe.com
SUMMARY:12th Annual Nevada State Beekeepers Conference
DESCRIPTION:Hosted by Mason Valley Beekeepers \nFriday\, February 25\, 2022 (tentative schedule) \n7:30 AM – 8:30 AM      Registration / Pastries & Coffee \n                                         Silent Auction Items accepted; Entries accepted for Photo and Honey  \n                                         Tasting Contests \n8:30 AM – 8:40 AM      Opening Remarks \n​ \n8:45 AM – 12 Noon      Workshop Rotations – Six Workshops \n​ \n12:00 PM – 1:00 PM    Lunch Served \n                                         Silent Auction Items accepted; Entries accepted for Photo &  \n                                         Honey Tasting Contests \n​ \n1:00 PM – 5:00 PM       Speakers/Presentations \n  \n5:00 PM  – 6:00 PM      “Bee Happy” Hour – No Host Bar available \n                                          Silent Auction Items accepted; Entries accepted for  \n                                          Photo & Honey Tasting Contests \n​ \n6:00 PM – 7:00 PM        Dinner \n                                  \n7:00 PM                          Guest Speaker \n  \nSaturday\, February 26\, 2022 (tentative schedule) \n​ \n7:30 AM – 8:00 AM         Registration – Continental Breakfast \n8:00 AM – 8:10 AM         Opening Remarks \n                                           \n8:10 AM – 8:30 AM        Guest Speaker \n​ \n8:30 AM – 12:00 PM      Speakers / Presentations \n12:00 PM – 1:00 PM       Lunch Served \n1:00 PM – 4:00 PM        Speakers / Presentations \n​ \n4:00 PM – 4:15 PM        Closing Remarks / Evaluations \n4:15 PM                           “Bee Happy” Hour Begins – No Host Bar Available \n​ \n5:00 PM                          Silent Auction Closes \n​ \n5:30-6:00 PM                Silent Auction Items Distributed \n​ \n6:00 PM                          Annual Banquet Seating begins \n​ \n6:30 PM                          Dinner                         \n                                         Raffle Winners Announced \n                                         Honey Tasting Winner Announced \n                                         Photo Contest Winners Announced \n                                          \n7:30 PM                         Speaker \n​
URL:https://oldediblerenotahoe.com/event/2022-nevada-state-beekeeping-conference/
LOCATION:Yerington\, NV
CATEGORIES:Conference,Educational,Gardening
END:VEVENT
END:VCALENDAR