BEGIN:VCALENDAR
VERSION:2.0
PRODID:-//Edible Reno-Tahoe - ECPv6.15.20//NONSGML v1.0//EN
CALSCALE:GREGORIAN
METHOD:PUBLISH
X-WR-CALNAME:Edible Reno-Tahoe
X-ORIGINAL-URL:https://oldediblerenotahoe.com
X-WR-CALDESC:Events for Edible Reno-Tahoe
REFRESH-INTERVAL;VALUE=DURATION:PT1H
X-Robots-Tag:noindex
X-PUBLISHED-TTL:PT1H
BEGIN:VTIMEZONE
TZID:America/Los_Angeles
BEGIN:DAYLIGHT
TZOFFSETFROM:-0800
TZOFFSETTO:-0700
TZNAME:PDT
DTSTART:20230312T100000
END:DAYLIGHT
BEGIN:STANDARD
TZOFFSETFROM:-0700
TZOFFSETTO:-0800
TZNAME:PST
DTSTART:20231105T090000
END:STANDARD
BEGIN:DAYLIGHT
TZOFFSETFROM:-0800
TZOFFSETTO:-0700
TZNAME:PDT
DTSTART:20240310T100000
END:DAYLIGHT
BEGIN:STANDARD
TZOFFSETFROM:-0700
TZOFFSETTO:-0800
TZNAME:PST
DTSTART:20241103T090000
END:STANDARD
BEGIN:DAYLIGHT
TZOFFSETFROM:-0800
TZOFFSETTO:-0700
TZNAME:PDT
DTSTART:20250309T100000
END:DAYLIGHT
BEGIN:STANDARD
TZOFFSETFROM:-0700
TZOFFSETTO:-0800
TZNAME:PST
DTSTART:20251102T090000
END:STANDARD
END:VTIMEZONE
BEGIN:VEVENT
DTSTART;TZID=America/Los_Angeles:20241117T140000
DTEND;TZID=America/Los_Angeles:20241117T153000
DTSTAMP:20260424T075648
CREATED:20231216T185353Z
LAST-MODIFIED:20231216T185353Z
UID:35747-1731852000-1731857400@oldediblerenotahoe.com
SUMMARY:Little Chefs (Pre-K): Turn Up the Beet... Hummus Cooking Class
DESCRIPTION:Little Chefs is a parent-child cooking series hosted by Urban Roots and registered dietitian Anastasia Gavrilets. This Fall’s series is for pre-K chefs (ages 2-4 years) and compliments the garden-based learning they receive from Little Gardeners! These workshops are hands-on\, include a tasty recipe and snack\, and a farm fresh ingredient to take home. \nLet’s pump the jams a little louder and make a tasty and colorful snack! Your little chef will don an apron and put their skills to the test while we talk about tips and tricks for even the pickiest of eaters. \nRecipe: Beet Hummus! 
URL:https://oldediblerenotahoe.com/event/littlechefsnov2024/
LOCATION:Urban Teaching Farm\, 1700 E 2nd Street\, Reno\, NV\, 89502
CATEGORIES:Cooking Classes,Family friendly,Nonprofit
END:VEVENT
BEGIN:VEVENT
DTSTART;TZID=America/Los_Angeles:20241020T140000
DTEND;TZID=America/Los_Angeles:20241020T153000
DTSTAMP:20260424T075648
CREATED:20231216T185224Z
LAST-MODIFIED:20231216T185224Z
UID:35748-1729432800-1729438200@oldediblerenotahoe.com
SUMMARY:Little Chefs (Pre-K): Dinosaur Potato Volcanoes Cooking Class
DESCRIPTION:Little Chefs is a parent-child cooking series hosted by Urban Roots and registered dietitian Anastasia Gavrilets. This Fall’s series is for pre-K chefs (ages 2-4 years) and compliments the garden-based learning they receive from Little Gardeners! These workshops are hands-on\, include a tasty recipe and snack\, and a farm fresh ingredient to take home. \nYour little chef with use their jurassic imagination to cook up their very own dinosaur volcano! Let’s make something special together and talk about portions and what our pre-schoolers need nutrition wise at this stage.  \nRecipe: Dinosaur\, Potato Volcanoes! 
URL:https://oldediblerenotahoe.com/event/littlechefsoct2024/
LOCATION:Urban Teaching Farm\, 1700 E 2nd Street\, Reno\, NV\, 89502
CATEGORIES:Cooking Classes,Family friendly,Nonprofit
END:VEVENT
BEGIN:VEVENT
DTSTART;TZID=America/Los_Angeles:20240928T140000
DTEND;TZID=America/Los_Angeles:20240928T153000
DTSTAMP:20260424T075648
CREATED:20231216T185000Z
LAST-MODIFIED:20231216T185242Z
UID:35745-1727532000-1727537400@oldediblerenotahoe.com
SUMMARY:Little Chefs (Pre-K): Fall Harvest Salads Cooking Class
DESCRIPTION:Little Chefs is a parent-child cooking series hosted by Urban Roots and registered dietitian Anastasia Gavrilets. This Fall’s series is for pre-K chefs (ages 2-4 years) and compliments the garden-based learning they receive from Little Gardeners! These workshops are hands-on\, include a tasty recipe and snack\, and a farm fresh ingredient to take home. \nThis workshop will cover quality meal time with your pre-schooler and dive into trying new foods straight from the vine.  \nRecipe: Fall Chickpea Salad! 
URL:https://oldediblerenotahoe.com/event/littlechefssept2024/
LOCATION:Urban Teaching Farm\, 1700 E 2nd Street\, Reno\, NV\, 89502
CATEGORIES:Cooking Classes,Family friendly,Nonprofit
END:VEVENT
BEGIN:VEVENT
DTSTART;TZID=America/Los_Angeles:20240829T180000
DTEND;TZID=America/Los_Angeles:20240829T210000
DTSTAMP:20260424T075648
CREATED:20240311T040439Z
LAST-MODIFIED:20240311T040439Z
UID:37746-1724954400-1724965200@oldediblerenotahoe.com
SUMMARY:Cooking Class: Tacos & Tequilas
DESCRIPTION:
URL:https://oldediblerenotahoe.com/event/cooking-class-tacos-tequilas-2-2024-08-29/
LOCATION:Nothing To It!\, 225 Crummer Lane\, Reno\, NV\, 89502\, United States
CATEGORIES:Cooking Classes
END:VEVENT
BEGIN:VEVENT
DTSTART;TZID=America/Los_Angeles:20240828T180000
DTEND;TZID=America/Los_Angeles:20240828T210000
DTSTAMP:20260424T075648
CREATED:20240311T040439Z
LAST-MODIFIED:20240311T040439Z
UID:37745-1724868000-1724878800@oldediblerenotahoe.com
SUMMARY:Cooking Class: Tacos & Tequilas
DESCRIPTION:
URL:https://oldediblerenotahoe.com/event/cooking-class-tacos-tequilas-2/
LOCATION:Nothing To It!\, 225 Crummer Lane\, Reno\, NV\, 89502\, United States
CATEGORIES:Cooking Classes
END:VEVENT
BEGIN:VEVENT
DTSTART;TZID=America/Los_Angeles:20240823T180000
DTEND;TZID=America/Los_Angeles:20240823T210000
DTSTAMP:20260424T075648
CREATED:20240311T040351Z
LAST-MODIFIED:20240311T040351Z
UID:37743-1724436000-1724446800@oldediblerenotahoe.com
SUMMARY:Cooking Class: Taste of Thailand
DESCRIPTION:
URL:https://oldediblerenotahoe.com/event/cooking-class-taste-of-thailand-2/
LOCATION:Nothing To It!\, 225 Crummer Lane\, Reno\, NV\, 89502\, United States
CATEGORIES:Cooking Classes
END:VEVENT
BEGIN:VEVENT
DTSTART;TZID=America/Los_Angeles:20240822T180000
DTEND;TZID=America/Los_Angeles:20240822T210000
DTSTAMP:20260424T075648
CREATED:20240311T040319Z
LAST-MODIFIED:20240311T040319Z
UID:37741-1724349600-1724360400@oldediblerenotahoe.com
SUMMARY:Cooking Class: Gumbo\, Jambalaya & Beignets
DESCRIPTION:
URL:https://oldediblerenotahoe.com/event/cooking-class-gumbo-jambalaya-beignets-2/
LOCATION:Nothing To It!\, 225 Crummer Lane\, Reno\, NV\, 89502\, United States
CATEGORIES:Cooking Classes
END:VEVENT
BEGIN:VEVENT
DTSTART;TZID=America/Los_Angeles:20240821T180000
DTEND;TZID=America/Los_Angeles:20240821T210000
DTSTAMP:20260424T075648
CREATED:20240311T040227Z
LAST-MODIFIED:20240311T040227Z
UID:37739-1724263200-1724274000@oldediblerenotahoe.com
SUMMARY:Cooking Class: Taste of Morocco
DESCRIPTION:
URL:https://oldediblerenotahoe.com/event/cooking-class-taste-of-morocco/
LOCATION:Nothing To It!\, 225 Crummer Lane\, Reno\, NV\, 89502\, United States
CATEGORIES:Cooking Classes
END:VEVENT
BEGIN:VEVENT
DTSTART;TZID=America/Los_Angeles:20240817T093000
DTEND;TZID=America/Los_Angeles:20240817T233000
DTSTAMP:20260424T075648
CREATED:20240311T034709Z
LAST-MODIFIED:20240311T034709Z
UID:37694-1723887000-1723937400@oldediblerenotahoe.com
SUMMARY:Cooking Class: Culinary Basics Workshop
DESCRIPTION:
URL:https://oldediblerenotahoe.com/event/cooking-class-culinary-basics-workshop/
LOCATION:Nothing To It!\, 225 Crummer Lane\, Reno\, NV\, 89502\, United States
CATEGORIES:Cooking Classes
END:VEVENT
BEGIN:VEVENT
DTSTART;TZID=America/Los_Angeles:20240816T180000
DTEND;TZID=America/Los_Angeles:20240816T210000
DTSTAMP:20260424T075648
CREATED:20240311T040143Z
LAST-MODIFIED:20240311T040143Z
UID:37736-1723831200-1723842000@oldediblerenotahoe.com
SUMMARY:Cooking Class: Paella on the Grill
DESCRIPTION:
URL:https://oldediblerenotahoe.com/event/cooking-class-paella-on-the-grill/
LOCATION:Nothing To It!\, 225 Crummer Lane\, Reno\, NV\, 89502\, United States
CATEGORIES:Cooking Classes
END:VEVENT
BEGIN:VEVENT
DTSTART;TZID=America/Los_Angeles:20240815T180000
DTEND;TZID=America/Los_Angeles:20240815T210000
DTSTAMP:20260424T075648
CREATED:20240311T040111Z
LAST-MODIFIED:20240311T040111Z
UID:37734-1723744800-1723755600@oldediblerenotahoe.com
SUMMARY:Cooking Class: Date Night - Cast Iron
DESCRIPTION:
URL:https://oldediblerenotahoe.com/event/cooking-class-date-night-cast-iron/
LOCATION:Nothing To It!\, 225 Crummer Lane\, Reno\, NV\, 89502\, United States
CATEGORIES:Cooking Classes
END:VEVENT
BEGIN:VEVENT
DTSTART;TZID=America/Los_Angeles:20240814T180000
DTEND;TZID=America/Los_Angeles:20240814T210000
DTSTAMP:20260424T075648
CREATED:20240311T040037Z
LAST-MODIFIED:20240311T040037Z
UID:37732-1723658400-1723669200@oldediblerenotahoe.com
SUMMARY:Cooking Class: Cooking for One or Two
DESCRIPTION:
URL:https://oldediblerenotahoe.com/event/cooking-class-cooking-for-one-or-two/
LOCATION:Nothing To It!\, 225 Crummer Lane\, Reno\, NV\, 89502\, United States
CATEGORIES:Cooking Classes
END:VEVENT
BEGIN:VEVENT
DTSTART;TZID=America/Los_Angeles:20240809T180000
DTEND;TZID=America/Los_Angeles:20240809T210000
DTSTAMP:20260424T075648
CREATED:20240311T035959Z
LAST-MODIFIED:20240311T035959Z
UID:37730-1723226400-1723237200@oldediblerenotahoe.com
SUMMARY:Cooking Class: Girls Night Out - Summer Farmers Market
DESCRIPTION:
URL:https://oldediblerenotahoe.com/event/cooking-class-girls-night-out-summer-farmers-market/
LOCATION:Nothing To It!\, 225 Crummer Lane\, Reno\, NV\, 89502\, United States
CATEGORIES:Cooking Classes
END:VEVENT
BEGIN:VEVENT
DTSTART;TZID=America/Los_Angeles:20240808T180000
DTEND;TZID=America/Los_Angeles:20240808T210000
DTSTAMP:20260424T075648
CREATED:20240311T035919Z
LAST-MODIFIED:20240311T035919Z
UID:37728-1723140000-1723150800@oldediblerenotahoe.com
SUMMARY:Cooking Class: Taste of Tuscany
DESCRIPTION:
URL:https://oldediblerenotahoe.com/event/cooking-class-taste-of-tuscany-3/
LOCATION:Nothing To It!\, 225 Crummer Lane\, Reno\, NV\, 89502\, United States
CATEGORIES:Cooking Classes
END:VEVENT
BEGIN:VEVENT
DTSTART;TZID=America/Los_Angeles:20240803T093000
DTEND;TZID=America/Los_Angeles:20240803T233000
DTSTAMP:20260424T075648
CREATED:20240311T034632Z
LAST-MODIFIED:20240311T034632Z
UID:37692-1722677400-1722727800@oldediblerenotahoe.com
SUMMARY:Cooking Class: Canning & Preserves
DESCRIPTION:
URL:https://oldediblerenotahoe.com/event/cooking-class-canning-preserves/
LOCATION:Nothing To It!\, 225 Crummer Lane\, Reno\, NV\, 89502\, United States
CATEGORIES:Cooking Classes
END:VEVENT
BEGIN:VEVENT
DTSTART;TZID=America/Los_Angeles:20240802T180000
DTEND;TZID=America/Los_Angeles:20240802T210000
DTSTAMP:20260424T075648
CREATED:20240311T035815Z
LAST-MODIFIED:20240311T035815Z
UID:37726-1722621600-1722632400@oldediblerenotahoe.com
SUMMARY:Cooking Class: Taste of Greece
DESCRIPTION:
URL:https://oldediblerenotahoe.com/event/cooking-class-taste-of-greece-2/
LOCATION:Nothing To It!\, 225 Crummer Lane\, Reno\, NV\, 89502\, United States
CATEGORIES:Cooking Classes
END:VEVENT
BEGIN:VEVENT
DTSTART;TZID=America/Los_Angeles:20240801T180000
DTEND;TZID=America/Los_Angeles:20240801T210000
DTSTAMP:20260424T075648
CREATED:20240311T035743Z
LAST-MODIFIED:20240311T035743Z
UID:37724-1722535200-1722546000@oldediblerenotahoe.com
SUMMARY:Cooking Class: Brazilian Grill
DESCRIPTION:
URL:https://oldediblerenotahoe.com/event/cooking-class-brazilian-grill/
LOCATION:Nothing To It!\, 225 Crummer Lane\, Reno\, NV\, 89502\, United States
CATEGORIES:Cooking Classes
END:VEVENT
BEGIN:VEVENT
DTSTART;TZID=America/Los_Angeles:20240727T093000
DTEND;TZID=America/Los_Angeles:20240727T233000
DTSTAMP:20260424T075648
CREATED:20240311T034541Z
LAST-MODIFIED:20240311T034541Z
UID:37690-1722072600-1722123000@oldediblerenotahoe.com
SUMMARY:Cooking Class: Artisan Bread Workshop
DESCRIPTION:
URL:https://oldediblerenotahoe.com/event/cooking-class-artisan-bread-workshop/
LOCATION:Nothing To It!\, 225 Crummer Lane\, Reno\, NV\, 89502\, United States
CATEGORIES:Cooking Classes
END:VEVENT
BEGIN:VEVENT
DTSTART;TZID=America/Los_Angeles:20240726T180000
DTEND;TZID=America/Los_Angeles:20240726T210000
DTSTAMP:20260424T075648
CREATED:20240311T035654Z
LAST-MODIFIED:20240311T035654Z
UID:37722-1722016800-1722027600@oldediblerenotahoe.com
SUMMARY:Cooking Class: Couples at the Grill
DESCRIPTION:
URL:https://oldediblerenotahoe.com/event/cooking-class-couples-at-the-grill/
LOCATION:Nothing To It!\, 225 Crummer Lane\, Reno\, NV\, 89502\, United States
CATEGORIES:Cooking Classes
END:VEVENT
BEGIN:VEVENT
DTSTART;TZID=America/Los_Angeles:20240725T180000
DTEND;TZID=America/Los_Angeles:20240725T210000
DTSTAMP:20260424T075648
CREATED:20240311T035617Z
LAST-MODIFIED:20240311T035617Z
UID:37720-1721930400-1721941200@oldediblerenotahoe.com
SUMMARY:Cooking Class: Taste of Cuba
DESCRIPTION:
URL:https://oldediblerenotahoe.com/event/cooking-class-taste-of-cuba/
LOCATION:Nothing To It!\, 225 Crummer Lane\, Reno\, NV\, 89502\, United States
CATEGORIES:Cooking Classes
END:VEVENT
BEGIN:VEVENT
DTSTART;TZID=America/Los_Angeles:20240724T180000
DTEND;TZID=America/Los_Angeles:20240724T210000
DTSTAMP:20260424T075648
CREATED:20240311T035541Z
LAST-MODIFIED:20240311T035541Z
UID:37718-1721844000-1721854800@oldediblerenotahoe.com
SUMMARY:Cooking Class: Asian Noodles & Stir Fry
DESCRIPTION:
URL:https://oldediblerenotahoe.com/event/cooking-class-asian-noodles-stir-fry/
LOCATION:Nothing To It!\, 225 Crummer Lane\, Reno\, NV\, 89502\, United States
CATEGORIES:Cooking Classes
END:VEVENT
BEGIN:VEVENT
DTSTART;TZID=America/Los_Angeles:20240720T093000
DTEND;TZID=America/Los_Angeles:20240720T233000
DTSTAMP:20260424T075648
CREATED:20240311T034505Z
LAST-MODIFIED:20240311T034505Z
UID:37688-1721467800-1721518200@oldediblerenotahoe.com
SUMMARY:Cooking Class: Summer Baking Workshop
DESCRIPTION:
URL:https://oldediblerenotahoe.com/event/cooking-class-summer-baking-workshop/
LOCATION:Nothing To It!\, 225 Crummer Lane\, Reno\, NV\, 89502\, United States
CATEGORIES:Cooking Classes
END:VEVENT
BEGIN:VEVENT
DTSTART;TZID=America/Los_Angeles:20240719T180000
DTEND;TZID=America/Los_Angeles:20240719T210000
DTSTAMP:20260424T075648
CREATED:20240311T035458Z
LAST-MODIFIED:20240311T035458Z
UID:37716-1721412000-1721422800@oldediblerenotahoe.com
SUMMARY:Cooking Class: Grilling Fish & Seafood
DESCRIPTION:
URL:https://oldediblerenotahoe.com/event/cooking-class-grilling-fish-seafood/
LOCATION:Nothing To It!\, 225 Crummer Lane\, Reno\, NV\, 89502\, United States
CATEGORIES:Cooking Classes
END:VEVENT
BEGIN:VEVENT
DTSTART;TZID=America/Los_Angeles:20240718T180000
DTEND;TZID=America/Los_Angeles:20240718T210000
DTSTAMP:20260424T075648
CREATED:20240311T035420Z
LAST-MODIFIED:20240311T035420Z
UID:37714-1721325600-1721336400@oldediblerenotahoe.com
SUMMARY:Cooking Class: Summer in Provence
DESCRIPTION:
URL:https://oldediblerenotahoe.com/event/cooking-class-summer-in-provence/
LOCATION:Nothing To It!\, 225 Crummer Lane\, Reno\, NV\, 89502\, United States
CATEGORIES:Cooking Classes
END:VEVENT
BEGIN:VEVENT
DTSTART;TZID=America/Los_Angeles:20240712T180000
DTEND;TZID=America/Los_Angeles:20240712T210000
DTSTAMP:20260424T075648
CREATED:20240311T035333Z
LAST-MODIFIED:20240311T035333Z
UID:37712-1720807200-1720818000@oldediblerenotahoe.com
SUMMARY:Cooking Class: Sushi
DESCRIPTION:
URL:https://oldediblerenotahoe.com/event/cooking-class-sushi-2/
LOCATION:Nothing To It!\, 225 Crummer Lane\, Reno\, NV\, 89502\, United States
CATEGORIES:Cooking Classes
END:VEVENT
BEGIN:VEVENT
DTSTART;TZID=America/Los_Angeles:20240711T143000
DTEND;TZID=America/Los_Angeles:20240711T163000
DTSTAMP:20260424T075648
CREATED:20240311T040608Z
LAST-MODIFIED:20240311T040608Z
UID:37751-1720708200-1720715400@oldediblerenotahoe.com
SUMMARY:Cooking Class: Kids Summer Workshop
DESCRIPTION:
URL:https://oldediblerenotahoe.com/event/cooking-class-kids-summer-workshop-2024-07-11/
LOCATION:Nothing To It!\, 225 Crummer Lane\, Reno\, NV\, 89502\, United States
CATEGORIES:Cooking Classes
END:VEVENT
BEGIN:VEVENT
DTSTART;TZID=America/Los_Angeles:20240710T143000
DTEND;TZID=America/Los_Angeles:20240710T163000
DTSTAMP:20260424T075648
CREATED:20240311T040608Z
LAST-MODIFIED:20240311T040608Z
UID:37750-1720621800-1720629000@oldediblerenotahoe.com
SUMMARY:Cooking Class: Kids Summer Workshop
DESCRIPTION:
URL:https://oldediblerenotahoe.com/event/cooking-class-kids-summer-workshop-2024-07-10/
LOCATION:Nothing To It!\, 225 Crummer Lane\, Reno\, NV\, 89502\, United States
CATEGORIES:Cooking Classes
END:VEVENT
BEGIN:VEVENT
DTSTART;TZID=America/Los_Angeles:20240629T093000
DTEND;TZID=America/Los_Angeles:20240629T233000
DTSTAMP:20260424T075648
CREATED:20240311T034424Z
LAST-MODIFIED:20240311T034424Z
UID:37686-1719653400-1719703800@oldediblerenotahoe.com
SUMMARY:Cooking Class: Pie Baking Workshop
DESCRIPTION:
URL:https://oldediblerenotahoe.com/event/cooking-class-pie-baking-workshop/
LOCATION:Nothing To It!\, 225 Crummer Lane\, Reno\, NV\, 89502\, United States
CATEGORIES:Cooking Classes
END:VEVENT
BEGIN:VEVENT
DTSTART;TZID=America/Los_Angeles:20240628T180000
DTEND;TZID=America/Los_Angeles:20240628T210000
DTSTAMP:20260424T075648
CREATED:20240311T035252Z
LAST-MODIFIED:20240311T035252Z
UID:37710-1719597600-1719608400@oldediblerenotahoe.com
SUMMARY:Cooking Class: Grilling Night with Local Beers
DESCRIPTION:
URL:https://oldediblerenotahoe.com/event/cooking-class-grilling-night-with-local-beers/
LOCATION:Nothing To It!\, 225 Crummer Lane\, Reno\, NV\, 89502\, United States
CATEGORIES:Cooking Classes
END:VEVENT
BEGIN:VEVENT
DTSTART;TZID=America/Los_Angeles:20240627T180000
DTEND;TZID=America/Los_Angeles:20240627T210000
DTSTAMP:20260424T075648
CREATED:20240311T035215Z
LAST-MODIFIED:20240311T035215Z
UID:37708-1719511200-1719522000@oldediblerenotahoe.com
SUMMARY:Cooking Class: International Flatbreads & Pizza
DESCRIPTION:
URL:https://oldediblerenotahoe.com/event/cooking-class-international-flatbreads-pizza/
LOCATION:Nothing To It!\, 225 Crummer Lane\, Reno\, NV\, 89502\, United States
CATEGORIES:Cooking Classes
END:VEVENT
END:VCALENDAR