BEGIN:VCALENDAR
VERSION:2.0
PRODID:-//Edible Reno-Tahoe - ECPv6.15.20//NONSGML v1.0//EN
CALSCALE:GREGORIAN
METHOD:PUBLISH
X-WR-CALNAME:Edible Reno-Tahoe
X-ORIGINAL-URL:https://oldediblerenotahoe.com
X-WR-CALDESC:Events for Edible Reno-Tahoe
REFRESH-INTERVAL;VALUE=DURATION:PT1H
X-Robots-Tag:noindex
X-PUBLISHED-TTL:PT1H
BEGIN:VTIMEZONE
TZID:America/Los_Angeles
BEGIN:DAYLIGHT
TZOFFSETFROM:-0800
TZOFFSETTO:-0700
TZNAME:PDT
DTSTART:20210314T100000
END:DAYLIGHT
BEGIN:STANDARD
TZOFFSETFROM:-0700
TZOFFSETTO:-0800
TZNAME:PST
DTSTART:20211107T090000
END:STANDARD
BEGIN:DAYLIGHT
TZOFFSETFROM:-0800
TZOFFSETTO:-0700
TZNAME:PDT
DTSTART:20220313T100000
END:DAYLIGHT
BEGIN:STANDARD
TZOFFSETFROM:-0700
TZOFFSETTO:-0800
TZNAME:PST
DTSTART:20221106T090000
END:STANDARD
BEGIN:DAYLIGHT
TZOFFSETFROM:-0800
TZOFFSETTO:-0700
TZNAME:PDT
DTSTART:20230312T100000
END:DAYLIGHT
BEGIN:STANDARD
TZOFFSETFROM:-0700
TZOFFSETTO:-0800
TZNAME:PST
DTSTART:20231105T090000
END:STANDARD
BEGIN:DAYLIGHT
TZOFFSETFROM:-0800
TZOFFSETTO:-0700
TZNAME:PDT
DTSTART:20240310T100000
END:DAYLIGHT
BEGIN:STANDARD
TZOFFSETFROM:-0700
TZOFFSETTO:-0800
TZNAME:PST
DTSTART:20241103T090000
END:STANDARD
BEGIN:DAYLIGHT
TZOFFSETFROM:-0800
TZOFFSETTO:-0700
TZNAME:PDT
DTSTART:20250309T100000
END:DAYLIGHT
BEGIN:STANDARD
TZOFFSETFROM:-0700
TZOFFSETTO:-0800
TZNAME:PST
DTSTART:20251102T090000
END:STANDARD
END:VTIMEZONE
BEGIN:VEVENT
DTSTART;TZID=America/Los_Angeles:20240120T100000
DTEND;TZID=America/Los_Angeles:20240120T120000
DTSTAMP:20260425T040004
CREATED:20240112T003332Z
LAST-MODIFIED:20240112T003332Z
UID:36968-1705744800-1705752000@oldediblerenotahoe.com
SUMMARY:The Power of Pesto Class
DESCRIPTION:It’s time to kick up those tastebuds and experience the multifaceted world of Pesto.  5 of our favorites will be created from start to finish.  Genovese (traditional)\, Roast Red Pepper\, Pepita & Cilantro\, Pesto Rosso\, & Pesto Verde.
URL:https://oldediblerenotahoe.com/event/the-power-of-pesto-class/
LOCATION:Sierra Chef\, 2292 Main Street\, Genoa\, NV
CATEGORIES:Cooking Classes
END:VEVENT
BEGIN:VEVENT
DTSTART;TZID=America/Los_Angeles:20240120T093000
DTEND;TZID=America/Los_Angeles:20240120T113000
DTSTAMP:20260425T040004
CREATED:20231216T212526Z
LAST-MODIFIED:20231216T212526Z
UID:35949-1705743000-1705750200@oldediblerenotahoe.com
SUMMARY:Cooking Class: Winter Soups & Stews
DESCRIPTION:With the huge popularity of our Soups and Bread series\, Nothing To It! decided to add a sequel with Soups for Winter. Heartier than your typical fall soups\, winter soups can be the whole meal. Easy to prepare\, these make ahead soups can be frozen so that they are available any time.
URL:https://oldediblerenotahoe.com/event/cooking-class-winter-soups-stews/
LOCATION:Nothing To It!\, 225 Crummer Lane\, Reno\, NV\, 89502\, United States
CATEGORIES:Cooking Classes
END:VEVENT
BEGIN:VEVENT
DTSTART;TZID=America/Los_Angeles:20240119T180000
DTEND;TZID=America/Los_Angeles:20240119T210000
DTSTAMP:20260425T040004
CREATED:20231216T212349Z
LAST-MODIFIED:20231216T212349Z
UID:35947-1705687200-1705698000@oldediblerenotahoe.com
SUMMARY:Cooking Class: Pan Roast & Cioppino
DESCRIPTION:Join Nothing To It! for an evening workshop as we explore the pleasures of Cioppino and Pan Roasts. If seafood is your “thing”\, you won’t want to miss this class. Learn about the best seafood to use and all about a variety of fabulous broths and how to incorporate wine into your sauces and pan roasts.
URL:https://oldediblerenotahoe.com/event/cooking-class-pan-roast-cioppino/
LOCATION:Nothing To It!\, 225 Crummer Lane\, Reno\, NV\, 89502\, United States
CATEGORIES:Cooking Classes
END:VEVENT
BEGIN:VEVENT
DTSTART;TZID=America/Los_Angeles:20240119T170000
DTEND;TZID=America/Los_Angeles:20240119T190000
DTSTAMP:20260425T040004
CREATED:20230927T220646Z
LAST-MODIFIED:20231227T222316Z
UID:36300-1705683600-1705690800@oldediblerenotahoe.com
SUMMARY:Bread Class 101
DESCRIPTION:Discover the art of naturally leavened bread. Learn flour basics\, starter maintenance\, mixing\, shaping\, and baking. By the end\, you’ll be ready to bake sourdough at home. The class combines dinner\, a lecture\, hands-on practice\, a sweet finish\, and Q&A. Ages 12+ welcome. Includes beverages\, dinner\, an Intro to Bread Packet\, dessert\, starter\, and bread.
URL:https://oldediblerenotahoe.com/event/perennbread101-2024-01-19/
LOCATION:Perenn Bakery Rancharrah\, 7700 Rancharrah Parkway\, Suite 110\, Reno\, NV\, 89511
CATEGORIES:Cooking Classes
ATTACH;FMTTYPE=image/jpeg:https://oldediblerenotahoe.com/wp-content/uploads/2023/09/bread-rotated.jpg
END:VEVENT
BEGIN:VEVENT
DTSTART;TZID=America/Los_Angeles:20240118T180000
DTEND;TZID=America/Los_Angeles:20240118T210000
DTSTAMP:20260425T040004
CREATED:20231216T212232Z
LAST-MODIFIED:20231216T212232Z
UID:35945-1705600800-1705611600@oldediblerenotahoe.com
SUMMARY:Cooking Class: Cooking For Health
DESCRIPTION:Don’t let flavor take a back seat to your health. This hands-on class is designed to pamper your taste buds and prep you to get out there and get active. Learn how to use herbs and spices and how to stock your pantry for success. These healthy inspired recipes and techniques will stimulate your passion for cooking\, knowing a healthy and tasty result are the fruits of your labor.
URL:https://oldediblerenotahoe.com/event/cooking-class-cooking-for-health/
LOCATION:Nothing To It!\, 225 Crummer Lane\, Reno\, NV\, 89502\, United States
CATEGORIES:Cooking Classes
END:VEVENT
BEGIN:VEVENT
DTSTART;TZID=America/Los_Angeles:20240113T100000
DTEND;TZID=America/Los_Angeles:20240113T130000
DTSTAMP:20260425T040004
CREATED:20240112T002941Z
LAST-MODIFIED:20240112T002941Z
UID:36962-1705140000-1705150800@oldediblerenotahoe.com
SUMMARY:A Proper Cup of Coffee & Pairing Class
DESCRIPTION:If you are a coffee aficionado then this in-depth class is for you! Christian Waskiewicz\, Coffee Master and the man behind the highly acclaimed Alpen Sierra Coffee brand\, will be at the Sierra Chef Cucina Campagna to share his coffee wisdom. Christian will delve into various brewing methods such as Pour-Over Cone\, Vacuum (Siphon) Pot\, French Press & Flat Bottom Brewer. These proper brewing methods will then transform 6 Alpen Sierra to perfection\, and we will pair with some surprises.
URL:https://oldediblerenotahoe.com/event/a-proper-cup-of-coffee-pairing-class/
LOCATION:Sierra Chef\, 2292 Main Street\, Genoa\, NV
CATEGORIES:Cooking Classes
END:VEVENT
BEGIN:VEVENT
DTSTART;TZID=America/Los_Angeles:20240112T180000
DTEND;TZID=America/Los_Angeles:20240112T210000
DTSTAMP:20260425T040004
CREATED:20231216T212054Z
LAST-MODIFIED:20231216T212054Z
UID:35943-1705082400-1705093200@oldediblerenotahoe.com
SUMMARY:Cooking Class: Date Night - Tapas From Spain
DESCRIPTION:
URL:https://oldediblerenotahoe.com/event/cooking-class-date-night-tapas-from-spain/
LOCATION:Nothing To It!\, 225 Crummer Lane\, Reno\, NV\, 89502\, United States
CATEGORIES:Cooking Classes
END:VEVENT
BEGIN:VEVENT
DTSTART;TZID=America/Los_Angeles:20240112T170000
DTEND;TZID=America/Los_Angeles:20240112T190000
DTSTAMP:20260425T040004
CREATED:20230927T220646Z
LAST-MODIFIED:20231227T222315Z
UID:36299-1705078800-1705086000@oldediblerenotahoe.com
SUMMARY:Bread Class 101
DESCRIPTION:Discover the art of naturally leavened bread. Learn flour basics\, starter maintenance\, mixing\, shaping\, and baking. By the end\, you’ll be ready to bake sourdough at home. The class combines dinner\, a lecture\, hands-on practice\, a sweet finish\, and Q&A. Ages 12+ welcome. Includes beverages\, dinner\, an Intro to Bread Packet\, dessert\, starter\, and bread.
URL:https://oldediblerenotahoe.com/event/perennbread101-2024-01-12/
LOCATION:Perenn Bakery Rancharrah\, 7700 Rancharrah Parkway\, Suite 110\, Reno\, NV\, 89511
CATEGORIES:Cooking Classes
ATTACH;FMTTYPE=image/jpeg:https://oldediblerenotahoe.com/wp-content/uploads/2023/09/bread-rotated.jpg
END:VEVENT
BEGIN:VEVENT
DTSTART;TZID=America/Los_Angeles:20240111T170000
DTEND;TZID=America/Los_Angeles:20240111T190000
DTSTAMP:20260425T040004
CREATED:20230927T220646Z
LAST-MODIFIED:20231227T222314Z
UID:34262-1704992400-1704999600@oldediblerenotahoe.com
SUMMARY:Bread Class 101
DESCRIPTION:Discover the art of naturally leavened bread. Learn flour basics\, starter maintenance\, mixing\, shaping\, and baking. By the end\, you’ll be ready to bake sourdough at home. The class combines dinner\, a lecture\, hands-on practice\, a sweet finish\, and Q&A. Ages 12+ welcome. Includes beverages\, dinner\, an Intro to Bread Packet\, dessert\, starter\, and bread.
URL:https://oldediblerenotahoe.com/event/perennbread101/
LOCATION:Perenn Bakery Rancharrah\, 7700 Rancharrah Parkway\, Suite 110\, Reno\, NV\, 89511
CATEGORIES:Cooking Classes
ATTACH;FMTTYPE=image/jpeg:https://oldediblerenotahoe.com/wp-content/uploads/2023/09/bread-rotated.jpg
END:VEVENT
BEGIN:VEVENT
DTSTART;TZID=America/Los_Angeles:20240110T160000
DTEND;TZID=America/Los_Angeles:20240110T173000
DTSTAMP:20260425T040004
CREATED:20231216T211949Z
LAST-MODIFIED:20231216T211949Z
UID:35936-1704902400-1704907800@oldediblerenotahoe.com
SUMMARY:Cooking Class: Kids Cook!
DESCRIPTION:Cooking teaches kids and teens to flex their creative culinary muscles and helps them develop skills and cooking habits they will use and enjoy for a lifetime. Students will see and practice a wide variety of culinary techniques while creating tasty dishes during each class. Classes are designed to take individually or as a series. Each class this season will feature a different menu and last approximately 1.5 hours. Minimum age 8yrs old.
URL:https://oldediblerenotahoe.com/event/cooking-class-kids-cook/
LOCATION:Nothing To It!\, 225 Crummer Lane\, Reno\, NV\, 89502\, United States
CATEGORIES:Cooking Classes
END:VEVENT
BEGIN:VEVENT
DTSTART;TZID=America/Los_Angeles:20240109T160000
DTEND;TZID=America/Los_Angeles:20240109T180000
DTSTAMP:20260425T040004
CREATED:20231216T211558Z
LAST-MODIFIED:20231216T211558Z
UID:35930-1704816000-1704823200@oldediblerenotahoe.com
SUMMARY:Cooking Class: Teens Cook!
DESCRIPTION:Cooking teaches teens to flex their creative culinary muscles and helps them develop skills and cooking habits they will use and enjoy for a lifetime. Students will see and practice a wide variety of culinary techniques while creating tasty dishes during each class. Classes are designed to take individually or as a series. Each class this season will feature a different menu and last approximately 1.5 hours. Please contact NTI at info@nothingtoit.com for specific class details.
URL:https://oldediblerenotahoe.com/event/cooking-class-teens-cook/
LOCATION:Nothing To It!\, 225 Crummer Lane\, Reno\, NV\, 89502\, United States
CATEGORIES:Cooking Classes
END:VEVENT
BEGIN:VEVENT
DTSTART;TZID=America/Los_Angeles:20240104T180000
DTEND;TZID=America/Los_Angeles:20240104T210000
DTSTAMP:20260425T040004
CREATED:20231216T211228Z
LAST-MODIFIED:20231216T211228Z
UID:35928-1704391200-1704402000@oldediblerenotahoe.com
SUMMARY:Ramen & Asian Dumping Workshop
DESCRIPTION:Get ready to twirl\, slurp ans savor! Pasta lovers are heading in a delicious new direction: east to Asia. Noodles\, Asian style\, and handmade Asian dumplings are all the rage. Join Nothing To It! for this hands-on class and be amazed at just how versatile and easy they are to make.
URL:https://oldediblerenotahoe.com/event/ramen-asian-dumping-workshop/
LOCATION:Nothing To It!\, 225 Crummer Lane\, Reno\, NV\, 89502\, United States
CATEGORIES:Cooking Classes
END:VEVENT
BEGIN:VEVENT
DTSTART;TZID=America/Los_Angeles:20240103T180000
DTEND;TZID=America/Los_Angeles:20240103T210000
DTSTAMP:20260425T040004
CREATED:20231216T211101Z
LAST-MODIFIED:20231216T211101Z
UID:35926-1704304800-1704315600@oldediblerenotahoe.com
SUMMARY:Cooking Class: Cooking with Wine
DESCRIPTION:
URL:https://oldediblerenotahoe.com/event/cooking-class-cooking-with-wine/
LOCATION:Nothing To It!\, 225 Crummer Lane\, Reno\, NV\, 89502\, United States
CATEGORIES:Cooking Classes
END:VEVENT
BEGIN:VEVENT
DTSTART;TZID=America/Los_Angeles:20231110T180000
DTEND;TZID=America/Los_Angeles:20231110T210000
DTSTAMP:20260425T040004
CREATED:20231103T015555Z
LAST-MODIFIED:20231103T015555Z
UID:35291-1699639200-1699650000@oldediblerenotahoe.com
SUMMARY:Taste of Portugal
DESCRIPTION:
URL:https://oldediblerenotahoe.com/event/taste-of-portugal/
LOCATION:Nothing To It!\, 225 Crummer Lane\, Reno\, NV\, 89502\, United States
CATEGORIES:Cooking Classes
END:VEVENT
BEGIN:VEVENT
DTSTART;TZID=America/Los_Angeles:20231110T180000
DTEND;TZID=America/Los_Angeles:20231110T210000
DTSTAMP:20260425T040004
CREATED:20231103T014941Z
LAST-MODIFIED:20231103T014941Z
UID:35286-1699639200-1699650000@oldediblerenotahoe.com
SUMMARY:Native American Cooking
DESCRIPTION:Enjoy preparing and tasting traditional foods that nourished Native Americans for centuries in the Great Basin. With a Shoshone-Paiute tribe member as your guide\, discover which natural foods are edible\, medicinal\, and how harvesting and hunting are central to Native American spiritual life. Learn to cook buffalo Indian tacos\, a special recipe with pinenuts harvested locally and juniper tea\, then sample your creations.
URL:https://oldediblerenotahoe.com/event/native-american-cooking-2/
LOCATION:Reno Buddhist Center\, Moon Rabbit Cafe\, 820 Plumas St\, Reno\, NV\, 89509
CATEGORIES:Cooking Classes
END:VEVENT
BEGIN:VEVENT
DTSTART;TZID=America/Los_Angeles:20231109T180000
DTEND;TZID=America/Los_Angeles:20231109T203000
DTSTAMP:20260425T040004
CREATED:20231103T014640Z
LAST-MODIFIED:20231103T014749Z
UID:35283-1699552800-1699561800@oldediblerenotahoe.com
SUMMARY:Autumn Vegetarian Workshop
DESCRIPTION:Learn hands-on cooking techniques that will transform autumn vegetables into more than just a side dish.  You’ll be amazed at the unexpected combinations and complex flavors that can arise from such simple ingredients when they’re coupled with the right technique.
URL:https://oldediblerenotahoe.com/event/autumn-vegetarian-workshop/
LOCATION:Nothing To It!\, 225 Crummer Lane\, Reno\, NV\, 89502\, United States
CATEGORIES:Cooking Classes
END:VEVENT
BEGIN:VEVENT
DTSTART;TZID=America/Los_Angeles:20231026T171500
DTEND;TZID=America/Los_Angeles:20231026T191500
DTSTAMP:20260425T040004
CREATED:20230927T221440Z
LAST-MODIFIED:20230927T221440Z
UID:34286-1698340500-1698347700@oldediblerenotahoe.com
SUMMARY:Halloween Sugar Cookie Decorating Class
DESCRIPTION:Discover the art of outlining\, flooding\, and decorating 8 large cookies with royal icing. Learn how to prepare royal icing\, achieve the right consistency\, and mix colors. You’ll also be introduced to essential tools and where to find them. \nYou’ll leave with your beautifully boxed cookies. Ages 12 and up are welcome.
URL:https://oldediblerenotahoe.com/event/mixhalloweencookies-2023-10-26/
LOCATION:Mix Bakeshop\, 1117 California Avenue\, Reno\, NV\, 89509
CATEGORIES:Cooking Classes,Holiday
END:VEVENT
BEGIN:VEVENT
DTSTART;TZID=America/Los_Angeles:20231024T171500
DTEND;TZID=America/Los_Angeles:20231024T191500
DTSTAMP:20260425T040004
CREATED:20230927T221440Z
LAST-MODIFIED:20230927T221440Z
UID:34285-1698167700-1698174900@oldediblerenotahoe.com
SUMMARY:Halloween Sugar Cookie Decorating Class
DESCRIPTION:Discover the art of outlining\, flooding\, and decorating 8 large cookies with royal icing. Learn how to prepare royal icing\, achieve the right consistency\, and mix colors. You’ll also be introduced to essential tools and where to find them. \nYou’ll leave with your beautifully boxed cookies. Ages 12 and up are welcome.
URL:https://oldediblerenotahoe.com/event/mixhalloweencookies-2023-10-24/
LOCATION:Mix Bakeshop\, 1117 California Avenue\, Reno\, NV\, 89509
CATEGORIES:Cooking Classes,Holiday
END:VEVENT
BEGIN:VEVENT
DTSTART;TZID=America/Los_Angeles:20231021T171500
DTEND;TZID=America/Los_Angeles:20231021T191500
DTSTAMP:20260425T040004
CREATED:20230927T221440Z
LAST-MODIFIED:20230927T221440Z
UID:34284-1697908500-1697915700@oldediblerenotahoe.com
SUMMARY:Halloween Sugar Cookie Decorating Class
DESCRIPTION:Discover the art of outlining\, flooding\, and decorating 8 large cookies with royal icing. Learn how to prepare royal icing\, achieve the right consistency\, and mix colors. You’ll also be introduced to essential tools and where to find them. \nYou’ll leave with your beautifully boxed cookies. Ages 12 and up are welcome.
URL:https://oldediblerenotahoe.com/event/mixhalloweencookies-2023-10-21/
LOCATION:Mix Bakeshop\, 1117 California Avenue\, Reno\, NV\, 89509
CATEGORIES:Cooking Classes,Holiday
END:VEVENT
BEGIN:VEVENT
DTSTART;TZID=America/Los_Angeles:20231021T100000
DTEND;TZID=America/Los_Angeles:20231021T120000
DTSTAMP:20260425T040004
CREATED:20231004T021500Z
LAST-MODIFIED:20231004T021500Z
UID:34509-1697882400-1697889600@oldediblerenotahoe.com
SUMMARY:Preserving the Harvest
DESCRIPTION:As the first frost graces the season with its magical touch\, join a workshop led by the Master Food Preserver\, Doreen Spires. This event offers an exciting exploration of two food preservation techniques: quick pickling and water bath canning. Participants will have the opportunity to create their own handmade pickles to take home. \nRegister here.
URL:https://oldediblerenotahoe.com/event/preservingtheharvest/
LOCATION:Urban Teaching Farm\, 1700 E 2nd Street\, Reno\, NV\, 89502
CATEGORIES:Cooking Classes,Educational,Family friendly
END:VEVENT
BEGIN:VEVENT
DTSTART;TZID=America/Los_Angeles:20231020T171500
DTEND;TZID=America/Los_Angeles:20231020T191500
DTSTAMP:20260425T040004
CREATED:20230927T221440Z
LAST-MODIFIED:20230927T221440Z
UID:34283-1697822100-1697829300@oldediblerenotahoe.com
SUMMARY:Halloween Sugar Cookie Decorating Class
DESCRIPTION:Discover the art of outlining\, flooding\, and decorating 8 large cookies with royal icing. Learn how to prepare royal icing\, achieve the right consistency\, and mix colors. You’ll also be introduced to essential tools and where to find them. \nYou’ll leave with your beautifully boxed cookies. Ages 12 and up are welcome.
URL:https://oldediblerenotahoe.com/event/mixhalloweencookies-2023-10-20/
LOCATION:Mix Bakeshop\, 1117 California Avenue\, Reno\, NV\, 89509
CATEGORIES:Cooking Classes,Holiday
END:VEVENT
BEGIN:VEVENT
DTSTART;TZID=America/Los_Angeles:20231016T171500
DTEND;TZID=America/Los_Angeles:20231016T191500
DTSTAMP:20260425T040004
CREATED:20230927T221440Z
LAST-MODIFIED:20230927T221440Z
UID:34280-1697476500-1697483700@oldediblerenotahoe.com
SUMMARY:Halloween Sugar Cookie Decorating Class
DESCRIPTION:Discover the art of outlining\, flooding\, and decorating 8 large cookies with royal icing. Learn how to prepare royal icing\, achieve the right consistency\, and mix colors. You’ll also be introduced to essential tools and where to find them. \nYou’ll leave with your beautifully boxed cookies. Ages 12 and up are welcome.
URL:https://oldediblerenotahoe.com/event/mixhalloweencookies/
LOCATION:Mix Bakeshop\, 1117 California Avenue\, Reno\, NV\, 89509
CATEGORIES:Cooking Classes,Holiday
END:VEVENT
BEGIN:VEVENT
DTSTART;TZID=America/Los_Angeles:20230927T180000
DTEND;TZID=America/Los_Angeles:20230927T200000
DTSTAMP:20260425T040004
CREATED:20230919T193810Z
LAST-MODIFIED:20230919T193810Z
UID:33664-1695837600-1695844800@oldediblerenotahoe.com
SUMMARY:Cooking Class: Techniques 1
DESCRIPTION:Master the fundamental culinary techniques such as knife skills\, sautéing\, reductions and basic pan sauces. Anyone can participate in this first class of the hands-on Nothing to It! Techniques series. Good cooking is not a mystery; it is all about time-tested techniques. Expand your culinary skills and get cooking with confidence! \nSecure your seat at this hands-on cooking class here.
URL:https://oldediblerenotahoe.com/event/ntitechniques1/
LOCATION:Nothing To It!\, 225 Crummer Lane\, Reno\, NV\, 89502\, United States
CATEGORIES:Cooking Classes
END:VEVENT
BEGIN:VEVENT
DTSTART;TZID=America/Los_Angeles:20230926T180000
DTEND;TZID=America/Los_Angeles:20230926T200000
DTSTAMP:20260425T040004
CREATED:20230919T191126Z
LAST-MODIFIED:20230919T191126Z
UID:33647-1695751200-1695758400@oldediblerenotahoe.com
SUMMARY:Cooking Class: Classic Fall Soups
DESCRIPTION:Discover culinary shortcuts for making two or three hearty soups. Prepare and savor classic broths like cream of mushroom\, butternut squash\, twice-baked potato and chicken noodle. Homemade soups are fresher and less salty than canned soups. They can also be made in quantity and frozen to eat later. \nRegister here.
URL:https://oldediblerenotahoe.com/event/tmccfallsoups/
LOCATION:Damonte Ranch High School\, 10500 Rio Wrangler Parkway\, Reno\, NV\, 89521
CATEGORIES:Cooking Classes
END:VEVENT
BEGIN:VEVENT
DTSTART;VALUE=DATE:20221008
DTEND;VALUE=DATE:20221010
DTSTAMP:20260425T040004
CREATED:20220830T175903Z
LAST-MODIFIED:20220831T213608Z
UID:27376-1665187200-1665359999@oldediblerenotahoe.com
SUMMARY:Italian Festival in Reno
DESCRIPTION:The Reno Italian Festival brings Little Italy to The Biggest Little City with a variety of events\, including a wine walk\, Italian farmers’ market\, grape stomp by local celebrities\, a sauce tasting\, a kiddie land\, and\, of course\, lots and lots of pasta and other traditional Italian dishes. \nThe Italian Festival Reno celebrates its 40th year on Saturday\, Oct. 8 and Sunday\, Oct. 9. Held close to the famous Reno Arch\, the Eldorado Italian Festival is sure to bring smiles and tons of live entertainment throughout the two-day street festival. Attendees are invited to “finire di mangia” – or “eat up\,” as the Italians say. Dishes to look forward to include chicken Parmesan\, spaghetti and meatballs\, meat ravioli with Bolognese\, tortellini Eldorado\, Gnocchetti pesto\, Italian sausage and peppers\, fried ravioli\, fried calamari\, and the ever-famous and scrumptious mushroom ravioli with porcini cream sauce. Complete your meal with delicious desserts such as homemade gelato\, cannolis\, or Nutella ricotta Crespo\, a sweet ricotta crêpe with strawberries and a drizzle of Nutella. \nOne huge draw of the Eldorado Italian Festival is the Great Italian Sauce Cook-off. Italian families from across the West Coast bring their recipes to life right on the street for guests to taste. People’s Choice ballots for favorite sauce are handed out with the purchase of pasta. Vote for your favorite and help a vendor win the sought-after prize and title of best Italian sauce on the West Coast. \nThe Italian Festival Reno event begins at 11 a.m. on Saturday\, Oct. 8 and runs through 6 p.m. On Sunday\, Oct. 9\, the event kicks off at 11 a.m. and closes out at 5 p.m. It takes place outside the Eldorado Resort and Casino\, 345 N. Virginia St.\, Reno. Admission is free. \nDon’t miss out on this taste of Italy at home! \nFor details\, visit https://www.caesars.com/the-row-reno/events/great-italian-festival.
URL:https://oldediblerenotahoe.com/event/italian-festival-reno/
LOCATION:Downtown Reno
CATEGORIES:Activity,Community Events,Cooking Classes,Festival,Food & Drink,Outdoors,Spirits,Wine
END:VEVENT
BEGIN:VEVENT
DTSTART;TZID=America/Los_Angeles:20220720T120000
DTEND;TZID=America/Los_Angeles:20220720T170000
DTSTAMP:20260425T040004
CREATED:20220225T215043Z
LAST-MODIFIED:20220225T215043Z
UID:25964-1658318400-1658336400@oldediblerenotahoe.com
SUMMARY:Reno Garlic Fest
DESCRIPTION:Fourth Annual Garlic Fest!\nCome meet our local garlic growers and enjoy unique garlicky food.\nGARLIC GOODNESS INCLUDES but is not limited to:\nFresh Garlic\nGarlic Seed\nGarlic Braids\nGarlic Powder\nPickled Garlic\nGarlic Bread\nGarlic Ice Cream\nGarlic Gelato\nGarlic Cotton Candy\nGarlic Margaritas\nGarlic Pistachios\nGarlic Popcorn\nGarlic Doughnuts\nGarlic Infused Honey\nGarlic Salve\nGarlic Seed\nSweet Garlic Jam\nFire Cider\nJoin us in creating a community around the love of garlic plus buy your garlic for the coming months and support our local farmers!\nBring the kids for fun activities while listening to live music and having a locally crafted drink.\nParking is limited\, please carpool\, bike\, rideshare or use the RTC.\nThis free event is brought to you by @RenoFoodSystems\, part of Artown\, funded by Nevada Department of Agriculture\, and co-hosted by Be the Change Project.\nThe ticket link takes you to a fun\, community based platform called GrowingNV that is cultivating our local food community through courses specific to Great Basin gardening\, regional local food related events and other engagement opportunities. You have to join by creating a username etc but it’s free to use after you get signed in! Feel free to ask any questions you have about local food in our region!
URL:https://oldediblerenotahoe.com/event/reno-garlic-fest/
LOCATION:Dick Taylor Park\, 1140 Beech St.\, Reno\, NV
CATEGORIES:Community Events,Cooking Classes,Educational,Family friendly,Festival,Gardening,Nonprofit
END:VEVENT
BEGIN:VEVENT
DTSTART;TZID=America/Los_Angeles:20220518T173000
DTEND;TZID=America/Los_Angeles:20220518T203000
DTSTAMP:20260425T040004
CREATED:20220225T230634Z
LAST-MODIFIED:20220225T230634Z
UID:26045-1652895000-1652905800@oldediblerenotahoe.com
SUMMARY:Sauces and Marinades
DESCRIPTION:Join EPIC’s Sauces and Marinades and utilize a variety of ingredients to whip up sauces for seafood\, barbeque\, spring rolls and salads. Learn to convert sauces to marinades or top dressings and sample small bites with your creations. Course runs Wed.\, May 18 from 5:30-8:30 p.m. for a cost of $59 and a materials fee of $20. Registration deadline is May 11. Register at epic.tmcc.edu.
URL:https://oldediblerenotahoe.com/event/sauces-and-marinades/
LOCATION:Reno – TBA
CATEGORIES:Activity,Community Class,Cooking Classes,Food & Drink
END:VEVENT
BEGIN:VEVENT
DTSTART;TZID=America/Los_Angeles:20220419T180000
DTEND;TZID=America/Los_Angeles:20220419T180000
DTSTAMP:20260425T040004
CREATED:20220225T230911Z
LAST-MODIFIED:20220225T230911Z
UID:26050-1650391200-1650391200@oldediblerenotahoe.com
SUMMARY:Salvadoran Pupusas
DESCRIPTION:Make authentic pupusas just like abuelita used to make. Have fun getting hands-on experience making the thick griddle cakes that originated in Central America. Inspire your cooking by learning about Hispanic spices and ingredients that will help you add flair to many of your favorite recipes.
URL:https://oldediblerenotahoe.com/event/salvadoran-pupusas/
LOCATION:St. Vincent’s Kitchen\, 325 Valley Road\, Reno
CATEGORIES:Cooking Classes
END:VEVENT
BEGIN:VEVENT
DTSTART;TZID=America/Los_Angeles:20220402T093000
DTEND;TZID=America/Los_Angeles:20220402T093000
DTSTAMP:20260425T040004
CREATED:20220225T222815Z
LAST-MODIFIED:20220225T222815Z
UID:26003-1648891800-1648891800@oldediblerenotahoe.com
SUMMARY:
DESCRIPTION: Looking for a class that gives you the “Reader’s Digest version” of top culinary techniques and ingredients? Well\, this is it! Learn the most important culinary techniques that are easily transferred to everyday cooking in this hands-on cooking bonanza. We’ll introduce you to fundamental cooking methods\, sauces\, knife skills and baking methods. Whether you’re toying with the idea of spending more time in the kitchen or just wanting to hone your skills\, Culinary Boot Camp provides a wealth of information along with guided practice from an expert chef.
URL:https://oldediblerenotahoe.com/event/26003/
LOCATION:Nothing To It!\, 225 Crummer Lane\, Reno\, NV\, 89502\, United States
CATEGORIES:Cooking Classes
END:VEVENT
BEGIN:VEVENT
DTSTART;TZID=America/Los_Angeles:20220326T093000
DTEND;TZID=America/Los_Angeles:20220326T093000
DTSTAMP:20260425T040004
CREATED:20220225T222703Z
LAST-MODIFIED:20220225T222703Z
UID:26001-1648287000-1648287000@oldediblerenotahoe.com
SUMMARY:Croissant Workshop
DESCRIPTION:Delight your senses and learn how to make a variety of croissants in the pleasure of your own kitchen. Don’t let this buttery on the inside\, crisp on the outside pastry be limited to purchasing at the bakery counter. Learn the simple step-by-step techniques to customizing you croissant dough into delicious savory and sweet pastries for all to enjoy.
URL:https://oldediblerenotahoe.com/event/croissant-workshop-2/
LOCATION:Nothing To It!\, 225 Crummer Lane\, Reno\, NV\, 89502\, United States
CATEGORIES:Cooking Classes
END:VEVENT
END:VCALENDAR