BEGIN:VCALENDAR
VERSION:2.0
PRODID:-//Edible Reno-Tahoe - ECPv6.15.20//NONSGML v1.0//EN
CALSCALE:GREGORIAN
METHOD:PUBLISH
X-WR-CALNAME:Edible Reno-Tahoe
X-ORIGINAL-URL:https://oldediblerenotahoe.com
X-WR-CALDESC:Events for Edible Reno-Tahoe
REFRESH-INTERVAL;VALUE=DURATION:PT1H
X-Robots-Tag:noindex
X-PUBLISHED-TTL:PT1H
BEGIN:VTIMEZONE
TZID:America/Los_Angeles
BEGIN:DAYLIGHT
TZOFFSETFROM:-0800
TZOFFSETTO:-0700
TZNAME:PDT
DTSTART:20200308T100000
END:DAYLIGHT
BEGIN:STANDARD
TZOFFSETFROM:-0700
TZOFFSETTO:-0800
TZNAME:PST
DTSTART:20201101T090000
END:STANDARD
BEGIN:DAYLIGHT
TZOFFSETFROM:-0800
TZOFFSETTO:-0700
TZNAME:PDT
DTSTART:20210314T100000
END:DAYLIGHT
BEGIN:STANDARD
TZOFFSETFROM:-0700
TZOFFSETTO:-0800
TZNAME:PST
DTSTART:20211107T090000
END:STANDARD
BEGIN:DAYLIGHT
TZOFFSETFROM:-0800
TZOFFSETTO:-0700
TZNAME:PDT
DTSTART:20220313T100000
END:DAYLIGHT
BEGIN:STANDARD
TZOFFSETFROM:-0700
TZOFFSETTO:-0800
TZNAME:PST
DTSTART:20221106T090000
END:STANDARD
END:VTIMEZONE
BEGIN:VTIMEZONE
TZID:UTC
BEGIN:STANDARD
TZOFFSETFROM:+0000
TZOFFSETTO:+0000
TZNAME:UTC
DTSTART:20200101T000000
END:STANDARD
END:VTIMEZONE
BEGIN:VEVENT
DTSTART;TZID=America/Los_Angeles:20211215T080000
DTEND;TZID=America/Los_Angeles:20211215T170000
DTSTAMP:20260425T093456
CREATED:20211215T201456Z
LAST-MODIFIED:20211215T201456Z
UID:25474-1639555200-1639587600@oldediblerenotahoe.com
SUMMARY:CHOCOLATE TRUFFLE WORKSHOP
DESCRIPTION:The class that keeps on giving! Treat yourself to a versatile chocolate truffle making workshop with master chocolatier and owner of Grimaldi’s Fine Chocolates & Marshmallows\, Brian Wilkin. Savor these handmade truffles yourself. Or\, if you can part with them\, these chocolate creations make an excellent Valentine’s Day gift!
URL:https://oldediblerenotahoe.com/event/chocolate-truffle-workshop/
LOCATION:Nothing To It!\, 225 Crummer Lane\, Reno\, NV\, 89502\, United States
CATEGORIES:Community Class,Cooking Classes,Food & Drink
END:VEVENT
BEGIN:VEVENT
DTSTART;TZID=America/Los_Angeles:20211102T180000
DTEND;TZID=America/Los_Angeles:20211102T200000
DTSTAMP:20260425T093456
CREATED:20210916T221826Z
LAST-MODIFIED:20210916T221826Z
UID:25066-1635876000-1635883200@oldediblerenotahoe.com
SUMMARY:WINE AND CHEESE PAIRING
DESCRIPTION:Learn everything you need to know about successfully re-creating the symbiotic relationship between cheese and wine. From whites to reds to dessert wine\, there is a perfect partner in the cheese world waiting for you to discover. Become the hit of the hostess world just in time for the holidays. $50 materials fee
URL:https://oldediblerenotahoe.com/event/wine-and-cheese-pairing/
LOCATION:TMCC Meadowood Center\, 5270 Neil Rd.\, South Bldg.\, Reno\, NV\, 89502\, United States
CATEGORIES:Cooking Classes,Educational,Food & Drink,Wine
END:VEVENT
BEGIN:VEVENT
DTSTART;TZID=America/Los_Angeles:20211009T110000
DTEND;TZID=America/Los_Angeles:20211009T180000
DTSTAMP:20260425T093456
CREATED:20210707T230551Z
LAST-MODIFIED:20220830T180226Z
UID:24686-1633777200-1633802400@oldediblerenotahoe.com
SUMMARY:Eldorado Great Italian Festival
DESCRIPTION:This event has passed! Click here to see the 2022 event. \n  \n2021 40TH ANNUAL ELDORADO GREAT ITALIAN FESTIVAL\nFor the 40th year\, the Eldorado is bringing the sights\, sounds and flavors of Italy to the heart of Reno during the Eldorado Great Italian Festival. Held each year during Columbus Day weekend\, the festival is a celebration of Italian culture and traditions and includes live entertainment\, a sauce cooking contest and of course\, pasta – lots of pasta. Don’t miss the Eldorado Great Italian Festival\, October 9 & 10 in the heart of Reno. \n\nFESTIVAL TIMES\nOctober 9\, Saturday – 11am to 6pm\nOctober 10\, Sunday – 10am to 5pm\n  \nThe Eldorado Great Italian Festival transforms downtown Reno into Little Italy with a grape stomp\, wine walk\, an Italian farmers market\, food booths and incredible free\, live entertainment all weekend long.\n  \nA crowd favorite year after year continues to be the Great Italian Festival Sauce Cook-off. Italian families from across the West Coast bring their recipes to life right on the street for guests to taste. People’s Choice ballots for favorite sauce will be given with the purchase of pasta.\n  \nNo Italian Festival would be complete without plenty of homemade Italian food. Spectators are invited to “finire di mangia” – or “eat up” as the Italians say with plenty of delicious foods like chicken parmesan\, spaghetti and meatballs\, meat ravioli with Bolognese\, tortellini Eldorado\, Gnocchetti pesto\, Italian sausage and peppers\, fried ravioli\, fried calamari and the ever-famous mushroom ravioli with porcini cream sauce. Complete your meal with a delicious dessert of homemade gelato\, cannolis or Nutella ricotta Crespo\, a sweet ricotta crepe with strawberries and Nutella drizzle.\n  \nSTAY TUNED FOR THE FULL ENTERTAINMENT SCHEDULE AND LINE-UP FOR THE ELDORADO GREAT ITALIAN FESTIVAL:\n  \n• Pasta Sales for Tasting the Family’s Sauces \n  \n• Wine Walk\n  \n• Grape Stomp\n  \n• Gelato Eating Contest
URL:https://oldediblerenotahoe.com/event/eldorado-great-italian-festival/
LOCATION:Downtown Reno
CATEGORIES:Activity,Community Events,Cooking Classes,Festival,Food & Drink,Outdoors,Spirits,Wine
END:VEVENT
BEGIN:VEVENT
DTSTART;TZID=America/Los_Angeles:20210916T080000
DTEND;TZID=America/Los_Angeles:20210916T170000
DTSTAMP:20260425T093456
CREATED:20210916T222206Z
LAST-MODIFIED:20210916T222206Z
UID:25073-1631779200-1631811600@oldediblerenotahoe.com
SUMMARY:Cooking with Beer
DESCRIPTION:
URL:https://oldediblerenotahoe.com/event/cooking-with-beer/
LOCATION:Nothing To It!\, 225 Crummer Lane\, Reno\, NV\, 89502\, United States
CATEGORIES:Community Class,Cooking Classes,Educational,Food & Drink
END:VEVENT
BEGIN:VEVENT
DTSTART;TZID=America/Los_Angeles:20210819T150000
DTEND;TZID=America/Los_Angeles:20210819T200000
DTSTAMP:20260425T093456
CREATED:20210629T211000Z
LAST-MODIFIED:20210629T211000Z
UID:24536-1629385200-1629403200@oldediblerenotahoe.com
SUMMARY:Reno Garlic Fest 2021
DESCRIPTION:Whether you’re a seasoned green thumb or a curious newcomer to backyard gardening\, have a passion for cooking or a strong appetite for this much-loved crop\, you’re invited to come enjoy the bounty of the harvest this August. Come dig in and discover what’s growing in Reno!\n\n\nFestivities will include locally grown garlic and produce for sale from participating backyard growers and established regional farms\, a garlic-based food feast from local chefs\, garlic medicinals\, gardening advice\, plus kid-friendly activities\, games\, and live music!\n\n\n\n\n\nReno Garlic Fest Goals:\n\n\n-Build community and strengthen neighborhood ties\n-Showcase local foods\n-Support local farmers\n-Encourage more Reno-ites to grow vegetable and other foods\n-Educate community members about sustainable growing practices for our region
URL:https://oldediblerenotahoe.com/event/reno-garlic-fest-2021/
LOCATION:McKinley Arts and Culture Center\, 925 Riverside Dr.\, Reno\, NV
CATEGORIES:Community Events,Cooking Classes,Food & Drink,Gardening,Outdoors
END:VEVENT
BEGIN:VEVENT
DTSTART;TZID=America/Los_Angeles:20210816T171500
DTEND;TZID=America/Los_Angeles:20210816T184500
DTSTAMP:20260425T093456
CREATED:20210707T222729Z
LAST-MODIFIED:20210707T222729Z
UID:24624-1629134100-1629139500@oldediblerenotahoe.com
SUMMARY:Tahoe Forest Cooking Club: Thai-Mexican Fusion - Bringing out the Bright & Bold Flavors
DESCRIPTION:Don’t be intimidated by mixing the flavors of two worlds! Learn how to prepare easy-clean basics for any night of the week.
URL:https://oldediblerenotahoe.com/event/tahoe-forest-cooking-club-thai-mexican-fusion-bringing-out-the-bright-bold-flavors/
LOCATION:Tahoe Forest Center for Health\, 11012 Donner Pass Road\, Truckee\, CA
CATEGORIES:Cooking Classes,Educational,Food & Drink
END:VEVENT
BEGIN:VEVENT
DTSTART;TZID=America/Los_Angeles:20210813T170000
DTEND;TZID=America/Los_Angeles:20210813T210000
DTSTAMP:20260425T093456
CREATED:20210512T223842Z
LAST-MODIFIED:20210512T223842Z
UID:24106-1628874000-1628888400@oldediblerenotahoe.com
SUMMARY:Perenn After Hours-Bread Class
DESCRIPTION:INCLUDES SNACKS\, BEVERAGES\, BREAD CLASS WITH TYLER\, DINNER AND BAKER Q+A \nLEVEL I Course Description:  \nBaking fundamentals\, starting and maintaining sourdough starter\, introduction to dough mixing\, shaping\, scoring and baking. \nLEVEL II Course Description:  \nIntroduction to inoculation timing\, enriched doughs and advanced bread baking. \nClass will be held at our flagship location. Perenn at the Village at Rancharrah \nMust be 18 and over to attend. \nTicket is non-refundable\, but transferable to another person or a future event.
URL:https://oldediblerenotahoe.com/event/perenn-after-hours-bread-class-3/
LOCATION:Perenn Bakery\, 20 SAINT LAWRENCE AVE\, Reno
CATEGORIES:Cooking Classes,Food & Drink
END:VEVENT
BEGIN:VEVENT
DTSTART;TZID=America/Los_Angeles:20210723T170000
DTEND;TZID=America/Los_Angeles:20210723T210000
DTSTAMP:20260425T093456
CREATED:20210512T223734Z
LAST-MODIFIED:20210512T223734Z
UID:24104-1627059600-1627074000@oldediblerenotahoe.com
SUMMARY:Perenn After Hours-Bread Class
DESCRIPTION:INCLUDES SNACKS\, BEVERAGES\, BREAD CLASS WITH TYLER\, DINNER AND BAKER Q+A \nLEVEL I Course Description:  \nBaking fundamentals\, starting and maintaining sourdough starter\, introduction to dough mixing\, shaping\, scoring and baking. \nLEVEL II Course Description:  \nIntroduction to inoculation timing\, enriched doughs and advanced bread baking. \nClass will be held at our flagship location. Perenn at the Village at Rancharrah \nMust be 18 and over to attend. \nTicket is non-refundable\, but transferable to another person or a future event.
URL:https://oldediblerenotahoe.com/event/perenn-after-hours-bread-class-2/
LOCATION:Perenn Bakery\, 20 SAINT LAWRENCE AVE\, Reno
CATEGORIES:Cooking Classes,Food & Drink
END:VEVENT
BEGIN:VEVENT
DTSTART;TZID=America/Los_Angeles:20210722T171500
DTEND;TZID=America/Los_Angeles:20210722T184500
DTSTAMP:20260425T093456
CREATED:20210707T222618Z
LAST-MODIFIED:20210707T222618Z
UID:24622-1626974100-1626979500@oldediblerenotahoe.com
SUMMARY:Tahoe Forest Cooking Club: Elevated Boutique Style Soup and Salads
DESCRIPTION:Learn how to layer salads in jars for on-the-go meals and slow cooker soups that keep your kitchen cool.
URL:https://oldediblerenotahoe.com/event/tahoe-forest-cooking-club-elevated-boutique-style-soup-and-salads-2/
LOCATION:Tahoe Forest Center for Health\, 11012 Donner Pass Road\, Truckee\, CA
CATEGORIES:Cooking Classes,Educational,Food & Drink
END:VEVENT
BEGIN:VEVENT
DTSTART;TZID=America/Los_Angeles:20210719T171500
DTEND;TZID=America/Los_Angeles:20210719T184500
DTSTAMP:20260425T093456
CREATED:20210707T222454Z
LAST-MODIFIED:20210707T222454Z
UID:24619-1626714900-1626720300@oldediblerenotahoe.com
SUMMARY:Tahoe Forest Cooking Club: Elevated Boutique Style Soup and Salads
DESCRIPTION:Learn how to layer salads in jars for on-the-go meals and make slow cooker soups that keep your kitchen cool at our Health Supportive Cooking Club! Each month\, we will choose a different health topic and our Registered Dietitian will do a fun and interactive cooking demo. You get to taste test and take home easy\, healthy\, and delicious recipes! $30. In-person with appropriate spacing for COVID-19 safety. Please call the Center for Health at 530-587-3769 to register.
URL:https://oldediblerenotahoe.com/event/tahoe-forest-cooking-club-elevated-boutique-style-soup-and-salads/
LOCATION:Tahoe Forest Center for Health\, 11012 Donner Pass Road\, Truckee\, CA
CATEGORIES:Community Class,Cooking Classes,Educational,Food & Drink
END:VEVENT
BEGIN:VEVENT
DTSTART;TZID=America/Los_Angeles:20210710T110000
DTEND;TZID=America/Los_Angeles:20210710T130000
DTSTAMP:20260425T093456
CREATED:20210512T233012Z
LAST-MODIFIED:20210512T233012Z
UID:24142-1625914800-1625922000@oldediblerenotahoe.com
SUMMARY:Delhi Street Foods
DESCRIPTION:Learn how to make two versions of a savory Indian delicacy called chaat. You’ll be guided through the preparation of aloo chaat\, a spicy potato and onion dish served with chutneys\, and chana chaat\, an aromatic dish made with garbanzo beans\, onions\, tomatoes\, spice powders and lemon. These authentic Indian recipes burst with flavors you’d find in the street foods of Delhi. $15 materials fee
URL:https://oldediblerenotahoe.com/event/delhi-street-foods/
LOCATION:TMCC Meadowood Center\, 5270 Neil Rd.\, South Bldg.\, Reno\, NV\, 89502\, United States
CATEGORIES:Cooking Classes,Educational,Food & Drink
END:VEVENT
BEGIN:VEVENT
DTSTART;TZID=America/Los_Angeles:20210709T170000
DTEND;TZID=America/Los_Angeles:20210709T210000
DTSTAMP:20260425T093456
CREATED:20210512T223640Z
LAST-MODIFIED:20210512T223640Z
UID:24101-1625850000-1625864400@oldediblerenotahoe.com
SUMMARY:Perenn After Hours-Bread Class
DESCRIPTION:INCLUDES SNACKS\, BEVERAGES\, BREAD CLASS WITH TYLER\, DINNER AND BAKER Q+A \nLEVEL I Course Description:  \nBaking fundamentals\, starting and maintaining sourdough starter\, introduction to dough mixing\, shaping\, scoring and baking. \nLEVEL II Course Description:  \nIntroduction to inoculation timing\, enriched doughs and advanced bread baking. \nClass will be held at our flagship location. Perenn at the Village at Rancharrah \nMust be 18 and over to attend. \nTicket is non-refundable\, but transferable to another person or a future event.
URL:https://oldediblerenotahoe.com/event/perenn-after-hours-bread-class/
LOCATION:Perenn Bakery\, 20 SAINT LAWRENCE AVE\, Reno
CATEGORIES:Cooking Classes,Food & Drink
END:VEVENT
BEGIN:VEVENT
DTSTART;TZID=America/Los_Angeles:20210611T180000
DTEND;TZID=America/Los_Angeles:20210611T180000
DTSTAMP:20260425T093456
CREATED:20210512T225211Z
LAST-MODIFIED:20210512T225211Z
UID:24121-1623434400-1623434400@oldediblerenotahoe.com
SUMMARY:Cooking With Wine
DESCRIPTION:
URL:https://oldediblerenotahoe.com/event/cooking-with-wine/
LOCATION:Nothing To It!\, 225 Crummer Lane\, Reno\, NV\, 89502\, United States
CATEGORIES:Cooking Classes,Educational,Food & Drink
END:VEVENT
BEGIN:VEVENT
DTSTART;TZID=America/Los_Angeles:20210609T180000
DTEND;TZID=America/Los_Angeles:20210609T180000
DTSTAMP:20260425T093456
CREATED:20210512T225019Z
LAST-MODIFIED:20210512T225019Z
UID:24119-1623261600-1623261600@oldediblerenotahoe.com
SUMMARY:Killer Vegetarian Recipes
DESCRIPTION:
URL:https://oldediblerenotahoe.com/event/killer-vegetarian-recipes/
LOCATION:Nothing To It!\, 225 Crummer Lane\, Reno\, NV\, 89502\, United States
CATEGORIES:Cooking Classes,Educational,Food & Drink
END:VEVENT
BEGIN:VEVENT
DTSTART;TZID=America/Los_Angeles:20210603T180000
DTEND;TZID=America/Los_Angeles:20210603T180000
DTSTAMP:20260425T093456
CREATED:20210512T224840Z
LAST-MODIFIED:20210512T224840Z
UID:24117-1622743200-1622743200@oldediblerenotahoe.com
SUMMARY:Southern Table
DESCRIPTION:
URL:https://oldediblerenotahoe.com/event/southern-table/
LOCATION:Nothing To It!\, 225 Crummer Lane\, Reno\, NV\, 89502\, United States
CATEGORIES:Cooking Classes,Educational,Food & Drink
END:VEVENT
BEGIN:VEVENT
DTSTART;TZID=America/Los_Angeles:20210528T180000
DTEND;TZID=America/Los_Angeles:20210528T180000
DTSTAMP:20260425T093456
CREATED:20210512T224733Z
LAST-MODIFIED:20210512T224733Z
UID:24115-1622224800-1622224800@oldediblerenotahoe.com
SUMMARY:Grilling 101
DESCRIPTION:At Nothing to It!\, grilling is more than just a way to cook food—it is a way of life! Spend this one evening with us and you won’t believe what you’ll get out of your grill this summer. You’ll learn fundamental grilling techniques that apply to classic and innovative recipes alike. Learn what it takes to grill to perfection every time.
URL:https://oldediblerenotahoe.com/event/grilling-101/
LOCATION:Nothing To It!\, 225 Crummer Lane\, Reno\, NV\, 89502\, United States
CATEGORIES:Cooking Classes,Educational,Food & Drink
END:VEVENT
BEGIN:VEVENT
DTSTART;TZID=America/Los_Angeles:20210527T180000
DTEND;TZID=America/Los_Angeles:20210527T180000
DTSTAMP:20260425T093456
CREATED:20210512T224627Z
LAST-MODIFIED:20210512T224627Z
UID:24113-1622138400-1622138400@oldediblerenotahoe.com
SUMMARY:Risotto
DESCRIPTION:Learn to make risotto.
URL:https://oldediblerenotahoe.com/event/risotto/
LOCATION:Nothing To It!\, 225 Crummer Lane\, Reno\, NV\, 89502\, United States
CATEGORIES:Cooking Classes,Educational,Food & Drink
END:VEVENT
BEGIN:VEVENT
DTSTART;TZID=UTC:20210315T180000
DTEND;TZID=UTC:20210315T200000
DTSTAMP:20260425T093456
CREATED:20210204T060637Z
LAST-MODIFIED:20210210T052514Z
UID:22902-1615831200-1615838400@oldediblerenotahoe.com
SUMMARY:Flavors of Spain: Tapas
DESCRIPTION:Learn to make Spain’s most popular small plate dishes during TMCC EPIC’s Flavors of Spain: Tapas. Create and take recipes for Patatas Bravas\, garlic and tomato toasts\, chorizo crescents and melon con Jamon Serrano accompanied by fine Spanish Rioja or a chilled fino sherry. Course runs Tue.\, April 6\, from 6-8 p.m. for a cost of $59 and a materials fee of $20. Registration deadline is March 30. Register at epic.tmcc.edu. 
URL:https://oldediblerenotahoe.com/event/flavors-of-spain-tapas/
LOCATION:Saint Vincent’s Kitchen\, 325 Valley Road\, Reno\, NV\, 89512
CATEGORIES:Cooking Classes,Food & Drink
END:VEVENT
BEGIN:VEVENT
DTSTART;TZID=UTC:20210302T180000
DTEND;TZID=UTC:20210302T200000
DTSTAMP:20260425T093456
CREATED:20210210T051225Z
LAST-MODIFIED:20210210T051225Z
UID:22931-1614708000-1614715200@oldediblerenotahoe.com
SUMMARY:Cooking for One or Two
DESCRIPTION:Learn the secrets to creating big flavors in smaller pots when cooking for one or two people. With the help of a master chef\, gain hands-on experience as you find out how to buy what you need and use all that you buy. Savor delicious one-night dinners that you won’t be eating for the rest of the week.
URL:https://oldediblerenotahoe.com/event/cooking-for-one-or-two/
LOCATION:Nothing To It!\, 225 Crummer Lane\, Reno\, NV\, 89502\, United States
CATEGORIES:Cooking Classes,Food & Drink
END:VEVENT
BEGIN:VEVENT
DTSTART;TZID=UTC:20210216T180000
DTEND;TZID=UTC:20210216T210000
DTSTAMP:20260425T093456
CREATED:20210204T060816Z
LAST-MODIFIED:20210204T060816Z
UID:22905-1613498400-1613509200@oldediblerenotahoe.com
SUMMARY:Mardi Gras Gumbo
DESCRIPTION:Learn to prepare an authentic chicken\, sausage and shrimp gumbo that will spice up your Mardi Gras. Make a so-called chocolate roux\, become familiar with the traditional holy trinity of vegetables\, and properly process okra to use as a thickener. Explore the use of aromatics and balance spices and flavors that add depth to a variety of other dishes. Sample\, then take home your savory Southern-style creation.
URL:https://oldediblerenotahoe.com/event/mardi-gras-gumbo/
LOCATION:Saint Vincent’s Kitchen\, 325 Valley Road\, Reno\, NV\, 89512
CATEGORIES:Cooking Classes,Food & Drink
END:VEVENT
END:VCALENDAR