BEGIN:VCALENDAR
VERSION:2.0
PRODID:-//Edible Reno-Tahoe - ECPv6.15.20//NONSGML v1.0//EN
CALSCALE:GREGORIAN
METHOD:PUBLISH
X-WR-CALNAME:Edible Reno-Tahoe
X-ORIGINAL-URL:https://oldediblerenotahoe.com
X-WR-CALDESC:Events for Edible Reno-Tahoe
REFRESH-INTERVAL;VALUE=DURATION:PT1H
X-Robots-Tag:noindex
X-PUBLISHED-TTL:PT1H
BEGIN:VTIMEZONE
TZID:America/Los_Angeles
BEGIN:DAYLIGHT
TZOFFSETFROM:-0800
TZOFFSETTO:-0700
TZNAME:PDT
DTSTART:20230312T100000
END:DAYLIGHT
BEGIN:STANDARD
TZOFFSETFROM:-0700
TZOFFSETTO:-0800
TZNAME:PST
DTSTART:20231105T090000
END:STANDARD
BEGIN:DAYLIGHT
TZOFFSETFROM:-0800
TZOFFSETTO:-0700
TZNAME:PDT
DTSTART:20240310T100000
END:DAYLIGHT
BEGIN:STANDARD
TZOFFSETFROM:-0700
TZOFFSETTO:-0800
TZNAME:PST
DTSTART:20241103T090000
END:STANDARD
BEGIN:DAYLIGHT
TZOFFSETFROM:-0800
TZOFFSETTO:-0700
TZNAME:PDT
DTSTART:20250309T100000
END:DAYLIGHT
BEGIN:STANDARD
TZOFFSETFROM:-0700
TZOFFSETTO:-0800
TZNAME:PST
DTSTART:20251102T090000
END:STANDARD
END:VTIMEZONE
BEGIN:VEVENT
DTSTART;TZID=America/Los_Angeles:20240614T180000
DTEND;TZID=America/Los_Angeles:20240614T210000
DTSTAMP:20260424T133927
CREATED:20240311T035019Z
LAST-MODIFIED:20240311T035019Z
UID:37702-1718388000-1718398800@oldediblerenotahoe.com
SUMMARY:Cooking Class: Date Night - Summer Nights
DESCRIPTION:
URL:https://oldediblerenotahoe.com/event/cooking-class-date-night-summer-nights/
LOCATION:Nothing To It!\, 225 Crummer Lane\, Reno\, NV\, 89502\, United States
CATEGORIES:Cooking Classes
END:VEVENT
BEGIN:VEVENT
DTSTART;TZID=America/Los_Angeles:20240613T180000
DTEND;TZID=America/Los_Angeles:20240613T210000
DTSTAMP:20260424T133927
CREATED:20240311T034937Z
LAST-MODIFIED:20240311T034937Z
UID:37700-1718301600-1718312400@oldediblerenotahoe.com
SUMMARY:Cooking Class: Vegetarian Grill
DESCRIPTION:
URL:https://oldediblerenotahoe.com/event/cooking-class-vegetarian-grill/
LOCATION:Nothing To It!\, 225 Crummer Lane\, Reno\, NV\, 89502\, United States
CATEGORIES:Cooking Classes
END:VEVENT
BEGIN:VEVENT
DTSTART;TZID=America/Los_Angeles:20240606T180000
DTEND;TZID=America/Los_Angeles:20240606T210000
DTSTAMP:20260424T133927
CREATED:20240311T034903Z
LAST-MODIFIED:20240311T034903Z
UID:37698-1717696800-1717707600@oldediblerenotahoe.com
SUMMARY:Cooking Class: Persian Kitchen
DESCRIPTION:
URL:https://oldediblerenotahoe.com/event/cooking-class-persian-kitchen/
LOCATION:Nothing To It!\, 225 Crummer Lane\, Reno\, NV\, 89502\, United States
CATEGORIES:Cooking Classes
END:VEVENT
BEGIN:VEVENT
DTSTART;TZID=America/Los_Angeles:20240604T180000
DTEND;TZID=America/Los_Angeles:20240604T210000
DTSTAMP:20260424T133927
CREATED:20240311T034820Z
LAST-MODIFIED:20240311T034820Z
UID:37696-1717524000-1717534800@oldediblerenotahoe.com
SUMMARY:Cooking Class: Summer Multi Cooker
DESCRIPTION:
URL:https://oldediblerenotahoe.com/event/cooking-class-summer-multi-cooker/
LOCATION:Nothing To It!\, 225 Crummer Lane\, Reno\, NV\, 89502\, United States
CATEGORIES:Cooking Classes
END:VEVENT
BEGIN:VEVENT
DTSTART;TZID=America/Los_Angeles:20240531T180000
DTEND;TZID=America/Los_Angeles:20240531T210000
DTSTAMP:20260424T133927
CREATED:20240311T034201Z
LAST-MODIFIED:20240311T034201Z
UID:37680-1717178400-1717189200@oldediblerenotahoe.com
SUMMARY:Cooking Class: Grilling 101
DESCRIPTION:
URL:https://oldediblerenotahoe.com/event/cooking-class-grilling-101-2/
LOCATION:Nothing To It!\, 225 Crummer Lane\, Reno\, NV\, 89502\, United States
CATEGORIES:Cooking Classes
END:VEVENT
BEGIN:VEVENT
DTSTART;TZID=America/Los_Angeles:20240530T180000
DTEND;TZID=America/Los_Angeles:20240530T210000
DTSTAMP:20260424T133927
CREATED:20240311T034127Z
LAST-MODIFIED:20240311T034127Z
UID:37678-1717092000-1717102800@oldediblerenotahoe.com
SUMMARY:Cooking Class: Herbs\, Spices\, Oils & Vinegars
DESCRIPTION:
URL:https://oldediblerenotahoe.com/event/cooking-class-herbs-spices-oils-vinegars/
LOCATION:Nothing To It!\, 225 Crummer Lane\, Reno\, NV\, 89502\, United States
CATEGORIES:Cooking Classes
END:VEVENT
BEGIN:VEVENT
DTSTART;TZID=America/Los_Angeles:20240523T180000
DTEND;TZID=America/Los_Angeles:20240523T210000
DTSTAMP:20260424T133927
CREATED:20240311T034046Z
LAST-MODIFIED:20240311T034046Z
UID:37676-1716487200-1716498000@oldediblerenotahoe.com
SUMMARY:Cooking Class: Girls' Night Out - Sushi
DESCRIPTION:
URL:https://oldediblerenotahoe.com/event/cooking-class-girls-night-out-sushi/
LOCATION:Nothing To It!\, 225 Crummer Lane\, Reno\, NV\, 89502\, United States
CATEGORIES:Cooking Classes
END:VEVENT
BEGIN:VEVENT
DTSTART;TZID=America/Los_Angeles:20240522T160000
DTEND;TZID=America/Los_Angeles:20240522T180000
DTSTAMP:20260424T133927
CREATED:20240311T033431Z
LAST-MODIFIED:20240311T033431Z
UID:37662-1716393600-1716400800@oldediblerenotahoe.com
SUMMARY:Cooking Class: Kids Cook
DESCRIPTION:
URL:https://oldediblerenotahoe.com/event/cooking-class-kids-cook-3-2024-05-22/
LOCATION:Nothing To It!\, 225 Crummer Lane\, Reno\, NV\, 89502\, United States
CATEGORIES:Cooking Classes
END:VEVENT
BEGIN:VEVENT
DTSTART;TZID=America/Los_Angeles:20240522T160000
DTEND;TZID=America/Los_Angeles:20240522T173000
DTSTAMP:20260424T133927
CREATED:20231216T211949Z
LAST-MODIFIED:20231216T211949Z
UID:35941-1716393600-1716399000@oldediblerenotahoe.com
SUMMARY:Cooking Class: Kids Cook!
DESCRIPTION:Cooking teaches kids and teens to flex their creative culinary muscles and helps them develop skills and cooking habits they will use and enjoy for a lifetime. Students will see and practice a wide variety of culinary techniques while creating tasty dishes during each class. Classes are designed to take individually or as a series. Each class this season will feature a different menu and last approximately 1.5 hours. Minimum age 8yrs old.
URL:https://oldediblerenotahoe.com/event/cooking-class-kids-cook-2024-05-22/
LOCATION:Nothing To It!\, 225 Crummer Lane\, Reno\, NV\, 89502\, United States
CATEGORIES:Cooking Classes
END:VEVENT
BEGIN:VEVENT
DTSTART;TZID=America/Los_Angeles:20240521T160000
DTEND;TZID=America/Los_Angeles:20240521T180000
DTSTAMP:20260424T133927
CREATED:20240311T033431Z
LAST-MODIFIED:20240311T033431Z
UID:37661-1716307200-1716314400@oldediblerenotahoe.com
SUMMARY:Cooking Class: Kids Cook
DESCRIPTION:
URL:https://oldediblerenotahoe.com/event/cooking-class-kids-cook-3-2024-05-21/
LOCATION:Nothing To It!\, 225 Crummer Lane\, Reno\, NV\, 89502\, United States
CATEGORIES:Cooking Classes
END:VEVENT
BEGIN:VEVENT
DTSTART;TZID=America/Los_Angeles:20240521T160000
DTEND;TZID=America/Los_Angeles:20240521T180000
DTSTAMP:20260424T133927
CREATED:20231216T211558Z
LAST-MODIFIED:20231216T211558Z
UID:35934-1716307200-1716314400@oldediblerenotahoe.com
SUMMARY:Cooking Class: Teens Cook!
DESCRIPTION:Cooking teaches teens to flex their creative culinary muscles and helps them develop skills and cooking habits they will use and enjoy for a lifetime. Students will see and practice a wide variety of culinary techniques while creating tasty dishes during each class. Classes are designed to take individually or as a series. Each class this season will feature a different menu and last approximately 1.5 hours. Please contact NTI at info@nothingtoit.com for specific class details.
URL:https://oldediblerenotahoe.com/event/cooking-class-teens-cook-2024-05-21/
LOCATION:Nothing To It!\, 225 Crummer Lane\, Reno\, NV\, 89502\, United States
CATEGORIES:Cooking Classes
END:VEVENT
BEGIN:VEVENT
DTSTART;TZID=America/Los_Angeles:20240517T180000
DTEND;TZID=America/Los_Angeles:20240517T210000
DTSTAMP:20260424T133927
CREATED:20240311T034007Z
LAST-MODIFIED:20240311T034007Z
UID:37674-1715968800-1715979600@oldediblerenotahoe.com
SUMMARY:Cooking Class: Date Night - French Bistro
DESCRIPTION:
URL:https://oldediblerenotahoe.com/event/cooking-class-date-night-french-bistro/
LOCATION:Nothing To It!\, 225 Crummer Lane\, Reno\, NV\, 89502\, United States
CATEGORIES:Cooking Classes
END:VEVENT
BEGIN:VEVENT
DTSTART;TZID=America/Los_Angeles:20240517T160000
DTEND;TZID=America/Los_Angeles:20240517T180000
DTSTAMP:20260424T133927
CREATED:20240311T033431Z
LAST-MODIFIED:20240311T033431Z
UID:37660-1715961600-1715968800@oldediblerenotahoe.com
SUMMARY:Cooking Class: Kids Cook
DESCRIPTION:
URL:https://oldediblerenotahoe.com/event/cooking-class-kids-cook-3/
LOCATION:Nothing To It!\, 225 Crummer Lane\, Reno\, NV\, 89502\, United States
CATEGORIES:Cooking Classes
END:VEVENT
BEGIN:VEVENT
DTSTART;TZID=America/Los_Angeles:20240516T180000
DTEND;TZID=America/Los_Angeles:20240516T210000
DTSTAMP:20260424T133927
CREATED:20240311T033929Z
LAST-MODIFIED:20240311T033929Z
UID:37672-1715882400-1715893200@oldediblerenotahoe.com
SUMMARY:Cooking Class: Southern Table
DESCRIPTION:
URL:https://oldediblerenotahoe.com/event/cooking-class-southern-table/
LOCATION:Nothing To It!\, 225 Crummer Lane\, Reno\, NV\, 89502\, United States
CATEGORIES:Cooking Classes
END:VEVENT
BEGIN:VEVENT
DTSTART;TZID=America/Los_Angeles:20240516T160000
DTEND;TZID=America/Los_Angeles:20240516T180000
DTSTAMP:20260424T133927
CREATED:20240311T033323Z
LAST-MODIFIED:20240311T033323Z
UID:37658-1715875200-1715882400@oldediblerenotahoe.com
SUMMARY:Cooking Class: Teens Cook
DESCRIPTION:
URL:https://oldediblerenotahoe.com/event/cooking-class-teens-cook-2/
LOCATION:Nothing To It!\, 225 Crummer Lane\, Reno\, NV\, 89502\, United States
CATEGORIES:Cooking Classes
END:VEVENT
BEGIN:VEVENT
DTSTART;TZID=America/Los_Angeles:20240514T180000
DTEND;TZID=America/Los_Angeles:20240514T210000
DTSTAMP:20260424T133927
CREATED:20240311T033853Z
LAST-MODIFIED:20240311T033853Z
UID:37670-1715709600-1715720400@oldediblerenotahoe.com
SUMMARY:Cooking Class: Ravioli Workshop
DESCRIPTION:
URL:https://oldediblerenotahoe.com/event/cooking-class-ravioli-workshop/
LOCATION:Nothing To It!\, 225 Crummer Lane\, Reno\, NV\, 89502\, United States
CATEGORIES:Cooking Classes
END:VEVENT
BEGIN:VEVENT
DTSTART;TZID=America/Los_Angeles:20240510T180000
DTEND;TZID=America/Los_Angeles:20240510T210000
DTSTAMP:20260424T133927
CREATED:20240311T033805Z
LAST-MODIFIED:20240311T033805Z
UID:37668-1715364000-1715374800@oldediblerenotahoe.com
SUMMARY:Cooking Class: Taste of Tuscany
DESCRIPTION:
URL:https://oldediblerenotahoe.com/event/cooking-class-taste-of-tuscany-2/
LOCATION:Nothing To It!\, 225 Crummer Lane\, Reno\, NV\, 89502\, United States
CATEGORIES:Cooking Classes
END:VEVENT
BEGIN:VEVENT
DTSTART;TZID=America/Los_Angeles:20240509T180000
DTEND;TZID=America/Los_Angeles:20240509T210000
DTSTAMP:20260424T133927
CREATED:20240311T033715Z
LAST-MODIFIED:20240311T033715Z
UID:37666-1715277600-1715288400@oldediblerenotahoe.com
SUMMARY:Cooking Class: Vietnamese Pho & Spring Rolls
DESCRIPTION:
URL:https://oldediblerenotahoe.com/event/cooking-class-vietnamese-pho-spring-rolls/
LOCATION:Nothing To It!\, 225 Crummer Lane\, Reno\, NV\, 89502\, United States
CATEGORIES:Cooking Classes
END:VEVENT
BEGIN:VEVENT
DTSTART;TZID=America/Los_Angeles:20240504T093000
DTEND;TZID=America/Los_Angeles:20240504T233000
DTSTAMP:20260424T133927
CREATED:20240311T034250Z
LAST-MODIFIED:20240311T034250Z
UID:37682-1714815000-1714865400@oldediblerenotahoe.com
SUMMARY:Cooking Class: Chilaquiles Brunch Workshop
DESCRIPTION:
URL:https://oldediblerenotahoe.com/event/cooking-class-chilaquiles-brunch-workshop/
LOCATION:Nothing To It!\, 225 Crummer Lane\, Reno\, NV\, 89502\, United States
CATEGORIES:Cooking Classes
END:VEVENT
BEGIN:VEVENT
DTSTART;TZID=America/Los_Angeles:20240502T180000
DTEND;TZID=America/Los_Angeles:20240502T200000
DTSTAMP:20260424T133927
CREATED:20240311T033558Z
LAST-MODIFIED:20240311T033558Z
UID:37664-1714672800-1714680000@oldediblerenotahoe.com
SUMMARY:Cooking Class: Tacos & Tequilas
DESCRIPTION:
URL:https://oldediblerenotahoe.com/event/cooking-class-tacos-tequilas/
LOCATION:Nothing To It!\, 225 Crummer Lane\, Reno\, NV\, 89502\, United States
CATEGORIES:Cooking Classes
END:VEVENT
BEGIN:VEVENT
DTSTART;TZID=America/Los_Angeles:20240501T180000
DTEND;TZID=America/Los_Angeles:20240501T200000
DTSTAMP:20260424T133927
CREATED:20240311T033132Z
LAST-MODIFIED:20240311T033132Z
UID:37656-1714586400-1714593600@oldediblerenotahoe.com
SUMMARY:Cooking Class: Chile Rellano Workshop
DESCRIPTION:
URL:https://oldediblerenotahoe.com/event/cooking-class-chile-rellano-workshop/
LOCATION:Nothing To It!\, 225 Crummer Lane\, Reno\, NV\, 89502\, United States
CATEGORIES:Cooking Classes
END:VEVENT
BEGIN:VEVENT
DTSTART;TZID=America/Los_Angeles:20240426T180000
DTEND;TZID=America/Los_Angeles:20240426T200000
DTSTAMP:20260424T133927
CREATED:20240311T032840Z
LAST-MODIFIED:20240311T032840Z
UID:37650-1714154400-1714161600@oldediblerenotahoe.com
SUMMARY:Cooking Class: Island Pacific Cuisine
DESCRIPTION:
URL:https://oldediblerenotahoe.com/event/cooking-class-island-pacific-cuisine/
LOCATION:Nothing To It!\, 225 Crummer Lane\, Reno\, NV\, 89502\, United States
CATEGORIES:Cooking Classes
END:VEVENT
BEGIN:VEVENT
DTSTART;TZID=America/Los_Angeles:20240426T170000
DTEND;TZID=America/Los_Angeles:20240426T190000
DTSTAMP:20260424T133927
CREATED:20230927T220646Z
LAST-MODIFIED:20231227T222321Z
UID:36297-1714150800-1714158000@oldediblerenotahoe.com
SUMMARY:Bread Class 101
DESCRIPTION:Discover the art of naturally leavened bread. Learn flour basics\, starter maintenance\, mixing\, shaping\, and baking. By the end\, you’ll be ready to bake sourdough at home. The class combines dinner\, a lecture\, hands-on practice\, a sweet finish\, and Q&A. Ages 12+ welcome. Includes beverages\, dinner\, an Intro to Bread Packet\, dessert\, starter\, and bread.
URL:https://oldediblerenotahoe.com/event/perennbread101-2024-04-26/
LOCATION:Perenn Bakery Rancharrah\, 7700 Rancharrah Parkway\, Suite 110\, Reno\, NV\, 89511
CATEGORIES:Cooking Classes
ATTACH;FMTTYPE=image/jpeg:https://oldediblerenotahoe.com/wp-content/uploads/2023/09/bread-rotated.jpg
END:VEVENT
BEGIN:VEVENT
DTSTART;TZID=America/Los_Angeles:20240424T180000
DTEND;TZID=America/Los_Angeles:20240424T200000
DTSTAMP:20260424T133927
CREATED:20240311T032754Z
LAST-MODIFIED:20240311T032754Z
UID:37648-1713981600-1713988800@oldediblerenotahoe.com
SUMMARY:Cooking Class: Family International Meatballs
DESCRIPTION:
URL:https://oldediblerenotahoe.com/event/cooking-class-family-international-meatballs/
LOCATION:Nothing To It!\, 225 Crummer Lane\, Reno\, NV\, 89502\, United States
CATEGORIES:Cooking Classes
END:VEVENT
BEGIN:VEVENT
DTSTART;TZID=America/Los_Angeles:20240420T103000
DTEND;TZID=America/Los_Angeles:20240420T120000
DTSTAMP:20260424T133927
CREATED:20240311T033010Z
LAST-MODIFIED:20240311T033010Z
UID:37654-1713609000-1713614400@oldediblerenotahoe.com
SUMMARY:Cooking Class: Knife Sharpening
DESCRIPTION:
URL:https://oldediblerenotahoe.com/event/cooking-class-knife-sharpening/
LOCATION:Nothing To It!\, 225 Crummer Lane\, Reno\, NV\, 89502\, United States
CATEGORIES:Cooking Classes
END:VEVENT
BEGIN:VEVENT
DTSTART;TZID=America/Los_Angeles:20240419T170000
DTEND;TZID=America/Los_Angeles:20240419T190000
DTSTAMP:20260424T133927
CREATED:20230927T220646Z
LAST-MODIFIED:20231227T222320Z
UID:36303-1713546000-1713553200@oldediblerenotahoe.com
SUMMARY:Bread Class 101
DESCRIPTION:Discover the art of naturally leavened bread. Learn flour basics\, starter maintenance\, mixing\, shaping\, and baking. By the end\, you’ll be ready to bake sourdough at home. The class combines dinner\, a lecture\, hands-on practice\, a sweet finish\, and Q&A. Ages 12+ welcome. Includes beverages\, dinner\, an Intro to Bread Packet\, dessert\, starter\, and bread.
URL:https://oldediblerenotahoe.com/event/perennbread101-2024-04-19/
LOCATION:Perenn Bakery Rancharrah\, 7700 Rancharrah Parkway\, Suite 110\, Reno\, NV\, 89511
CATEGORIES:Cooking Classes
ATTACH;FMTTYPE=image/jpeg:https://oldediblerenotahoe.com/wp-content/uploads/2023/09/bread-rotated.jpg
END:VEVENT
BEGIN:VEVENT
DTSTART;TZID=America/Los_Angeles:20240418T180000
DTEND;TZID=America/Los_Angeles:20240418T200000
DTSTAMP:20260424T133927
CREATED:20240311T032706Z
LAST-MODIFIED:20240311T032706Z
UID:37646-1713463200-1713470400@oldediblerenotahoe.com
SUMMARY:Cooking Class: Girls' Night Out - Crepes Fest
DESCRIPTION:
URL:https://oldediblerenotahoe.com/event/cooking-class-girls-night-out-crepes-fest/
LOCATION:Nothing To It!\, 225 Crummer Lane\, Reno\, NV\, 89502\, United States
CATEGORIES:Cooking Classes
END:VEVENT
BEGIN:VEVENT
DTSTART;TZID=America/Los_Angeles:20240417T160000
DTEND;TZID=America/Los_Angeles:20240417T173000
DTSTAMP:20260424T133927
CREATED:20231216T211949Z
LAST-MODIFIED:20231216T211949Z
UID:35940-1713369600-1713375000@oldediblerenotahoe.com
SUMMARY:Cooking Class: Kids Cook!
DESCRIPTION:Cooking teaches kids and teens to flex their creative culinary muscles and helps them develop skills and cooking habits they will use and enjoy for a lifetime. Students will see and practice a wide variety of culinary techniques while creating tasty dishes during each class. Classes are designed to take individually or as a series. Each class this season will feature a different menu and last approximately 1.5 hours. Minimum age 8yrs old.
URL:https://oldediblerenotahoe.com/event/cooking-class-kids-cook-2024-04-17/
LOCATION:Nothing To It!\, 225 Crummer Lane\, Reno\, NV\, 89502\, United States
CATEGORIES:Cooking Classes
END:VEVENT
BEGIN:VEVENT
DTSTART;TZID=America/Los_Angeles:20240416T160000
DTEND;TZID=America/Los_Angeles:20240416T180000
DTSTAMP:20260424T133927
CREATED:20231216T211558Z
LAST-MODIFIED:20231216T211558Z
UID:35933-1713283200-1713290400@oldediblerenotahoe.com
SUMMARY:Cooking Class: Teens Cook!
DESCRIPTION:Cooking teaches teens to flex their creative culinary muscles and helps them develop skills and cooking habits they will use and enjoy for a lifetime. Students will see and practice a wide variety of culinary techniques while creating tasty dishes during each class. Classes are designed to take individually or as a series. Each class this season will feature a different menu and last approximately 1.5 hours. Please contact NTI at info@nothingtoit.com for specific class details.
URL:https://oldediblerenotahoe.com/event/cooking-class-teens-cook-2024-04-16/
LOCATION:Nothing To It!\, 225 Crummer Lane\, Reno\, NV\, 89502\, United States
CATEGORIES:Cooking Classes
END:VEVENT
BEGIN:VEVENT
DTSTART;TZID=America/Los_Angeles:20240412T180000
DTEND;TZID=America/Los_Angeles:20240412T200000
DTSTAMP:20260424T133927
CREATED:20240311T032503Z
LAST-MODIFIED:20240311T032503Z
UID:37644-1712944800-1712952000@oldediblerenotahoe.com
SUMMARY:Cooking Class: Date Night Greece
DESCRIPTION:
URL:https://oldediblerenotahoe.com/event/cooking-class-date-night-greece/
LOCATION:Nothing To It!\, 225 Crummer Lane\, Reno\, NV\, 89502\, United States
CATEGORIES:Cooking Classes
END:VEVENT
END:VCALENDAR