BEGIN:VCALENDAR
VERSION:2.0
PRODID:-//Edible Reno-Tahoe - ECPv6.15.20//NONSGML v1.0//EN
CALSCALE:GREGORIAN
METHOD:PUBLISH
X-ORIGINAL-URL:https://oldediblerenotahoe.com
X-WR-CALDESC:Events for Edible Reno-Tahoe
REFRESH-INTERVAL;VALUE=DURATION:PT1H
X-Robots-Tag:noindex
X-PUBLISHED-TTL:PT1H
BEGIN:VTIMEZONE
TZID:America/Los_Angeles
BEGIN:DAYLIGHT
TZOFFSETFROM:-0800
TZOFFSETTO:-0700
TZNAME:PDT
DTSTART:20230312T100000
END:DAYLIGHT
BEGIN:STANDARD
TZOFFSETFROM:-0700
TZOFFSETTO:-0800
TZNAME:PST
DTSTART:20231105T090000
END:STANDARD
BEGIN:DAYLIGHT
TZOFFSETFROM:-0800
TZOFFSETTO:-0700
TZNAME:PDT
DTSTART:20240310T100000
END:DAYLIGHT
BEGIN:STANDARD
TZOFFSETFROM:-0700
TZOFFSETTO:-0800
TZNAME:PST
DTSTART:20241103T090000
END:STANDARD
BEGIN:DAYLIGHT
TZOFFSETFROM:-0800
TZOFFSETTO:-0700
TZNAME:PDT
DTSTART:20250309T100000
END:DAYLIGHT
BEGIN:STANDARD
TZOFFSETFROM:-0700
TZOFFSETTO:-0800
TZNAME:PST
DTSTART:20251102T090000
END:STANDARD
END:VTIMEZONE
BEGIN:VEVENT
DTSTART;TZID=America/Los_Angeles:20240309T093000
DTEND;TZID=America/Los_Angeles:20240309T110000
DTSTAMP:20260424T173430
CREATED:20240216T224408Z
LAST-MODIFIED:20240216T224408Z
UID:37337-1709976600-1709982000@oldediblerenotahoe.com
SUMMARY:Artisan Bread Workshop
DESCRIPTION:
URL:https://oldediblerenotahoe.com/event/artisan-bread-workshop-2/
LOCATION:Nothing To It!\, 225 Crummer Lane\, Reno\, NV\, 89502\, United States
CATEGORIES:Cooking Classes
END:VEVENT
BEGIN:VEVENT
DTSTART;TZID=America/Los_Angeles:20240308T180000
DTEND;TZID=America/Los_Angeles:20240308T200000
DTSTAMP:20260424T173430
CREATED:20240216T224323Z
LAST-MODIFIED:20240216T224323Z
UID:37335-1709920800-1709928000@oldediblerenotahoe.com
SUMMARY:Cooking Class: Taste of Tuscany
DESCRIPTION:
URL:https://oldediblerenotahoe.com/event/cooking-class-taste-of-tuscany-2024-03-08/
LOCATION:Nothing To It!\, 225 Crummer Lane\, Reno\, NV\, 89502\, United States
CATEGORIES:Cooking Classes
END:VEVENT
BEGIN:VEVENT
DTSTART;TZID=America/Los_Angeles:20240308T170000
DTEND;TZID=America/Los_Angeles:20240308T190000
DTSTAMP:20260424T173430
CREATED:20230927T220646Z
LAST-MODIFIED:20230927T220646Z
UID:36304-1709917200-1709924400@oldediblerenotahoe.com
SUMMARY:Bread Class 101
DESCRIPTION:Discover the art of naturally leavened bread. Learn flour basics\, starter maintenance\, mixing\, shaping\, and baking. By the end\, you’ll be ready to bake sourdough at home. The class combines dinner\, a lecture\, hands-on practice\, a sweet finish\, and Q&A. Ages 12+ welcome. Includes beverages\, dinner\, an Intro to Bread Packet\, dessert\, starter\, and bread.
URL:https://oldediblerenotahoe.com/event/perennbread101-2024-03-08/
LOCATION:Perenn Bakery Rancharrah\, 7700 Rancharrah Parkway\, Suite 110\, Reno\, NV\, 89511
CATEGORIES:Cooking Classes
ATTACH;FMTTYPE=image/jpeg:https://oldediblerenotahoe.com/wp-content/uploads/2023/09/bread-rotated.jpg
END:VEVENT
BEGIN:VEVENT
DTSTART;TZID=America/Los_Angeles:20240307T180000
DTEND;TZID=America/Los_Angeles:20240307T200000
DTSTAMP:20260424T173430
CREATED:20240216T224323Z
LAST-MODIFIED:20240216T224323Z
UID:37334-1709834400-1709841600@oldediblerenotahoe.com
SUMMARY:Cooking Class: Taste of Tuscany
DESCRIPTION:
URL:https://oldediblerenotahoe.com/event/cooking-class-taste-of-tuscany/
LOCATION:Nothing To It!\, 225 Crummer Lane\, Reno\, NV\, 89502\, United States
CATEGORIES:Cooking Classes
END:VEVENT
BEGIN:VEVENT
DTSTART;TZID=America/Los_Angeles:20240306T160000
DTEND;TZID=America/Los_Angeles:20240306T173000
DTSTAMP:20260424T173430
CREATED:20231216T211949Z
LAST-MODIFIED:20231216T211949Z
UID:35939-1709740800-1709746200@oldediblerenotahoe.com
SUMMARY:Cooking Class: Kids Cook!
DESCRIPTION:Cooking teaches kids and teens to flex their creative culinary muscles and helps them develop skills and cooking habits they will use and enjoy for a lifetime. Students will see and practice a wide variety of culinary techniques while creating tasty dishes during each class. Classes are designed to take individually or as a series. Each class this season will feature a different menu and last approximately 1.5 hours. Minimum age 8yrs old.
URL:https://oldediblerenotahoe.com/event/cooking-class-kids-cook-2024-03-06/
LOCATION:Nothing To It!\, 225 Crummer Lane\, Reno\, NV\, 89502\, United States
CATEGORIES:Cooking Classes
END:VEVENT
BEGIN:VEVENT
DTSTART;TZID=America/Los_Angeles:20240305T160000
DTEND;TZID=America/Los_Angeles:20240305T180000
DTSTAMP:20260424T173430
CREATED:20231216T211558Z
LAST-MODIFIED:20231216T211558Z
UID:35932-1709654400-1709661600@oldediblerenotahoe.com
SUMMARY:Cooking Class: Teens Cook!
DESCRIPTION:Cooking teaches teens to flex their creative culinary muscles and helps them develop skills and cooking habits they will use and enjoy for a lifetime. Students will see and practice a wide variety of culinary techniques while creating tasty dishes during each class. Classes are designed to take individually or as a series. Each class this season will feature a different menu and last approximately 1.5 hours. Please contact NTI at info@nothingtoit.com for specific class details.
URL:https://oldediblerenotahoe.com/event/cooking-class-teens-cook-2024-03-05/
LOCATION:Nothing To It!\, 225 Crummer Lane\, Reno\, NV\, 89502\, United States
CATEGORIES:Cooking Classes
END:VEVENT
BEGIN:VEVENT
DTSTART;TZID=America/Los_Angeles:20240304T160000
DTEND;TZID=America/Los_Angeles:20240304T173000
DTSTAMP:20260424T173430
CREATED:20231216T211949Z
LAST-MODIFIED:20231216T211949Z
UID:35938-1709568000-1709573400@oldediblerenotahoe.com
SUMMARY:Cooking Class: Kids Cook!
DESCRIPTION:Cooking teaches kids and teens to flex their creative culinary muscles and helps them develop skills and cooking habits they will use and enjoy for a lifetime. Students will see and practice a wide variety of culinary techniques while creating tasty dishes during each class. Classes are designed to take individually or as a series. Each class this season will feature a different menu and last approximately 1.5 hours. Minimum age 8yrs old.
URL:https://oldediblerenotahoe.com/event/cooking-class-kids-cook-2024-03-04/
LOCATION:Nothing To It!\, 225 Crummer Lane\, Reno\, NV\, 89502\, United States
CATEGORIES:Cooking Classes
END:VEVENT
BEGIN:VEVENT
DTSTART;TZID=America/Los_Angeles:20240301T180000
DTEND;TZID=America/Los_Angeles:20240301T200000
DTSTAMP:20260424T173430
CREATED:20240216T224153Z
LAST-MODIFIED:20240216T224153Z
UID:37332-1709316000-1709323200@oldediblerenotahoe.com
SUMMARY:Cooking Class: Sushi
DESCRIPTION:
URL:https://oldediblerenotahoe.com/event/cooking-class-sushi/
LOCATION:Nothing To It!\, 225 Crummer Lane\, Reno\, NV\, 89502\, United States
CATEGORIES:Cooking Classes
END:VEVENT
BEGIN:VEVENT
DTSTART;TZID=America/Los_Angeles:20240301T170000
DTEND;TZID=America/Los_Angeles:20240301T190000
DTSTAMP:20260424T173430
CREATED:20230927T220646Z
LAST-MODIFIED:20231227T222319Z
UID:36302-1709312400-1709319600@oldediblerenotahoe.com
SUMMARY:Bread Class 101
DESCRIPTION:Discover the art of naturally leavened bread. Learn flour basics\, starter maintenance\, mixing\, shaping\, and baking. By the end\, you’ll be ready to bake sourdough at home. The class combines dinner\, a lecture\, hands-on practice\, a sweet finish\, and Q&A. Ages 12+ welcome. Includes beverages\, dinner\, an Intro to Bread Packet\, dessert\, starter\, and bread.
URL:https://oldediblerenotahoe.com/event/perennbread101-2024-03-01/
LOCATION:Perenn Bakery Rancharrah\, 7700 Rancharrah Parkway\, Suite 110\, Reno\, NV\, 89511
CATEGORIES:Cooking Classes
ATTACH;FMTTYPE=image/jpeg:https://oldediblerenotahoe.com/wp-content/uploads/2023/09/bread-rotated.jpg
END:VEVENT
BEGIN:VEVENT
DTSTART;TZID=America/Los_Angeles:20240229T180000
DTEND;TZID=America/Los_Angeles:20240229T200000
DTSTAMP:20260424T173430
CREATED:20231216T221649Z
LAST-MODIFIED:20231216T221649Z
UID:35994-1709229600-1709236800@oldediblerenotahoe.com
SUMMARY:Cooking Class: Girls' Night Out - Barefoot in Paris
DESCRIPTION:Whether in a bistro or your own home\, French country cooking is appealing and romantic. Ina Garten’s Barefoot in Paris “translates” native French dishes you can easily make at home. The recipes are relaxed\, yet produce stylish meals that don’t tax the cook. If you’ve been curious about French cooking\, but reluctant to give it a try\, this is the class for you.
URL:https://oldediblerenotahoe.com/event/cooking-class-girls-night-out-barefoot-in-paris/
LOCATION:Nothing To It!\, 225 Crummer Lane\, Reno\, NV\, 89502\, United States
CATEGORIES:Cooking Classes
END:VEVENT
BEGIN:VEVENT
DTSTART;TZID=America/Los_Angeles:20240224T093000
DTEND;TZID=America/Los_Angeles:20240224T113000
DTSTAMP:20260424T173430
CREATED:20231216T221441Z
LAST-MODIFIED:20231216T221441Z
UID:35990-1708767000-1708774200@oldediblerenotahoe.com
SUMMARY:Croissant Baking Workshop
DESCRIPTION:Delight your senses and learn how to make a variety of croissants in the pleasure of your own kitchen. Don’t let this buttery on the inside\, crisp on the outside pastry be limited to purchasing at the bakery counter. Learn the simple step-by-step techniques to customizing you croissant dough into delicious savory and sweet pastries for all to enjoy.
URL:https://oldediblerenotahoe.com/event/croissant-baking-workshop/
LOCATION:Nothing To It!\, 225 Crummer Lane\, Reno\, NV\, 89502\, United States
CATEGORIES:Cooking Classes
END:VEVENT
BEGIN:VEVENT
DTSTART;TZID=America/Los_Angeles:20240223T180000
DTEND;TZID=America/Los_Angeles:20240223T200000
DTSTAMP:20260424T173430
CREATED:20231216T221330Z
LAST-MODIFIED:20231216T221330Z
UID:35988-1708711200-1708718400@oldediblerenotahoe.com
SUMMARY:Cooking Class: Taste of Greece
DESCRIPTION:Stretching from the shores of Turkey to the Ionian Sea west of Italy\, the Greek islands have been the crossroads of the Mediterranean since ancient times. This is why the foods of Greece are so fascinating and delicious. This class is for anyone that has ever dreamed of creating simple\, but never basic\, Greek foods for their own table.
URL:https://oldediblerenotahoe.com/event/cooking-class-taste-of-greece/
LOCATION:Nothing To It!\, 225 Crummer Lane\, Reno\, NV\, 89502\, United States
CATEGORIES:Cooking Classes
END:VEVENT
BEGIN:VEVENT
DTSTART;TZID=America/Los_Angeles:20240223T170000
DTEND;TZID=America/Los_Angeles:20240223T190000
DTSTAMP:20260424T173430
CREATED:20230927T220646Z
LAST-MODIFIED:20231227T222317Z
UID:36301-1708707600-1708714800@oldediblerenotahoe.com
SUMMARY:Bread Class 101
DESCRIPTION:Discover the art of naturally leavened bread. Learn flour basics\, starter maintenance\, mixing\, shaping\, and baking. By the end\, you’ll be ready to bake sourdough at home. The class combines dinner\, a lecture\, hands-on practice\, a sweet finish\, and Q&A. Ages 12+ welcome. Includes beverages\, dinner\, an Intro to Bread Packet\, dessert\, starter\, and bread.
URL:https://oldediblerenotahoe.com/event/perennbread101-2024-02-23/
LOCATION:Perenn Bakery Rancharrah\, 7700 Rancharrah Parkway\, Suite 110\, Reno\, NV\, 89511
CATEGORIES:Cooking Classes
ATTACH;FMTTYPE=image/jpeg:https://oldediblerenotahoe.com/wp-content/uploads/2023/09/bread-rotated.jpg
END:VEVENT
BEGIN:VEVENT
DTSTART;TZID=America/Los_Angeles:20240222T180000
DTEND;TZID=America/Los_Angeles:20240222T200000
DTSTAMP:20260424T173430
CREATED:20231216T221222Z
LAST-MODIFIED:20231216T221222Z
UID:35986-1708624800-1708632000@oldediblerenotahoe.com
SUMMARY:Cooking Class: Vietnamese Cuisine
DESCRIPTION:In this hands-on class\, you will taste why Vietnamese cuisine is called the freshest food in Asia. The ingredients include a unique blend of fresh herbs\, lettuces \, and sweet and salty seasonings. Explore this easy to prepare cuisine that finds its roots from France and China.
URL:https://oldediblerenotahoe.com/event/cooking-class-vietnamese-cuisine/
LOCATION:Nothing To It!\, 225 Crummer Lane\, Reno\, NV\, 89502\, United States
CATEGORIES:Cooking Classes
END:VEVENT
BEGIN:VEVENT
DTSTART;TZID=America/Los_Angeles:20240216T180000
DTEND;TZID=America/Los_Angeles:20240216T200000
DTSTAMP:20260424T173430
CREATED:20231216T221002Z
LAST-MODIFIED:20231216T221002Z
UID:35982-1708106400-1708113600@oldediblerenotahoe.com
SUMMARY:Cooking Class: Couples Love Bites
DESCRIPTION:Join us as we dim the lights for a romantic evening for two at Nothing to It! Experience the makings of a sumptuous enchanted evening\, cooking with your very own valentine. Champagne flows\, candles sparkle and your heartstrings sing. Romance in the kitchen\, anyone?
URL:https://oldediblerenotahoe.com/event/cooking-class-couples-love-bites-2024-02-16/
LOCATION:Nothing To It!\, 225 Crummer Lane\, Reno\, NV\, 89502\, United States
CATEGORIES:Cooking Classes,Holiday
END:VEVENT
BEGIN:VEVENT
DTSTART;TZID=America/Los_Angeles:20240215T180000
DTEND;TZID=America/Los_Angeles:20240215T200000
DTSTAMP:20260424T173430
CREATED:20231216T221002Z
LAST-MODIFIED:20231216T221002Z
UID:35981-1708020000-1708027200@oldediblerenotahoe.com
SUMMARY:Cooking Class: Couples Love Bites
DESCRIPTION:Join us as we dim the lights for a romantic evening for two at Nothing to It! Experience the makings of a sumptuous enchanted evening\, cooking with your very own valentine. Champagne flows\, candles sparkle and your heartstrings sing. Romance in the kitchen\, anyone?
URL:https://oldediblerenotahoe.com/event/cooking-class-couples-love-bites-2024-02-15/
LOCATION:Nothing To It!\, 225 Crummer Lane\, Reno\, NV\, 89502\, United States
CATEGORIES:Cooking Classes,Holiday
END:VEVENT
BEGIN:VEVENT
DTSTART;TZID=America/Los_Angeles:20240214T180000
DTEND;TZID=America/Los_Angeles:20240214T200000
DTSTAMP:20260424T173430
CREATED:20231216T221002Z
LAST-MODIFIED:20231216T221002Z
UID:35980-1707933600-1707940800@oldediblerenotahoe.com
SUMMARY:Cooking Class: Couples Love Bites
DESCRIPTION:Join us as we dim the lights for a romantic evening for two at Nothing to It! Experience the makings of a sumptuous enchanted evening\, cooking with your very own valentine. Champagne flows\, candles sparkle and your heartstrings sing. Romance in the kitchen\, anyone?
URL:https://oldediblerenotahoe.com/event/cooking-class-couples-love-bites/
LOCATION:Nothing To It!\, 225 Crummer Lane\, Reno\, NV\, 89502\, United States
CATEGORIES:Cooking Classes,Holiday
END:VEVENT
BEGIN:VEVENT
DTSTART;TZID=America/Los_Angeles:20240213T180000
DTEND;TZID=America/Los_Angeles:20240213T200000
DTSTAMP:20260424T173430
CREATED:20231216T220813Z
LAST-MODIFIED:20231216T220813Z
UID:35978-1707847200-1707854400@oldediblerenotahoe.com
SUMMARY:Cooking Class: Gumbo\, Jambalaya & Beignets
DESCRIPTION:No doubt about it—these are the three signature dishes we crave from New Orleans. In this hands-on class\, learn the difference between Creole and Cajun cuisine and how to make a proper roux. You might even answer the question\, can you eat just one beignet? Come and enjoy a tasty great time!
URL:https://oldediblerenotahoe.com/event/cooking-class-gumbo-jambalaya-beignets/
LOCATION:Nothing To It!\, 225 Crummer Lane\, Reno\, NV\, 89502\, United States
CATEGORIES:Cooking Classes
END:VEVENT
BEGIN:VEVENT
DTSTART;TZID=America/Los_Angeles:20240210T093000
DTEND;TZID=America/Los_Angeles:20240210T113000
DTSTAMP:20260424T173430
CREATED:20231216T220646Z
LAST-MODIFIED:20231216T220646Z
UID:35976-1707557400-1707564600@oldediblerenotahoe.com
SUMMARY:Dim Sum Workshop
DESCRIPTION:A foundation of Chinese dining\, Dim Sum translates as “to touch the heart.” Chinese cuisine is filled with these beautiful and tasty small treats of pastries\, dumplings and little bites. Join Nothing To It! for this hands-on workshop and as we explore and enjoy this creative way to feast.
URL:https://oldediblerenotahoe.com/event/dim-sum-workshop/
LOCATION:Nothing To It!\, 225 Crummer Lane\, Reno\, NV\, 89502\, United States
CATEGORIES:Cooking Classes
END:VEVENT
BEGIN:VEVENT
DTSTART;TZID=America/Los_Angeles:20240209T180000
DTEND;TZID=America/Los_Angeles:20240209T200000
DTSTAMP:20260424T173430
CREATED:20231216T220530Z
LAST-MODIFIED:20231216T220530Z
UID:35974-1707501600-1707508800@oldediblerenotahoe.com
SUMMARY:Cooking Class: Chinese Takeout Favorites
DESCRIPTION:Chinese food is a simple cuisine with distinctive flavors. After a review of the key elements of Chinese technique and ingredients\, you’ll be guided through making a unique and sumptuous Chinese meal of take-out classics with steamed meats\, stir-fried vegetables and delicious noodles. The colors\, flavors and textures will add a new dimension to your everyday meals.
URL:https://oldediblerenotahoe.com/event/cooking-class-chinese-takeout-favorites/
LOCATION:Nothing To It!\, 225 Crummer Lane\, Reno\, NV\, 89502\, United States
CATEGORIES:Cooking Classes
END:VEVENT
BEGIN:VEVENT
DTSTART;TZID=America/Los_Angeles:20240208T180000
DTEND;TZID=America/Los_Angeles:20240208T200000
DTSTAMP:20260424T173430
CREATED:20231216T220359Z
LAST-MODIFIED:20231216T220359Z
UID:35972-1707415200-1707422400@oldediblerenotahoe.com
SUMMARY:Cooking Class: Basque Table
DESCRIPTION:You don’t have to be Basque to enjoy this flavorful\, rustic cuisine. Foods of tradition and timelessness—that’s what Basque cuisine is all about. A blend of Spanish and French influences come together in one distinct cuisine\, simple in nature yet complex in the flavors they deliver. Come and experience the truth in the Old Basque saying\, “To know how to eat is to know enough.”
URL:https://oldediblerenotahoe.com/event/cooking-class-basque-table/
LOCATION:Nothing To It!\, 225 Crummer Lane\, Reno\, NV\, 89502\, United States
CATEGORIES:Cooking Classes
END:VEVENT
BEGIN:VEVENT
DTSTART;TZID=America/Los_Angeles:20240207T160000
DTEND;TZID=America/Los_Angeles:20240207T173000
DTSTAMP:20260424T173430
CREATED:20231216T211949Z
LAST-MODIFIED:20231216T211949Z
UID:35937-1707321600-1707327000@oldediblerenotahoe.com
SUMMARY:Cooking Class: Kids Cook!
DESCRIPTION:Cooking teaches kids and teens to flex their creative culinary muscles and helps them develop skills and cooking habits they will use and enjoy for a lifetime. Students will see and practice a wide variety of culinary techniques while creating tasty dishes during each class. Classes are designed to take individually or as a series. Each class this season will feature a different menu and last approximately 1.5 hours. Minimum age 8yrs old.
URL:https://oldediblerenotahoe.com/event/cooking-class-kids-cook-2024-02-07/
LOCATION:Nothing To It!\, 225 Crummer Lane\, Reno\, NV\, 89502\, United States
CATEGORIES:Cooking Classes
END:VEVENT
BEGIN:VEVENT
DTSTART;TZID=America/Los_Angeles:20240206T181500
DTEND;TZID=America/Los_Angeles:20240206T200000
DTSTAMP:20260424T173430
CREATED:20231216T220110Z
LAST-MODIFIED:20231216T220110Z
UID:35968-1707243300-1707249600@oldediblerenotahoe.com
SUMMARY:Knife Skills Workshop
DESCRIPTION:Knife skills are the foundation of good results in the kitchen. This class will give you in-depth practice at the fundamental knife skills to take you to the next level in the kitchen. You will amaze yourself at how far you will come in just one class!
URL:https://oldediblerenotahoe.com/event/knife-skills-workshop/
LOCATION:Nothing To It!\, 225 Crummer Lane\, Reno\, NV\, 89502\, United States
CATEGORIES:Cooking Classes
END:VEVENT
BEGIN:VEVENT
DTSTART;TZID=America/Los_Angeles:20240206T171500
DTEND;TZID=America/Los_Angeles:20240206T191500
DTSTAMP:20260424T173430
CREATED:20240124T003517Z
LAST-MODIFIED:20240124T003517Z
UID:37194-1707239700-1707246900@oldediblerenotahoe.com
SUMMARY:Valentine's Day Cookie Class
DESCRIPTION:
URL:https://oldediblerenotahoe.com/event/valentines-day-cookie-class-2024-02-06/
LOCATION:Mix Bakeshop\, 1117 California Avenue\, Reno\, NV\, 89509
CATEGORIES:Cooking Classes
END:VEVENT
BEGIN:VEVENT
DTSTART;TZID=America/Los_Angeles:20240206T160000
DTEND;TZID=America/Los_Angeles:20240206T180000
DTSTAMP:20260424T173430
CREATED:20231216T211558Z
LAST-MODIFIED:20231216T211558Z
UID:35931-1707235200-1707242400@oldediblerenotahoe.com
SUMMARY:Cooking Class: Teens Cook!
DESCRIPTION:Cooking teaches teens to flex their creative culinary muscles and helps them develop skills and cooking habits they will use and enjoy for a lifetime. Students will see and practice a wide variety of culinary techniques while creating tasty dishes during each class. Classes are designed to take individually or as a series. Each class this season will feature a different menu and last approximately 1.5 hours. Please contact NTI at info@nothingtoit.com for specific class details.
URL:https://oldediblerenotahoe.com/event/cooking-class-teens-cook-2024-02-06/
LOCATION:Nothing To It!\, 225 Crummer Lane\, Reno\, NV\, 89502\, United States
CATEGORIES:Cooking Classes
END:VEVENT
BEGIN:VEVENT
DTSTART;TZID=America/Los_Angeles:20240205T160000
DTEND;TZID=America/Los_Angeles:20240205T173000
DTSTAMP:20260424T173430
CREATED:20231216T215818Z
LAST-MODIFIED:20231216T215818Z
UID:35966-1707148800-1707154200@oldediblerenotahoe.com
SUMMARY:Cooking Class: Kids Cook!
DESCRIPTION:Cooking teaches kids and teens to flex their creative culinary muscles and helps them develop skills and cooking habits they will use and enjoy for a lifetime. Students will see and practice a wide variety of culinary techniques while creating tasty dishes during each class. Classes are designed to take individually or as a series. Each class this season will feature a different menu and last approximately 1.5 hours. Minimum age 8yrs old.
URL:https://oldediblerenotahoe.com/event/cooking-class-kids-cook-2/
LOCATION:Nothing To It!\, 225 Crummer Lane\, Reno\, NV\, 89502\, United States
CATEGORIES:Cooking Classes
END:VEVENT
BEGIN:VEVENT
DTSTART;TZID=America/Los_Angeles:20240203T093000
DTEND;TZID=America/Los_Angeles:20240203T113000
DTSTAMP:20260424T173430
CREATED:20231216T215519Z
LAST-MODIFIED:20231216T215519Z
UID:35964-1706952600-1706959800@oldediblerenotahoe.com
SUMMARY:Cooking Class: Wild Game Care & Cooking
DESCRIPTION:Have you ever heard someone say they don’t like wild game because it tastes too “gamey”? Learn to tame the gaminess with tips and techniques that get your game successfully from field to table and make meals you’ll be proud to serve family and friends. Topics covered include game care\, processing and storage; proper use of spices and marinades and the differences in handling and preparing wild game vs. domestic meats. In this demonstration class\, participants will sample prepared dishes.
URL:https://oldediblerenotahoe.com/event/cooking-class-wild-game-care-cooking/
LOCATION:Nothing To It!\, 225 Crummer Lane\, Reno\, NV\, 89502\, United States
CATEGORIES:Cooking Classes
END:VEVENT
BEGIN:VEVENT
DTSTART;TZID=America/Los_Angeles:20240202T180000
DTEND;TZID=America/Los_Angeles:20240202T200000
DTSTAMP:20260424T173430
CREATED:20231216T215351Z
LAST-MODIFIED:20231216T215351Z
UID:35962-1706896800-1706904000@oldediblerenotahoe.com
SUMMARY:Cooking Class: Taste of Sicily
DESCRIPTION:
URL:https://oldediblerenotahoe.com/event/cooking-class-taste-of-sicily/
LOCATION:Nothing To It!\, 225 Crummer Lane\, Reno\, NV\, 89502\, United States
CATEGORIES:Cooking Classes
END:VEVENT
BEGIN:VEVENT
DTSTART;TZID=America/Los_Angeles:20240201T180000
DTEND;TZID=America/Los_Angeles:20240201T200000
DTSTAMP:20260424T173430
CREATED:20231216T215212Z
LAST-MODIFIED:20231216T215212Z
UID:35960-1706810400-1706817600@oldediblerenotahoe.com
SUMMARY:Cooking Class: Cast Iron Cooking
DESCRIPTION:Cooking is all about heat transfer. And\, cast iron cookware provides a unique and radiant method of heat transfer that enhances flavor and transforms texture. Join Nothing To It! for this hands-on class that explores and celebrates the original gourmet-cooking tool that has survived the test of time. It’ll be your new best friend in the kitchen.
URL:https://oldediblerenotahoe.com/event/cooking-class-cast-iron-cooking/
LOCATION:Nothing To It!\, 225 Crummer Lane\, Reno\, NV\, 89502\, United States
CATEGORIES:Cooking Classes
END:VEVENT
BEGIN:VEVENT
DTSTART;TZID=America/Los_Angeles:20240201T171500
DTEND;TZID=America/Los_Angeles:20240201T191500
DTSTAMP:20260424T173430
CREATED:20240124T003517Z
LAST-MODIFIED:20240124T003517Z
UID:37193-1706807700-1706814900@oldediblerenotahoe.com
SUMMARY:Valentine's Day Cookie Class
DESCRIPTION:
URL:https://oldediblerenotahoe.com/event/valentines-day-cookie-class/
LOCATION:Mix Bakeshop\, 1117 California Avenue\, Reno\, NV\, 89509
CATEGORIES:Cooking Classes
END:VEVENT
END:VCALENDAR