BEGIN:VCALENDAR
VERSION:2.0
PRODID:-//Edible Reno-Tahoe - ECPv6.15.20//NONSGML v1.0//EN
CALSCALE:GREGORIAN
METHOD:PUBLISH
X-ORIGINAL-URL:https://oldediblerenotahoe.com
X-WR-CALDESC:Events for Edible Reno-Tahoe
REFRESH-INTERVAL;VALUE=DURATION:PT1H
X-Robots-Tag:noindex
X-PUBLISHED-TTL:PT1H
BEGIN:VTIMEZONE
TZID:America/Los_Angeles
BEGIN:DAYLIGHT
TZOFFSETFROM:-0800
TZOFFSETTO:-0700
TZNAME:PDT
DTSTART:20200308T100000
END:DAYLIGHT
BEGIN:STANDARD
TZOFFSETFROM:-0700
TZOFFSETTO:-0800
TZNAME:PST
DTSTART:20201101T090000
END:STANDARD
BEGIN:DAYLIGHT
TZOFFSETFROM:-0800
TZOFFSETTO:-0700
TZNAME:PDT
DTSTART:20210314T100000
END:DAYLIGHT
BEGIN:STANDARD
TZOFFSETFROM:-0700
TZOFFSETTO:-0800
TZNAME:PST
DTSTART:20211107T090000
END:STANDARD
BEGIN:DAYLIGHT
TZOFFSETFROM:-0800
TZOFFSETTO:-0700
TZNAME:PDT
DTSTART:20220313T100000
END:DAYLIGHT
BEGIN:STANDARD
TZOFFSETFROM:-0700
TZOFFSETTO:-0800
TZNAME:PST
DTSTART:20221106T090000
END:STANDARD
BEGIN:DAYLIGHT
TZOFFSETFROM:-0800
TZOFFSETTO:-0700
TZNAME:PDT
DTSTART:20230312T100000
END:DAYLIGHT
BEGIN:STANDARD
TZOFFSETFROM:-0700
TZOFFSETTO:-0800
TZNAME:PST
DTSTART:20231105T090000
END:STANDARD
END:VTIMEZONE
BEGIN:VEVENT
DTSTART;VALUE=DATE:20220727
DTEND;VALUE=DATE:20220728
DTSTAMP:20260424T145407
CREATED:20220519T215117Z
LAST-MODIFIED:20220519T215117Z
UID:26753-1658880000-1658966399@oldediblerenotahoe.com
SUMMARY:10th Anniversary Lake Tahoe Dance Festival
DESCRIPTION:The Lake Tahoe Dance Festival is a presentation of the Lake Tahoe Dance Collective\, whose mission is to promote classical\, modern and contemporary dance of the finest quality in the Lake Tahoe area through performance\, education and outreach\, enriching the community as a whole and as a cultural destination. \n​ \nThe festival was started to present the finest  professional dance and dance instruction in North Lake Tahoe. \n​ \nThe festival is directed by longtime friends and collaborators\, Constantine Baecher and Christin Hanna\, who’s friendship started in 1998 at American Ballet Theatre’s summer program in New York. \n​ \nThe festival offers three days of main stage performances\, audience participatory demonstrations\, site-specific installations\, meet-the-artists talks and more. The festival celebrates a variety of today’s most exciting working choreographers while preserving beloved classics of the past; including works by George Balanchine\, Lester Horton\, and Erick Hawkins.
URL:https://oldediblerenotahoe.com/event/10th-anniversary-lake-tahoe-dance-festival/
LOCATION:North Lake Tahoe
CATEGORIES:Arts,Cultural,Dance,Family friendly
END:VEVENT
BEGIN:VEVENT
DTSTART;VALUE=DATE:20220517
DTEND;VALUE=DATE:20220523
DTSTAMP:20260424T145407
CREATED:20220117T025531Z
LAST-MODIFIED:20220117T025547Z
UID:25773-1652745600-1653263999@oldediblerenotahoe.com
SUMMARY:Jesus Christ Superstar
DESCRIPTION:Jesus Christ Superstar is an iconic musical phenomenon with a world-wide fan base. In celebration of its 50th Anniversary\, a new mesmerizing production comes to North America. Originally staged by London’s Regent’s Park Open Air Theatre and helmed by the acclaimed director Timothy Sheader (Crazy for You\, Into the Woods) and award winning choreographer Drew McOnie (King Kong\, Strictly Ballroom)\, this production won the 2017 Olivier Award for Best Musical Revival garnering unprecedented reviews and accolades. Appealing to both theater audiences and concert music fans\, this production pays tribute to the historic 1971 Billboard Album of the Year while creating a modern\, theatrical world that is uniquely fresh and inspiring. \nFeaturing award-winning music by Andrew Lloyd Webber and lyrics by Tim Rice\, Jesus Christ Superstar is set against the backdrop of an extraordinary series of events during the final weeks in the life of Jesus Christ as seen through the eyes of Judas. Reflecting the rock roots that defined a generation\, the legendary score includes ‘I Don’t Know How to Love Him’\, ‘Gethsemane’ and ‘Superstar’.
URL:https://oldediblerenotahoe.com/event/jesus-christ-superstar/
LOCATION:Pioneer Center\, 100 S. Virginia St.\, Reno\, NV\, 89501
CATEGORIES:Arts,Community Events,Cultural,Family friendly,Theatre
END:VEVENT
BEGIN:VEVENT
DTSTART;TZID=America/Los_Angeles:20220318T193000
DTEND;TZID=America/Los_Angeles:20220318T193000
DTSTAMP:20260424T145407
CREATED:20220225T225552Z
LAST-MODIFIED:20220225T225552Z
UID:26033-1647631800-1647631800@oldediblerenotahoe.com
SUMMARY:Shen Yun 2022
DESCRIPTION:Shen Yun is a brilliant artistic revival and celebration of China’s rich cultural heritage. Each performance consists of about 20 pieces\, quickly moving from one legend\, region\, or dynasty to the next. Themes range from the delicate elegance of Tang court ladies to the battlefield heroics of valiant generals\, from the timeless philosophical works of Lao-Tzu to spectacular scenes of magical realms. Some pieces also touch upon the topic of today’s China\, shedding light on the oppression many experience for their spiritual beliefs\, such as Falun Dafa. These tales of courage are often what audience members find the most touching and uplifting.
URL:https://oldediblerenotahoe.com/event/shen-yun-2022/
LOCATION:Pioneer Center\, 100 S. Virginia St.\, Reno\, NV\, 89501
CATEGORIES:Arts,Cultural,Dance,Music,Theatre
END:VEVENT
BEGIN:VEVENT
DTSTART;TZID=America/Los_Angeles:20220308T193000
DTEND;TZID=America/Los_Angeles:20220308T193000
DTSTAMP:20260424T145407
CREATED:20220225T225243Z
LAST-MODIFIED:20220225T225243Z
UID:26031-1646767800-1646767800@oldediblerenotahoe.com
SUMMARY:Artown Presents Martha Graham's Diversion of Angels
DESCRIPTION:Artown’s March 8\, 2022 presentation of the incomparable Martha Graham Dance Company: The First and The Future\, marks the triumphant return to the stage for the Company after a long 19 months\, and is part of their 96th season! Martha Graham Dance Company will perform iconic Graham classics alongside a stunning new work by one of today’s top choreographers. The dancers of the Department of Theatre & Dance\, School of the Arts at the University of Nevada\, Reno will open the program with a special restaging of Graham’s first modernist masterpiece\, ‘Heretic\,’ from 1929.Then\, the Company dancers take the stage with Graham’s joyous ode to love\, ‘Diversion of Angels\,’ which will be followed by one of her most powerful solos\, ‘Immediate Tragedy.’ Reno audiences will be among the first to see ‘Scavengers’ by the much-in-demand choreographer Andrea Miller. This season premiere brings us four intimate duets that evoke our renewed appreciation of human connection post pandemic. ‘Scavengers’ also showcases the world-renown athleticism of the Graham dancers.The full Company closes the program with ‘Acts of Light\,’ created by Graham in 1981 and performed in three sections. The first is a passionate duet titled ‘Conversation of Lovers’. The second\, ‘Lament’\, references Graham’s early modernist solo\, ‘Lamentation\,’ and the final section\, ‘Ritual to the Sun\,’ is a high-energy celebration of Graham’s famed dance language. \nSponsors\nWESTAF\, NV Energy Foundation\, National Endowment for the Arts\, Nevada Arts Council\, University of Nevada Reno\, Whitney Peak Hotel. Martha Graham Dance Company artist fees sponsored exclusively by E. L. Wiegand Foundation.
URL:https://oldediblerenotahoe.com/event/artown-presents-martha-grahams-diversion-of-angels/
LOCATION:Pioneer Center\, 100 S. Virginia St.\, Reno\, NV\, 89501
CATEGORIES:Arts,Cultural,Dance,Music
END:VEVENT
BEGIN:VEVENT
DTSTART;VALUE=DATE:20220124
DTEND;VALUE=DATE:20220125
DTSTAMP:20260424T145407
CREATED:20210927T225639Z
LAST-MODIFIED:20210927T225639Z
UID:25123-1642982400-1643068799@oldediblerenotahoe.com
SUMMARY:38th Annual National Cowboy Poetry Gathering
DESCRIPTION:It all began as a time and place where Western ranchers and cowboys could gather to share poems about their lives working cattle. Three decades later\, the tribe is now a nation of Western poets\, musicians\, artisans and storytellers\, sharing their creativity across the country\, telling their stories of hard work\, heartbreak and hilarity\, and what it means to make your way in the rangeland West. The 38th National Cowboy Poetry Gathering will take place in Elko\, Nevada\, Jan. 24-29\, 2022! We will be “Keeping the West Wild\,” inviting western poets\, songwriters\, artists\, artisans\, and land stewards to bring new and old stories to light as they endeavor to create a West that hosts healthy and hospitable landscapes and agriculture-based communities. More details will be available soon about the artist lineup and schedule\, so stay tuned. \nAnd in the meantime\, consider joining the Western Folklife Center as a member. This allows you early access to purchase 2022 Gathering tickets beginning Oct. 25\, 2021\, plus you can also watch our virtual event from this past January as well as full shows from the 2020 Gathering.
URL:https://oldediblerenotahoe.com/event/38th-annual-national-cowboy-poetry-gathering/
LOCATION:Western Folklife Center\, 501 Railroad Street\, Elko\, NV\, 89801
CATEGORIES:Activity,Arts,Community Events,Cultural,Festival,Speaker
END:VEVENT
BEGIN:VEVENT
DTSTART;TZID=America/Los_Angeles:20211117T173000
DTEND;TZID=America/Los_Angeles:20211117T190000
DTSTAMP:20260424T145407
CREATED:20211111T014057Z
LAST-MODIFIED:20211111T014057Z
UID:25389-1637170200-1637175600@oldediblerenotahoe.com
SUMMARY:Indigenous Education in the State of Nevada
DESCRIPTION:In celebration of Indigenous Heritage month\, please join us for an opportunity to hear promising practices and get insight on Indigenous education in the state of Nevada from key stakeholders. The panel will be comprised by University of Nevada\, Reno’s Indigenous student services coordinator\, local educators\, and students. \nThis event is co-sponsored by the Multicultural Center and the College of Education and Human Development. Reception to follow. \nModerator: Fredina Drye-Romero\, Nevada Department of Education Programs Professional for Indian Education \nPanelists:  \n\nJake Chapin\, Natchez Elementary School Principal\nKari Emm\, Director of Transfer and Recruitment & Doctoral Candidate\, College of Education & Human Development\nLynn John\, Vice Principal at Owyhee Combined Schools\nFawn Hunter\, WCSD Indian Education Specialist\nLance West\, Schurz Elementary School Principal\n\nFacilitators: Markie Wilder\, Indigenous Student Services Coordinator & Eleni Oikonomidoy\, Professor & Associate Dean\, College of Education & Human Development
URL:https://oldediblerenotahoe.com/event/indigenous-education-in-the-state-of-nevada/
LOCATION:University of Nevada\, Reno Knowledge Center\, 1664 North Virginia Street\, Reno\, NV\, 89557
CATEGORIES:Community Events,Cultural,Educational,Speaker
END:VEVENT
BEGIN:VEVENT
DTSTART;TZID=America/Los_Angeles:20211102T180000
DTEND;TZID=America/Los_Angeles:20211102T180000
DTSTAMP:20260424T145407
CREATED:20210927T224907Z
LAST-MODIFIED:20210927T224907Z
UID:25118-1635876000-1635876000@oldediblerenotahoe.com
SUMMARY:Dia de los Muertos
DESCRIPTION:Enjoy a special Day of the Dead dining experience by The Jesse and Estella.
URL:https://oldediblerenotahoe.com/event/dia-de-los-muertos/
LOCATION:Estella at The Jesse\, 350 Evans Ave.\, Reno\, NV\, 89501
CATEGORIES:Activity,Community Events,Cultural,Food & Drink
END:VEVENT
BEGIN:VEVENT
DTSTART;TZID=America/Los_Angeles:20211029T180000
DTEND;TZID=America/Los_Angeles:20211029T210000
DTSTAMP:20260424T145407
CREATED:20210927T225203Z
LAST-MODIFIED:20210927T225203Z
UID:25120-1635530400-1635541200@oldediblerenotahoe.com
SUMMARY:For Kids Foundation Oktoberfest
DESCRIPTION:Join For Kids Foundation in celebrating Nevada Day and Northern Nevada’s fabulous fall season at our very first Oktoberfest fundraiser\, benefiting vulnerable children in our community. \nEnter our Beer Garden\, featuring local breweries\, starting at 6 PM. A full Oktoberfest-inspired buffet will keep you going all night while you tap your feet to the sounds of DJ James Klein with Thunder and Lightning Mobile DJs. There may even be some polka dancing if the mood strikes you! \nWe’ll get the audience involved with some fun contests\, prizes for the best Oktoberfest garb (costumes strongly encouraged!)\, raffle prizes\, and our exciting Reverse Raffle. \nOur unique Reverse Raffle boasts a grand prize of $3\,000 Costco Gift Card. Just think of the damage you could do with that kind of money at Costco! We are selling only 100 Reverse Raffle tickets at $100/each. During the evening\, we will draw tickets (if your number is drawn\, you’re out of the game) until only three tickets remain. One of these three people will go home with the cash prize! It’s super exciting because you can “buy” someone else’s ticket if they are willing to sell and you’re feeling lucky! You must be present to win. \nFor Kids Foundation is a 501(c)(3) nonprofit organization funding the urgent\, unmet needs of Northern Nevada children\, from birth to age 21\, when there is no other known option available. With families still reeling from the recent world health situation\, your participation now\, more than ever\, is greatly needed to allow us to continue our mission of serving the underserved in our communities. \nMeet our Beer Sponsors: \nBlack Rabbit Mead Company \nFerino \nLead Dog Brewing \nRecord Street Brewing Company
URL:https://oldediblerenotahoe.com/event/for-kids-foundation-oktoberfest/
LOCATION:Elks Lodge\, 597 Kumle Lane\, Reno\, NV\, 89509
CATEGORIES:Activity,Beer,Community Events,Cultural,Festival,Food & Drink,Nonprofit
END:VEVENT
BEGIN:VEVENT
DTSTART;TZID=America/Los_Angeles:20211021T173000
DTEND;TZID=America/Los_Angeles:20211021T193000
DTSTAMP:20260424T145407
CREATED:20210909T194407Z
LAST-MODIFIED:20210909T194407Z
UID:25006-1634837400-1634844600@oldediblerenotahoe.com
SUMMARY:We Are Change Makers Summit
DESCRIPTION:WE ARE CHANGE MAKERS is the go-to event for any interested in creating change. A virtual event for 2021\, WACM draws bold\, bright people who are stepping up as powerful leaders. We are an inclusive and passionate group of business owners\, students\, activists\, professionals\, and entrepreneurs committed to growing connection and inspiring vision. \n\n\n\n\n\n\n\n\n\n\n\n\n\nEnjoy a diverse selection of panels and workshops facilitated by a phenomenal line-up of original\, inspiring\, and courageous speakers. Ramp up your mind and reboot your passion with interactive\, energizing sessions and take home tangible career and business-building tools.
URL:https://oldediblerenotahoe.com/event/we-are-change-makers-summit/
LOCATION:Online
CATEGORIES:Community Events,Cultural,Educational,Virtual
END:VEVENT
BEGIN:VEVENT
DTSTART;VALUE=DATE:20211021
DTEND;VALUE=DATE:20211024
DTSTAMP:20260424T145407
CREATED:20210527T201031Z
LAST-MODIFIED:20210527T201031Z
UID:24301-1634774400-1635033599@oldediblerenotahoe.com
SUMMARY:Art + Environment Conference
DESCRIPTION:Commemorating 50 years of Land Art\, the Nevada Museum of Art convenes its triennial Art + Environment Conference on the subject of Land Art: Past\, Present\, and Futures. The gathering will bring together prominent artists\, art historians\, and critics who have shaped the pioneering genre\, alongside interdisciplinary scholars\, artists\, and social activists who are exploring “What’s next?” \n\nOrganizerVenue
URL:https://oldediblerenotahoe.com/event/art-environment-conference/
LOCATION:Nevada Museum of Art\, 160 West Liberty\, Reno\, Nevada\, 89501
CATEGORIES:Arts,Community Class,Cultural,Educational,Outdoors,Science
END:VEVENT
BEGIN:VEVENT
DTSTART;TZID=America/Los_Angeles:20211015T173000
DTEND;TZID=America/Los_Angeles:20211015T173000
DTSTAMP:20260424T145407
CREATED:20210927T224210Z
LAST-MODIFIED:20210927T224210Z
UID:25112-1634319000-1634319000@oldediblerenotahoe.com
SUMMARY:22nd Annual Global Gala
DESCRIPTION:By walking through the doors of Northern Nevada International Center’s Global Gala: Connecting Reno’s Global Family\, Friday\, October 15\, you will be crossing into a brighter future and a broader present. In addition to a dinner and a program worth remembering\, you’ll be opening doors to the world. You will directly help our work of leading Nevada’s global engagement through refugee resettlement\, international exchanges and language access programs.\n\n\n\n\n\n\n\n\n\n\n\n\n\n\n\n\n\n\n\n\n\n\n\n\n\n\n\n\n\n\n\n\n\n\n\n\n\n\n\n\n\n\n\n\n\n\n\n\n\n\nJoin the celebration\n\n\n\n\n\n\n\n\n\n\n\n\n\n\n\nWe’ve created an amazing night for our 22nd Annual Global Gala: Connecting Reno’s Global Family. We’ve added more and better opportunities to hear from and interact with alumni visitors from around the world who participated in our program\, as well as those in the Reno area. These different stations will be available for you to peruse while you enjoy a cocktail hour strolling through the National Automobile Museum.\n\n\n\n\n\n\n\n\n\n\n\n\n\n\n\n\n\n\n\n\n\n\n\n\n\n\n\n\n\n\n\n\n\n\n\n\n\n\n\n\n\n\n\n\n\n\n\n\n\n\nBe a part of something big\n\n\n\n\n\n\n\n\n\n\n\n\n\n\n\nGlobal events call us to do more\, and to do that\, we need your support more than ever. We need our most ardent backers to celebrate what we have accomplished while empowering us to hit our next and greatest level of service capability.\n\n\n\n\n\n\n\n\n\n\n\n\n\n\n\n\n\n\n\n\n\n\n\n\n\n\n\n\n\n\n\nKeynote speaker: Eskinder Negash\n\n\n\n\n\n\n\n\n\n\n\n\n\n\n\nEskinder Negash is President and CEO of the U.S. Committee for Refugees and Immigrants (USCRI)\, an organization founded in 1911 to protect the rights and address the needs of persons in forced or voluntary migration worldwide and support their transition to a dignified life. Negash is a recognized senior executive leader and brings nearly 40 years of proven non-profit management experience on behalf of refugees and immigrants.
URL:https://oldediblerenotahoe.com/event/22nd-annual-global-gala/
LOCATION:National Automobile Museum\, 10 South Lake St.\, Reno\, 89501
CATEGORIES:Activity,Community Events,Cultural,Educational,Food & Drink,Nonprofit,Wine
END:VEVENT
BEGIN:VEVENT
DTSTART;TZID=America/Los_Angeles:20211010T170000
DTEND;TZID=America/Los_Angeles:20211010T170000
DTSTAMP:20260424T145407
CREATED:20210927T224718Z
LAST-MODIFIED:20210927T224718Z
UID:25114-1633885200-1633885200@oldediblerenotahoe.com
SUMMARY:Baja Wine Dinner
DESCRIPTION:Enjoy hand-selected wines from Baja paired with an Estella dining experience.
URL:https://oldediblerenotahoe.com/event/baja-wine-dinner/
LOCATION:Estella at The Jesse\, 350 Evans Ave.\, Reno\, NV\, 89501
CATEGORIES:Activity,Community Events,Cultural,Food & Drink,Wine
END:VEVENT
BEGIN:VEVENT
DTSTART;TZID=America/Los_Angeles:20210916T160000
DTEND;TZID=America/Los_Angeles:20210916T160000
DTSTAMP:20260424T145407
CREATED:20210909T200430Z
LAST-MODIFIED:20210909T200430Z
UID:25022-1631808000-1631808000@oldediblerenotahoe.com
SUMMARY:Mexican Independence Day in The Village at Rancharrah
DESCRIPTION:Mari Chuy’s Tequileria y Botanas Mexican Independence Day fiesta in Village at Rancharrah! Al pastor tacos\, tequila\, entertainment\, & more!\n\n\n\n\n\nAbout this event\n\n\nCelebrate Mexican Independence Day with your friends and family at Mari Chuy’s Tequileria y Botanas! \nTickets are just $40 (+ small Eventbrite fee) per person\, and you’ll enjoy… \n• One (1) Taco Plate ???? \n• One (1) Drink (choice of margarita\, tequila shot\, beer or soda) ???????? \n• Tequila tasting from multiple distilleries ???? \n• Live entertainment including \n\nSpecial Mexican Independence Day Ballet Folklorico (traditional Mexican dancing) ????\n10-piece mariachi band performance ???? ???? ????\nCaballos Bailandos de Ramiro Perez (dancing horses!) ???? ???? ????\n\n• Tour the new Mari Chuy’s Tequileria y Botanas in The Village at Rancharrah ???? \nWe will also have a Tequila Basket Raffle tickets ($25/each) with proceeds benefitting the Boys & Girls Club of Truckee Meadows ????????
URL:https://oldediblerenotahoe.com/event/mexican-independence-day-in-the-village-at-rancharrah/
LOCATION:The Village at Rancharrah\, 7100 Rancharrah Parkway\, Reno\, NV\, 89511
CATEGORIES:Activity,Cultural,Festival,Food & Drink,Music
END:VEVENT
BEGIN:VEVENT
DTSTART;TZID=America/Los_Angeles:20210731T193000
DTEND;TZID=America/Los_Angeles:20210731T210000
DTSTAMP:20260424T145407
CREATED:20210514T000419Z
LAST-MODIFIED:20210514T000419Z
UID:24259-1627759800-1627765200@oldediblerenotahoe.com
SUMMARY:ARTOWN CLOSING NIGHT: BUFFY SAINTE-MARIE
DESCRIPTION:Sainte-Marie has spent her whole life creating\, and her artistry\, humanitarian efforts\, and Indigenous leadership have made her a unique force in the music industry. In 1969\, she made one of the world’s first electronic vocal albums; in 1982 she became the only Indigenous person to win an Oscar; she spent five years on Sesame Street where she became the first woman to breastfeed on national television. She’s been blacklisted and silenced. She’s written pop standards sung and recorded by the likes of Janis Joplin\, Elvis Presley\, Donovan\, Joe Cocker and Jennifer Warnes. She penned “Universal Soldier\,” the definitive anti-war anthem of the 20th century. She is an icon who keeps one foot firmly planted on either side of the North American border\, in the un-surrendered territories that comprise Canada and the USA.
URL:https://oldediblerenotahoe.com/event/artown-closing-night-buffy-sainte-marie/
LOCATION:Rancho San Rafael Regional Park\, 1595 N Sierra St\, Reno
CATEGORIES:Activity,Arts,Community Events,Cultural,Festival,Music,Nonprofit,Outdoors
END:VEVENT
BEGIN:VEVENT
DTSTART;TZID=America/Los_Angeles:20210725T160000
DTEND;TZID=America/Los_Angeles:20210725T170000
DTSTAMP:20260424T145407
CREATED:20210629T213307Z
LAST-MODIFIED:20210629T213307Z
UID:24548-1627228800-1627232400@oldediblerenotahoe.com
SUMMARY:Paa Kow Afro-Fusion Drum Clinic
DESCRIPTION:Paa Kow\, dubbed “Ghana’s most artistic drummer”\, blends the rhythm and artistry from his native Ghanaian Highlife music with modern jazz\, creating his own unique Afro-Fusion sound. He plays a custom\, hand-carved\, traditionally inspired Ghanaian drum set that is the only one of its kind in the world.  Join us for an exceptional cultural and musical experience exploring Paa Kow’s West African drumming rhythms and techniques\, his story growing up as a drummer in Ghana\, and how jazz has contributed to his Afro-Fusion sound. \nTickets are FREE and open to the public\, but advanced reservations are HIGHLY recommended.
URL:https://oldediblerenotahoe.com/event/paa-kow-afro-fusion-drum-clinic/
LOCATION:Reno Little Theatre\, 147 E Pueblo St\, Reno
CATEGORIES:Activity,Community Class,Cultural,Educational,Music
END:VEVENT
BEGIN:VEVENT
DTSTART;TZID=America/Los_Angeles:20210724T130000
DTEND;TZID=America/Los_Angeles:20210724T160000
DTSTAMP:20260424T145407
CREATED:20210721T204835Z
LAST-MODIFIED:20210721T204835Z
UID:24720-1627131600-1627142400@oldediblerenotahoe.com
SUMMARY:Inaugural Dr. Martin Luther King Jr. Celebration Summerfest 2021
DESCRIPTION:The Northern Nevada Dr. Martin Luther King\, Jr. Memorial Committee presents its first annual Dr. Martin Luther Kings\, Jr.\, Summerfest. The Summerfest will include fun for the whole family\, community fellowship\, games\, music\, art\, and food trucks. \nThis event will be held at Pat Baker Park on Saturday\, July 24th\, from 1:00-4:00 pm. It is our goal that this event will inspire the community to take action in support of human and civil rights in their day-to-day interactions and work. \nThe Northern Nevada Dr. MLK\, Jr.\, Memorial Committee promotes collaborative and cooperative relations\, encourages the sharing of information among all organizations and faith groups. We work with our members and the community at large to support inclusion\, kindness\, charity\, love\, and respect among all religious groups and residents of Nevada. Our goal is to understand and honor all faiths\, cultures\, and beliefs. We create an environment of understanding through communication\, having an open mind and open heart\, and joining together to focus on what unites us while respecting how we differ. \nAs part of the festivities\, a new mural will be created at Pat Baker Park. Artist Terrence Hammond\, a local muralist and painter\, will lead the painting of the mural. Community members will have an opportunity to help lay the foundation for the mural during the event. The mural\, funded by the City of Reno’s 2% for Public Art fund\, will depict and honor local black women and men who have made a difference in our community. Hammond says\, “Given Pat Baker Park as the location\, the concept reflects an authentic street art style that children can understand as well as bringing an aesthetic that is unique and appreciated by all age groups. The characters are representations of Evelyn Mount\, Kenneth B. Dalton\, Dolores Feemster\, Bernice Matthews\, and Ondra L. Berry all of whom have made significant contributions to black culture and community in our city.”
URL:https://oldediblerenotahoe.com/event/inaugural-dr-martin-luther-king-jr-celebration-summerfest-2021/
LOCATION:Pat Baker Park\, 1910 Bishop St.\, Reno\, NV\, 89512
CATEGORIES:Community Events,Cultural,Festival,Food & Drink,Outdoors
END:VEVENT
BEGIN:VEVENT
DTSTART;TZID=America/Los_Angeles:20210717T193000
DTEND;TZID=America/Los_Angeles:20210717T210000
DTSTAMP:20260424T145407
CREATED:20210513T231349Z
LAST-MODIFIED:20210513T231349Z
UID:24248-1626550200-1626555600@oldediblerenotahoe.com
SUMMARY:SIERRA NEVADA BALLET PRESENTS: GISELLE
DESCRIPTION:The famous classic Giselle is the bittersweet story of love and death that has moved audiences of all ages in every corner of the world. It is possibly the best-loved of the world’s ballets about the peasant girl who falls in love with a Prince\, dies of a broken heart and is transformed into a spirit protecting her lover from the vengeance of a group of evil female spirits called Wilis. SNB’s production features DaYoung Jung\, Alehendro Gonzales\, Ananda Bena-Weber and a cast of 30 dancers.
URL:https://oldediblerenotahoe.com/event/sierra-nevada-ballet-presents-giselle/
LOCATION:Rancho San Rafael Regional Park\, 1595 N Sierra St\, Reno
CATEGORIES:Arts,Community Events,Cultural,Dance,Festival,Nonprofit,Outdoors
END:VEVENT
BEGIN:VEVENT
DTSTART;TZID=America/Los_Angeles:20210717T123000
DTEND;TZID=America/Los_Angeles:20210717T163000
DTSTAMP:20260424T145407
CREATED:20210513T224729Z
LAST-MODIFIED:20210513T224808Z
UID:24231-1626525000-1626539400@oldediblerenotahoe.com
SUMMARY:Native American Culture and Community
DESCRIPTION:Step into the Native American world of community. Learn how it is created and maintained through storytelling\, ritual and genuine reverence for the earth. A Washo spirit guide will take you through the power of storytelling and indigenous history to arrive at a new appreciation of this culture and its concept of true democracy.
URL:https://oldediblerenotahoe.com/event/native-american-culture-and-community/
LOCATION:TMCC Meadowood Center\, 5270 Neil Rd.\, South Bldg.\, Reno\, NV\, 89502\, United States
CATEGORIES:Community Class,Cultural,Educational
END:VEVENT
BEGIN:VEVENT
DTSTART;TZID=America/Los_Angeles:20210717T090000
DTEND;TZID=America/Los_Angeles:20210717T170000
DTSTAMP:20260424T145407
CREATED:20210513T230610Z
LAST-MODIFIED:20210513T230610Z
UID:24242-1626512400-1626541200@oldediblerenotahoe.com
SUMMARY:54TH ANNUAL RENO BASQUE FESTIVAL
DESCRIPTION:Will perform traditional folk dances along with informal dancing instruction for the public.Musicians will interpret vocal and instrumental Basque melodies. Watch weight lifting and wood chopping exhibitions. The public can participate in a weight carrying competition. Children can enter a bota drinking event. Listen to improvisational poetry in the Basque’s ancient language of Euskera. Foods\, alcoholic and non alcoholic beverages will be available for purchase. Souvenirs for purchase.
URL:https://oldediblerenotahoe.com/event/54th-annual-reno-basque-festival/
LOCATION:Idlewild Park\, 1000 Cowan Dr.\, Reno\, NV\, 89509
CATEGORIES:Activity,Community Events,Cultural,Food & Drink,Music,Outdoors
END:VEVENT
BEGIN:VEVENT
DTSTART;TZID=America/Los_Angeles:20210716T180000
DTEND;TZID=America/Los_Angeles:20210716T220000
DTSTAMP:20260424T145407
CREATED:20210527T202346Z
LAST-MODIFIED:20210527T202346Z
UID:24326-1626458400-1626472800@oldediblerenotahoe.com
SUMMARY:Gospel Fest 2021
DESCRIPTION:World of Life Ministries presents the 14th Annual Gospel Fest\, featuring Grammy Award-winning Artist-Writer Juanita Wynn and Dove Award Nominated Producer K-Ross. Additional performances by The Wynn Sisters\, Desean Horne\, David Perez\, Luke Wynn\, Joshua Watson\, William J. Wynn\, Cherael Murray and Sky Davis.
URL:https://oldediblerenotahoe.com/event/gospel-fest-2021/
LOCATION:Rancho San Rafael Regional Park\, 1595 N Sierra St\, Reno
CATEGORIES:Arts,Community Events,Cultural,Dance,Festival,Music,Nonprofit,Outdoors
END:VEVENT
BEGIN:VEVENT
DTSTART;TZID=America/Los_Angeles:20210714T183000
DTEND;TZID=America/Los_Angeles:20210714T213000
DTSTAMP:20260424T145407
CREATED:20210527T202148Z
LAST-MODIFIED:20210527T202148Z
UID:24323-1626287400-1626298200@oldediblerenotahoe.com
SUMMARY:The Cosmic Heart Sound Bath
DESCRIPTION:Join the Cosmic Hearts for a monthly sound bath reiki. Diving deep into the sacred soundscapes of crystal bowls\, gongs\, and the didgeridoo.
URL:https://oldediblerenotahoe.com/event/the-cosmic-heart-sound-bath/
LOCATION:The Virgil\, 301 Vassar Street\, Reno
CATEGORIES:Community Events,Cultural
END:VEVENT
END:VCALENDAR