BEGIN:VCALENDAR
VERSION:2.0
PRODID:-//Edible Reno-Tahoe - ECPv6.15.20//NONSGML v1.0//EN
CALSCALE:GREGORIAN
METHOD:PUBLISH
X-ORIGINAL-URL:https://oldediblerenotahoe.com
X-WR-CALDESC:Events for Edible Reno-Tahoe
REFRESH-INTERVAL;VALUE=DURATION:PT1H
X-Robots-Tag:noindex
X-PUBLISHED-TTL:PT1H
BEGIN:VTIMEZONE
TZID:America/Los_Angeles
BEGIN:DAYLIGHT
TZOFFSETFROM:-0800
TZOFFSETTO:-0700
TZNAME:PDT
DTSTART:20200308T100000
END:DAYLIGHT
BEGIN:STANDARD
TZOFFSETFROM:-0700
TZOFFSETTO:-0800
TZNAME:PST
DTSTART:20201101T090000
END:STANDARD
BEGIN:DAYLIGHT
TZOFFSETFROM:-0800
TZOFFSETTO:-0700
TZNAME:PDT
DTSTART:20210314T100000
END:DAYLIGHT
BEGIN:STANDARD
TZOFFSETFROM:-0700
TZOFFSETTO:-0800
TZNAME:PST
DTSTART:20211107T090000
END:STANDARD
BEGIN:DAYLIGHT
TZOFFSETFROM:-0800
TZOFFSETTO:-0700
TZNAME:PDT
DTSTART:20220313T100000
END:DAYLIGHT
BEGIN:STANDARD
TZOFFSETFROM:-0700
TZOFFSETTO:-0800
TZNAME:PST
DTSTART:20221106T090000
END:STANDARD
END:VTIMEZONE
BEGIN:VTIMEZONE
TZID:UTC
BEGIN:STANDARD
TZOFFSETFROM:+0000
TZOFFSETTO:+0000
TZNAME:UTC
DTSTART:20200101T000000
END:STANDARD
END:VTIMEZONE
BEGIN:VEVENT
DTSTART;TZID=America/Los_Angeles:20210710T110000
DTEND;TZID=America/Los_Angeles:20210710T130000
DTSTAMP:20260424T161334
CREATED:20210512T233012Z
LAST-MODIFIED:20210512T233012Z
UID:24142-1625914800-1625922000@oldediblerenotahoe.com
SUMMARY:Delhi Street Foods
DESCRIPTION:Learn how to make two versions of a savory Indian delicacy called chaat. You’ll be guided through the preparation of aloo chaat\, a spicy potato and onion dish served with chutneys\, and chana chaat\, an aromatic dish made with garbanzo beans\, onions\, tomatoes\, spice powders and lemon. These authentic Indian recipes burst with flavors you’d find in the street foods of Delhi. $15 materials fee
URL:https://oldediblerenotahoe.com/event/delhi-street-foods/
LOCATION:TMCC Meadowood Center\, 5270 Neil Rd.\, South Bldg.\, Reno\, NV\, 89502\, United States
CATEGORIES:Cooking Classes,Educational,Food & Drink
END:VEVENT
BEGIN:VEVENT
DTSTART;TZID=America/Los_Angeles:20210626T100000
DTEND;TZID=America/Los_Angeles:20210626T210000
DTSTAMP:20260424T161334
CREATED:20210512T203835Z
LAST-MODIFIED:20210512T203835Z
UID:24067-1624701600-1624741200@oldediblerenotahoe.com
SUMMARY:Sierra Arts Festival
DESCRIPTION:Sierra Arts Festival 2021 celebrates local artists in downtown Reno with an all-day outdoor\, open-air art market\, music\, family-friendly entertainment\, a beer garden\, local food trucks\, and packed activities. \nSierra Arts Foundation and Artech with the support of generous community donors including the City of Reno\, will showcase a group of talented local artists who will present their art for sale at the Sierra Arts Festival event. The event will combine an art sale with entertainment including a Hula Hoop Jam\, stilt walkers\, clowns\, and live music. \nSaturday festivities feature a special CR8TIV Zone\, hosted by the Nevada Museum of Art providing art supplies and activities for kids of all ages. Hula Hoops\, balloons\, face painting\, puppets\, and interactive art projects will be on hand for the entire family to enjoy. Music and entertainment all day. Food and drink trucks will be on-site plus free parking! Masks and social distancing will be required. \nIt’s a fun-filled day of entertainment for the whole family to enjoy\, and it’s all free thanks to Sierra Arts Festival generous sponsors\, donors\, and volunteers.
URL:https://oldediblerenotahoe.com/event/sierra-arts-festival/
LOCATION:Reno City Plaza
CATEGORIES:Arts,Community Events,Educational,Nonprofit
END:VEVENT
BEGIN:VEVENT
DTSTART;TZID=America/Los_Angeles:20210619T100000
DTEND;TZID=America/Los_Angeles:20210619T123000
DTSTAMP:20260424T161334
CREATED:20210512T235805Z
LAST-MODIFIED:20210512T235805Z
UID:24152-1624096800-1624105800@oldediblerenotahoe.com
SUMMARY:Kitchen Gardening: Microgreens
DESCRIPTION:Cultivate edible plants like sprouts and microgreens year-round. Learn about the many varieties and purposes of these delicious greens and discover how you can incorporate them into your diet. Find out how to build your own garden\, discuss the greens that work best for your lifestyle and gain hands-on experience starting your own sprouts in conveniently sized jars. Take home starters and recipes.
URL:https://oldediblerenotahoe.com/event/kitchen-gardening-microgreens/
LOCATION:TMCC Meadowood Center\, 5270 Neil Rd.\, South Bldg.\, Reno\, NV\, 89502\, United States
CATEGORIES:Community Class,Educational,Gardening
END:VEVENT
BEGIN:VEVENT
DTSTART;TZID=America/Los_Angeles:20210611T180000
DTEND;TZID=America/Los_Angeles:20210611T180000
DTSTAMP:20260424T161334
CREATED:20210512T225211Z
LAST-MODIFIED:20210512T225211Z
UID:24121-1623434400-1623434400@oldediblerenotahoe.com
SUMMARY:Cooking With Wine
DESCRIPTION:
URL:https://oldediblerenotahoe.com/event/cooking-with-wine/
LOCATION:Nothing To It!\, 225 Crummer Lane\, Reno\, NV\, 89502\, United States
CATEGORIES:Cooking Classes,Educational,Food & Drink
END:VEVENT
BEGIN:VEVENT
DTSTART;TZID=America/Los_Angeles:20210609T180000
DTEND;TZID=America/Los_Angeles:20210609T180000
DTSTAMP:20260424T161334
CREATED:20210512T225019Z
LAST-MODIFIED:20210512T225019Z
UID:24119-1623261600-1623261600@oldediblerenotahoe.com
SUMMARY:Killer Vegetarian Recipes
DESCRIPTION:
URL:https://oldediblerenotahoe.com/event/killer-vegetarian-recipes/
LOCATION:Nothing To It!\, 225 Crummer Lane\, Reno\, NV\, 89502\, United States
CATEGORIES:Cooking Classes,Educational,Food & Drink
END:VEVENT
BEGIN:VEVENT
DTSTART;TZID=America/Los_Angeles:20210603T180000
DTEND;TZID=America/Los_Angeles:20210603T180000
DTSTAMP:20260424T161334
CREATED:20210512T224840Z
LAST-MODIFIED:20210512T224840Z
UID:24117-1622743200-1622743200@oldediblerenotahoe.com
SUMMARY:Southern Table
DESCRIPTION:
URL:https://oldediblerenotahoe.com/event/southern-table/
LOCATION:Nothing To It!\, 225 Crummer Lane\, Reno\, NV\, 89502\, United States
CATEGORIES:Cooking Classes,Educational,Food & Drink
END:VEVENT
BEGIN:VEVENT
DTSTART;TZID=America/Los_Angeles:20210528T180000
DTEND;TZID=America/Los_Angeles:20210528T180000
DTSTAMP:20260424T161334
CREATED:20210512T224733Z
LAST-MODIFIED:20210512T224733Z
UID:24115-1622224800-1622224800@oldediblerenotahoe.com
SUMMARY:Grilling 101
DESCRIPTION:At Nothing to It!\, grilling is more than just a way to cook food—it is a way of life! Spend this one evening with us and you won’t believe what you’ll get out of your grill this summer. You’ll learn fundamental grilling techniques that apply to classic and innovative recipes alike. Learn what it takes to grill to perfection every time.
URL:https://oldediblerenotahoe.com/event/grilling-101/
LOCATION:Nothing To It!\, 225 Crummer Lane\, Reno\, NV\, 89502\, United States
CATEGORIES:Cooking Classes,Educational,Food & Drink
END:VEVENT
BEGIN:VEVENT
DTSTART;TZID=America/Los_Angeles:20210527T180000
DTEND;TZID=America/Los_Angeles:20210527T180000
DTSTAMP:20260424T161334
CREATED:20210512T224627Z
LAST-MODIFIED:20210512T224627Z
UID:24113-1622138400-1622138400@oldediblerenotahoe.com
SUMMARY:Risotto
DESCRIPTION:Learn to make risotto.
URL:https://oldediblerenotahoe.com/event/risotto/
LOCATION:Nothing To It!\, 225 Crummer Lane\, Reno\, NV\, 89502\, United States
CATEGORIES:Cooking Classes,Educational,Food & Drink
END:VEVENT
BEGIN:VEVENT
DTSTART;TZID=America/Los_Angeles:20210522T130000
DTEND;TZID=America/Los_Angeles:20210522T160000
DTSTAMP:20260424T161334
CREATED:20210512T202126Z
LAST-MODIFIED:20210512T202126Z
UID:24061-1621688400-1621699200@oldediblerenotahoe.com
SUMMARY:Expressive Watercolor with Maria Partridge
DESCRIPTION:In Expressive Watercolor\, you will be encouraged to create from your heart and express yourself while learning the luminous medium of watercolor. Have fun! YOU are the most important thing you bring to your painting. Your vision and self-expression are more important than accuracy and realism\, and when your painting is full of personal meaning\, it expresses – YOU! \n“If I create from the heart\, nearly everything works; if from the head\, almost nothing.” – Chagall
URL:https://oldediblerenotahoe.com/event/expressive-watercolor-with-maria-partridge/
LOCATION:Artech\, 130 Woodland Ave\, Reno\, NV\, 89523
CATEGORIES:Arts,Community Class,Educational
END:VEVENT
BEGIN:VEVENT
DTSTART;TZID=UTC:20210429T180000
DTEND;TZID=UTC:20210429T200000
DTSTAMP:20260424T161334
CREATED:20210319T100256Z
LAST-MODIFIED:20210319T100256Z
UID:23542-1619719200-1619726400@oldediblerenotahoe.com
SUMMARY:Grow Your Own\, Nevada! Saving Seeds from your Garden
DESCRIPTION:Learn the secrets of high desert gardening\nThe University of Nevada\, Reno Extension is offering eight “Grow Your Own\, Nevada!” classes in spring statewide to help Nevadans who want to get on a path to more sustainable\, local\, healthy living by growing and preserving more of their own food. \nThe workshops will provide gardeners and those interested in growing healthy foods with a “back-to-the-basics” guide to great harvests in Nevada. \nFees:\nIn light of developments regarding COVID-19\, the Grow Your Own\, Nevada! spring class series will continue to be offered for free in an online format in lieu of in-person classes.
URL:https://oldediblerenotahoe.com/event/grow-your-own-nevada-saving-seeds-from-your-garden/
LOCATION:University of Nevada\, Reno Extension
CATEGORIES:Community Class,Educational,Gardening,Virtual
END:VEVENT
BEGIN:VEVENT
DTSTART;TZID=UTC:20210427T180000
DTEND;TZID=UTC:20210427T200000
DTSTAMP:20260424T161334
CREATED:20210319T100129Z
LAST-MODIFIED:20210319T100129Z
UID:23540-1619546400-1619553600@oldediblerenotahoe.com
SUMMARY:Grow Your Own\, Nevada! Cover Crops for Backyard Gardens
DESCRIPTION:Learn the secrets of high desert gardening\nThe University of Nevada\, Reno Extension is offering eight “Grow Your Own\, Nevada!” classes in spring statewide to help Nevadans who want to get on a path to more sustainable\, local\, healthy living by growing and preserving more of their own food. \nThe workshops will provide gardeners and those interested in growing healthy foods with a “back-to-the-basics” guide to great harvests in Nevada. \nFees:\nIn light of developments regarding COVID-19\, the Grow Your Own\, Nevada! spring class series will continue to be offered for free in an online format in lieu of in-person classes.
URL:https://oldediblerenotahoe.com/event/grow-your-own-nevada-cover-crops-for-backyard-gardens/
LOCATION:University of Nevada\, Reno Extension
CATEGORIES:Community Class,Educational,Gardening,Virtual
END:VEVENT
BEGIN:VEVENT
DTSTART;TZID=UTC:20210422T180000
DTEND;TZID=UTC:20210422T200000
DTSTAMP:20260424T161334
CREATED:20210319T095937Z
LAST-MODIFIED:20210319T095937Z
UID:23537-1619114400-1619121600@oldediblerenotahoe.com
SUMMARY:Grow Your Own\, Nevada! Lower Risk Pesticide Products and Practices
DESCRIPTION:Learn the secrets of high desert gardening\nThe University of Nevada\, Reno Extension is offering eight “Grow Your Own\, Nevada!” classes in spring statewide to help Nevadans who want to get on a path to more sustainable\, local\, healthy living by growing and preserving more of their own food. \nThe workshops will provide gardeners and those interested in growing healthy foods with a “back-to-the-basics” guide to great harvests in Nevada. \nFees:\nIn light of developments regarding COVID-19\, the Grow Your Own\, Nevada! spring class series will continue to be offered for free in an online format in lieu of in-person classes.
URL:https://oldediblerenotahoe.com/event/grow-your-own-nevada-lower-risk-pesticide-products-and-practices/
LOCATION:University of Nevada\, Reno Extension
CATEGORIES:Community Class,Educational,Gardening,Virtual
END:VEVENT
BEGIN:VEVENT
DTSTART;TZID=UTC:20210420T180000
DTEND;TZID=UTC:20210420T200000
DTSTAMP:20260424T161334
CREATED:20210319T095817Z
LAST-MODIFIED:20210319T095833Z
UID:23535-1618941600-1618948800@oldediblerenotahoe.com
SUMMARY:Grow Your Own\, Nevada! The Art and Science of Hot Composting
DESCRIPTION:Learn the secrets of high desert gardening\nThe University of Nevada\, Reno Extension is offering eight “Grow Your Own\, Nevada!” classes in spring statewide to help Nevadans who want to get on a path to more sustainable\, local\, healthy living by growing and preserving more of their own food. \nThe workshops will provide gardeners and those interested in growing healthy foods with a “back-to-the-basics” guide to great harvests in Nevada. \nFees:\nIn light of developments regarding COVID-19\, the Grow Your Own\, Nevada! spring class series will continue to be offered for free in an online format in lieu of in-person classes.
URL:https://oldediblerenotahoe.com/event/grow-your-own-nevada-the-art-and-science-of-hot-composting/
LOCATION:University of Nevada\, Reno Extension
CATEGORIES:Community Class,Educational,Gardening,Virtual
END:VEVENT
BEGIN:VEVENT
DTSTART;TZID=UTC:20210417T133000
DTEND;TZID=UTC:20210417T150000
DTSTAMP:20260424T161334
CREATED:20210406T030620Z
LAST-MODIFIED:20210406T030620Z
UID:23650-1618666200-1618671600@oldediblerenotahoe.com
SUMMARY:Native Plant Pollinator Gardening Workshop
DESCRIPTION:Pollinators such as bees and butterflies are crucial for helping to produce the fruits and vegetables grown in Nevada. But it’s not just bees and butterflies. Wasps and flies also visit native flowers\, and they provide another important service as pest control for many farm and garden insect pests. To encourage homeowners to support native pollinator populations\, University of Nevada\, Reno Extension is presenting free workshops in Reno and Elko on using native plants to attract pollinators and other beneficial insects.\n\n“Native plants are a beautiful part of our local landscape\, as well as crucial resources for a huge number of native insects\,” Integrated Pest Management Educator Kevin Burls\, with the Extension unit of the University’s College of Agriculture\, Biotechnology & Natural Resources\, said. “Planting native species of plants can beautify your landscape\, reduce your water usage\, increase survival of seedlings\, and provide habitat for flower visitors.”\n\nThe workshop will cover local pollinator diversity and ecology\, review common native plants and how to garden for pollinators\, and end with a short hands-on demonstration on planting native pollinator seedlings. Participants will receive native pollinator plant seeds adapted for their region.\n\n\nThe Reno workshop is 1:30-3 p.m.\, April 17\, at the Truckee Meadows Nature Study Area\, 6800 Pembroke Drive. Register online by April 14 at https://docs.google.com/forms/d/e/1FAIpQLScokNj0hrMroumYn0QOTpwlgX-hJcYfnCCmC1qm2AFlcyjZZw/viewform.\n\nThe Elko workshop is 10-11:30 a.m.\, June 12\, at the Extension office in Elko County\, 701 Walnut St. Register online by June 10 at https://docs.google.com/forms/d/e/1FAIpQLSdYjDNDcATnndNKugQ6_8ZpLsEDwvadaTvn3VEp6aj-EzZQ1Q/viewform.\n\nBoth workshops will be held outdoors regardless of weather\, and all COVID-19 safety requirements will be enforced\, including social distancing and the use of masks. Persons in need of special accommodations or assistance must email Burls at kburls@unr.edu\, or call him at 775-336-0255 at least three days prior to the scheduled class.
URL:https://oldediblerenotahoe.com/event/native-plant-pollinator-gardening-workshop/
LOCATION:University of Nevada\, Reno Extension
CATEGORIES:Community Class,Educational,Gardening
END:VEVENT
BEGIN:VEVENT
DTSTART;TZID=UTC:20210417T130000
DTEND;TZID=UTC:20210417T160000
DTSTAMP:20260424T161334
CREATED:20210406T032418Z
LAST-MODIFIED:20210406T032433Z
UID:23661-1618664400-1618675200@oldediblerenotahoe.com
SUMMARY:SPIRIT Making Class-CREME DE CACAO
DESCRIPTION:Enjoy two absolutely heavenly Chocolate Cocktails plus sample exotic chocolates\, and enjoy Italian Tiramisu Cake.
URL:https://oldediblerenotahoe.com/event/spirit-making-class-creme-de-cacao/
LOCATION:High Mark Distillery\, 4690 Longley Lane\, Unit 28\, Reno\, Nevada\, 89502
CATEGORIES:Community Class,Educational,Food & Drink,Spirits
ORGANIZER;CN="High Mark Distillery":MAILTO:highmarkdistillery@hotmail.com
END:VEVENT
BEGIN:VEVENT
DTSTART;TZID=UTC:20210415T180000
DTEND;TZID=UTC:20210415T200000
DTSTAMP:20260424T161334
CREATED:20210319T095711Z
LAST-MODIFIED:20210319T095711Z
UID:23533-1618509600-1618516800@oldediblerenotahoe.com
SUMMARY:Grow Your Own\, Nevada! Nutrients and Fertilizers
DESCRIPTION:Learn the secrets of high desert gardening\nThe University of Nevada\, Reno Extension is offering eight “Grow Your Own\, Nevada!” classes in spring statewide to help Nevadans who want to get on a path to more sustainable\, local\, healthy living by growing and preserving more of their own food. \nThe workshops will provide gardeners and those interested in growing healthy foods with a “back-to-the-basics” guide to great harvests in Nevada. \nFees:\nIn light of developments regarding COVID-19\, the Grow Your Own\, Nevada! spring class series will continue to be offered for free in an online format in lieu of in-person classes.
URL:https://oldediblerenotahoe.com/event/grow-your-own-nevada-nutrients-and-fertilizers/
LOCATION:University of Nevada\, Reno Extension
CATEGORIES:Community Class,Educational,Gardening,Virtual
END:VEVENT
BEGIN:VEVENT
DTSTART;TZID=UTC:20210413T180000
DTEND;TZID=UTC:20210413T200000
DTSTAMP:20260424T161334
CREATED:20210319T095605Z
LAST-MODIFIED:20210319T095605Z
UID:23531-1618336800-1618344000@oldediblerenotahoe.com
SUMMARY:Gardening in Northern Nevada Soils
DESCRIPTION:Learn the secrets of high desert gardening\nThe University of Nevada\, Reno Extension is offering eight “Grow Your Own\, Nevada!” classes in spring statewide to help Nevadans who want to get on a path to more sustainable\, local\, healthy living by growing and preserving more of their own food. \nThe workshops will provide gardeners and those interested in growing healthy foods with a “back-to-the-basics” guide to great harvests in Nevada. \nFees:\nIn light of developments regarding COVID-19\, the Grow Your Own\, Nevada! spring class series will continue to be offered for free in an online format in lieu of in-person classes.
URL:https://oldediblerenotahoe.com/event/gardening-in-northern-nevada-soils/
LOCATION:University of Nevada\, Reno Extension
CATEGORIES:Community Class,Educational,Gardening,Virtual
END:VEVENT
BEGIN:VEVENT
DTSTART;TZID=UTC:20210410T170000
DTEND;TZID=UTC:20210410T170000
DTSTAMP:20260424T161334
CREATED:20210406T025642Z
LAST-MODIFIED:20210406T025642Z
UID:23644-1618074000-1618074000@oldediblerenotahoe.com
SUMMARY:Make your own Scotch\, Whiskey\, or Bourbon in Make your own Scotch\, Whiskey\, or Bourbon in the SMOKE BOXES!
DESCRIPTION:Choose from 5 different types of wood\, to make your drinks taste completely unique! \nTasty Treat= Charcuterie Board of Smoked Meats\, Smoked Cheeses???? \, and Pickled Veggies!
URL:https://oldediblerenotahoe.com/event/make-your-own-scotch-whiskey-or-bourbon-in-make-your-own-scotch-whiskey-or-bourbon-in-the-smoke-boxes/
LOCATION:High Mark Distillery\, 4690 Longley Lane\, Unit 28\, Reno\, Nevada\, 89502
CATEGORIES:Educational,Food & Drink
END:VEVENT
BEGIN:VEVENT
DTSTART;TZID=UTC:20210408T180000
DTEND;TZID=UTC:20210408T200000
DTSTAMP:20260424T161334
CREATED:20210319T095427Z
LAST-MODIFIED:20210319T095427Z
UID:23529-1617904800-1617912000@oldediblerenotahoe.com
SUMMARY:Grow Your Own\, Nevada!! Growing Berries 101
DESCRIPTION:Learn the secrets of high desert gardening\nThe University of Nevada\, Reno Extension is offering eight “Grow Your Own\, Nevada!” classes in spring statewide to help Nevadans who want to get on a path to more sustainable\, local\, healthy living by growing and preserving more of their own food. \nThe workshops will provide gardeners and those interested in growing healthy foods with a “back-to-the-basics” guide to great harvests in Nevada. \nFees:\nIn light of developments regarding COVID-19\, the Grow Your Own\, Nevada! spring class series will continue to be offered for free in an online format in lieu of in-person classes.
URL:https://oldediblerenotahoe.com/event/grow-your-own-nevada-growing-berries-101/
LOCATION:University of Nevada\, Reno Extension
CATEGORIES:Community Class,Educational,Gardening,Virtual
END:VEVENT
BEGIN:VEVENT
DTSTART;TZID=UTC:20210406T180000
DTEND;TZID=UTC:20210406T200000
DTSTAMP:20260424T161334
CREATED:20210319T095254Z
LAST-MODIFIED:20210319T095254Z
UID:23527-1617732000-1617739200@oldediblerenotahoe.com
SUMMARY:Grow Your Own\, Nevada! Starting Plants from Seed
DESCRIPTION:Learn the secrets of high desert gardening\nThe University of Nevada\, Reno Extension is offering eight “Grow Your Own\, Nevada!” classes in spring statewide to help Nevadans who want to get on a path to more sustainable\, local\, healthy living by growing and preserving more of their own food. \nThe workshops will provide gardeners and those interested in growing healthy foods with a “back-to-the-basics” guide to great harvests in Nevada. \nFees:\nIn light of developments regarding COVID-19\, the Grow Your Own\, Nevada! spring class series will continue to be offered for free in an online format in lieu of in-person classes.
URL:https://oldediblerenotahoe.com/event/grow-your-own-nevada-starting-plants-from-seed/
LOCATION:University of Nevada\, Reno Extension
CATEGORIES:Community Class,Educational,Gardening,Virtual
END:VEVENT
END:VCALENDAR