BEGIN:VCALENDAR
VERSION:2.0
PRODID:-//Edible Reno-Tahoe - ECPv6.15.20//NONSGML v1.0//EN
CALSCALE:GREGORIAN
METHOD:PUBLISH
X-ORIGINAL-URL:https://oldediblerenotahoe.com
X-WR-CALDESC:Events for Edible Reno-Tahoe
REFRESH-INTERVAL;VALUE=DURATION:PT1H
X-Robots-Tag:noindex
X-PUBLISHED-TTL:PT1H
BEGIN:VTIMEZONE
TZID:America/Los_Angeles
BEGIN:DAYLIGHT
TZOFFSETFROM:-0800
TZOFFSETTO:-0700
TZNAME:PDT
DTSTART:20220313T100000
END:DAYLIGHT
BEGIN:STANDARD
TZOFFSETFROM:-0700
TZOFFSETTO:-0800
TZNAME:PST
DTSTART:20221106T090000
END:STANDARD
BEGIN:DAYLIGHT
TZOFFSETFROM:-0800
TZOFFSETTO:-0700
TZNAME:PDT
DTSTART:20230312T100000
END:DAYLIGHT
BEGIN:STANDARD
TZOFFSETFROM:-0700
TZOFFSETTO:-0800
TZNAME:PST
DTSTART:20231105T090000
END:STANDARD
BEGIN:DAYLIGHT
TZOFFSETFROM:-0800
TZOFFSETTO:-0700
TZNAME:PDT
DTSTART:20240310T100000
END:DAYLIGHT
BEGIN:STANDARD
TZOFFSETFROM:-0700
TZOFFSETTO:-0800
TZNAME:PST
DTSTART:20241103T090000
END:STANDARD
BEGIN:DAYLIGHT
TZOFFSETFROM:-0800
TZOFFSETTO:-0700
TZNAME:PDT
DTSTART:20250309T100000
END:DAYLIGHT
BEGIN:STANDARD
TZOFFSETFROM:-0700
TZOFFSETTO:-0800
TZNAME:PST
DTSTART:20251102T090000
END:STANDARD
END:VTIMEZONE
BEGIN:VEVENT
DTSTART;VALUE=DATE:20240825
DTEND;VALUE=DATE:20240826
DTSTAMP:20260424T095508
CREATED:20231024T223916Z
LAST-MODIFIED:20231024T223916Z
UID:34837-1724544000-1724630399@oldediblerenotahoe.com
SUMMARY:53rd Annual Journal Jog 8k
DESCRIPTION:
URL:https://oldediblerenotahoe.com/event/53rd-annual-journal-jog-8k/
CATEGORIES:Activity,Exercise,Family friendly
END:VEVENT
BEGIN:VEVENT
DTSTART;VALUE=DATE:20240317
DTEND;VALUE=DATE:20240318
DTSTAMP:20260424T095508
CREATED:20230928T213433Z
LAST-MODIFIED:20231227T214750Z
UID:34299-1710633600-1710719999@oldediblerenotahoe.com
SUMMARY:12th Annual Leprechaun Race
DESCRIPTION:Join Race 178 for the Leprechaun Race\, a 5K run and walk in Reno\, Nevada through the Midtown and Wells Avenue districts. It is family friendly. This is a great first 5K for new runners. Costumes are encouraged!
URL:https://oldediblerenotahoe.com/event/2024leprechaunrace/
CATEGORIES:Exercise,Family friendly
ATTACH;FMTTYPE=image/jpeg:https://oldediblerenotahoe.com/wp-content/uploads/2023/09/unnamed.jpg
END:VEVENT
BEGIN:VEVENT
DTSTART;TZID=America/Los_Angeles:20231229T103000
DTEND;TZID=America/Los_Angeles:20231229T113000
DTSTAMP:20260424T095508
CREATED:20230927T214535Z
LAST-MODIFIED:20230927T214535Z
UID:34253-1703845800-1703849400@oldediblerenotahoe.com
SUMMARY:Prenatal Yoga
DESCRIPTION:Prenatal Yoga is the foundation in which a mother can prepare her mind\, body and spirit for pregnancy\, birth and postpartum. The movements and meditations are designed especially for mamas to bring comfort\, ease and understanding to her birthing journey. Prenatal Yoga is one of the best ways to prepare for labor as it opens\, strengthens and relaxes a mothers body and mind for optimal health and well being in pregnancy.
URL:https://oldediblerenotahoe.com/event/tpoprenatalyoga-2023-12-29/
LOCATION:The Peace Offering\, 10075 West River Street\, Suite B\, Truckee\, CA\, 96161
CATEGORIES:Exercise,Health & Wellness
END:VEVENT
BEGIN:VEVENT
DTSTART;TZID=America/Los_Angeles:20231228T093000
DTEND;TZID=America/Los_Angeles:20231228T103000
DTSTAMP:20260424T095508
CREATED:20230927T213737Z
LAST-MODIFIED:20230927T213737Z
UID:34198-1703755800-1703759400@oldediblerenotahoe.com
SUMMARY:Vinyasa Flow Yoga
DESCRIPTION:A dynamic and flowing style of hatha yoga which links breath and movement through a creative series of postures that balance strength and flexibility while cultivating mindfulness through a continuous flow. Vinyasa is cleansing\, heat building and suitable for all levels. Feel supported through gentle hands-on assists while you cleanse your body and focus on your mind.
URL:https://oldediblerenotahoe.com/event/tpovinyasaflow-2023-12-28/
LOCATION:The Peace Offering\, 10075 West River Street\, Suite B\, Truckee\, CA\, 96161
CATEGORIES:Exercise,Health & Wellness
END:VEVENT
BEGIN:VEVENT
DTSTART;TZID=America/Los_Angeles:20231227T093000
DTEND;TZID=America/Los_Angeles:20231227T103000
DTSTAMP:20260424T095508
CREATED:20230927T214318Z
LAST-MODIFIED:20230927T214318Z
UID:34239-1703669400-1703673000@oldediblerenotahoe.com
SUMMARY:Kundalini Yoga
DESCRIPTION:Kundalini Yoga is a practice that has been gifted to us to strengthen and improve our nervous system; to clear and focus the mind; and to bring balance to the body. The specific Kundalini kriya and yoga poses chosen for a class is the same for up to 6 weeks to set the vibration in your body.
URL:https://oldediblerenotahoe.com/event/tpokundaliniyoga-2023-12-27/
LOCATION:The Peace Offering\, 10075 West River Street\, Suite B\, Truckee\, CA\, 96161
CATEGORIES:Exercise,Health & Wellness
END:VEVENT
BEGIN:VEVENT
DTSTART;TZID=America/Los_Angeles:20231226T120000
DTEND;TZID=America/Los_Angeles:20231226T130000
DTSTAMP:20260424T095508
CREATED:20230927T214103Z
LAST-MODIFIED:20230927T214103Z
UID:34225-1703592000-1703595600@oldediblerenotahoe.com
SUMMARY:Lunch Time Power Nap
DESCRIPTION:Power Nap will gently guide your body into deeply restorative shapes (entirely on the ground) with the full support of bolsters\, blocks\, blankets and uber chill tunes. As 80% of your relaxation response moves from the belly up\, the power of the poses will be EMBODIED and profound physical and mental relaxation will naturally follow.
URL:https://oldediblerenotahoe.com/event/tpopowernap-2023-12-26/
LOCATION:The Peace Offering\, 10075 West River Street\, Suite B\, Truckee\, CA\, 96161
CATEGORIES:Exercise,Health & Wellness
END:VEVENT
BEGIN:VEVENT
DTSTART;TZID=America/Los_Angeles:20231226T093000
DTEND;TZID=America/Los_Angeles:20231226T103000
DTSTAMP:20260424T095508
CREATED:20230927T213737Z
LAST-MODIFIED:20230927T213737Z
UID:34197-1703583000-1703586600@oldediblerenotahoe.com
SUMMARY:Vinyasa Flow Yoga
DESCRIPTION:A dynamic and flowing style of hatha yoga which links breath and movement through a creative series of postures that balance strength and flexibility while cultivating mindfulness through a continuous flow. Vinyasa is cleansing\, heat building and suitable for all levels. Feel supported through gentle hands-on assists while you cleanse your body and focus on your mind.
URL:https://oldediblerenotahoe.com/event/tpovinyasaflow-2023-12-26/
LOCATION:The Peace Offering\, 10075 West River Street\, Suite B\, Truckee\, CA\, 96161
CATEGORIES:Exercise,Health & Wellness
END:VEVENT
BEGIN:VEVENT
DTSTART;TZID=America/Los_Angeles:20231225T163000
DTEND;TZID=America/Los_Angeles:20231225T173000
DTSTAMP:20260424T095508
CREATED:20230927T213424Z
LAST-MODIFIED:20230927T213837Z
UID:34171-1703521800-1703525400@oldediblerenotahoe.com
SUMMARY:Slow Flow
DESCRIPTION:A tranquil and rejuvenating journey that invites you to embrace the serenity within. In this gentle and mindful practice\, the focus is on finding balance\, both physically and mentally\, while allowing ourselves to move with grace and ease.
URL:https://oldediblerenotahoe.com/event/tposlowflow-2023-12-25/
LOCATION:The Peace Offering\, 10075 West River Street\, Suite B\, Truckee\, CA\, 96161
CATEGORIES:Exercise,Health & Wellness
END:VEVENT
BEGIN:VEVENT
DTSTART;TZID=America/Los_Angeles:20231222T103000
DTEND;TZID=America/Los_Angeles:20231222T113000
DTSTAMP:20260424T095508
CREATED:20230927T214535Z
LAST-MODIFIED:20230927T214535Z
UID:34252-1703241000-1703244600@oldediblerenotahoe.com
SUMMARY:Prenatal Yoga
DESCRIPTION:Prenatal Yoga is the foundation in which a mother can prepare her mind\, body and spirit for pregnancy\, birth and postpartum. The movements and meditations are designed especially for mamas to bring comfort\, ease and understanding to her birthing journey. Prenatal Yoga is one of the best ways to prepare for labor as it opens\, strengthens and relaxes a mothers body and mind for optimal health and well being in pregnancy.
URL:https://oldediblerenotahoe.com/event/tpoprenatalyoga-2023-12-22/
LOCATION:The Peace Offering\, 10075 West River Street\, Suite B\, Truckee\, CA\, 96161
CATEGORIES:Exercise,Health & Wellness
END:VEVENT
BEGIN:VEVENT
DTSTART;TZID=America/Los_Angeles:20231221T093000
DTEND;TZID=America/Los_Angeles:20231221T103000
DTSTAMP:20260424T095508
CREATED:20230927T213737Z
LAST-MODIFIED:20230927T213737Z
UID:34196-1703151000-1703154600@oldediblerenotahoe.com
SUMMARY:Vinyasa Flow Yoga
DESCRIPTION:A dynamic and flowing style of hatha yoga which links breath and movement through a creative series of postures that balance strength and flexibility while cultivating mindfulness through a continuous flow. Vinyasa is cleansing\, heat building and suitable for all levels. Feel supported through gentle hands-on assists while you cleanse your body and focus on your mind.
URL:https://oldediblerenotahoe.com/event/tpovinyasaflow-2023-12-21/
LOCATION:The Peace Offering\, 10075 West River Street\, Suite B\, Truckee\, CA\, 96161
CATEGORIES:Exercise,Health & Wellness
END:VEVENT
BEGIN:VEVENT
DTSTART;TZID=America/Los_Angeles:20231220T093000
DTEND;TZID=America/Los_Angeles:20231220T103000
DTSTAMP:20260424T095508
CREATED:20230927T214318Z
LAST-MODIFIED:20230927T214318Z
UID:34238-1703064600-1703068200@oldediblerenotahoe.com
SUMMARY:Kundalini Yoga
DESCRIPTION:Kundalini Yoga is a practice that has been gifted to us to strengthen and improve our nervous system; to clear and focus the mind; and to bring balance to the body. The specific Kundalini kriya and yoga poses chosen for a class is the same for up to 6 weeks to set the vibration in your body.
URL:https://oldediblerenotahoe.com/event/tpokundaliniyoga-2023-12-20/
LOCATION:The Peace Offering\, 10075 West River Street\, Suite B\, Truckee\, CA\, 96161
CATEGORIES:Exercise,Health & Wellness
END:VEVENT
BEGIN:VEVENT
DTSTART;TZID=America/Los_Angeles:20231219T120000
DTEND;TZID=America/Los_Angeles:20231219T130000
DTSTAMP:20260424T095508
CREATED:20230927T214103Z
LAST-MODIFIED:20230927T214103Z
UID:34224-1702987200-1702990800@oldediblerenotahoe.com
SUMMARY:Lunch Time Power Nap
DESCRIPTION:Power Nap will gently guide your body into deeply restorative shapes (entirely on the ground) with the full support of bolsters\, blocks\, blankets and uber chill tunes. As 80% of your relaxation response moves from the belly up\, the power of the poses will be EMBODIED and profound physical and mental relaxation will naturally follow.
URL:https://oldediblerenotahoe.com/event/tpopowernap-2023-12-19/
LOCATION:The Peace Offering\, 10075 West River Street\, Suite B\, Truckee\, CA\, 96161
CATEGORIES:Exercise,Health & Wellness
END:VEVENT
BEGIN:VEVENT
DTSTART;TZID=America/Los_Angeles:20231219T093000
DTEND;TZID=America/Los_Angeles:20231219T103000
DTSTAMP:20260424T095508
CREATED:20230927T213737Z
LAST-MODIFIED:20230927T213737Z
UID:34195-1702978200-1702981800@oldediblerenotahoe.com
SUMMARY:Vinyasa Flow Yoga
DESCRIPTION:A dynamic and flowing style of hatha yoga which links breath and movement through a creative series of postures that balance strength and flexibility while cultivating mindfulness through a continuous flow. Vinyasa is cleansing\, heat building and suitable for all levels. Feel supported through gentle hands-on assists while you cleanse your body and focus on your mind.
URL:https://oldediblerenotahoe.com/event/tpovinyasaflow-2023-12-19/
LOCATION:The Peace Offering\, 10075 West River Street\, Suite B\, Truckee\, CA\, 96161
CATEGORIES:Exercise,Health & Wellness
END:VEVENT
BEGIN:VEVENT
DTSTART;TZID=America/Los_Angeles:20231218T163000
DTEND;TZID=America/Los_Angeles:20231218T173000
DTSTAMP:20260424T095508
CREATED:20230927T213424Z
LAST-MODIFIED:20230927T213836Z
UID:34170-1702917000-1702920600@oldediblerenotahoe.com
SUMMARY:Slow Flow
DESCRIPTION:A tranquil and rejuvenating journey that invites you to embrace the serenity within. In this gentle and mindful practice\, the focus is on finding balance\, both physically and mentally\, while allowing ourselves to move with grace and ease.
URL:https://oldediblerenotahoe.com/event/tposlowflow-2023-12-18/
LOCATION:The Peace Offering\, 10075 West River Street\, Suite B\, Truckee\, CA\, 96161
CATEGORIES:Exercise,Health & Wellness
END:VEVENT
BEGIN:VEVENT
DTSTART;TZID=America/Los_Angeles:20231215T103000
DTEND;TZID=America/Los_Angeles:20231215T113000
DTSTAMP:20260424T095508
CREATED:20230927T214535Z
LAST-MODIFIED:20230927T214535Z
UID:34251-1702636200-1702639800@oldediblerenotahoe.com
SUMMARY:Prenatal Yoga
DESCRIPTION:Prenatal Yoga is the foundation in which a mother can prepare her mind\, body and spirit for pregnancy\, birth and postpartum. The movements and meditations are designed especially for mamas to bring comfort\, ease and understanding to her birthing journey. Prenatal Yoga is one of the best ways to prepare for labor as it opens\, strengthens and relaxes a mothers body and mind for optimal health and well being in pregnancy.
URL:https://oldediblerenotahoe.com/event/tpoprenatalyoga-2023-12-15/
LOCATION:The Peace Offering\, 10075 West River Street\, Suite B\, Truckee\, CA\, 96161
CATEGORIES:Exercise,Health & Wellness
END:VEVENT
BEGIN:VEVENT
DTSTART;TZID=America/Los_Angeles:20231214T093000
DTEND;TZID=America/Los_Angeles:20231214T103000
DTSTAMP:20260424T095508
CREATED:20230927T213737Z
LAST-MODIFIED:20230927T213737Z
UID:34194-1702546200-1702549800@oldediblerenotahoe.com
SUMMARY:Vinyasa Flow Yoga
DESCRIPTION:A dynamic and flowing style of hatha yoga which links breath and movement through a creative series of postures that balance strength and flexibility while cultivating mindfulness through a continuous flow. Vinyasa is cleansing\, heat building and suitable for all levels. Feel supported through gentle hands-on assists while you cleanse your body and focus on your mind.
URL:https://oldediblerenotahoe.com/event/tpovinyasaflow-2023-12-14/
LOCATION:The Peace Offering\, 10075 West River Street\, Suite B\, Truckee\, CA\, 96161
CATEGORIES:Exercise,Health & Wellness
END:VEVENT
BEGIN:VEVENT
DTSTART;TZID=America/Los_Angeles:20231213T093000
DTEND;TZID=America/Los_Angeles:20231213T103000
DTSTAMP:20260424T095508
CREATED:20230927T214318Z
LAST-MODIFIED:20230927T214318Z
UID:34237-1702459800-1702463400@oldediblerenotahoe.com
SUMMARY:Kundalini Yoga
DESCRIPTION:Kundalini Yoga is a practice that has been gifted to us to strengthen and improve our nervous system; to clear and focus the mind; and to bring balance to the body. The specific Kundalini kriya and yoga poses chosen for a class is the same for up to 6 weeks to set the vibration in your body.
URL:https://oldediblerenotahoe.com/event/tpokundaliniyoga-2023-12-13/
LOCATION:The Peace Offering\, 10075 West River Street\, Suite B\, Truckee\, CA\, 96161
CATEGORIES:Exercise,Health & Wellness
END:VEVENT
BEGIN:VEVENT
DTSTART;TZID=America/Los_Angeles:20231212T120000
DTEND;TZID=America/Los_Angeles:20231212T130000
DTSTAMP:20260424T095508
CREATED:20230927T214103Z
LAST-MODIFIED:20230927T214103Z
UID:34223-1702382400-1702386000@oldediblerenotahoe.com
SUMMARY:Lunch Time Power Nap
DESCRIPTION:Power Nap will gently guide your body into deeply restorative shapes (entirely on the ground) with the full support of bolsters\, blocks\, blankets and uber chill tunes. As 80% of your relaxation response moves from the belly up\, the power of the poses will be EMBODIED and profound physical and mental relaxation will naturally follow.
URL:https://oldediblerenotahoe.com/event/tpopowernap-2023-12-12/
LOCATION:The Peace Offering\, 10075 West River Street\, Suite B\, Truckee\, CA\, 96161
CATEGORIES:Exercise,Health & Wellness
END:VEVENT
BEGIN:VEVENT
DTSTART;TZID=America/Los_Angeles:20231212T093000
DTEND;TZID=America/Los_Angeles:20231212T103000
DTSTAMP:20260424T095508
CREATED:20230927T213737Z
LAST-MODIFIED:20230927T213737Z
UID:34193-1702373400-1702377000@oldediblerenotahoe.com
SUMMARY:Vinyasa Flow Yoga
DESCRIPTION:A dynamic and flowing style of hatha yoga which links breath and movement through a creative series of postures that balance strength and flexibility while cultivating mindfulness through a continuous flow. Vinyasa is cleansing\, heat building and suitable for all levels. Feel supported through gentle hands-on assists while you cleanse your body and focus on your mind.
URL:https://oldediblerenotahoe.com/event/tpovinyasaflow-2023-12-12/
LOCATION:The Peace Offering\, 10075 West River Street\, Suite B\, Truckee\, CA\, 96161
CATEGORIES:Exercise,Health & Wellness
END:VEVENT
BEGIN:VEVENT
DTSTART;TZID=America/Los_Angeles:20231211T163000
DTEND;TZID=America/Los_Angeles:20231211T173000
DTSTAMP:20260424T095508
CREATED:20230927T213424Z
LAST-MODIFIED:20230927T213831Z
UID:34169-1702312200-1702315800@oldediblerenotahoe.com
SUMMARY:Slow Flow
DESCRIPTION:A tranquil and rejuvenating journey that invites you to embrace the serenity within. In this gentle and mindful practice\, the focus is on finding balance\, both physically and mentally\, while allowing ourselves to move with grace and ease.
URL:https://oldediblerenotahoe.com/event/tposlowflow-2023-12-11/
LOCATION:The Peace Offering\, 10075 West River Street\, Suite B\, Truckee\, CA\, 96161
CATEGORIES:Exercise,Health & Wellness
END:VEVENT
BEGIN:VEVENT
DTSTART;TZID=America/Los_Angeles:20231208T103000
DTEND;TZID=America/Los_Angeles:20231208T113000
DTSTAMP:20260424T095508
CREATED:20230927T214535Z
LAST-MODIFIED:20230927T214535Z
UID:34250-1702031400-1702035000@oldediblerenotahoe.com
SUMMARY:Prenatal Yoga
DESCRIPTION:Prenatal Yoga is the foundation in which a mother can prepare her mind\, body and spirit for pregnancy\, birth and postpartum. The movements and meditations are designed especially for mamas to bring comfort\, ease and understanding to her birthing journey. Prenatal Yoga is one of the best ways to prepare for labor as it opens\, strengthens and relaxes a mothers body and mind for optimal health and well being in pregnancy.
URL:https://oldediblerenotahoe.com/event/tpoprenatalyoga-2023-12-08/
LOCATION:The Peace Offering\, 10075 West River Street\, Suite B\, Truckee\, CA\, 96161
CATEGORIES:Exercise,Health & Wellness
END:VEVENT
BEGIN:VEVENT
DTSTART;TZID=America/Los_Angeles:20231207T093000
DTEND;TZID=America/Los_Angeles:20231207T103000
DTSTAMP:20260424T095508
CREATED:20230927T213737Z
LAST-MODIFIED:20230927T213737Z
UID:34192-1701941400-1701945000@oldediblerenotahoe.com
SUMMARY:Vinyasa Flow Yoga
DESCRIPTION:A dynamic and flowing style of hatha yoga which links breath and movement through a creative series of postures that balance strength and flexibility while cultivating mindfulness through a continuous flow. Vinyasa is cleansing\, heat building and suitable for all levels. Feel supported through gentle hands-on assists while you cleanse your body and focus on your mind.
URL:https://oldediblerenotahoe.com/event/tpovinyasaflow-2023-12-07/
LOCATION:The Peace Offering\, 10075 West River Street\, Suite B\, Truckee\, CA\, 96161
CATEGORIES:Exercise,Health & Wellness
END:VEVENT
BEGIN:VEVENT
DTSTART;TZID=America/Los_Angeles:20231206T093000
DTEND;TZID=America/Los_Angeles:20231206T103000
DTSTAMP:20260424T095508
CREATED:20230927T214318Z
LAST-MODIFIED:20230927T214318Z
UID:34236-1701855000-1701858600@oldediblerenotahoe.com
SUMMARY:Kundalini Yoga
DESCRIPTION:Kundalini Yoga is a practice that has been gifted to us to strengthen and improve our nervous system; to clear and focus the mind; and to bring balance to the body. The specific Kundalini kriya and yoga poses chosen for a class is the same for up to 6 weeks to set the vibration in your body.
URL:https://oldediblerenotahoe.com/event/tpokundaliniyoga-2023-12-06/
LOCATION:The Peace Offering\, 10075 West River Street\, Suite B\, Truckee\, CA\, 96161
CATEGORIES:Exercise,Health & Wellness
END:VEVENT
BEGIN:VEVENT
DTSTART;TZID=America/Los_Angeles:20231205T120000
DTEND;TZID=America/Los_Angeles:20231205T130000
DTSTAMP:20260424T095508
CREATED:20230927T214103Z
LAST-MODIFIED:20230927T214103Z
UID:34222-1701777600-1701781200@oldediblerenotahoe.com
SUMMARY:Lunch Time Power Nap
DESCRIPTION:Power Nap will gently guide your body into deeply restorative shapes (entirely on the ground) with the full support of bolsters\, blocks\, blankets and uber chill tunes. As 80% of your relaxation response moves from the belly up\, the power of the poses will be EMBODIED and profound physical and mental relaxation will naturally follow.
URL:https://oldediblerenotahoe.com/event/tpopowernap-2023-12-05/
LOCATION:The Peace Offering\, 10075 West River Street\, Suite B\, Truckee\, CA\, 96161
CATEGORIES:Exercise,Health & Wellness
END:VEVENT
BEGIN:VEVENT
DTSTART;TZID=America/Los_Angeles:20231205T093000
DTEND;TZID=America/Los_Angeles:20231205T103000
DTSTAMP:20260424T095508
CREATED:20230927T213737Z
LAST-MODIFIED:20230927T213737Z
UID:34191-1701768600-1701772200@oldediblerenotahoe.com
SUMMARY:Vinyasa Flow Yoga
DESCRIPTION:A dynamic and flowing style of hatha yoga which links breath and movement through a creative series of postures that balance strength and flexibility while cultivating mindfulness through a continuous flow. Vinyasa is cleansing\, heat building and suitable for all levels. Feel supported through gentle hands-on assists while you cleanse your body and focus on your mind.
URL:https://oldediblerenotahoe.com/event/tpovinyasaflow-2023-12-05/
LOCATION:The Peace Offering\, 10075 West River Street\, Suite B\, Truckee\, CA\, 96161
CATEGORIES:Exercise,Health & Wellness
END:VEVENT
BEGIN:VEVENT
DTSTART;TZID=America/Los_Angeles:20231204T163000
DTEND;TZID=America/Los_Angeles:20231204T173000
DTSTAMP:20260424T095508
CREATED:20230927T213424Z
LAST-MODIFIED:20230927T213830Z
UID:34168-1701707400-1701711000@oldediblerenotahoe.com
SUMMARY:Slow Flow
DESCRIPTION:A tranquil and rejuvenating journey that invites you to embrace the serenity within. In this gentle and mindful practice\, the focus is on finding balance\, both physically and mentally\, while allowing ourselves to move with grace and ease.
URL:https://oldediblerenotahoe.com/event/tposlowflow-2023-12-04/
LOCATION:The Peace Offering\, 10075 West River Street\, Suite B\, Truckee\, CA\, 96161
CATEGORIES:Exercise,Health & Wellness
END:VEVENT
BEGIN:VEVENT
DTSTART;TZID=America/Los_Angeles:20231201T103000
DTEND;TZID=America/Los_Angeles:20231201T113000
DTSTAMP:20260424T095508
CREATED:20230927T214535Z
LAST-MODIFIED:20230927T214535Z
UID:34249-1701426600-1701430200@oldediblerenotahoe.com
SUMMARY:Prenatal Yoga
DESCRIPTION:Prenatal Yoga is the foundation in which a mother can prepare her mind\, body and spirit for pregnancy\, birth and postpartum. The movements and meditations are designed especially for mamas to bring comfort\, ease and understanding to her birthing journey. Prenatal Yoga is one of the best ways to prepare for labor as it opens\, strengthens and relaxes a mothers body and mind for optimal health and well being in pregnancy.
URL:https://oldediblerenotahoe.com/event/tpoprenatalyoga-2023-12-01/
LOCATION:The Peace Offering\, 10075 West River Street\, Suite B\, Truckee\, CA\, 96161
CATEGORIES:Exercise,Health & Wellness
END:VEVENT
BEGIN:VEVENT
DTSTART;TZID=America/Los_Angeles:20231130T093000
DTEND;TZID=America/Los_Angeles:20231130T103000
DTSTAMP:20260424T095508
CREATED:20230927T213737Z
LAST-MODIFIED:20230927T213737Z
UID:34190-1701336600-1701340200@oldediblerenotahoe.com
SUMMARY:Vinyasa Flow Yoga
DESCRIPTION:A dynamic and flowing style of hatha yoga which links breath and movement through a creative series of postures that balance strength and flexibility while cultivating mindfulness through a continuous flow. Vinyasa is cleansing\, heat building and suitable for all levels. Feel supported through gentle hands-on assists while you cleanse your body and focus on your mind.
URL:https://oldediblerenotahoe.com/event/tpovinyasaflow-2023-11-30/
LOCATION:The Peace Offering\, 10075 West River Street\, Suite B\, Truckee\, CA\, 96161
CATEGORIES:Exercise,Health & Wellness
END:VEVENT
BEGIN:VEVENT
DTSTART;TZID=America/Los_Angeles:20231129T093000
DTEND;TZID=America/Los_Angeles:20231129T103000
DTSTAMP:20260424T095508
CREATED:20230927T214318Z
LAST-MODIFIED:20230927T214318Z
UID:34235-1701250200-1701253800@oldediblerenotahoe.com
SUMMARY:Kundalini Yoga
DESCRIPTION:Kundalini Yoga is a practice that has been gifted to us to strengthen and improve our nervous system; to clear and focus the mind; and to bring balance to the body. The specific Kundalini kriya and yoga poses chosen for a class is the same for up to 6 weeks to set the vibration in your body.
URL:https://oldediblerenotahoe.com/event/tpokundaliniyoga-2023-11-29/
LOCATION:The Peace Offering\, 10075 West River Street\, Suite B\, Truckee\, CA\, 96161
CATEGORIES:Exercise,Health & Wellness
END:VEVENT
BEGIN:VEVENT
DTSTART;TZID=America/Los_Angeles:20231128T120000
DTEND;TZID=America/Los_Angeles:20231128T130000
DTSTAMP:20260424T095508
CREATED:20230927T214103Z
LAST-MODIFIED:20230927T214103Z
UID:34221-1701172800-1701176400@oldediblerenotahoe.com
SUMMARY:Lunch Time Power Nap
DESCRIPTION:Power Nap will gently guide your body into deeply restorative shapes (entirely on the ground) with the full support of bolsters\, blocks\, blankets and uber chill tunes. As 80% of your relaxation response moves from the belly up\, the power of the poses will be EMBODIED and profound physical and mental relaxation will naturally follow.
URL:https://oldediblerenotahoe.com/event/tpopowernap-2023-11-28/
LOCATION:The Peace Offering\, 10075 West River Street\, Suite B\, Truckee\, CA\, 96161
CATEGORIES:Exercise,Health & Wellness
END:VEVENT
END:VCALENDAR