BEGIN:VCALENDAR
VERSION:2.0
PRODID:-//Edible Reno-Tahoe - ECPv6.15.20//NONSGML v1.0//EN
CALSCALE:GREGORIAN
METHOD:PUBLISH
X-WR-CALNAME:Edible Reno-Tahoe
X-ORIGINAL-URL:https://oldediblerenotahoe.com
X-WR-CALDESC:Events for Edible Reno-Tahoe
REFRESH-INTERVAL;VALUE=DURATION:PT1H
X-Robots-Tag:noindex
X-PUBLISHED-TTL:PT1H
BEGIN:VTIMEZONE
TZID:America/Los_Angeles
BEGIN:DAYLIGHT
TZOFFSETFROM:-0800
TZOFFSETTO:-0700
TZNAME:PDT
DTSTART:20230312T100000
END:DAYLIGHT
BEGIN:STANDARD
TZOFFSETFROM:-0700
TZOFFSETTO:-0800
TZNAME:PST
DTSTART:20231105T090000
END:STANDARD
BEGIN:DAYLIGHT
TZOFFSETFROM:-0800
TZOFFSETTO:-0700
TZNAME:PDT
DTSTART:20240310T100000
END:DAYLIGHT
BEGIN:STANDARD
TZOFFSETFROM:-0700
TZOFFSETTO:-0800
TZNAME:PST
DTSTART:20241103T090000
END:STANDARD
BEGIN:DAYLIGHT
TZOFFSETFROM:-0800
TZOFFSETTO:-0700
TZNAME:PDT
DTSTART:20250309T100000
END:DAYLIGHT
BEGIN:STANDARD
TZOFFSETFROM:-0700
TZOFFSETTO:-0800
TZNAME:PST
DTSTART:20251102T090000
END:STANDARD
END:VTIMEZONE
BEGIN:VEVENT
DTSTART;TZID=America/Los_Angeles:20240921T120000
DTEND;TZID=America/Los_Angeles:20240921T170000
DTSTAMP:20260425T122608
CREATED:20240526T212638Z
LAST-MODIFIED:20240526T212638Z
UID:38793-1726920000-1726938000@oldediblerenotahoe.com
SUMMARY:Tahoe City Oktoberfest
DESCRIPTION:This exciting family-friendly event offers a wide selection of Bavarian-themed food options and delicious craft beers brewed by regional breweries. Enjoy live music and the sounds of an authentic accordion player\, Christiane Georgi.
URL:https://oldediblerenotahoe.com/event/tahoe-city-oktoberfest-2/
LOCATION:Layton State Park\, Tahoe City\, CA
CATEGORIES:Family friendly,Festival
END:VEVENT
BEGIN:VEVENT
DTSTART;TZID=America/Los_Angeles:20240928T140000
DTEND;TZID=America/Los_Angeles:20240928T153000
DTSTAMP:20260425T122608
CREATED:20231216T185000Z
LAST-MODIFIED:20231216T185242Z
UID:35745-1727532000-1727537400@oldediblerenotahoe.com
SUMMARY:Little Chefs (Pre-K): Fall Harvest Salads Cooking Class
DESCRIPTION:Little Chefs is a parent-child cooking series hosted by Urban Roots and registered dietitian Anastasia Gavrilets. This Fall’s series is for pre-K chefs (ages 2-4 years) and compliments the garden-based learning they receive from Little Gardeners! These workshops are hands-on\, include a tasty recipe and snack\, and a farm fresh ingredient to take home. \nThis workshop will cover quality meal time with your pre-schooler and dive into trying new foods straight from the vine.  \nRecipe: Fall Chickpea Salad! 
URL:https://oldediblerenotahoe.com/event/littlechefssept2024/
LOCATION:Urban Teaching Farm\, 1700 E 2nd Street\, Reno\, NV\, 89502
CATEGORIES:Cooking Classes,Family friendly,Nonprofit
END:VEVENT
END:VCALENDAR