BEGIN:VCALENDAR
VERSION:2.0
PRODID:-//Edible Reno-Tahoe - ECPv6.15.20//NONSGML v1.0//EN
CALSCALE:GREGORIAN
METHOD:PUBLISH
X-WR-CALNAME:Edible Reno-Tahoe
X-ORIGINAL-URL:https://oldediblerenotahoe.com
X-WR-CALDESC:Events for Edible Reno-Tahoe
REFRESH-INTERVAL;VALUE=DURATION:PT1H
X-Robots-Tag:noindex
X-PUBLISHED-TTL:PT1H
BEGIN:VTIMEZONE
TZID:America/Los_Angeles
BEGIN:DAYLIGHT
TZOFFSETFROM:-0800
TZOFFSETTO:-0700
TZNAME:PDT
DTSTART:20230312T100000
END:DAYLIGHT
BEGIN:STANDARD
TZOFFSETFROM:-0700
TZOFFSETTO:-0800
TZNAME:PST
DTSTART:20231105T090000
END:STANDARD
BEGIN:DAYLIGHT
TZOFFSETFROM:-0800
TZOFFSETTO:-0700
TZNAME:PDT
DTSTART:20240310T100000
END:DAYLIGHT
BEGIN:STANDARD
TZOFFSETFROM:-0700
TZOFFSETTO:-0800
TZNAME:PST
DTSTART:20241103T090000
END:STANDARD
BEGIN:DAYLIGHT
TZOFFSETFROM:-0800
TZOFFSETTO:-0700
TZNAME:PDT
DTSTART:20250309T100000
END:DAYLIGHT
BEGIN:STANDARD
TZOFFSETFROM:-0700
TZOFFSETTO:-0800
TZNAME:PST
DTSTART:20251102T090000
END:STANDARD
END:VTIMEZONE
BEGIN:VEVENT
DTSTART;TZID=America/Los_Angeles:20240613T140000
DTEND;TZID=America/Los_Angeles:20240613T220000
DTSTAMP:20260425T213436
CREATED:20240318T024856Z
LAST-MODIFIED:20240318T024856Z
UID:37859-1718287200-1718316000@oldediblerenotahoe.com
SUMMARY:Nevada State Fair
DESCRIPTION:Nevada State Fair returns to Carson City\, Nevada’s great capital. Four fun filled days of entertainment\, carnival rides\, culture\, music and so much more. The Nevada State Fair is proud to celebrate our great State of Nevada. Come on out and enjoy our beautiful June weather with a full day of activities at Mills Park. \nPark at Carson High School or Mills Park Parking Lot and use crosswalks when crossing streets to access the park.
URL:https://oldediblerenotahoe.com/event/nevada-state-fair/
LOCATION:Mills Park\, 111 E William St\, Carson City\, NV\, 89701
CATEGORIES:Activity,Family friendly
END:VEVENT
END:VCALENDAR