BEGIN:VCALENDAR
VERSION:2.0
PRODID:-//Edible Reno-Tahoe - ECPv6.15.20//NONSGML v1.0//EN
CALSCALE:GREGORIAN
METHOD:PUBLISH
X-WR-CALNAME:Edible Reno-Tahoe
X-ORIGINAL-URL:https://oldediblerenotahoe.com
X-WR-CALDESC:Events for Edible Reno-Tahoe
REFRESH-INTERVAL;VALUE=DURATION:PT1H
X-Robots-Tag:noindex
X-PUBLISHED-TTL:PT1H
BEGIN:VTIMEZONE
TZID:America/Los_Angeles
BEGIN:DAYLIGHT
TZOFFSETFROM:-0800
TZOFFSETTO:-0700
TZNAME:PDT
DTSTART:20230312T100000
END:DAYLIGHT
BEGIN:STANDARD
TZOFFSETFROM:-0700
TZOFFSETTO:-0800
TZNAME:PST
DTSTART:20231105T090000
END:STANDARD
BEGIN:DAYLIGHT
TZOFFSETFROM:-0800
TZOFFSETTO:-0700
TZNAME:PDT
DTSTART:20240310T100000
END:DAYLIGHT
BEGIN:STANDARD
TZOFFSETFROM:-0700
TZOFFSETTO:-0800
TZNAME:PST
DTSTART:20241103T090000
END:STANDARD
BEGIN:DAYLIGHT
TZOFFSETFROM:-0800
TZOFFSETTO:-0700
TZNAME:PDT
DTSTART:20250309T100000
END:DAYLIGHT
BEGIN:STANDARD
TZOFFSETFROM:-0700
TZOFFSETTO:-0800
TZNAME:PST
DTSTART:20251102T090000
END:STANDARD
END:VTIMEZONE
BEGIN:VEVENT
DTSTART;TZID=America/Los_Angeles:20240418T150000
DTEND;TZID=America/Los_Angeles:20240418T190000
DTSTAMP:20260424T091443
CREATED:20231227T224947Z
LAST-MODIFIED:20231227T225344Z
UID:36332-1713452400-1713466800@oldediblerenotahoe.com
SUMMARY:Andelin Family Farm Spring Festival
DESCRIPTION:Andelin Family Farm’s Baby Animal & Tulip Festival opens April 5 this year! It is such an exciting time on the farm\, and offers guests a more personal experience with the baby goats\, lambs\, and calves. \nAdmission includes access to the tulip U-pick fields (when in season)\, petting zoo area\, and all the barnyard games and activities\, including our newly expanded mini zips.
URL:https://oldediblerenotahoe.com/event/andelin-family-farm-spring-festival-2024-04-18/
LOCATION:Andelin Family Farm\, 8100 Pyramid Way\, Spanish Springs\, NV\, 89436
CATEGORIES:Activity,Family friendly
END:VEVENT
BEGIN:VEVENT
DTSTART;TZID=America/Los_Angeles:20240417T150000
DTEND;TZID=America/Los_Angeles:20240417T190000
DTSTAMP:20260424T091443
CREATED:20240216T230046Z
LAST-MODIFIED:20240216T230046Z
UID:37373-1713366000-1713380400@oldediblerenotahoe.com
SUMMARY:Baby Animal Days & Tulip Festival Days
DESCRIPTION:
URL:https://oldediblerenotahoe.com/event/baby-animal-days-tulip-festival-days-2024-04-17/
LOCATION:Andelin Family Farm\, 8100 Pyramid Way\, Spanish Springs\, NV\, 89436
CATEGORIES:Activity,Family friendly
END:VEVENT
BEGIN:VEVENT
DTSTART;TZID=America/Los_Angeles:20240417T150000
DTEND;TZID=America/Los_Angeles:20240417T190000
DTSTAMP:20260424T091443
CREATED:20231227T224947Z
LAST-MODIFIED:20231227T225343Z
UID:36331-1713366000-1713380400@oldediblerenotahoe.com
SUMMARY:Andelin Family Farm Spring Festival
DESCRIPTION:Andelin Family Farm’s Baby Animal & Tulip Festival opens April 5 this year! It is such an exciting time on the farm\, and offers guests a more personal experience with the baby goats\, lambs\, and calves. \nAdmission includes access to the tulip U-pick fields (when in season)\, petting zoo area\, and all the barnyard games and activities\, including our newly expanded mini zips.
URL:https://oldediblerenotahoe.com/event/andelin-family-farm-spring-festival-2024-04-17/
LOCATION:Andelin Family Farm\, 8100 Pyramid Way\, Spanish Springs\, NV\, 89436
CATEGORIES:Activity,Family friendly
END:VEVENT
BEGIN:VEVENT
DTSTART;TZID=America/Los_Angeles:20240414T160000
DTEND;TZID=America/Los_Angeles:20240414T180000
DTSTAMP:20260424T091443
CREATED:20231227T233203Z
LAST-MODIFIED:20231227T233203Z
UID:36432-1713110400-1713117600@oldediblerenotahoe.com
SUMMARY:S'More Fun
DESCRIPTION:Snuggle up close to family and friends around the cozy fireplaces\, have a warm cocktail with friends from the bar\, and watch the sunset over the mountains and the stars come to life! Head on over to The Village at 4pm and warm-up with a s’more by the fire pits up by the Overlook Bar & Snowplay area. Complimentary s’mores are first come\, first serve. Kits to make your own can be purchased at our rink cabana bars.
URL:https://oldediblerenotahoe.com/event/smore-fun-2024-04-14/
LOCATION:Northstar California Resort\, 5001 Northstar Dr.\, Truckee\, CA\, 96161
CATEGORIES:Activity,Family friendly,Food & Drink
END:VEVENT
BEGIN:VEVENT
DTSTART;TZID=America/Los_Angeles:20240413T160000
DTEND;TZID=America/Los_Angeles:20240413T180000
DTSTAMP:20260424T091443
CREATED:20231227T233203Z
LAST-MODIFIED:20231227T233203Z
UID:36431-1713024000-1713031200@oldediblerenotahoe.com
SUMMARY:S'More Fun
DESCRIPTION:Snuggle up close to family and friends around the cozy fireplaces\, have a warm cocktail with friends from the bar\, and watch the sunset over the mountains and the stars come to life! Head on over to The Village at 4pm and warm-up with a s’more by the fire pits up by the Overlook Bar & Snowplay area. Complimentary s’mores are first come\, first serve. Kits to make your own can be purchased at our rink cabana bars.
URL:https://oldediblerenotahoe.com/event/smore-fun-2024-04-13/
LOCATION:Northstar California Resort\, 5001 Northstar Dr.\, Truckee\, CA\, 96161
CATEGORIES:Activity,Family friendly,Food & Drink
END:VEVENT
BEGIN:VEVENT
DTSTART;TZID=America/Los_Angeles:20240413T100000
DTEND;TZID=America/Los_Angeles:20240413T190000
DTSTAMP:20260424T091443
CREATED:20240216T230046Z
LAST-MODIFIED:20240216T230046Z
UID:37372-1713002400-1713034800@oldediblerenotahoe.com
SUMMARY:Baby Animal Days & Tulip Festival Days
DESCRIPTION:
URL:https://oldediblerenotahoe.com/event/baby-animal-days-tulip-festival-days-2024-04-13/
LOCATION:Andelin Family Farm\, 8100 Pyramid Way\, Spanish Springs\, NV\, 89436
CATEGORIES:Activity,Family friendly
END:VEVENT
BEGIN:VEVENT
DTSTART;TZID=America/Los_Angeles:20240413T100000
DTEND;TZID=America/Los_Angeles:20240413T190000
DTSTAMP:20260424T091443
CREATED:20231227T224947Z
LAST-MODIFIED:20231227T225343Z
UID:36330-1713002400-1713034800@oldediblerenotahoe.com
SUMMARY:Andelin Family Farm Spring Festival
DESCRIPTION:Andelin Family Farm’s Baby Animal & Tulip Festival opens April 5 this year! It is such an exciting time on the farm\, and offers guests a more personal experience with the baby goats\, lambs\, and calves. \nAdmission includes access to the tulip U-pick fields (when in season)\, petting zoo area\, and all the barnyard games and activities\, including our newly expanded mini zips.
URL:https://oldediblerenotahoe.com/event/andelin-family-farm-spring-festival-2024-04-13/
LOCATION:Andelin Family Farm\, 8100 Pyramid Way\, Spanish Springs\, NV\, 89436
CATEGORIES:Activity,Family friendly
END:VEVENT
BEGIN:VEVENT
DTSTART;TZID=America/Los_Angeles:20240412T160000
DTEND;TZID=America/Los_Angeles:20240412T180000
DTSTAMP:20260424T091443
CREATED:20231227T233203Z
LAST-MODIFIED:20231227T233203Z
UID:36430-1712937600-1712944800@oldediblerenotahoe.com
SUMMARY:S'More Fun
DESCRIPTION:Snuggle up close to family and friends around the cozy fireplaces\, have a warm cocktail with friends from the bar\, and watch the sunset over the mountains and the stars come to life! Head on over to The Village at 4pm and warm-up with a s’more by the fire pits up by the Overlook Bar & Snowplay area. Complimentary s’mores are first come\, first serve. Kits to make your own can be purchased at our rink cabana bars.
URL:https://oldediblerenotahoe.com/event/smore-fun-2024-04-12/
LOCATION:Northstar California Resort\, 5001 Northstar Dr.\, Truckee\, CA\, 96161
CATEGORIES:Activity,Family friendly,Food & Drink
END:VEVENT
BEGIN:VEVENT
DTSTART;TZID=America/Los_Angeles:20240412T100000
DTEND;TZID=America/Los_Angeles:20240412T190000
DTSTAMP:20260424T091443
CREATED:20240216T230046Z
LAST-MODIFIED:20240216T230046Z
UID:37371-1712916000-1712948400@oldediblerenotahoe.com
SUMMARY:Baby Animal Days & Tulip Festival Days
DESCRIPTION:
URL:https://oldediblerenotahoe.com/event/baby-animal-days-tulip-festival-days-2024-04-12/
LOCATION:Andelin Family Farm\, 8100 Pyramid Way\, Spanish Springs\, NV\, 89436
CATEGORIES:Activity,Family friendly
END:VEVENT
BEGIN:VEVENT
DTSTART;TZID=America/Los_Angeles:20240412T100000
DTEND;TZID=America/Los_Angeles:20240412T190000
DTSTAMP:20260424T091443
CREATED:20231227T224947Z
LAST-MODIFIED:20231227T225343Z
UID:36329-1712916000-1712948400@oldediblerenotahoe.com
SUMMARY:Andelin Family Farm Spring Festival
DESCRIPTION:Andelin Family Farm’s Baby Animal & Tulip Festival opens April 5 this year! It is such an exciting time on the farm\, and offers guests a more personal experience with the baby goats\, lambs\, and calves. \nAdmission includes access to the tulip U-pick fields (when in season)\, petting zoo area\, and all the barnyard games and activities\, including our newly expanded mini zips.
URL:https://oldediblerenotahoe.com/event/andelin-family-farm-spring-festival-2024-04-12/
LOCATION:Andelin Family Farm\, 8100 Pyramid Way\, Spanish Springs\, NV\, 89436
CATEGORIES:Activity,Family friendly
END:VEVENT
BEGIN:VEVENT
DTSTART;TZID=America/Los_Angeles:20240411T150000
DTEND;TZID=America/Los_Angeles:20240411T190000
DTSTAMP:20260424T091443
CREATED:20240216T230046Z
LAST-MODIFIED:20240216T230046Z
UID:37370-1712847600-1712862000@oldediblerenotahoe.com
SUMMARY:Baby Animal Days & Tulip Festival Days
DESCRIPTION:
URL:https://oldediblerenotahoe.com/event/baby-animal-days-tulip-festival-days-2024-04-11/
LOCATION:Andelin Family Farm\, 8100 Pyramid Way\, Spanish Springs\, NV\, 89436
CATEGORIES:Activity,Family friendly
END:VEVENT
BEGIN:VEVENT
DTSTART;TZID=America/Los_Angeles:20240411T150000
DTEND;TZID=America/Los_Angeles:20240411T190000
DTSTAMP:20260424T091443
CREATED:20231227T224947Z
LAST-MODIFIED:20231227T225339Z
UID:36328-1712847600-1712862000@oldediblerenotahoe.com
SUMMARY:Andelin Family Farm Spring Festival
DESCRIPTION:Andelin Family Farm’s Baby Animal & Tulip Festival opens April 5 this year! It is such an exciting time on the farm\, and offers guests a more personal experience with the baby goats\, lambs\, and calves. \nAdmission includes access to the tulip U-pick fields (when in season)\, petting zoo area\, and all the barnyard games and activities\, including our newly expanded mini zips.
URL:https://oldediblerenotahoe.com/event/andelin-family-farm-spring-festival-2024-04-11/
LOCATION:Andelin Family Farm\, 8100 Pyramid Way\, Spanish Springs\, NV\, 89436
CATEGORIES:Activity,Family friendly
END:VEVENT
BEGIN:VEVENT
DTSTART;TZID=America/Los_Angeles:20240410T150000
DTEND;TZID=America/Los_Angeles:20240410T190000
DTSTAMP:20260424T091443
CREATED:20240216T230046Z
LAST-MODIFIED:20240216T230046Z
UID:37369-1712761200-1712775600@oldediblerenotahoe.com
SUMMARY:Baby Animal Days & Tulip Festival Days
DESCRIPTION:
URL:https://oldediblerenotahoe.com/event/baby-animal-days-tulip-festival-days-2024-04-10/
LOCATION:Andelin Family Farm\, 8100 Pyramid Way\, Spanish Springs\, NV\, 89436
CATEGORIES:Activity,Family friendly
END:VEVENT
BEGIN:VEVENT
DTSTART;TZID=America/Los_Angeles:20240410T150000
DTEND;TZID=America/Los_Angeles:20240410T190000
DTSTAMP:20260424T091443
CREATED:20231227T224947Z
LAST-MODIFIED:20231227T225338Z
UID:36327-1712761200-1712775600@oldediblerenotahoe.com
SUMMARY:Andelin Family Farm Spring Festival
DESCRIPTION:Andelin Family Farm’s Baby Animal & Tulip Festival opens April 5 this year! It is such an exciting time on the farm\, and offers guests a more personal experience with the baby goats\, lambs\, and calves. \nAdmission includes access to the tulip U-pick fields (when in season)\, petting zoo area\, and all the barnyard games and activities\, including our newly expanded mini zips.
URL:https://oldediblerenotahoe.com/event/andelin-family-farm-spring-festival-2024-04-10/
LOCATION:Andelin Family Farm\, 8100 Pyramid Way\, Spanish Springs\, NV\, 89436
CATEGORIES:Activity,Family friendly
END:VEVENT
BEGIN:VEVENT
DTSTART;TZID=America/Los_Angeles:20240407T160000
DTEND;TZID=America/Los_Angeles:20240407T180000
DTSTAMP:20260424T091443
CREATED:20231227T233203Z
LAST-MODIFIED:20231227T233203Z
UID:36429-1712505600-1712512800@oldediblerenotahoe.com
SUMMARY:S'More Fun
DESCRIPTION:Snuggle up close to family and friends around the cozy fireplaces\, have a warm cocktail with friends from the bar\, and watch the sunset over the mountains and the stars come to life! Head on over to The Village at 4pm and warm-up with a s’more by the fire pits up by the Overlook Bar & Snowplay area. Complimentary s’mores are first come\, first serve. Kits to make your own can be purchased at our rink cabana bars.
URL:https://oldediblerenotahoe.com/event/smore-fun-2024-04-07/
LOCATION:Northstar California Resort\, 5001 Northstar Dr.\, Truckee\, CA\, 96161
CATEGORIES:Activity,Family friendly,Food & Drink
END:VEVENT
BEGIN:VEVENT
DTSTART;TZID=America/Los_Angeles:20240406T160000
DTEND;TZID=America/Los_Angeles:20240406T180000
DTSTAMP:20260424T091443
CREATED:20231227T233203Z
LAST-MODIFIED:20231227T233203Z
UID:36428-1712419200-1712426400@oldediblerenotahoe.com
SUMMARY:S'More Fun
DESCRIPTION:Snuggle up close to family and friends around the cozy fireplaces\, have a warm cocktail with friends from the bar\, and watch the sunset over the mountains and the stars come to life! Head on over to The Village at 4pm and warm-up with a s’more by the fire pits up by the Overlook Bar & Snowplay area. Complimentary s’mores are first come\, first serve. Kits to make your own can be purchased at our rink cabana bars.
URL:https://oldediblerenotahoe.com/event/smore-fun-2024-04-06/
LOCATION:Northstar California Resort\, 5001 Northstar Dr.\, Truckee\, CA\, 96161
CATEGORIES:Activity,Family friendly,Food & Drink
END:VEVENT
BEGIN:VEVENT
DTSTART;TZID=America/Los_Angeles:20240406T100000
DTEND;TZID=America/Los_Angeles:20240406T190000
DTSTAMP:20260424T091443
CREATED:20240216T230046Z
LAST-MODIFIED:20240216T230046Z
UID:37368-1712397600-1712430000@oldediblerenotahoe.com
SUMMARY:Baby Animal Days & Tulip Festival Days
DESCRIPTION:
URL:https://oldediblerenotahoe.com/event/baby-animal-days-tulip-festival-days-2024-04-06/
LOCATION:Andelin Family Farm\, 8100 Pyramid Way\, Spanish Springs\, NV\, 89436
CATEGORIES:Activity,Family friendly
END:VEVENT
BEGIN:VEVENT
DTSTART;TZID=America/Los_Angeles:20240406T100000
DTEND;TZID=America/Los_Angeles:20240406T190000
DTSTAMP:20260424T091443
CREATED:20231227T224947Z
LAST-MODIFIED:20231227T225338Z
UID:36326-1712397600-1712430000@oldediblerenotahoe.com
SUMMARY:Andelin Family Farm Spring Festival
DESCRIPTION:Andelin Family Farm’s Baby Animal & Tulip Festival opens April 5 this year! It is such an exciting time on the farm\, and offers guests a more personal experience with the baby goats\, lambs\, and calves. \nAdmission includes access to the tulip U-pick fields (when in season)\, petting zoo area\, and all the barnyard games and activities\, including our newly expanded mini zips.
URL:https://oldediblerenotahoe.com/event/andelin-family-farm-spring-festival-2024-04-06/
LOCATION:Andelin Family Farm\, 8100 Pyramid Way\, Spanish Springs\, NV\, 89436
CATEGORIES:Activity,Family friendly
END:VEVENT
BEGIN:VEVENT
DTSTART;TZID=America/Los_Angeles:20240405T160000
DTEND;TZID=America/Los_Angeles:20240405T180000
DTSTAMP:20260424T091443
CREATED:20231227T233203Z
LAST-MODIFIED:20231227T233203Z
UID:36427-1712332800-1712340000@oldediblerenotahoe.com
SUMMARY:S'More Fun
DESCRIPTION:Snuggle up close to family and friends around the cozy fireplaces\, have a warm cocktail with friends from the bar\, and watch the sunset over the mountains and the stars come to life! Head on over to The Village at 4pm and warm-up with a s’more by the fire pits up by the Overlook Bar & Snowplay area. Complimentary s’mores are first come\, first serve. Kits to make your own can be purchased at our rink cabana bars.
URL:https://oldediblerenotahoe.com/event/smore-fun-2024-04-05/
LOCATION:Northstar California Resort\, 5001 Northstar Dr.\, Truckee\, CA\, 96161
CATEGORIES:Activity,Family friendly,Food & Drink
END:VEVENT
BEGIN:VEVENT
DTSTART;TZID=America/Los_Angeles:20240405T100000
DTEND;TZID=America/Los_Angeles:20240405T190000
DTSTAMP:20260424T091443
CREATED:20240216T230046Z
LAST-MODIFIED:20240216T230046Z
UID:37367-1712311200-1712343600@oldediblerenotahoe.com
SUMMARY:Baby Animal Days & Tulip Festival Days
DESCRIPTION:
URL:https://oldediblerenotahoe.com/event/baby-animal-days-tulip-festival-days-2024-04-05/
LOCATION:Andelin Family Farm\, 8100 Pyramid Way\, Spanish Springs\, NV\, 89436
CATEGORIES:Activity,Family friendly
END:VEVENT
BEGIN:VEVENT
DTSTART;TZID=America/Los_Angeles:20240405T100000
DTEND;TZID=America/Los_Angeles:20240405T190000
DTSTAMP:20260424T091443
CREATED:20231227T224947Z
LAST-MODIFIED:20231227T225334Z
UID:36325-1712311200-1712343600@oldediblerenotahoe.com
SUMMARY:Andelin Family Farm Spring Festival
DESCRIPTION:Andelin Family Farm’s Baby Animal & Tulip Festival opens April 5 this year! It is such an exciting time on the farm\, and offers guests a more personal experience with the baby goats\, lambs\, and calves. \nAdmission includes access to the tulip U-pick fields (when in season)\, petting zoo area\, and all the barnyard games and activities\, including our newly expanded mini zips.
URL:https://oldediblerenotahoe.com/event/andelin-family-farm-spring-festival/
LOCATION:Andelin Family Farm\, 8100 Pyramid Way\, Spanish Springs\, NV\, 89436
CATEGORIES:Activity,Family friendly
END:VEVENT
BEGIN:VEVENT
DTSTART;TZID=America/Los_Angeles:20240404T150000
DTEND;TZID=America/Los_Angeles:20240404T190000
DTSTAMP:20260424T091443
CREATED:20240216T230046Z
LAST-MODIFIED:20240216T230046Z
UID:37366-1712242800-1712257200@oldediblerenotahoe.com
SUMMARY:Baby Animal Days & Tulip Festival Days
DESCRIPTION:
URL:https://oldediblerenotahoe.com/event/baby-animal-days-tulip-festival-days-2024-04-04/
LOCATION:Andelin Family Farm\, 8100 Pyramid Way\, Spanish Springs\, NV\, 89436
CATEGORIES:Activity,Family friendly
END:VEVENT
BEGIN:VEVENT
DTSTART;TZID=America/Los_Angeles:20240403T150000
DTEND;TZID=America/Los_Angeles:20240403T190000
DTSTAMP:20260424T091443
CREATED:20240216T230046Z
LAST-MODIFIED:20240216T230046Z
UID:37365-1712156400-1712170800@oldediblerenotahoe.com
SUMMARY:Baby Animal Days & Tulip Festival Days
DESCRIPTION:
URL:https://oldediblerenotahoe.com/event/baby-animal-days-tulip-festival-days/
LOCATION:Andelin Family Farm\, 8100 Pyramid Way\, Spanish Springs\, NV\, 89436
CATEGORIES:Activity,Family friendly
END:VEVENT
BEGIN:VEVENT
DTSTART;TZID=America/Los_Angeles:20240331T160000
DTEND;TZID=America/Los_Angeles:20240331T180000
DTSTAMP:20260424T091443
CREATED:20231227T233203Z
LAST-MODIFIED:20231227T233203Z
UID:36426-1711900800-1711908000@oldediblerenotahoe.com
SUMMARY:S'More Fun
DESCRIPTION:Snuggle up close to family and friends around the cozy fireplaces\, have a warm cocktail with friends from the bar\, and watch the sunset over the mountains and the stars come to life! Head on over to The Village at 4pm and warm-up with a s’more by the fire pits up by the Overlook Bar & Snowplay area. Complimentary s’mores are first come\, first serve. Kits to make your own can be purchased at our rink cabana bars.
URL:https://oldediblerenotahoe.com/event/smore-fun-2024-03-31/
LOCATION:Northstar California Resort\, 5001 Northstar Dr.\, Truckee\, CA\, 96161
CATEGORIES:Activity,Family friendly,Food & Drink
END:VEVENT
BEGIN:VEVENT
DTSTART;TZID=America/Los_Angeles:20240330T160000
DTEND;TZID=America/Los_Angeles:20240330T180000
DTSTAMP:20260424T091443
CREATED:20231227T233203Z
LAST-MODIFIED:20231227T233203Z
UID:36425-1711814400-1711821600@oldediblerenotahoe.com
SUMMARY:S'More Fun
DESCRIPTION:Snuggle up close to family and friends around the cozy fireplaces\, have a warm cocktail with friends from the bar\, and watch the sunset over the mountains and the stars come to life! Head on over to The Village at 4pm and warm-up with a s’more by the fire pits up by the Overlook Bar & Snowplay area. Complimentary s’mores are first come\, first serve. Kits to make your own can be purchased at our rink cabana bars.
URL:https://oldediblerenotahoe.com/event/smore-fun-2024-03-30/
LOCATION:Northstar California Resort\, 5001 Northstar Dr.\, Truckee\, CA\, 96161
CATEGORIES:Activity,Family friendly,Food & Drink
END:VEVENT
BEGIN:VEVENT
DTSTART;TZID=America/Los_Angeles:20240330T100000
DTEND;TZID=America/Los_Angeles:20240330T180000
DTSTAMP:20260424T091443
CREATED:20240311T044251Z
LAST-MODIFIED:20240311T044251Z
UID:37788-1711792800-1711821600@oldediblerenotahoe.com
SUMMARY:Easter Egg Hunt at Chocolate Nugget
DESCRIPTION:The Chocolate Nugget Candy Factory is thrilled to announce its upcoming Easter event\, set to take place on Saturday\, March 30 from 10 a.m. to 6 p.m. at its Washoe City location. This free community event promises a delightful day filled with egg hunts for children of all ages\, photos with the Easter Bunny\, games\, prizes and more. \nAttendees can look forward to an array of activities\, including: \n\nEgg Hunts: The highlight of the day will be the egg hunts\, with three separate hunts tailored for different age groups. The first hunt is designed for the littlest ones aged 1 to 5\, followed by a hunt for ages 5 to 11\, and finally\, a hunt for ages 12 to 15. Participants will have a blast searching for eggs filled with surprises scattered throughout the premises.\nPhotos with the Easter Bunny: Capture the magic of the season with special photo opportunities with the Easter Bunny.\n360 Photos: Take your Easter photos to the next level with 360-degree photo opportunities. Create unforgettable snapshots to share with friends and family.\nGames and Prizes: Exciting games and challenges await attendees\, with chances to win fun prizes.\nCoffee Truck: Guests can refuel and recharge at the event with delicious offerings from a local coffee truck\, Carbon Coffee.\nEaster Eggs for Shopping: Explore the vast selection of Easter eggs available for purchase.\n\nAdding to the charm of the event\, attendees will have the unique opportunity to witness a vintage chocolate molder in action\, one of only three in the world.
URL:https://oldediblerenotahoe.com/event/easter-egg-hunt-at-chocolate-nugget/
LOCATION:Chocolate Nugget Candy Factory\, 611 US-395\, New Washoe City\, NV\, 89704
CATEGORIES:Activity,Family friendly,Holiday
END:VEVENT
BEGIN:VEVENT
DTSTART;TZID=America/Los_Angeles:20240329T160000
DTEND;TZID=America/Los_Angeles:20240329T180000
DTSTAMP:20260424T091443
CREATED:20231227T233203Z
LAST-MODIFIED:20231227T233203Z
UID:36424-1711728000-1711735200@oldediblerenotahoe.com
SUMMARY:S'More Fun
DESCRIPTION:Snuggle up close to family and friends around the cozy fireplaces\, have a warm cocktail with friends from the bar\, and watch the sunset over the mountains and the stars come to life! Head on over to The Village at 4pm and warm-up with a s’more by the fire pits up by the Overlook Bar & Snowplay area. Complimentary s’mores are first come\, first serve. Kits to make your own can be purchased at our rink cabana bars.
URL:https://oldediblerenotahoe.com/event/smore-fun-2024-03-29/
LOCATION:Northstar California Resort\, 5001 Northstar Dr.\, Truckee\, CA\, 96161
CATEGORIES:Activity,Family friendly,Food & Drink
END:VEVENT
BEGIN:VEVENT
DTSTART;TZID=America/Los_Angeles:20240324T160000
DTEND;TZID=America/Los_Angeles:20240324T180000
DTSTAMP:20260424T091443
CREATED:20231227T233203Z
LAST-MODIFIED:20231227T233203Z
UID:36423-1711296000-1711303200@oldediblerenotahoe.com
SUMMARY:S'More Fun
DESCRIPTION:Snuggle up close to family and friends around the cozy fireplaces\, have a warm cocktail with friends from the bar\, and watch the sunset over the mountains and the stars come to life! Head on over to The Village at 4pm and warm-up with a s’more by the fire pits up by the Overlook Bar & Snowplay area. Complimentary s’mores are first come\, first serve. Kits to make your own can be purchased at our rink cabana bars.
URL:https://oldediblerenotahoe.com/event/smore-fun-2024-03-24/
LOCATION:Northstar California Resort\, 5001 Northstar Dr.\, Truckee\, CA\, 96161
CATEGORIES:Activity,Family friendly,Food & Drink
END:VEVENT
BEGIN:VEVENT
DTSTART;TZID=America/Los_Angeles:20240323T160000
DTEND;TZID=America/Los_Angeles:20240323T180000
DTSTAMP:20260424T091443
CREATED:20231227T233203Z
LAST-MODIFIED:20231227T233203Z
UID:36422-1711209600-1711216800@oldediblerenotahoe.com
SUMMARY:S'More Fun
DESCRIPTION:Snuggle up close to family and friends around the cozy fireplaces\, have a warm cocktail with friends from the bar\, and watch the sunset over the mountains and the stars come to life! Head on over to The Village at 4pm and warm-up with a s’more by the fire pits up by the Overlook Bar & Snowplay area. Complimentary s’mores are first come\, first serve. Kits to make your own can be purchased at our rink cabana bars.
URL:https://oldediblerenotahoe.com/event/smore-fun-2024-03-23/
LOCATION:Northstar California Resort\, 5001 Northstar Dr.\, Truckee\, CA\, 96161
CATEGORIES:Activity,Family friendly,Food & Drink
END:VEVENT
BEGIN:VEVENT
DTSTART;TZID=America/Los_Angeles:20240323T134500
DTEND;TZID=America/Los_Angeles:20240323T160000
DTSTAMP:20260424T091443
CREATED:20231227T234657Z
LAST-MODIFIED:20231227T234657Z
UID:36498-1711201500-1711209600@oldediblerenotahoe.com
SUMMARY:200-Foot Banana Split Extravaganza
DESCRIPTION:Kids of all sizes will help devour an incredible 200-foot banana split at 1:45 PM for free! Grab a spoon because this will be one tasty monster at Tahoe Donner Downhill Ski Area.
URL:https://oldediblerenotahoe.com/event/200-foot-banana-split-extravaganza/
LOCATION:Tahoe Donner Downhill Ski Resort\, 11603 Snowpeak Way\, Truckee\, CA
CATEGORIES:Activity,Family friendly,Food & Drink
END:VEVENT
END:VCALENDAR