BEGIN:VCALENDAR
VERSION:2.0
PRODID:-//Edible Reno-Tahoe - ECPv6.15.20//NONSGML v1.0//EN
CALSCALE:GREGORIAN
METHOD:PUBLISH
X-ORIGINAL-URL:https://oldediblerenotahoe.com
X-WR-CALDESC:Events for Edible Reno-Tahoe
REFRESH-INTERVAL;VALUE=DURATION:PT1H
X-Robots-Tag:noindex
X-PUBLISHED-TTL:PT1H
BEGIN:VTIMEZONE
TZID:America/Los_Angeles
BEGIN:DAYLIGHT
TZOFFSETFROM:-0800
TZOFFSETTO:-0700
TZNAME:PDT
DTSTART:20230312T100000
END:DAYLIGHT
BEGIN:STANDARD
TZOFFSETFROM:-0700
TZOFFSETTO:-0800
TZNAME:PST
DTSTART:20231105T090000
END:STANDARD
BEGIN:DAYLIGHT
TZOFFSETFROM:-0800
TZOFFSETTO:-0700
TZNAME:PDT
DTSTART:20240310T100000
END:DAYLIGHT
BEGIN:STANDARD
TZOFFSETFROM:-0700
TZOFFSETTO:-0800
TZNAME:PST
DTSTART:20241103T090000
END:STANDARD
BEGIN:DAYLIGHT
TZOFFSETFROM:-0800
TZOFFSETTO:-0700
TZNAME:PDT
DTSTART:20250309T100000
END:DAYLIGHT
BEGIN:STANDARD
TZOFFSETFROM:-0700
TZOFFSETTO:-0800
TZNAME:PST
DTSTART:20251102T090000
END:STANDARD
END:VTIMEZONE
BEGIN:VEVENT
DTSTART;TZID=America/Los_Angeles:20240309T160000
DTEND;TZID=America/Los_Angeles:20240309T180000
DTSTAMP:20260424T144749
CREATED:20231227T233203Z
LAST-MODIFIED:20231227T233203Z
UID:36416-1710000000-1710007200@oldediblerenotahoe.com
SUMMARY:S'More Fun
DESCRIPTION:Snuggle up close to family and friends around the cozy fireplaces\, have a warm cocktail with friends from the bar\, and watch the sunset over the mountains and the stars come to life! Head on over to The Village at 4pm and warm-up with a s’more by the fire pits up by the Overlook Bar & Snowplay area. Complimentary s’mores are first come\, first serve. Kits to make your own can be purchased at our rink cabana bars.
URL:https://oldediblerenotahoe.com/event/smore-fun-2024-03-09/
LOCATION:Northstar California Resort\, 5001 Northstar Dr.\, Truckee\, CA\, 96161
CATEGORIES:Activity,Family friendly,Food & Drink
END:VEVENT
BEGIN:VEVENT
DTSTART;TZID=America/Los_Angeles:20240308T160000
DTEND;TZID=America/Los_Angeles:20240308T180000
DTSTAMP:20260424T144749
CREATED:20231227T233203Z
LAST-MODIFIED:20231227T233203Z
UID:36415-1709913600-1709920800@oldediblerenotahoe.com
SUMMARY:S'More Fun
DESCRIPTION:Snuggle up close to family and friends around the cozy fireplaces\, have a warm cocktail with friends from the bar\, and watch the sunset over the mountains and the stars come to life! Head on over to The Village at 4pm and warm-up with a s’more by the fire pits up by the Overlook Bar & Snowplay area. Complimentary s’mores are first come\, first serve. Kits to make your own can be purchased at our rink cabana bars.
URL:https://oldediblerenotahoe.com/event/smore-fun-2024-03-08/
LOCATION:Northstar California Resort\, 5001 Northstar Dr.\, Truckee\, CA\, 96161
CATEGORIES:Activity,Family friendly,Food & Drink
END:VEVENT
BEGIN:VEVENT
DTSTART;TZID=America/Los_Angeles:20240303T160000
DTEND;TZID=America/Los_Angeles:20240303T180000
DTSTAMP:20260424T144749
CREATED:20231227T233203Z
LAST-MODIFIED:20231227T233203Z
UID:36414-1709481600-1709488800@oldediblerenotahoe.com
SUMMARY:S'More Fun
DESCRIPTION:Snuggle up close to family and friends around the cozy fireplaces\, have a warm cocktail with friends from the bar\, and watch the sunset over the mountains and the stars come to life! Head on over to The Village at 4pm and warm-up with a s’more by the fire pits up by the Overlook Bar & Snowplay area. Complimentary s’mores are first come\, first serve. Kits to make your own can be purchased at our rink cabana bars.
URL:https://oldediblerenotahoe.com/event/smore-fun-2024-03-03/
LOCATION:Northstar California Resort\, 5001 Northstar Dr.\, Truckee\, CA\, 96161
CATEGORIES:Activity,Family friendly,Food & Drink
END:VEVENT
BEGIN:VEVENT
DTSTART;TZID=America/Los_Angeles:20240302T160000
DTEND;TZID=America/Los_Angeles:20240302T180000
DTSTAMP:20260424T144749
CREATED:20231227T233203Z
LAST-MODIFIED:20231227T233203Z
UID:36413-1709395200-1709402400@oldediblerenotahoe.com
SUMMARY:S'More Fun
DESCRIPTION:Snuggle up close to family and friends around the cozy fireplaces\, have a warm cocktail with friends from the bar\, and watch the sunset over the mountains and the stars come to life! Head on over to The Village at 4pm and warm-up with a s’more by the fire pits up by the Overlook Bar & Snowplay area. Complimentary s’mores are first come\, first serve. Kits to make your own can be purchased at our rink cabana bars.
URL:https://oldediblerenotahoe.com/event/smore-fun-2024-03-02/
LOCATION:Northstar California Resort\, 5001 Northstar Dr.\, Truckee\, CA\, 96161
CATEGORIES:Activity,Family friendly,Food & Drink
END:VEVENT
BEGIN:VEVENT
DTSTART;TZID=America/Los_Angeles:20240301T160000
DTEND;TZID=America/Los_Angeles:20240301T180000
DTSTAMP:20260424T144749
CREATED:20231227T233203Z
LAST-MODIFIED:20231227T233203Z
UID:36412-1709308800-1709316000@oldediblerenotahoe.com
SUMMARY:S'More Fun
DESCRIPTION:Snuggle up close to family and friends around the cozy fireplaces\, have a warm cocktail with friends from the bar\, and watch the sunset over the mountains and the stars come to life! Head on over to The Village at 4pm and warm-up with a s’more by the fire pits up by the Overlook Bar & Snowplay area. Complimentary s’mores are first come\, first serve. Kits to make your own can be purchased at our rink cabana bars.
URL:https://oldediblerenotahoe.com/event/smore-fun-2024-03-01/
LOCATION:Northstar California Resort\, 5001 Northstar Dr.\, Truckee\, CA\, 96161
CATEGORIES:Activity,Family friendly,Food & Drink
END:VEVENT
BEGIN:VEVENT
DTSTART;TZID=America/Los_Angeles:20240225T160000
DTEND;TZID=America/Los_Angeles:20240225T180000
DTSTAMP:20260424T144749
CREATED:20231227T233203Z
LAST-MODIFIED:20231227T233203Z
UID:36411-1708876800-1708884000@oldediblerenotahoe.com
SUMMARY:S'More Fun
DESCRIPTION:Snuggle up close to family and friends around the cozy fireplaces\, have a warm cocktail with friends from the bar\, and watch the sunset over the mountains and the stars come to life! Head on over to The Village at 4pm and warm-up with a s’more by the fire pits up by the Overlook Bar & Snowplay area. Complimentary s’mores are first come\, first serve. Kits to make your own can be purchased at our rink cabana bars.
URL:https://oldediblerenotahoe.com/event/smore-fun-2024-02-25/
LOCATION:Northstar California Resort\, 5001 Northstar Dr.\, Truckee\, CA\, 96161
CATEGORIES:Activity,Family friendly,Food & Drink
END:VEVENT
BEGIN:VEVENT
DTSTART;TZID=America/Los_Angeles:20240224T160000
DTEND;TZID=America/Los_Angeles:20240224T180000
DTSTAMP:20260424T144749
CREATED:20231227T233203Z
LAST-MODIFIED:20231227T233203Z
UID:36410-1708790400-1708797600@oldediblerenotahoe.com
SUMMARY:S'More Fun
DESCRIPTION:Snuggle up close to family and friends around the cozy fireplaces\, have a warm cocktail with friends from the bar\, and watch the sunset over the mountains and the stars come to life! Head on over to The Village at 4pm and warm-up with a s’more by the fire pits up by the Overlook Bar & Snowplay area. Complimentary s’mores are first come\, first serve. Kits to make your own can be purchased at our rink cabana bars.
URL:https://oldediblerenotahoe.com/event/smore-fun-2024-02-24/
LOCATION:Northstar California Resort\, 5001 Northstar Dr.\, Truckee\, CA\, 96161
CATEGORIES:Activity,Family friendly,Food & Drink
END:VEVENT
BEGIN:VEVENT
DTSTART;TZID=America/Los_Angeles:20240223T160000
DTEND;TZID=America/Los_Angeles:20240223T180000
DTSTAMP:20260424T144749
CREATED:20231227T233203Z
LAST-MODIFIED:20231227T233203Z
UID:36409-1708704000-1708711200@oldediblerenotahoe.com
SUMMARY:S'More Fun
DESCRIPTION:Snuggle up close to family and friends around the cozy fireplaces\, have a warm cocktail with friends from the bar\, and watch the sunset over the mountains and the stars come to life! Head on over to The Village at 4pm and warm-up with a s’more by the fire pits up by the Overlook Bar & Snowplay area. Complimentary s’mores are first come\, first serve. Kits to make your own can be purchased at our rink cabana bars.
URL:https://oldediblerenotahoe.com/event/smore-fun-2024-02-23/
LOCATION:Northstar California Resort\, 5001 Northstar Dr.\, Truckee\, CA\, 96161
CATEGORIES:Activity,Family friendly,Food & Drink
END:VEVENT
BEGIN:VEVENT
DTSTART;TZID=America/Los_Angeles:20240218T160000
DTEND;TZID=America/Los_Angeles:20240218T180000
DTSTAMP:20260424T144749
CREATED:20231227T233203Z
LAST-MODIFIED:20231227T233203Z
UID:36408-1708272000-1708279200@oldediblerenotahoe.com
SUMMARY:S'More Fun
DESCRIPTION:Snuggle up close to family and friends around the cozy fireplaces\, have a warm cocktail with friends from the bar\, and watch the sunset over the mountains and the stars come to life! Head on over to The Village at 4pm and warm-up with a s’more by the fire pits up by the Overlook Bar & Snowplay area. Complimentary s’mores are first come\, first serve. Kits to make your own can be purchased at our rink cabana bars.
URL:https://oldediblerenotahoe.com/event/smore-fun-2024-02-18/
LOCATION:Northstar California Resort\, 5001 Northstar Dr.\, Truckee\, CA\, 96161
CATEGORIES:Activity,Family friendly,Food & Drink
END:VEVENT
BEGIN:VEVENT
DTSTART;TZID=America/Los_Angeles:20240217T160000
DTEND;TZID=America/Los_Angeles:20240217T180000
DTSTAMP:20260424T144749
CREATED:20231227T233203Z
LAST-MODIFIED:20231227T233203Z
UID:36407-1708185600-1708192800@oldediblerenotahoe.com
SUMMARY:S'More Fun
DESCRIPTION:Snuggle up close to family and friends around the cozy fireplaces\, have a warm cocktail with friends from the bar\, and watch the sunset over the mountains and the stars come to life! Head on over to The Village at 4pm and warm-up with a s’more by the fire pits up by the Overlook Bar & Snowplay area. Complimentary s’mores are first come\, first serve. Kits to make your own can be purchased at our rink cabana bars.
URL:https://oldediblerenotahoe.com/event/smore-fun-2024-02-17/
LOCATION:Northstar California Resort\, 5001 Northstar Dr.\, Truckee\, CA\, 96161
CATEGORIES:Activity,Family friendly,Food & Drink
END:VEVENT
BEGIN:VEVENT
DTSTART;TZID=America/Los_Angeles:20240216T160000
DTEND;TZID=America/Los_Angeles:20240216T180000
DTSTAMP:20260424T144749
CREATED:20231227T233203Z
LAST-MODIFIED:20231227T233203Z
UID:36406-1708099200-1708106400@oldediblerenotahoe.com
SUMMARY:S'More Fun
DESCRIPTION:Snuggle up close to family and friends around the cozy fireplaces\, have a warm cocktail with friends from the bar\, and watch the sunset over the mountains and the stars come to life! Head on over to The Village at 4pm and warm-up with a s’more by the fire pits up by the Overlook Bar & Snowplay area. Complimentary s’mores are first come\, first serve. Kits to make your own can be purchased at our rink cabana bars.
URL:https://oldediblerenotahoe.com/event/smore-fun-2024-02-16/
LOCATION:Northstar California Resort\, 5001 Northstar Dr.\, Truckee\, CA\, 96161
CATEGORIES:Activity,Family friendly,Food & Drink
END:VEVENT
BEGIN:VEVENT
DTSTART;TZID=America/Los_Angeles:20240211T160000
DTEND;TZID=America/Los_Angeles:20240211T180000
DTSTAMP:20260424T144749
CREATED:20231227T233203Z
LAST-MODIFIED:20231227T233203Z
UID:36405-1707667200-1707674400@oldediblerenotahoe.com
SUMMARY:S'More Fun
DESCRIPTION:Snuggle up close to family and friends around the cozy fireplaces\, have a warm cocktail with friends from the bar\, and watch the sunset over the mountains and the stars come to life! Head on over to The Village at 4pm and warm-up with a s’more by the fire pits up by the Overlook Bar & Snowplay area. Complimentary s’mores are first come\, first serve. Kits to make your own can be purchased at our rink cabana bars.
URL:https://oldediblerenotahoe.com/event/smore-fun-2024-02-11/
LOCATION:Northstar California Resort\, 5001 Northstar Dr.\, Truckee\, CA\, 96161
CATEGORIES:Activity,Family friendly,Food & Drink
END:VEVENT
BEGIN:VEVENT
DTSTART;TZID=America/Los_Angeles:20240210T160000
DTEND;TZID=America/Los_Angeles:20240210T180000
DTSTAMP:20260424T144749
CREATED:20231227T233203Z
LAST-MODIFIED:20231227T233203Z
UID:36404-1707580800-1707588000@oldediblerenotahoe.com
SUMMARY:S'More Fun
DESCRIPTION:Snuggle up close to family and friends around the cozy fireplaces\, have a warm cocktail with friends from the bar\, and watch the sunset over the mountains and the stars come to life! Head on over to The Village at 4pm and warm-up with a s’more by the fire pits up by the Overlook Bar & Snowplay area. Complimentary s’mores are first come\, first serve. Kits to make your own can be purchased at our rink cabana bars.
URL:https://oldediblerenotahoe.com/event/smore-fun-2024-02-10/
LOCATION:Northstar California Resort\, 5001 Northstar Dr.\, Truckee\, CA\, 96161
CATEGORIES:Activity,Family friendly,Food & Drink
END:VEVENT
BEGIN:VEVENT
DTSTART;TZID=America/Los_Angeles:20240209T160000
DTEND;TZID=America/Los_Angeles:20240209T180000
DTSTAMP:20260424T144749
CREATED:20231227T233203Z
LAST-MODIFIED:20231227T233203Z
UID:36403-1707494400-1707501600@oldediblerenotahoe.com
SUMMARY:S'More Fun
DESCRIPTION:Snuggle up close to family and friends around the cozy fireplaces\, have a warm cocktail with friends from the bar\, and watch the sunset over the mountains and the stars come to life! Head on over to The Village at 4pm and warm-up with a s’more by the fire pits up by the Overlook Bar & Snowplay area. Complimentary s’mores are first come\, first serve. Kits to make your own can be purchased at our rink cabana bars.
URL:https://oldediblerenotahoe.com/event/smore-fun-2024-02-09/
LOCATION:Northstar California Resort\, 5001 Northstar Dr.\, Truckee\, CA\, 96161
CATEGORIES:Activity,Family friendly,Food & Drink
END:VEVENT
BEGIN:VEVENT
DTSTART;TZID=America/Los_Angeles:20240204T160000
DTEND;TZID=America/Los_Angeles:20240204T180000
DTSTAMP:20260424T144749
CREATED:20231227T233203Z
LAST-MODIFIED:20231227T233203Z
UID:36402-1707062400-1707069600@oldediblerenotahoe.com
SUMMARY:S'More Fun
DESCRIPTION:Snuggle up close to family and friends around the cozy fireplaces\, have a warm cocktail with friends from the bar\, and watch the sunset over the mountains and the stars come to life! Head on over to The Village at 4pm and warm-up with a s’more by the fire pits up by the Overlook Bar & Snowplay area. Complimentary s’mores are first come\, first serve. Kits to make your own can be purchased at our rink cabana bars.
URL:https://oldediblerenotahoe.com/event/smore-fun-2024-02-04/
LOCATION:Northstar California Resort\, 5001 Northstar Dr.\, Truckee\, CA\, 96161
CATEGORIES:Activity,Family friendly,Food & Drink
END:VEVENT
BEGIN:VEVENT
DTSTART;TZID=America/Los_Angeles:20240203T160000
DTEND;TZID=America/Los_Angeles:20240203T180000
DTSTAMP:20260424T144749
CREATED:20231227T233203Z
LAST-MODIFIED:20231227T233203Z
UID:36401-1706976000-1706983200@oldediblerenotahoe.com
SUMMARY:S'More Fun
DESCRIPTION:Snuggle up close to family and friends around the cozy fireplaces\, have a warm cocktail with friends from the bar\, and watch the sunset over the mountains and the stars come to life! Head on over to The Village at 4pm and warm-up with a s’more by the fire pits up by the Overlook Bar & Snowplay area. Complimentary s’mores are first come\, first serve. Kits to make your own can be purchased at our rink cabana bars.
URL:https://oldediblerenotahoe.com/event/smore-fun-2024-02-03/
LOCATION:Northstar California Resort\, 5001 Northstar Dr.\, Truckee\, CA\, 96161
CATEGORIES:Activity,Family friendly,Food & Drink
END:VEVENT
BEGIN:VEVENT
DTSTART;TZID=America/Los_Angeles:20240203T110000
DTEND;TZID=America/Los_Angeles:20240203T150000
DTSTAMP:20260424T144749
CREATED:20231220T004929Z
LAST-MODIFIED:20231220T004929Z
UID:36219-1706958000-1706972400@oldediblerenotahoe.com
SUMMARY:Groundhog Fever Festival
DESCRIPTION:Step out of your routine and mark Saturday\, February 3rd\, on your calendar to attend the Annual Groundhog Fever Festival\, promising an afternoon of excitement and entertainment! The festivities kick off at 11:00 a.m. with a series of mini-contests featuring enticing prizes throughout the day. From the intriguing Whip Cream Wrangle to the beloved Flip Cup Fight for beer enthusiasts\, the event caters to all ages. Quincy’s furry forecaster\, Chuck Wood\, predicts winter’s fate\, leading into Arm Wrestle-Mania and the Facial Hair Frenzy. Kids can showcase their creativity at the make-your-own-mustache booth\, while the Kid Zone\, sponsored by local businesses\, offers a variety of activities. Quircus brings back the fun with cotton candy\, face painting\, and more\, while Sierra Buttes Trail Stewardship and Gott Powersports introduce exciting additions. Explore a classic car display\, savor chili at the cook-off\, and enjoy beer or wine at the booths. Don’t miss out on this fantastic event brought to you by the Quincy Chamber of Commerce with a decade of support from The Knook in serving the Quincy community.
URL:https://oldediblerenotahoe.com/event/groundhog-fever-festival/
LOCATION:Downtown Quincy
CATEGORIES:Family friendly,Festival
ATTACH;FMTTYPE=image/png:https://oldediblerenotahoe.com/wp-content/uploads/2023/12/2024-GFF-Flyer-w-sponsor.png
END:VEVENT
BEGIN:VEVENT
DTSTART;TZID=America/Los_Angeles:20240202T160000
DTEND;TZID=America/Los_Angeles:20240202T180000
DTSTAMP:20260424T144749
CREATED:20231227T233203Z
LAST-MODIFIED:20231227T233203Z
UID:36400-1706889600-1706896800@oldediblerenotahoe.com
SUMMARY:S'More Fun
DESCRIPTION:Snuggle up close to family and friends around the cozy fireplaces\, have a warm cocktail with friends from the bar\, and watch the sunset over the mountains and the stars come to life! Head on over to The Village at 4pm and warm-up with a s’more by the fire pits up by the Overlook Bar & Snowplay area. Complimentary s’mores are first come\, first serve. Kits to make your own can be purchased at our rink cabana bars.
URL:https://oldediblerenotahoe.com/event/smore-fun-2024-02-02/
LOCATION:Northstar California Resort\, 5001 Northstar Dr.\, Truckee\, CA\, 96161
CATEGORIES:Activity,Family friendly,Food & Drink
END:VEVENT
BEGIN:VEVENT
DTSTART;TZID=America/Los_Angeles:20240131T180000
DTEND;TZID=America/Los_Angeles:20240131T200000
DTSTAMP:20260424T144749
CREATED:20231216T202749Z
LAST-MODIFIED:20231216T202749Z
UID:35865-1706724000-1706731200@oldediblerenotahoe.com
SUMMARY:Bluey's Big Play: The Stage Show
DESCRIPTION:
URL:https://oldediblerenotahoe.com/event/blueys-big-play-the-stage-show/
LOCATION:Pioneer Center\, 100 S. Virginia St.\, Reno\, NV\, 89501
CATEGORIES:Family friendly,Theatre
ATTACH;FMTTYPE=image/jpeg:https://oldediblerenotahoe.com/wp-content/uploads/2023/12/blueyhero.jpeg
END:VEVENT
BEGIN:VEVENT
DTSTART;TZID=America/Los_Angeles:20240128T160000
DTEND;TZID=America/Los_Angeles:20240128T180000
DTSTAMP:20260424T144749
CREATED:20231227T233203Z
LAST-MODIFIED:20231227T233203Z
UID:36399-1706457600-1706464800@oldediblerenotahoe.com
SUMMARY:S'More Fun
DESCRIPTION:Snuggle up close to family and friends around the cozy fireplaces\, have a warm cocktail with friends from the bar\, and watch the sunset over the mountains and the stars come to life! Head on over to The Village at 4pm and warm-up with a s’more by the fire pits up by the Overlook Bar & Snowplay area. Complimentary s’mores are first come\, first serve. Kits to make your own can be purchased at our rink cabana bars.
URL:https://oldediblerenotahoe.com/event/smore-fun-2024-01-28/
LOCATION:Northstar California Resort\, 5001 Northstar Dr.\, Truckee\, CA\, 96161
CATEGORIES:Activity,Family friendly,Food & Drink
END:VEVENT
BEGIN:VEVENT
DTSTART;TZID=America/Los_Angeles:20240127T160000
DTEND;TZID=America/Los_Angeles:20240127T180000
DTSTAMP:20260424T144749
CREATED:20231227T233203Z
LAST-MODIFIED:20231227T233203Z
UID:36398-1706371200-1706378400@oldediblerenotahoe.com
SUMMARY:S'More Fun
DESCRIPTION:Snuggle up close to family and friends around the cozy fireplaces\, have a warm cocktail with friends from the bar\, and watch the sunset over the mountains and the stars come to life! Head on over to The Village at 4pm and warm-up with a s’more by the fire pits up by the Overlook Bar & Snowplay area. Complimentary s’mores are first come\, first serve. Kits to make your own can be purchased at our rink cabana bars.
URL:https://oldediblerenotahoe.com/event/smore-fun-2024-01-27/
LOCATION:Northstar California Resort\, 5001 Northstar Dr.\, Truckee\, CA\, 96161
CATEGORIES:Activity,Family friendly,Food & Drink
END:VEVENT
BEGIN:VEVENT
DTSTART;TZID=America/Los_Angeles:20240126T160000
DTEND;TZID=America/Los_Angeles:20240126T180000
DTSTAMP:20260424T144749
CREATED:20231227T233203Z
LAST-MODIFIED:20231227T233203Z
UID:36397-1706284800-1706292000@oldediblerenotahoe.com
SUMMARY:S'More Fun
DESCRIPTION:Snuggle up close to family and friends around the cozy fireplaces\, have a warm cocktail with friends from the bar\, and watch the sunset over the mountains and the stars come to life! Head on over to The Village at 4pm and warm-up with a s’more by the fire pits up by the Overlook Bar & Snowplay area. Complimentary s’mores are first come\, first serve. Kits to make your own can be purchased at our rink cabana bars.
URL:https://oldediblerenotahoe.com/event/smore-fun-2024-01-26/
LOCATION:Northstar California Resort\, 5001 Northstar Dr.\, Truckee\, CA\, 96161
CATEGORIES:Activity,Family friendly,Food & Drink
END:VEVENT
BEGIN:VEVENT
DTSTART;TZID=America/Los_Angeles:20240121T160000
DTEND;TZID=America/Los_Angeles:20240121T180000
DTSTAMP:20260424T144749
CREATED:20231227T233203Z
LAST-MODIFIED:20231227T233203Z
UID:36396-1705852800-1705860000@oldediblerenotahoe.com
SUMMARY:S'More Fun
DESCRIPTION:Snuggle up close to family and friends around the cozy fireplaces\, have a warm cocktail with friends from the bar\, and watch the sunset over the mountains and the stars come to life! Head on over to The Village at 4pm and warm-up with a s’more by the fire pits up by the Overlook Bar & Snowplay area. Complimentary s’mores are first come\, first serve. Kits to make your own can be purchased at our rink cabana bars.
URL:https://oldediblerenotahoe.com/event/smore-fun-2024-01-21/
LOCATION:Northstar California Resort\, 5001 Northstar Dr.\, Truckee\, CA\, 96161
CATEGORIES:Activity,Family friendly,Food & Drink
END:VEVENT
BEGIN:VEVENT
DTSTART;TZID=America/Los_Angeles:20240120T160000
DTEND;TZID=America/Los_Angeles:20240120T180000
DTSTAMP:20260424T144749
CREATED:20231227T233203Z
LAST-MODIFIED:20231227T233203Z
UID:36395-1705766400-1705773600@oldediblerenotahoe.com
SUMMARY:S'More Fun
DESCRIPTION:Snuggle up close to family and friends around the cozy fireplaces\, have a warm cocktail with friends from the bar\, and watch the sunset over the mountains and the stars come to life! Head on over to The Village at 4pm and warm-up with a s’more by the fire pits up by the Overlook Bar & Snowplay area. Complimentary s’mores are first come\, first serve. Kits to make your own can be purchased at our rink cabana bars.
URL:https://oldediblerenotahoe.com/event/smore-fun-2024-01-20/
LOCATION:Northstar California Resort\, 5001 Northstar Dr.\, Truckee\, CA\, 96161
CATEGORIES:Activity,Family friendly,Food & Drink
END:VEVENT
BEGIN:VEVENT
DTSTART;TZID=America/Los_Angeles:20240119T160000
DTEND;TZID=America/Los_Angeles:20240119T180000
DTSTAMP:20260424T144749
CREATED:20231227T233203Z
LAST-MODIFIED:20231227T233203Z
UID:36394-1705680000-1705687200@oldediblerenotahoe.com
SUMMARY:S'More Fun
DESCRIPTION:Snuggle up close to family and friends around the cozy fireplaces\, have a warm cocktail with friends from the bar\, and watch the sunset over the mountains and the stars come to life! Head on over to The Village at 4pm and warm-up with a s’more by the fire pits up by the Overlook Bar & Snowplay area. Complimentary s’mores are first come\, first serve. Kits to make your own can be purchased at our rink cabana bars.
URL:https://oldediblerenotahoe.com/event/smore-fun-2024-01-19/
LOCATION:Northstar California Resort\, 5001 Northstar Dr.\, Truckee\, CA\, 96161
CATEGORIES:Activity,Family friendly,Food & Drink
END:VEVENT
BEGIN:VEVENT
DTSTART;TZID=America/Los_Angeles:20240114T160000
DTEND;TZID=America/Los_Angeles:20240114T180000
DTSTAMP:20260424T144749
CREATED:20231227T233203Z
LAST-MODIFIED:20231227T233203Z
UID:36393-1705248000-1705255200@oldediblerenotahoe.com
SUMMARY:S'More Fun
DESCRIPTION:Snuggle up close to family and friends around the cozy fireplaces\, have a warm cocktail with friends from the bar\, and watch the sunset over the mountains and the stars come to life! Head on over to The Village at 4pm and warm-up with a s’more by the fire pits up by the Overlook Bar & Snowplay area. Complimentary s’mores are first come\, first serve. Kits to make your own can be purchased at our rink cabana bars.
URL:https://oldediblerenotahoe.com/event/smore-fun-2024-01-14/
LOCATION:Northstar California Resort\, 5001 Northstar Dr.\, Truckee\, CA\, 96161
CATEGORIES:Activity,Family friendly,Food & Drink
END:VEVENT
BEGIN:VEVENT
DTSTART;TZID=America/Los_Angeles:20240113T160000
DTEND;TZID=America/Los_Angeles:20240113T180000
DTSTAMP:20260424T144749
CREATED:20231227T233203Z
LAST-MODIFIED:20231227T233203Z
UID:36392-1705161600-1705168800@oldediblerenotahoe.com
SUMMARY:S'More Fun
DESCRIPTION:Snuggle up close to family and friends around the cozy fireplaces\, have a warm cocktail with friends from the bar\, and watch the sunset over the mountains and the stars come to life! Head on over to The Village at 4pm and warm-up with a s’more by the fire pits up by the Overlook Bar & Snowplay area. Complimentary s’mores are first come\, first serve. Kits to make your own can be purchased at our rink cabana bars.
URL:https://oldediblerenotahoe.com/event/smore-fun-2024-01-13/
LOCATION:Northstar California Resort\, 5001 Northstar Dr.\, Truckee\, CA\, 96161
CATEGORIES:Activity,Family friendly,Food & Drink
END:VEVENT
BEGIN:VEVENT
DTSTART;TZID=America/Los_Angeles:20240112T160000
DTEND;TZID=America/Los_Angeles:20240112T180000
DTSTAMP:20260424T144749
CREATED:20231227T233203Z
LAST-MODIFIED:20231227T233203Z
UID:36391-1705075200-1705082400@oldediblerenotahoe.com
SUMMARY:S'More Fun
DESCRIPTION:Snuggle up close to family and friends around the cozy fireplaces\, have a warm cocktail with friends from the bar\, and watch the sunset over the mountains and the stars come to life! Head on over to The Village at 4pm and warm-up with a s’more by the fire pits up by the Overlook Bar & Snowplay area. Complimentary s’mores are first come\, first serve. Kits to make your own can be purchased at our rink cabana bars.
URL:https://oldediblerenotahoe.com/event/smore-fun-2024-01-12/
LOCATION:Northstar California Resort\, 5001 Northstar Dr.\, Truckee\, CA\, 96161
CATEGORIES:Activity,Family friendly,Food & Drink
END:VEVENT
BEGIN:VEVENT
DTSTART;TZID=America/Los_Angeles:20240107T160000
DTEND;TZID=America/Los_Angeles:20240107T180000
DTSTAMP:20260424T144749
CREATED:20231227T233203Z
LAST-MODIFIED:20231227T233203Z
UID:36390-1704643200-1704650400@oldediblerenotahoe.com
SUMMARY:S'More Fun
DESCRIPTION:Snuggle up close to family and friends around the cozy fireplaces\, have a warm cocktail with friends from the bar\, and watch the sunset over the mountains and the stars come to life! Head on over to The Village at 4pm and warm-up with a s’more by the fire pits up by the Overlook Bar & Snowplay area. Complimentary s’mores are first come\, first serve. Kits to make your own can be purchased at our rink cabana bars.
URL:https://oldediblerenotahoe.com/event/smore-fun-2024-01-07/
LOCATION:Northstar California Resort\, 5001 Northstar Dr.\, Truckee\, CA\, 96161
CATEGORIES:Activity,Family friendly,Food & Drink
END:VEVENT
BEGIN:VEVENT
DTSTART;TZID=America/Los_Angeles:20240106T160000
DTEND;TZID=America/Los_Angeles:20240106T180000
DTSTAMP:20260424T144749
CREATED:20231227T233203Z
LAST-MODIFIED:20231227T233321Z
UID:36388-1704556800-1704564000@oldediblerenotahoe.com
SUMMARY:S'More Fun
DESCRIPTION:Snuggle up close to family and friends around the cozy fireplaces\, have a warm cocktail with friends from the bar\, and watch the sunset over the mountains and the stars come to life! Head on over to The Village at 4pm and warm-up with a s’more by the fire pits up by the Overlook Bar & Snowplay area. Complimentary s’mores are first come\, first serve. Kits to make your own can be purchased at our rink cabana bars.
URL:https://oldediblerenotahoe.com/event/smore-fun-2024-01-06/
LOCATION:Northstar California Resort\, 5001 Northstar Dr.\, Truckee\, CA\, 96161
CATEGORIES:Activity,Family friendly,Food & Drink
END:VEVENT
END:VCALENDAR