BEGIN:VCALENDAR
VERSION:2.0
PRODID:-//Edible Reno-Tahoe - ECPv6.15.20//NONSGML v1.0//EN
CALSCALE:GREGORIAN
METHOD:PUBLISH
X-ORIGINAL-URL:https://oldediblerenotahoe.com
X-WR-CALDESC:Events for Edible Reno-Tahoe
REFRESH-INTERVAL;VALUE=DURATION:PT1H
X-Robots-Tag:noindex
X-PUBLISHED-TTL:PT1H
BEGIN:VTIMEZONE
TZID:America/Los_Angeles
BEGIN:DAYLIGHT
TZOFFSETFROM:-0800
TZOFFSETTO:-0700
TZNAME:PDT
DTSTART:20220313T100000
END:DAYLIGHT
BEGIN:STANDARD
TZOFFSETFROM:-0700
TZOFFSETTO:-0800
TZNAME:PST
DTSTART:20221106T090000
END:STANDARD
BEGIN:DAYLIGHT
TZOFFSETFROM:-0800
TZOFFSETTO:-0700
TZNAME:PDT
DTSTART:20230312T100000
END:DAYLIGHT
BEGIN:STANDARD
TZOFFSETFROM:-0700
TZOFFSETTO:-0800
TZNAME:PST
DTSTART:20231105T090000
END:STANDARD
BEGIN:DAYLIGHT
TZOFFSETFROM:-0800
TZOFFSETTO:-0700
TZNAME:PDT
DTSTART:20240310T100000
END:DAYLIGHT
BEGIN:STANDARD
TZOFFSETFROM:-0700
TZOFFSETTO:-0800
TZNAME:PST
DTSTART:20241103T090000
END:STANDARD
BEGIN:DAYLIGHT
TZOFFSETFROM:-0800
TZOFFSETTO:-0700
TZNAME:PDT
DTSTART:20250309T100000
END:DAYLIGHT
BEGIN:STANDARD
TZOFFSETFROM:-0700
TZOFFSETTO:-0800
TZNAME:PST
DTSTART:20251102T090000
END:STANDARD
END:VTIMEZONE
BEGIN:VEVENT
DTSTART;TZID=America/Los_Angeles:20240119T160000
DTEND;TZID=America/Los_Angeles:20240119T180000
DTSTAMP:20260424T190431
CREATED:20231227T233203Z
LAST-MODIFIED:20231227T233203Z
UID:36394-1705680000-1705687200@oldediblerenotahoe.com
SUMMARY:S'More Fun
DESCRIPTION:Snuggle up close to family and friends around the cozy fireplaces\, have a warm cocktail with friends from the bar\, and watch the sunset over the mountains and the stars come to life! Head on over to The Village at 4pm and warm-up with a s’more by the fire pits up by the Overlook Bar & Snowplay area. Complimentary s’mores are first come\, first serve. Kits to make your own can be purchased at our rink cabana bars.
URL:https://oldediblerenotahoe.com/event/smore-fun-2024-01-19/
LOCATION:Northstar California Resort\, 5001 Northstar Dr.\, Truckee\, CA\, 96161
CATEGORIES:Activity,Family friendly,Food & Drink
END:VEVENT
BEGIN:VEVENT
DTSTART;TZID=America/Los_Angeles:20240114T160000
DTEND;TZID=America/Los_Angeles:20240114T180000
DTSTAMP:20260424T190432
CREATED:20231227T233203Z
LAST-MODIFIED:20231227T233203Z
UID:36393-1705248000-1705255200@oldediblerenotahoe.com
SUMMARY:S'More Fun
DESCRIPTION:Snuggle up close to family and friends around the cozy fireplaces\, have a warm cocktail with friends from the bar\, and watch the sunset over the mountains and the stars come to life! Head on over to The Village at 4pm and warm-up with a s’more by the fire pits up by the Overlook Bar & Snowplay area. Complimentary s’mores are first come\, first serve. Kits to make your own can be purchased at our rink cabana bars.
URL:https://oldediblerenotahoe.com/event/smore-fun-2024-01-14/
LOCATION:Northstar California Resort\, 5001 Northstar Dr.\, Truckee\, CA\, 96161
CATEGORIES:Activity,Family friendly,Food & Drink
END:VEVENT
BEGIN:VEVENT
DTSTART;TZID=America/Los_Angeles:20240113T160000
DTEND;TZID=America/Los_Angeles:20240113T180000
DTSTAMP:20260424T190432
CREATED:20231227T233203Z
LAST-MODIFIED:20231227T233203Z
UID:36392-1705161600-1705168800@oldediblerenotahoe.com
SUMMARY:S'More Fun
DESCRIPTION:Snuggle up close to family and friends around the cozy fireplaces\, have a warm cocktail with friends from the bar\, and watch the sunset over the mountains and the stars come to life! Head on over to The Village at 4pm and warm-up with a s’more by the fire pits up by the Overlook Bar & Snowplay area. Complimentary s’mores are first come\, first serve. Kits to make your own can be purchased at our rink cabana bars.
URL:https://oldediblerenotahoe.com/event/smore-fun-2024-01-13/
LOCATION:Northstar California Resort\, 5001 Northstar Dr.\, Truckee\, CA\, 96161
CATEGORIES:Activity,Family friendly,Food & Drink
END:VEVENT
BEGIN:VEVENT
DTSTART;TZID=America/Los_Angeles:20240112T160000
DTEND;TZID=America/Los_Angeles:20240112T180000
DTSTAMP:20260424T190432
CREATED:20231227T233203Z
LAST-MODIFIED:20231227T233203Z
UID:36391-1705075200-1705082400@oldediblerenotahoe.com
SUMMARY:S'More Fun
DESCRIPTION:Snuggle up close to family and friends around the cozy fireplaces\, have a warm cocktail with friends from the bar\, and watch the sunset over the mountains and the stars come to life! Head on over to The Village at 4pm and warm-up with a s’more by the fire pits up by the Overlook Bar & Snowplay area. Complimentary s’mores are first come\, first serve. Kits to make your own can be purchased at our rink cabana bars.
URL:https://oldediblerenotahoe.com/event/smore-fun-2024-01-12/
LOCATION:Northstar California Resort\, 5001 Northstar Dr.\, Truckee\, CA\, 96161
CATEGORIES:Activity,Family friendly,Food & Drink
END:VEVENT
BEGIN:VEVENT
DTSTART;TZID=America/Los_Angeles:20240107T160000
DTEND;TZID=America/Los_Angeles:20240107T180000
DTSTAMP:20260424T190432
CREATED:20231227T233203Z
LAST-MODIFIED:20231227T233203Z
UID:36390-1704643200-1704650400@oldediblerenotahoe.com
SUMMARY:S'More Fun
DESCRIPTION:Snuggle up close to family and friends around the cozy fireplaces\, have a warm cocktail with friends from the bar\, and watch the sunset over the mountains and the stars come to life! Head on over to The Village at 4pm and warm-up with a s’more by the fire pits up by the Overlook Bar & Snowplay area. Complimentary s’mores are first come\, first serve. Kits to make your own can be purchased at our rink cabana bars.
URL:https://oldediblerenotahoe.com/event/smore-fun-2024-01-07/
LOCATION:Northstar California Resort\, 5001 Northstar Dr.\, Truckee\, CA\, 96161
CATEGORIES:Activity,Family friendly,Food & Drink
END:VEVENT
BEGIN:VEVENT
DTSTART;TZID=America/Los_Angeles:20240106T160000
DTEND;TZID=America/Los_Angeles:20240106T180000
DTSTAMP:20260424T190432
CREATED:20231227T233203Z
LAST-MODIFIED:20231227T233321Z
UID:36388-1704556800-1704564000@oldediblerenotahoe.com
SUMMARY:S'More Fun
DESCRIPTION:Snuggle up close to family and friends around the cozy fireplaces\, have a warm cocktail with friends from the bar\, and watch the sunset over the mountains and the stars come to life! Head on over to The Village at 4pm and warm-up with a s’more by the fire pits up by the Overlook Bar & Snowplay area. Complimentary s’mores are first come\, first serve. Kits to make your own can be purchased at our rink cabana bars.
URL:https://oldediblerenotahoe.com/event/smore-fun-2024-01-06/
LOCATION:Northstar California Resort\, 5001 Northstar Dr.\, Truckee\, CA\, 96161
CATEGORIES:Activity,Family friendly,Food & Drink
END:VEVENT
BEGIN:VEVENT
DTSTART;TZID=America/Los_Angeles:20240105T160000
DTEND;TZID=America/Los_Angeles:20240105T180000
DTSTAMP:20260424T190432
CREATED:20231227T233203Z
LAST-MODIFIED:20231227T233321Z
UID:36387-1704470400-1704477600@oldediblerenotahoe.com
SUMMARY:S'More Fun
DESCRIPTION:Snuggle up close to family and friends around the cozy fireplaces\, have a warm cocktail with friends from the bar\, and watch the sunset over the mountains and the stars come to life! Head on over to The Village at 4pm and warm-up with a s’more by the fire pits up by the Overlook Bar & Snowplay area. Complimentary s’mores are first come\, first serve. Kits to make your own can be purchased at our rink cabana bars.
URL:https://oldediblerenotahoe.com/event/smore-fun-2024-01-05/
LOCATION:Northstar California Resort\, 5001 Northstar Dr.\, Truckee\, CA\, 96161
CATEGORIES:Activity,Family friendly,Food & Drink
END:VEVENT
BEGIN:VEVENT
DTSTART;TZID=America/Los_Angeles:20240105T090000
DTEND;TZID=America/Los_Angeles:20240105T120000
DTSTAMP:20260424T190432
CREATED:20231216T210555Z
LAST-MODIFIED:20231216T210555Z
UID:35922-1704445200-1704456000@oldediblerenotahoe.com
SUMMARY:Winter Kid Craft Workshop
DESCRIPTION:Join the Holland Project for Winter Kid Craft\, four days of hands-on craft workshops for kids ages 5 – 12 (recommended\, but all ages welcome) happening Tuesday\, Jan. 2nd – Friday\, Jan. 5th from 9am-12pm! Each morning workshop includes two winter themed craft projects exploring a wide variety of materials and techniques. Check out the daily project list below! Parents/guardians are welcome to drop-off or stick around and craft along with your kiddos.
URL:https://oldediblerenotahoe.com/event/winter-kid-craft-workshop-2024-01-05/
LOCATION:The Holland Project\, 140 Vesta Street\, Reno\, NV\, 89502
CATEGORIES:Family friendly
END:VEVENT
BEGIN:VEVENT
DTSTART;TZID=America/Los_Angeles:20240104T090000
DTEND;TZID=America/Los_Angeles:20240104T120000
DTSTAMP:20260424T190432
CREATED:20231216T210555Z
LAST-MODIFIED:20231216T210555Z
UID:35921-1704358800-1704369600@oldediblerenotahoe.com
SUMMARY:Winter Kid Craft Workshop
DESCRIPTION:Join the Holland Project for Winter Kid Craft\, four days of hands-on craft workshops for kids ages 5 – 12 (recommended\, but all ages welcome) happening Tuesday\, Jan. 2nd – Friday\, Jan. 5th from 9am-12pm! Each morning workshop includes two winter themed craft projects exploring a wide variety of materials and techniques. Check out the daily project list below! Parents/guardians are welcome to drop-off or stick around and craft along with your kiddos.
URL:https://oldediblerenotahoe.com/event/winter-kid-craft-workshop-2024-01-04/
LOCATION:The Holland Project\, 140 Vesta Street\, Reno\, NV\, 89502
CATEGORIES:Family friendly
END:VEVENT
BEGIN:VEVENT
DTSTART;TZID=America/Los_Angeles:20240103T160000
DTEND;TZID=America/Los_Angeles:20240103T193000
DTSTAMP:20260424T190432
CREATED:20231216T210839Z
LAST-MODIFIED:20231216T210839Z
UID:35924-1704297600-1704310200@oldediblerenotahoe.com
SUMMARY:Lecture: What Makes Nevada Wild?
DESCRIPTION:Join experts from Nevada Department of Wildlife to explore what makes Nevada wild! NDOW representatives will open the door for museum visitors of all ages to learn more about the bats\, birds\, snakes and lizards of Nevada\, and learn how to become a confident\, competent and ethical outdoor enthusiast.
URL:https://oldediblerenotahoe.com/event/lecture-what-makes-nevada-wild/
LOCATION:Terry Lee Wells Discovery Museum\, 490 S. Center Street\, Reno\, NV\, 89501
CATEGORIES:Family friendly,Lecture
END:VEVENT
BEGIN:VEVENT
DTSTART;TZID=America/Los_Angeles:20240103T090000
DTEND;TZID=America/Los_Angeles:20240103T120000
DTSTAMP:20260424T190432
CREATED:20231216T210555Z
LAST-MODIFIED:20231216T210555Z
UID:35920-1704272400-1704283200@oldediblerenotahoe.com
SUMMARY:Winter Kid Craft Workshop
DESCRIPTION:Join the Holland Project for Winter Kid Craft\, four days of hands-on craft workshops for kids ages 5 – 12 (recommended\, but all ages welcome) happening Tuesday\, Jan. 2nd – Friday\, Jan. 5th from 9am-12pm! Each morning workshop includes two winter themed craft projects exploring a wide variety of materials and techniques. Check out the daily project list below! Parents/guardians are welcome to drop-off or stick around and craft along with your kiddos.
URL:https://oldediblerenotahoe.com/event/winter-kid-craft-workshop-2024-01-03/
LOCATION:The Holland Project\, 140 Vesta Street\, Reno\, NV\, 89502
CATEGORIES:Family friendly
END:VEVENT
BEGIN:VEVENT
DTSTART;TZID=America/Los_Angeles:20240102T090000
DTEND;TZID=America/Los_Angeles:20240102T120000
DTSTAMP:20260424T190432
CREATED:20231216T210555Z
LAST-MODIFIED:20231216T210555Z
UID:35919-1704186000-1704196800@oldediblerenotahoe.com
SUMMARY:Winter Kid Craft Workshop
DESCRIPTION:Join the Holland Project for Winter Kid Craft\, four days of hands-on craft workshops for kids ages 5 – 12 (recommended\, but all ages welcome) happening Tuesday\, Jan. 2nd – Friday\, Jan. 5th from 9am-12pm! Each morning workshop includes two winter themed craft projects exploring a wide variety of materials and techniques. Check out the daily project list below! Parents/guardians are welcome to drop-off or stick around and craft along with your kiddos.
URL:https://oldediblerenotahoe.com/event/winter-kid-craft-workshop/
LOCATION:The Holland Project\, 140 Vesta Street\, Reno\, NV\, 89502
CATEGORIES:Family friendly
END:VEVENT
BEGIN:VEVENT
DTSTART;TZID=America/Los_Angeles:20231231T160000
DTEND;TZID=America/Los_Angeles:20231231T180000
DTSTAMP:20260424T190432
CREATED:20231227T233203Z
LAST-MODIFIED:20231227T233321Z
UID:36386-1704038400-1704045600@oldediblerenotahoe.com
SUMMARY:S'More Fun
DESCRIPTION:Snuggle up close to family and friends around the cozy fireplaces\, have a warm cocktail with friends from the bar\, and watch the sunset over the mountains and the stars come to life! Head on over to The Village at 4pm and warm-up with a s’more by the fire pits up by the Overlook Bar & Snowplay area. Complimentary s’mores are first come\, first serve. Kits to make your own can be purchased at our rink cabana bars.
URL:https://oldediblerenotahoe.com/event/smore-fun-2023-12-31/
LOCATION:Northstar California Resort\, 5001 Northstar Dr.\, Truckee\, CA\, 96161
CATEGORIES:Activity,Family friendly,Food & Drink
END:VEVENT
BEGIN:VEVENT
DTSTART;TZID=America/Los_Angeles:20231231T150000
DTEND;TZID=America/Los_Angeles:20231231T190000
DTSTAMP:20260424T190432
CREATED:20230925T192850Z
LAST-MODIFIED:20231002T204214Z
UID:34092-1704034800-1704049200@oldediblerenotahoe.com
SUMMARY:Park Farm Stand
DESCRIPTION:Venture into the fields and food forest\, meet the friendly goats named Oliver and June\, and immerse yourself in the vibrant atmosphere of a farm dedicated to combating food insecurity in the community. Explore an array of seasonal veggies\, herbs\, and pollinator plants available for sale. \nDon’t miss the opportunity to have Farmer Joe sharpen your knives between 5-7pm for just $5 per knife. Make sure to visit during the later part of the farm stand to get your knives expertly tuned while you shop for fresh produce!
URL:https://oldediblerenotahoe.com/event/parkfarmstand-2023-12-31/
LOCATION:Betsy Caughlin Donnelly Park\, 3295 Mayberry Dr.\, Reno\, NV\, 89519
CATEGORIES:Family friendly,Farmer's Market,Shopping
END:VEVENT
BEGIN:VEVENT
DTSTART;TZID=America/Los_Angeles:20231230T160000
DTEND;TZID=America/Los_Angeles:20231230T180000
DTSTAMP:20260424T190432
CREATED:20231227T233203Z
LAST-MODIFIED:20231227T233320Z
UID:36385-1703952000-1703959200@oldediblerenotahoe.com
SUMMARY:S'More Fun
DESCRIPTION:Snuggle up close to family and friends around the cozy fireplaces\, have a warm cocktail with friends from the bar\, and watch the sunset over the mountains and the stars come to life! Head on over to The Village at 4pm and warm-up with a s’more by the fire pits up by the Overlook Bar & Snowplay area. Complimentary s’mores are first come\, first serve. Kits to make your own can be purchased at our rink cabana bars.
URL:https://oldediblerenotahoe.com/event/smore-fun-2023-12-30/
LOCATION:Northstar California Resort\, 5001 Northstar Dr.\, Truckee\, CA\, 96161
CATEGORIES:Activity,Family friendly,Food & Drink
END:VEVENT
BEGIN:VEVENT
DTSTART;TZID=America/Los_Angeles:20231229T160000
DTEND;TZID=America/Los_Angeles:20231229T180000
DTSTAMP:20260424T190432
CREATED:20231227T233203Z
LAST-MODIFIED:20231227T233320Z
UID:36384-1703865600-1703872800@oldediblerenotahoe.com
SUMMARY:S'More Fun
DESCRIPTION:Snuggle up close to family and friends around the cozy fireplaces\, have a warm cocktail with friends from the bar\, and watch the sunset over the mountains and the stars come to life! Head on over to The Village at 4pm and warm-up with a s’more by the fire pits up by the Overlook Bar & Snowplay area. Complimentary s’mores are first come\, first serve. Kits to make your own can be purchased at our rink cabana bars.
URL:https://oldediblerenotahoe.com/event/smore-fun-2023-12-29/
LOCATION:Northstar California Resort\, 5001 Northstar Dr.\, Truckee\, CA\, 96161
CATEGORIES:Activity,Family friendly,Food & Drink
END:VEVENT
BEGIN:VEVENT
DTSTART;TZID=America/Los_Angeles:20231224T160000
DTEND;TZID=America/Los_Angeles:20231224T180000
DTSTAMP:20260424T190432
CREATED:20231227T233203Z
LAST-MODIFIED:20231227T233320Z
UID:36383-1703433600-1703440800@oldediblerenotahoe.com
SUMMARY:S'More Fun
DESCRIPTION:Snuggle up close to family and friends around the cozy fireplaces\, have a warm cocktail with friends from the bar\, and watch the sunset over the mountains and the stars come to life! Head on over to The Village at 4pm and warm-up with a s’more by the fire pits up by the Overlook Bar & Snowplay area. Complimentary s’mores are first come\, first serve. Kits to make your own can be purchased at our rink cabana bars.
URL:https://oldediblerenotahoe.com/event/smore-fun-2023-12-24/
LOCATION:Northstar California Resort\, 5001 Northstar Dr.\, Truckee\, CA\, 96161
CATEGORIES:Activity,Family friendly,Food & Drink
END:VEVENT
BEGIN:VEVENT
DTSTART;TZID=America/Los_Angeles:20231224T150000
DTEND;TZID=America/Los_Angeles:20231224T190000
DTSTAMP:20260424T190432
CREATED:20230925T192850Z
LAST-MODIFIED:20231002T204214Z
UID:34091-1703430000-1703444400@oldediblerenotahoe.com
SUMMARY:Park Farm Stand
DESCRIPTION:Venture into the fields and food forest\, meet the friendly goats named Oliver and June\, and immerse yourself in the vibrant atmosphere of a farm dedicated to combating food insecurity in the community. Explore an array of seasonal veggies\, herbs\, and pollinator plants available for sale. \nDon’t miss the opportunity to have Farmer Joe sharpen your knives between 5-7pm for just $5 per knife. Make sure to visit during the later part of the farm stand to get your knives expertly tuned while you shop for fresh produce!
URL:https://oldediblerenotahoe.com/event/parkfarmstand-2023-12-24/
LOCATION:Betsy Caughlin Donnelly Park\, 3295 Mayberry Dr.\, Reno\, NV\, 89519
CATEGORIES:Family friendly,Farmer's Market,Shopping
END:VEVENT
BEGIN:VEVENT
DTSTART;TZID=America/Los_Angeles:20231223T160000
DTEND;TZID=America/Los_Angeles:20231223T180000
DTSTAMP:20260424T190432
CREATED:20231227T233203Z
LAST-MODIFIED:20231227T233320Z
UID:36382-1703347200-1703354400@oldediblerenotahoe.com
SUMMARY:S'More Fun
DESCRIPTION:Snuggle up close to family and friends around the cozy fireplaces\, have a warm cocktail with friends from the bar\, and watch the sunset over the mountains and the stars come to life! Head on over to The Village at 4pm and warm-up with a s’more by the fire pits up by the Overlook Bar & Snowplay area. Complimentary s’mores are first come\, first serve. Kits to make your own can be purchased at our rink cabana bars.
URL:https://oldediblerenotahoe.com/event/smore-fun-2023-12-23/
LOCATION:Northstar California Resort\, 5001 Northstar Dr.\, Truckee\, CA\, 96161
CATEGORIES:Activity,Family friendly,Food & Drink
END:VEVENT
BEGIN:VEVENT
DTSTART;TZID=America/Los_Angeles:20231222T160000
DTEND;TZID=America/Los_Angeles:20231222T180000
DTSTAMP:20260424T190432
CREATED:20231227T233203Z
LAST-MODIFIED:20231227T233319Z
UID:36381-1703260800-1703268000@oldediblerenotahoe.com
SUMMARY:S'More Fun
DESCRIPTION:Snuggle up close to family and friends around the cozy fireplaces\, have a warm cocktail with friends from the bar\, and watch the sunset over the mountains and the stars come to life! Head on over to The Village at 4pm and warm-up with a s’more by the fire pits up by the Overlook Bar & Snowplay area. Complimentary s’mores are first come\, first serve. Kits to make your own can be purchased at our rink cabana bars.
URL:https://oldediblerenotahoe.com/event/smore-fun-2023-12-22/
LOCATION:Northstar California Resort\, 5001 Northstar Dr.\, Truckee\, CA\, 96161
CATEGORIES:Activity,Family friendly,Food & Drink
END:VEVENT
BEGIN:VEVENT
DTSTART;TZID=America/Los_Angeles:20231217T160000
DTEND;TZID=America/Los_Angeles:20231217T180000
DTSTAMP:20260424T190432
CREATED:20231227T233203Z
LAST-MODIFIED:20231227T233319Z
UID:36380-1702828800-1702836000@oldediblerenotahoe.com
SUMMARY:S'More Fun
DESCRIPTION:Snuggle up close to family and friends around the cozy fireplaces\, have a warm cocktail with friends from the bar\, and watch the sunset over the mountains and the stars come to life! Head on over to The Village at 4pm and warm-up with a s’more by the fire pits up by the Overlook Bar & Snowplay area. Complimentary s’mores are first come\, first serve. Kits to make your own can be purchased at our rink cabana bars.
URL:https://oldediblerenotahoe.com/event/smore-fun-2023-12-17/
LOCATION:Northstar California Resort\, 5001 Northstar Dr.\, Truckee\, CA\, 96161
CATEGORIES:Activity,Family friendly,Food & Drink
END:VEVENT
BEGIN:VEVENT
DTSTART;TZID=America/Los_Angeles:20231217T150000
DTEND;TZID=America/Los_Angeles:20231217T190000
DTSTAMP:20260424T190432
CREATED:20230925T192850Z
LAST-MODIFIED:20231002T204213Z
UID:34090-1702825200-1702839600@oldediblerenotahoe.com
SUMMARY:Park Farm Stand
DESCRIPTION:Venture into the fields and food forest\, meet the friendly goats named Oliver and June\, and immerse yourself in the vibrant atmosphere of a farm dedicated to combating food insecurity in the community. Explore an array of seasonal veggies\, herbs\, and pollinator plants available for sale. \nDon’t miss the opportunity to have Farmer Joe sharpen your knives between 5-7pm for just $5 per knife. Make sure to visit during the later part of the farm stand to get your knives expertly tuned while you shop for fresh produce!
URL:https://oldediblerenotahoe.com/event/parkfarmstand-2023-12-17/
LOCATION:Betsy Caughlin Donnelly Park\, 3295 Mayberry Dr.\, Reno\, NV\, 89519
CATEGORIES:Family friendly,Farmer's Market,Shopping
END:VEVENT
BEGIN:VEVENT
DTSTART;TZID=America/Los_Angeles:20231217T120000
DTEND;TZID=America/Los_Angeles:20231217T150000
DTSTAMP:20260424T190432
CREATED:20231025T180251Z
LAST-MODIFIED:20231025T180251Z
UID:34864-1702814400-1702825200@oldediblerenotahoe.com
SUMMARY:V&T Candy Cane Express Train
DESCRIPTION:Embrace the holiday spirit on the Candy Cane Express in 2023. This iconic Virginia & Truckee Railway journey departs from Virginia City\, taking you through a winter wonderland to Gold Hill. \nExperience: \n\nHeated Passenger Cars\nChristmas Stories and Carols\nFestive Decorations\nComplimentary Hot Chocolate and Cookies\nSnowy Nevada Scenery\nUnique Shopping\nChance to spot Mustangs in winter coats\n\nStart a memorable tradition. Reserve your tickets in advance\, as seating is limited.
URL:https://oldediblerenotahoe.com/event/vt-candy-cane-express-train-2023-12-17/
LOCATION:Virginia City Depot\, 166 F Street\, Virginia City\, NV\, 89440
CATEGORIES:Activity,Family friendly,Holiday
ATTACH;FMTTYPE=image/jpeg:https://oldediblerenotahoe.com/wp-content/uploads/2023/10/64f81df474589.jpg
END:VEVENT
BEGIN:VEVENT
DTSTART;TZID=America/Los_Angeles:20231216T160000
DTEND;TZID=America/Los_Angeles:20231216T180000
DTSTAMP:20260424T190432
CREATED:20231227T233203Z
LAST-MODIFIED:20231227T233319Z
UID:36379-1702742400-1702749600@oldediblerenotahoe.com
SUMMARY:S'More Fun
DESCRIPTION:Snuggle up close to family and friends around the cozy fireplaces\, have a warm cocktail with friends from the bar\, and watch the sunset over the mountains and the stars come to life! Head on over to The Village at 4pm and warm-up with a s’more by the fire pits up by the Overlook Bar & Snowplay area. Complimentary s’mores are first come\, first serve. Kits to make your own can be purchased at our rink cabana bars.
URL:https://oldediblerenotahoe.com/event/smore-fun-2023-12-16/
LOCATION:Northstar California Resort\, 5001 Northstar Dr.\, Truckee\, CA\, 96161
CATEGORIES:Activity,Family friendly,Food & Drink
END:VEVENT
BEGIN:VEVENT
DTSTART;TZID=America/Los_Angeles:20231216T150000
DTEND;TZID=America/Los_Angeles:20231216T180000
DTSTAMP:20260424T190432
CREATED:20231128T025204Z
LAST-MODIFIED:20231128T025204Z
UID:35578-1702738800-1702749600@oldediblerenotahoe.com
SUMMARY:Chocolate Nugget Winter Wonderland
DESCRIPTION:Chocolate Nugget Winter Wonderland promises to be a memorable experience for the entire family\, with a wide array of festive activities and sweet surprises in store for all. Best of all\, admission is free. \nHighlights of the event include: \n\nMeet & greet with Santa Claus and photo opportunities\nFood trucks\nOutdoor movie theater\nChocolates and treats\nWinter wonderland decor and Christmas tree lighting
URL:https://oldediblerenotahoe.com/event/chocolate-nugget-winter-wonderland/
LOCATION:Chocolate Nugget Candy Factory\, 611 US-395\, New Washoe City\, NV\, 89704
CATEGORIES:Family friendly,Holiday
ATTACH;FMTTYPE=image/jpeg:https://oldediblerenotahoe.com/wp-content/uploads/2023/11/https___cdn.evbuc_.com_images_627764989_1830256706783_1_original.jpg
END:VEVENT
BEGIN:VEVENT
DTSTART;TZID=America/Los_Angeles:20231216T120000
DTEND;TZID=America/Los_Angeles:20231216T150000
DTSTAMP:20260424T190432
CREATED:20231025T180251Z
LAST-MODIFIED:20231025T180251Z
UID:34863-1702728000-1702738800@oldediblerenotahoe.com
SUMMARY:V&T Candy Cane Express Train
DESCRIPTION:Embrace the holiday spirit on the Candy Cane Express in 2023. This iconic Virginia & Truckee Railway journey departs from Virginia City\, taking you through a winter wonderland to Gold Hill. \nExperience: \n\nHeated Passenger Cars\nChristmas Stories and Carols\nFestive Decorations\nComplimentary Hot Chocolate and Cookies\nSnowy Nevada Scenery\nUnique Shopping\nChance to spot Mustangs in winter coats\n\nStart a memorable tradition. Reserve your tickets in advance\, as seating is limited.
URL:https://oldediblerenotahoe.com/event/vt-candy-cane-express-train-2023-12-16/
LOCATION:Virginia City Depot\, 166 F Street\, Virginia City\, NV\, 89440
CATEGORIES:Activity,Family friendly,Holiday
ATTACH;FMTTYPE=image/jpeg:https://oldediblerenotahoe.com/wp-content/uploads/2023/10/64f81df474589.jpg
END:VEVENT
BEGIN:VEVENT
DTSTART;TZID=America/Los_Angeles:20231216T110000
DTEND;TZID=America/Los_Angeles:20231216T133000
DTSTAMP:20260424T190432
CREATED:20231208T012119Z
LAST-MODIFIED:20231208T012119Z
UID:35682-1702724400-1702733400@oldediblerenotahoe.com
SUMMARY:Santa's Pizza Workshop
DESCRIPTION:Learn how to create a personal pizza and then enjoy your creation at Noble Pie Parlor’s Santa’s Pizza Workshop while partaking in seasonal festivities like complimentary milk and cookies and visiting with special guests\, Mr. and Mrs. Claus. \nThe restaurant will also offer drink specials to adults over 21\, including $2 off all drafts\, $10 pricing for Crystal Basin Bubbles (or mimosas)\, $10 pricing for the About Town Deb Red Blend\, and $10 pricing for the restaurant’s salted caramel\, apple pie sangria\, “The Apple of My Pie.”
URL:https://oldediblerenotahoe.com/event/santas-pizza-workshop/
LOCATION:Noble Pie Parlor Midtown\, 777 South Center Street\, #100\, Reno\, NV\, 89501
CATEGORIES:Family friendly,Food & Drink,Holiday
ATTACH;FMTTYPE=image/jpeg:https://oldediblerenotahoe.com/wp-content/uploads/2023/12/unnamed-4.jpg
END:VEVENT
BEGIN:VEVENT
DTSTART;TZID=America/Los_Angeles:20231216T093000
DTEND;TZID=America/Los_Angeles:20231216T103000
DTSTAMP:20260424T190432
CREATED:20231208T011159Z
LAST-MODIFIED:20231208T011159Z
UID:35677-1702719000-1702722600@oldediblerenotahoe.com
SUMMARY:Breakfast with Santa at the Governor's Mansion
DESCRIPTION:
URL:https://oldediblerenotahoe.com/event/breakfast-with-santa-at-the-governors-mansion/
LOCATION:Governor’s Mansion\, 606 Mountain Street\, Carson City\, NV
CATEGORIES:Family friendly,Holiday
END:VEVENT
BEGIN:VEVENT
DTSTART;TZID=America/Los_Angeles:20231215T160000
DTEND;TZID=America/Los_Angeles:20231215T180000
DTSTAMP:20260424T190432
CREATED:20231227T233203Z
LAST-MODIFIED:20231227T233258Z
UID:36377-1702656000-1702663200@oldediblerenotahoe.com
SUMMARY:S'More Fun
DESCRIPTION:Snuggle up close to family and friends around the cozy fireplaces\, have a warm cocktail with friends from the bar\, and watch the sunset over the mountains and the stars come to life! Head on over to The Village at 4pm and warm-up with a s’more by the fire pits up by the Overlook Bar & Snowplay area. Complimentary s’mores are first come\, first serve. Kits to make your own can be purchased at our rink cabana bars.
URL:https://oldediblerenotahoe.com/event/smore-fun/
LOCATION:Northstar California Resort\, 5001 Northstar Dr.\, Truckee\, CA\, 96161
CATEGORIES:Activity,Family friendly,Food & Drink
END:VEVENT
BEGIN:VEVENT
DTSTART;TZID=America/Los_Angeles:20231210T150000
DTEND;TZID=America/Los_Angeles:20231210T190000
DTSTAMP:20260424T190432
CREATED:20230925T192850Z
LAST-MODIFIED:20231002T204207Z
UID:34089-1702220400-1702234800@oldediblerenotahoe.com
SUMMARY:Park Farm Stand
DESCRIPTION:Venture into the fields and food forest\, meet the friendly goats named Oliver and June\, and immerse yourself in the vibrant atmosphere of a farm dedicated to combating food insecurity in the community. Explore an array of seasonal veggies\, herbs\, and pollinator plants available for sale. \nDon’t miss the opportunity to have Farmer Joe sharpen your knives between 5-7pm for just $5 per knife. Make sure to visit during the later part of the farm stand to get your knives expertly tuned while you shop for fresh produce!
URL:https://oldediblerenotahoe.com/event/parkfarmstand-2023-12-10/
LOCATION:Betsy Caughlin Donnelly Park\, 3295 Mayberry Dr.\, Reno\, NV\, 89519
CATEGORIES:Family friendly,Farmer's Market,Shopping
END:VEVENT
END:VCALENDAR