BEGIN:VCALENDAR
VERSION:2.0
PRODID:-//Edible Reno-Tahoe - ECPv6.15.20//NONSGML v1.0//EN
CALSCALE:GREGORIAN
METHOD:PUBLISH
X-WR-CALNAME:Edible Reno-Tahoe
X-ORIGINAL-URL:https://oldediblerenotahoe.com
X-WR-CALDESC:Events for Edible Reno-Tahoe
REFRESH-INTERVAL;VALUE=DURATION:PT1H
X-Robots-Tag:noindex
X-PUBLISHED-TTL:PT1H
BEGIN:VTIMEZONE
TZID:America/Los_Angeles
BEGIN:DAYLIGHT
TZOFFSETFROM:-0800
TZOFFSETTO:-0700
TZNAME:PDT
DTSTART:20230312T100000
END:DAYLIGHT
BEGIN:STANDARD
TZOFFSETFROM:-0700
TZOFFSETTO:-0800
TZNAME:PST
DTSTART:20231105T090000
END:STANDARD
BEGIN:DAYLIGHT
TZOFFSETFROM:-0800
TZOFFSETTO:-0700
TZNAME:PDT
DTSTART:20240310T100000
END:DAYLIGHT
BEGIN:STANDARD
TZOFFSETFROM:-0700
TZOFFSETTO:-0800
TZNAME:PST
DTSTART:20241103T090000
END:STANDARD
BEGIN:DAYLIGHT
TZOFFSETFROM:-0800
TZOFFSETTO:-0700
TZNAME:PDT
DTSTART:20250309T100000
END:DAYLIGHT
BEGIN:STANDARD
TZOFFSETFROM:-0700
TZOFFSETTO:-0800
TZNAME:PST
DTSTART:20251102T090000
END:STANDARD
END:VTIMEZONE
BEGIN:VEVENT
DTSTART;TZID=America/Los_Angeles:20241124T090000
DTEND;TZID=America/Los_Angeles:20241124T140000
DTSTAMP:20260425T194405
CREATED:20231103T014135Z
LAST-MODIFIED:20241116T174238Z
UID:35277-1732438800-1732456800@oldediblerenotahoe.com
SUMMARY:Annual Riverside Farmers Market Holiday Bazaar
DESCRIPTION:Step into the magic of the season at The Annual Riverside Farmers Market Holiday Bazaar\, happening on Sunday\, November 24th\, from 9am to 2pm at the charming Idlewild Park!  \nThis enchanting\, free event is perfect for the entire family and marks the highlight of the holiday season. We’re transforming our beloved weekly market into a festive wonderland\, where over 130 local artisans\, farmers\, bakers\, and culinary creatives come together to offer you a holiday shopping experience like no other. From handmade gifts to farm-fresh ingredients\, you’ll find everything you need to make this season magical!
URL:https://oldediblerenotahoe.com/event/rfmholidaybazaar/
LOCATION:Idlewild Park\, 1000 Cowan Dr.\, Reno\, NV\, 89509
CATEGORIES:Farmers Market,Shopping
END:VEVENT
END:VCALENDAR