BEGIN:VCALENDAR
VERSION:2.0
PRODID:-//Edible Reno-Tahoe - ECPv6.15.20//NONSGML v1.0//EN
CALSCALE:GREGORIAN
METHOD:PUBLISH
X-WR-CALNAME:Edible Reno-Tahoe
X-ORIGINAL-URL:https://oldediblerenotahoe.com
X-WR-CALDESC:Events for Edible Reno-Tahoe
REFRESH-INTERVAL;VALUE=DURATION:PT1H
X-Robots-Tag:noindex
X-PUBLISHED-TTL:PT1H
BEGIN:VTIMEZONE
TZID:America/Los_Angeles
BEGIN:DAYLIGHT
TZOFFSETFROM:-0800
TZOFFSETTO:-0700
TZNAME:PDT
DTSTART:20230312T100000
END:DAYLIGHT
BEGIN:STANDARD
TZOFFSETFROM:-0700
TZOFFSETTO:-0800
TZNAME:PST
DTSTART:20231105T090000
END:STANDARD
BEGIN:DAYLIGHT
TZOFFSETFROM:-0800
TZOFFSETTO:-0700
TZNAME:PDT
DTSTART:20240310T100000
END:DAYLIGHT
BEGIN:STANDARD
TZOFFSETFROM:-0700
TZOFFSETTO:-0800
TZNAME:PST
DTSTART:20241103T090000
END:STANDARD
BEGIN:DAYLIGHT
TZOFFSETFROM:-0800
TZOFFSETTO:-0700
TZNAME:PDT
DTSTART:20250309T100000
END:DAYLIGHT
BEGIN:STANDARD
TZOFFSETFROM:-0700
TZOFFSETTO:-0800
TZNAME:PST
DTSTART:20251102T090000
END:STANDARD
END:VTIMEZONE
BEGIN:VEVENT
DTSTART;TZID=America/Los_Angeles:20240607T100000
DTEND;TZID=America/Los_Angeles:20240607T133000
DTSTAMP:20260425T035943
CREATED:20240514T235222Z
LAST-MODIFIED:20240514T235222Z
UID:38639-1717754400-1717767000@oldediblerenotahoe.com
SUMMARY:Romano's Certified Farmers Market
DESCRIPTION:
URL:https://oldediblerenotahoe.com/event/romanos-certified-farmers-market-2024-06-07/
LOCATION:NV
CATEGORIES:Farmer's Market,Farmers Market
END:VEVENT
BEGIN:VEVENT
DTSTART;TZID=America/Los_Angeles:20240607T080000
DTEND;TZID=America/Los_Angeles:20240607T130000
DTSTAMP:20260425T035943
CREATED:20240514T235442Z
LAST-MODIFIED:20240514T235442Z
UID:38674-1717747200-1717765200@oldediblerenotahoe.com
SUMMARY:Yerington Early Bird Farmer's Market
DESCRIPTION:
URL:https://oldediblerenotahoe.com/event/yerington-early-bird-farmers-market/
LOCATION:NV
CATEGORIES:Farmer's Market,Farmers Market
END:VEVENT
BEGIN:VEVENT
DTSTART;TZID=America/Los_Angeles:20240606T150000
DTEND;TZID=America/Los_Angeles:20240606T180000
DTSTAMP:20260425T035943
CREATED:20240514T235043Z
LAST-MODIFIED:20240514T235043Z
UID:38616-1717686000-1717696800@oldediblerenotahoe.com
SUMMARY:Incline Village Farmers' Market
DESCRIPTION:
URL:https://oldediblerenotahoe.com/event/incline-village-farmers-market-2024-06-06/
LOCATION:NV
CATEGORIES:Farmer's Market,Farmers Market
END:VEVENT
BEGIN:VEVENT
DTSTART;TZID=America/Los_Angeles:20240606T150000
DTEND;TZID=America/Los_Angeles:20240606T180000
DTSTAMP:20260425T035943
CREATED:20240514T234958Z
LAST-MODIFIED:20240514T234958Z
UID:38602-1717686000-1717696800@oldediblerenotahoe.com
SUMMARY:Dayton Farmers Market
DESCRIPTION:
URL:https://oldediblerenotahoe.com/event/dayton-farmers-market/
LOCATION:NV
CATEGORIES:Farmer's Market,Farmers Market
END:VEVENT
BEGIN:VEVENT
DTSTART;TZID=America/Los_Angeles:20240606T080000
DTEND;TZID=America/Los_Angeles:20240606T130000
DTSTAMP:20260425T035943
CREATED:20240514T235128Z
LAST-MODIFIED:20240514T235128Z
UID:38629-1717660800-1717678800@oldediblerenotahoe.com
SUMMARY:Tahoe City Farmers Market
DESCRIPTION:
URL:https://oldediblerenotahoe.com/event/tahoe-city-farmers-market-2024-06-06/
LOCATION:NV
CATEGORIES:Farmer's Market,Farmers Market
END:VEVENT
BEGIN:VEVENT
DTSTART;TZID=America/Los_Angeles:20240604T160000
DTEND;TZID=America/Los_Angeles:20240604T200000
DTSTAMP:20260425T035943
CREATED:20240514T234351Z
LAST-MODIFIED:20240514T234351Z
UID:38553-1717516800-1717531200@oldediblerenotahoe.com
SUMMARY:Esmeralda Farmers Market
DESCRIPTION:
URL:https://oldediblerenotahoe.com/event/esmeralda-farmers-market-2024-06-04/
LOCATION:NV
CATEGORIES:Farmer's Market,Farmers Market
END:VEVENT
BEGIN:VEVENT
DTSTART;TZID=America/Los_Angeles:20240604T080000
DTEND;TZID=America/Los_Angeles:20240604T130000
DTSTAMP:20260425T035943
CREATED:20240514T234641Z
LAST-MODIFIED:20240514T234641Z
UID:38589-1717488000-1717506000@oldediblerenotahoe.com
SUMMARY:Truckee Certified Farmers' Market
DESCRIPTION:
URL:https://oldediblerenotahoe.com/event/truckee-certified-farmers-market-2-2024-06-04/
LOCATION:NV
CATEGORIES:Farmer's Market,Farmers Market
END:VEVENT
BEGIN:VEVENT
DTSTART;TZID=America/Los_Angeles:20240604T080000
DTEND;TZID=America/Los_Angeles:20240604T130000
DTSTAMP:20260425T035943
CREATED:20240514T234544Z
LAST-MODIFIED:20240514T234544Z
UID:38574-1717488000-1717506000@oldediblerenotahoe.com
SUMMARY:Sparks United Methodist Church Farmers' Market
DESCRIPTION:
URL:https://oldediblerenotahoe.com/event/sparks-united-methodist-church-farmers-market/
LOCATION:NV
CATEGORIES:Farmer's Market,Farmers Market
END:VEVENT
BEGIN:VEVENT
DTSTART;TZID=America/Los_Angeles:20240604T080000
DTEND;TZID=America/Los_Angeles:20240604T130000
DTSTAMP:20260425T035943
CREATED:20240514T234448Z
LAST-MODIFIED:20240514T234448Z
UID:38562-1717488000-1717506000@oldediblerenotahoe.com
SUMMARY:South Lake Tahoe Certified Farmers Market
DESCRIPTION:
URL:https://oldediblerenotahoe.com/event/south-lake-tahoe-certified-farmers-market/
LOCATION:NV
CATEGORIES:Farmer's Market,Farmers Market
END:VEVENT
BEGIN:VEVENT
DTSTART;TZID=America/Los_Angeles:20240602T090000
DTEND;TZID=America/Los_Angeles:20240602T130000
DTSTAMP:20260425T035943
CREATED:20231103T014135Z
LAST-MODIFIED:20231103T014135Z
UID:35252-1717318800-1717333200@oldediblerenotahoe.com
SUMMARY:Riverside Farmers Market
DESCRIPTION:The Riverside Farmers Market stands as Reno’s authentic local market\, exclusively featuring vendors who cultivate\, rear\, or craft their products within the immediate vicinity of the city. Highlighting small-scale\, community-focused\, and sustainable farmers and ranchers\, the market is a testament to the belief that the foundation of healthy food lies in the health of the land. It also serves as a welcoming platform for Reno’s emerging agricultural talents\, providing a space for residents to connect with those who are dedicated to nourishing the Truckee Meadows community through locally grown produce.
URL:https://oldediblerenotahoe.com/event/riverside-farmers-market-3-2024-06-02/
LOCATION:Idlewild Park\, 1000 Cowan Dr.\, Reno\, NV\, 89509
CATEGORIES:Farmers Market,Shopping
END:VEVENT
BEGIN:VEVENT
DTSTART;TZID=America/Los_Angeles:20240531T100000
DTEND;TZID=America/Los_Angeles:20240531T133000
DTSTAMP:20260425T035943
CREATED:20240514T235222Z
LAST-MODIFIED:20240514T235222Z
UID:38638-1717149600-1717162200@oldediblerenotahoe.com
SUMMARY:Romano's Certified Farmers Market
DESCRIPTION:
URL:https://oldediblerenotahoe.com/event/romanos-certified-farmers-market/
LOCATION:NV
CATEGORIES:Farmer's Market,Farmers Market
END:VEVENT
BEGIN:VEVENT
DTSTART;TZID=America/Los_Angeles:20240530T150000
DTEND;TZID=America/Los_Angeles:20240530T180000
DTSTAMP:20260425T035943
CREATED:20240514T235043Z
LAST-MODIFIED:20240514T235043Z
UID:38615-1717081200-1717092000@oldediblerenotahoe.com
SUMMARY:Incline Village Farmers' Market
DESCRIPTION:
URL:https://oldediblerenotahoe.com/event/incline-village-farmers-market-2024-05-30/
LOCATION:NV
CATEGORIES:Farmer's Market,Farmers Market
END:VEVENT
BEGIN:VEVENT
DTSTART;TZID=America/Los_Angeles:20240530T080000
DTEND;TZID=America/Los_Angeles:20240530T130000
DTSTAMP:20260425T035943
CREATED:20240514T235128Z
LAST-MODIFIED:20240514T235128Z
UID:38628-1717056000-1717074000@oldediblerenotahoe.com
SUMMARY:Tahoe City Farmers Market
DESCRIPTION:
URL:https://oldediblerenotahoe.com/event/tahoe-city-farmers-market-2024-05-30/
LOCATION:NV
CATEGORIES:Farmer's Market,Farmers Market
END:VEVENT
BEGIN:VEVENT
DTSTART;TZID=America/Los_Angeles:20240528T160000
DTEND;TZID=America/Los_Angeles:20240528T200000
DTSTAMP:20260425T035943
CREATED:20240514T234351Z
LAST-MODIFIED:20240514T234351Z
UID:38552-1716912000-1716926400@oldediblerenotahoe.com
SUMMARY:Esmeralda Farmers Market
DESCRIPTION:
URL:https://oldediblerenotahoe.com/event/esmeralda-farmers-market-2024-05-28/
LOCATION:NV
CATEGORIES:Farmer's Market,Farmers Market
END:VEVENT
BEGIN:VEVENT
DTSTART;TZID=America/Los_Angeles:20240528T080000
DTEND;TZID=America/Los_Angeles:20240528T130000
DTSTAMP:20260425T035943
CREATED:20240514T234641Z
LAST-MODIFIED:20240514T234641Z
UID:38588-1716883200-1716901200@oldediblerenotahoe.com
SUMMARY:Truckee Certified Farmers' Market
DESCRIPTION:
URL:https://oldediblerenotahoe.com/event/truckee-certified-farmers-market-2-2024-05-28/
LOCATION:NV
CATEGORIES:Farmer's Market,Farmers Market
END:VEVENT
BEGIN:VEVENT
DTSTART;TZID=America/Los_Angeles:20240526T090000
DTEND;TZID=America/Los_Angeles:20240526T130000
DTSTAMP:20260425T035943
CREATED:20231103T014135Z
LAST-MODIFIED:20231103T014135Z
UID:35251-1716714000-1716728400@oldediblerenotahoe.com
SUMMARY:Riverside Farmers Market
DESCRIPTION:The Riverside Farmers Market stands as Reno’s authentic local market\, exclusively featuring vendors who cultivate\, rear\, or craft their products within the immediate vicinity of the city. Highlighting small-scale\, community-focused\, and sustainable farmers and ranchers\, the market is a testament to the belief that the foundation of healthy food lies in the health of the land. It also serves as a welcoming platform for Reno’s emerging agricultural talents\, providing a space for residents to connect with those who are dedicated to nourishing the Truckee Meadows community through locally grown produce.
URL:https://oldediblerenotahoe.com/event/riverside-farmers-market-3-2024-05-26/
LOCATION:Idlewild Park\, 1000 Cowan Dr.\, Reno\, NV\, 89509
CATEGORIES:Farmers Market,Shopping
END:VEVENT
BEGIN:VEVENT
DTSTART;TZID=America/Los_Angeles:20240523T150000
DTEND;TZID=America/Los_Angeles:20240523T180000
DTSTAMP:20260425T035943
CREATED:20240514T235043Z
LAST-MODIFIED:20240514T235043Z
UID:38614-1716476400-1716487200@oldediblerenotahoe.com
SUMMARY:Incline Village Farmers' Market
DESCRIPTION:
URL:https://oldediblerenotahoe.com/event/incline-village-farmers-market/
LOCATION:NV
CATEGORIES:Farmer's Market,Farmers Market
END:VEVENT
BEGIN:VEVENT
DTSTART;TZID=America/Los_Angeles:20240523T080000
DTEND;TZID=America/Los_Angeles:20240523T130000
DTSTAMP:20260425T035943
CREATED:20240514T235128Z
LAST-MODIFIED:20240514T235128Z
UID:38627-1716451200-1716469200@oldediblerenotahoe.com
SUMMARY:Tahoe City Farmers Market
DESCRIPTION:
URL:https://oldediblerenotahoe.com/event/tahoe-city-farmers-market-2024-05-23/
LOCATION:NV
CATEGORIES:Farmer's Market,Farmers Market
END:VEVENT
BEGIN:VEVENT
DTSTART;TZID=America/Los_Angeles:20240521T160000
DTEND;TZID=America/Los_Angeles:20240521T200000
DTSTAMP:20260425T035943
CREATED:20240514T234351Z
LAST-MODIFIED:20240514T234351Z
UID:38551-1716307200-1716321600@oldediblerenotahoe.com
SUMMARY:Esmeralda Farmers Market
DESCRIPTION:
URL:https://oldediblerenotahoe.com/event/esmeralda-farmers-market-2024-05-21/
LOCATION:NV
CATEGORIES:Farmer's Market,Farmers Market
END:VEVENT
BEGIN:VEVENT
DTSTART;TZID=America/Los_Angeles:20240521T080000
DTEND;TZID=America/Los_Angeles:20240521T130000
DTSTAMP:20260425T035943
CREATED:20240514T234641Z
LAST-MODIFIED:20240514T234641Z
UID:38587-1716278400-1716296400@oldediblerenotahoe.com
SUMMARY:Truckee Certified Farmers' Market
DESCRIPTION:
URL:https://oldediblerenotahoe.com/event/truckee-certified-farmers-market-2-2024-05-21/
LOCATION:NV
CATEGORIES:Farmer's Market,Farmers Market
END:VEVENT
BEGIN:VEVENT
DTSTART;TZID=America/Los_Angeles:20240519T090000
DTEND;TZID=America/Los_Angeles:20240519T130000
DTSTAMP:20260425T035943
CREATED:20231103T014135Z
LAST-MODIFIED:20231103T014135Z
UID:35250-1716109200-1716123600@oldediblerenotahoe.com
SUMMARY:Riverside Farmers Market
DESCRIPTION:The Riverside Farmers Market stands as Reno’s authentic local market\, exclusively featuring vendors who cultivate\, rear\, or craft their products within the immediate vicinity of the city. Highlighting small-scale\, community-focused\, and sustainable farmers and ranchers\, the market is a testament to the belief that the foundation of healthy food lies in the health of the land. It also serves as a welcoming platform for Reno’s emerging agricultural talents\, providing a space for residents to connect with those who are dedicated to nourishing the Truckee Meadows community through locally grown produce.
URL:https://oldediblerenotahoe.com/event/riverside-farmers-market-3-2024-05-19/
LOCATION:Idlewild Park\, 1000 Cowan Dr.\, Reno\, NV\, 89509
CATEGORIES:Farmers Market,Shopping
END:VEVENT
BEGIN:VEVENT
DTSTART;TZID=America/Los_Angeles:20240516T080000
DTEND;TZID=America/Los_Angeles:20240516T130000
DTSTAMP:20260425T035943
CREATED:20240514T235128Z
LAST-MODIFIED:20240514T235128Z
UID:38626-1715846400-1715864400@oldediblerenotahoe.com
SUMMARY:Tahoe City Farmers Market
DESCRIPTION:
URL:https://oldediblerenotahoe.com/event/tahoe-city-farmers-market/
LOCATION:NV
CATEGORIES:Farmer's Market,Farmers Market
END:VEVENT
BEGIN:VEVENT
DTSTART;VALUE=DATE:20240515
DTEND;VALUE=DATE:20240516
DTSTAMP:20260425T035943
CREATED:20240506T024634Z
LAST-MODIFIED:20240506T024634Z
UID:38473-1715731200-1715817599@oldediblerenotahoe.com
SUMMARY:Northern Nevada Student Farmers Market
DESCRIPTION:
URL:https://oldediblerenotahoe.com/event/northern-nevada-student-farmers-market/
LOCATION:Fuji Park
CATEGORIES:Farmer's Market,Farmers Market
END:VEVENT
BEGIN:VEVENT
DTSTART;TZID=America/Los_Angeles:20240514T160000
DTEND;TZID=America/Los_Angeles:20240514T200000
DTSTAMP:20260425T035943
CREATED:20240514T234351Z
LAST-MODIFIED:20240514T234351Z
UID:38550-1715702400-1715716800@oldediblerenotahoe.com
SUMMARY:Esmeralda Farmers Market
DESCRIPTION:
URL:https://oldediblerenotahoe.com/event/esmeralda-farmers-market/
LOCATION:NV
CATEGORIES:Farmer's Market,Farmers Market
END:VEVENT
BEGIN:VEVENT
DTSTART;TZID=America/Los_Angeles:20240514T080000
DTEND;TZID=America/Los_Angeles:20240514T130000
DTSTAMP:20260425T035943
CREATED:20240514T234641Z
LAST-MODIFIED:20240514T234641Z
UID:38586-1715673600-1715691600@oldediblerenotahoe.com
SUMMARY:Truckee Certified Farmers' Market
DESCRIPTION:
URL:https://oldediblerenotahoe.com/event/truckee-certified-farmers-market-2/
LOCATION:NV
CATEGORIES:Farmer's Market,Farmers Market
END:VEVENT
BEGIN:VEVENT
DTSTART;TZID=America/Los_Angeles:20240512T090000
DTEND;TZID=America/Los_Angeles:20240512T130000
DTSTAMP:20260425T035943
CREATED:20231103T014135Z
LAST-MODIFIED:20231103T014135Z
UID:35249-1715504400-1715518800@oldediblerenotahoe.com
SUMMARY:Riverside Farmers Market
DESCRIPTION:The Riverside Farmers Market stands as Reno’s authentic local market\, exclusively featuring vendors who cultivate\, rear\, or craft their products within the immediate vicinity of the city. Highlighting small-scale\, community-focused\, and sustainable farmers and ranchers\, the market is a testament to the belief that the foundation of healthy food lies in the health of the land. It also serves as a welcoming platform for Reno’s emerging agricultural talents\, providing a space for residents to connect with those who are dedicated to nourishing the Truckee Meadows community through locally grown produce.
URL:https://oldediblerenotahoe.com/event/riverside-farmers-market-3-2024-05-12/
LOCATION:Idlewild Park\, 1000 Cowan Dr.\, Reno\, NV\, 89509
CATEGORIES:Farmers Market,Shopping
END:VEVENT
BEGIN:VEVENT
DTSTART;TZID=America/Los_Angeles:20240505T090000
DTEND;TZID=America/Los_Angeles:20240505T130000
DTSTAMP:20260425T035943
CREATED:20231103T014135Z
LAST-MODIFIED:20231103T014135Z
UID:35248-1714899600-1714914000@oldediblerenotahoe.com
SUMMARY:Riverside Farmers Market
DESCRIPTION:The Riverside Farmers Market stands as Reno’s authentic local market\, exclusively featuring vendors who cultivate\, rear\, or craft their products within the immediate vicinity of the city. Highlighting small-scale\, community-focused\, and sustainable farmers and ranchers\, the market is a testament to the belief that the foundation of healthy food lies in the health of the land. It also serves as a welcoming platform for Reno’s emerging agricultural talents\, providing a space for residents to connect with those who are dedicated to nourishing the Truckee Meadows community through locally grown produce.
URL:https://oldediblerenotahoe.com/event/riverside-farmers-market-3-2024-05-05/
LOCATION:Idlewild Park\, 1000 Cowan Dr.\, Reno\, NV\, 89509
CATEGORIES:Farmers Market,Shopping
END:VEVENT
BEGIN:VEVENT
DTSTART;TZID=America/Los_Angeles:20240428T090000
DTEND;TZID=America/Los_Angeles:20240428T130000
DTSTAMP:20260425T035943
CREATED:20231103T014135Z
LAST-MODIFIED:20231103T014135Z
UID:35247-1714294800-1714309200@oldediblerenotahoe.com
SUMMARY:Riverside Farmers Market
DESCRIPTION:The Riverside Farmers Market stands as Reno’s authentic local market\, exclusively featuring vendors who cultivate\, rear\, or craft their products within the immediate vicinity of the city. Highlighting small-scale\, community-focused\, and sustainable farmers and ranchers\, the market is a testament to the belief that the foundation of healthy food lies in the health of the land. It also serves as a welcoming platform for Reno’s emerging agricultural talents\, providing a space for residents to connect with those who are dedicated to nourishing the Truckee Meadows community through locally grown produce.
URL:https://oldediblerenotahoe.com/event/riverside-farmers-market-3-2024-04-28/
LOCATION:Idlewild Park\, 1000 Cowan Dr.\, Reno\, NV\, 89509
CATEGORIES:Farmers Market,Shopping
END:VEVENT
BEGIN:VEVENT
DTSTART;TZID=America/Los_Angeles:20240421T090000
DTEND;TZID=America/Los_Angeles:20240421T130000
DTSTAMP:20260425T035943
CREATED:20231103T014135Z
LAST-MODIFIED:20231103T014135Z
UID:35246-1713690000-1713704400@oldediblerenotahoe.com
SUMMARY:Riverside Farmers Market
DESCRIPTION:The Riverside Farmers Market stands as Reno’s authentic local market\, exclusively featuring vendors who cultivate\, rear\, or craft their products within the immediate vicinity of the city. Highlighting small-scale\, community-focused\, and sustainable farmers and ranchers\, the market is a testament to the belief that the foundation of healthy food lies in the health of the land. It also serves as a welcoming platform for Reno’s emerging agricultural talents\, providing a space for residents to connect with those who are dedicated to nourishing the Truckee Meadows community through locally grown produce.
URL:https://oldediblerenotahoe.com/event/riverside-farmers-market-3-2024-04-21/
LOCATION:Idlewild Park\, 1000 Cowan Dr.\, Reno\, NV\, 89509
CATEGORIES:Farmers Market,Shopping
END:VEVENT
BEGIN:VEVENT
DTSTART;TZID=America/Los_Angeles:20240414T090000
DTEND;TZID=America/Los_Angeles:20240414T130000
DTSTAMP:20260425T035943
CREATED:20231103T014135Z
LAST-MODIFIED:20231103T014135Z
UID:35245-1713085200-1713099600@oldediblerenotahoe.com
SUMMARY:Riverside Farmers Market
DESCRIPTION:The Riverside Farmers Market stands as Reno’s authentic local market\, exclusively featuring vendors who cultivate\, rear\, or craft their products within the immediate vicinity of the city. Highlighting small-scale\, community-focused\, and sustainable farmers and ranchers\, the market is a testament to the belief that the foundation of healthy food lies in the health of the land. It also serves as a welcoming platform for Reno’s emerging agricultural talents\, providing a space for residents to connect with those who are dedicated to nourishing the Truckee Meadows community through locally grown produce.
URL:https://oldediblerenotahoe.com/event/riverside-farmers-market-3-2024-04-14/
LOCATION:Idlewild Park\, 1000 Cowan Dr.\, Reno\, NV\, 89509
CATEGORIES:Farmers Market,Shopping
END:VEVENT
END:VCALENDAR