BEGIN:VCALENDAR
VERSION:2.0
PRODID:-//Edible Reno-Tahoe - ECPv6.15.20//NONSGML v1.0//EN
CALSCALE:GREGORIAN
METHOD:PUBLISH
X-ORIGINAL-URL:https://oldediblerenotahoe.com
X-WR-CALDESC:Events for Edible Reno-Tahoe
REFRESH-INTERVAL;VALUE=DURATION:PT1H
X-Robots-Tag:noindex
X-PUBLISHED-TTL:PT1H
BEGIN:VTIMEZONE
TZID:America/Los_Angeles
BEGIN:DAYLIGHT
TZOFFSETFROM:-0800
TZOFFSETTO:-0700
TZNAME:PDT
DTSTART:20230312T100000
END:DAYLIGHT
BEGIN:STANDARD
TZOFFSETFROM:-0700
TZOFFSETTO:-0800
TZNAME:PST
DTSTART:20231105T090000
END:STANDARD
BEGIN:DAYLIGHT
TZOFFSETFROM:-0800
TZOFFSETTO:-0700
TZNAME:PDT
DTSTART:20240310T100000
END:DAYLIGHT
BEGIN:STANDARD
TZOFFSETFROM:-0700
TZOFFSETTO:-0800
TZNAME:PST
DTSTART:20241103T090000
END:STANDARD
BEGIN:DAYLIGHT
TZOFFSETFROM:-0800
TZOFFSETTO:-0700
TZNAME:PDT
DTSTART:20250309T100000
END:DAYLIGHT
BEGIN:STANDARD
TZOFFSETFROM:-0700
TZOFFSETTO:-0800
TZNAME:PST
DTSTART:20251102T090000
END:STANDARD
END:VTIMEZONE
BEGIN:VEVENT
DTSTART;TZID=America/Los_Angeles:20240816T150000
DTEND;TZID=America/Los_Angeles:20240816T200000
DTSTAMP:20260424T025341
CREATED:20240514T235305Z
LAST-MODIFIED:20240514T235305Z
UID:38660-1723820400-1723838400@oldediblerenotahoe.com
SUMMARY:Ski Run Farmers Market
DESCRIPTION:
URL:https://oldediblerenotahoe.com/event/ski-run-farmers-market-2024-08-16/
CATEGORIES:Farmer's Market,Farmers Market
END:VEVENT
BEGIN:VEVENT
DTSTART;TZID=America/Los_Angeles:20240816T080000
DTEND;TZID=America/Los_Angeles:20240816T130000
DTSTAMP:20260424T025341
CREATED:20240514T235442Z
LAST-MODIFIED:20240514T235442Z
UID:38684-1723795200-1723813200@oldediblerenotahoe.com
SUMMARY:Yerington Early Bird Farmer's Market
DESCRIPTION:
URL:https://oldediblerenotahoe.com/event/yerington-early-bird-farmers-market-2024-08-16/
CATEGORIES:Farmer's Market,Farmers Market
END:VEVENT
BEGIN:VEVENT
DTSTART;TZID=America/Los_Angeles:20240815T150000
DTEND;TZID=America/Los_Angeles:20240815T180000
DTSTAMP:20260424T025341
CREATED:20240514T234958Z
LAST-MODIFIED:20240514T234958Z
UID:38612-1723734000-1723744800@oldediblerenotahoe.com
SUMMARY:Dayton Farmers Market
DESCRIPTION:
URL:https://oldediblerenotahoe.com/event/dayton-farmers-market-2024-08-15/
CATEGORIES:Farmer's Market,Farmers Market
END:VEVENT
BEGIN:VEVENT
DTSTART;TZID=America/Los_Angeles:20240813T080000
DTEND;TZID=America/Los_Angeles:20240813T130000
DTSTAMP:20260424T025341
CREATED:20240514T234544Z
LAST-MODIFIED:20240514T234544Z
UID:38584-1723536000-1723554000@oldediblerenotahoe.com
SUMMARY:Sparks United Methodist Church Farmers' Market
DESCRIPTION:
URL:https://oldediblerenotahoe.com/event/sparks-united-methodist-church-farmers-market-2024-08-13/
CATEGORIES:Farmer's Market,Farmers Market
END:VEVENT
BEGIN:VEVENT
DTSTART;TZID=America/Los_Angeles:20240813T080000
DTEND;TZID=America/Los_Angeles:20240813T130000
DTSTAMP:20260424T025341
CREATED:20240514T234448Z
LAST-MODIFIED:20240514T234448Z
UID:38572-1723536000-1723554000@oldediblerenotahoe.com
SUMMARY:South Lake Tahoe Certified Farmers Market
DESCRIPTION:
URL:https://oldediblerenotahoe.com/event/south-lake-tahoe-certified-farmers-market-2024-08-13/
CATEGORIES:Farmer's Market,Farmers Market
END:VEVENT
BEGIN:VEVENT
DTSTART;TZID=America/Los_Angeles:20240811T120000
DTEND;TZID=America/Los_Angeles:20240811T150000
DTSTAMP:20260424T025341
CREATED:20240514T235355Z
LAST-MODIFIED:20240514T235355Z
UID:38671-1723377600-1723388400@oldediblerenotahoe.com
SUMMARY:Stagecoach Junction Farmers' Market
DESCRIPTION:
URL:https://oldediblerenotahoe.com/event/stagecoach-junction-farmers-market-2024-08-11/
CATEGORIES:Farmer's Market,Farmers Market
END:VEVENT
BEGIN:VEVENT
DTSTART;TZID=America/Los_Angeles:20240811T090000
DTEND;TZID=America/Los_Angeles:20240811T130000
DTSTAMP:20260424T025341
CREATED:20231103T014135Z
LAST-MODIFIED:20231103T014135Z
UID:35262-1723366800-1723381200@oldediblerenotahoe.com
SUMMARY:Riverside Farmers Market
DESCRIPTION:The Riverside Farmers Market stands as Reno’s authentic local market\, exclusively featuring vendors who cultivate\, rear\, or craft their products within the immediate vicinity of the city. Highlighting small-scale\, community-focused\, and sustainable farmers and ranchers\, the market is a testament to the belief that the foundation of healthy food lies in the health of the land. It also serves as a welcoming platform for Reno’s emerging agricultural talents\, providing a space for residents to connect with those who are dedicated to nourishing the Truckee Meadows community through locally grown produce.
URL:https://oldediblerenotahoe.com/event/riverside-farmers-market-3-2024-08-11/
LOCATION:Idlewild Park\, 1000 Cowan Dr.\, Reno\, NV\, 89509
CATEGORIES:Farmers Market,Shopping
END:VEVENT
BEGIN:VEVENT
DTSTART;TZID=America/Los_Angeles:20240810T083000
DTEND;TZID=America/Los_Angeles:20240810T130000
DTSTAMP:20260424T025341
CREATED:20240514T235534Z
LAST-MODIFIED:20240514T235534Z
UID:38695-1723278600-1723294800@oldediblerenotahoe.com
SUMMARY:Carson Farmers Market
DESCRIPTION:
URL:https://oldediblerenotahoe.com/event/carson-farmers-market-2024-08-10/
CATEGORIES:Farmer's Market,Farmers Market
END:VEVENT
BEGIN:VEVENT
DTSTART;TZID=America/Los_Angeles:20240809T150000
DTEND;TZID=America/Los_Angeles:20240809T200000
DTSTAMP:20260424T025341
CREATED:20240514T235305Z
LAST-MODIFIED:20240514T235305Z
UID:38659-1723215600-1723233600@oldediblerenotahoe.com
SUMMARY:Ski Run Farmers Market
DESCRIPTION:
URL:https://oldediblerenotahoe.com/event/ski-run-farmers-market-2024-08-09/
CATEGORIES:Farmer's Market,Farmers Market
END:VEVENT
BEGIN:VEVENT
DTSTART;TZID=America/Los_Angeles:20240809T100000
DTEND;TZID=America/Los_Angeles:20240809T133000
DTSTAMP:20260424T025341
CREATED:20240514T235222Z
LAST-MODIFIED:20240514T235222Z
UID:38648-1723197600-1723210200@oldediblerenotahoe.com
SUMMARY:Romano's Certified Farmers Market
DESCRIPTION:
URL:https://oldediblerenotahoe.com/event/romanos-certified-farmers-market-2024-08-09/
CATEGORIES:Farmer's Market,Farmers Market
END:VEVENT
BEGIN:VEVENT
DTSTART;TZID=America/Los_Angeles:20240809T080000
DTEND;TZID=America/Los_Angeles:20240809T130000
DTSTAMP:20260424T025341
CREATED:20240514T235442Z
LAST-MODIFIED:20240514T235442Z
UID:38683-1723190400-1723208400@oldediblerenotahoe.com
SUMMARY:Yerington Early Bird Farmer's Market
DESCRIPTION:
URL:https://oldediblerenotahoe.com/event/yerington-early-bird-farmers-market-2024-08-09/
CATEGORIES:Farmer's Market,Farmers Market
END:VEVENT
BEGIN:VEVENT
DTSTART;TZID=America/Los_Angeles:20240808T150000
DTEND;TZID=America/Los_Angeles:20240808T180000
DTSTAMP:20260424T025341
CREATED:20240514T234958Z
LAST-MODIFIED:20240514T234958Z
UID:38611-1723129200-1723140000@oldediblerenotahoe.com
SUMMARY:Dayton Farmers Market
DESCRIPTION:
URL:https://oldediblerenotahoe.com/event/dayton-farmers-market-2024-08-08/
CATEGORIES:Farmer's Market,Farmers Market
END:VEVENT
BEGIN:VEVENT
DTSTART;TZID=America/Los_Angeles:20240806T080000
DTEND;TZID=America/Los_Angeles:20240806T130000
DTSTAMP:20260424T025341
CREATED:20240514T234544Z
LAST-MODIFIED:20240514T234544Z
UID:38583-1722931200-1722949200@oldediblerenotahoe.com
SUMMARY:Sparks United Methodist Church Farmers' Market
DESCRIPTION:
URL:https://oldediblerenotahoe.com/event/sparks-united-methodist-church-farmers-market-2024-08-06/
CATEGORIES:Farmer's Market,Farmers Market
END:VEVENT
BEGIN:VEVENT
DTSTART;TZID=America/Los_Angeles:20240806T080000
DTEND;TZID=America/Los_Angeles:20240806T130000
DTSTAMP:20260424T025341
CREATED:20240514T234448Z
LAST-MODIFIED:20240514T234448Z
UID:38571-1722931200-1722949200@oldediblerenotahoe.com
SUMMARY:South Lake Tahoe Certified Farmers Market
DESCRIPTION:
URL:https://oldediblerenotahoe.com/event/south-lake-tahoe-certified-farmers-market-2024-08-06/
CATEGORIES:Farmer's Market,Farmers Market
END:VEVENT
BEGIN:VEVENT
DTSTART;TZID=America/Los_Angeles:20240804T120000
DTEND;TZID=America/Los_Angeles:20240804T150000
DTSTAMP:20260424T025341
CREATED:20240514T235355Z
LAST-MODIFIED:20240514T235355Z
UID:38670-1722772800-1722783600@oldediblerenotahoe.com
SUMMARY:Stagecoach Junction Farmers' Market
DESCRIPTION:
URL:https://oldediblerenotahoe.com/event/stagecoach-junction-farmers-market-2024-08-04/
CATEGORIES:Farmer's Market,Farmers Market
END:VEVENT
BEGIN:VEVENT
DTSTART;TZID=America/Los_Angeles:20240804T090000
DTEND;TZID=America/Los_Angeles:20240804T130000
DTSTAMP:20260424T025341
CREATED:20231103T014135Z
LAST-MODIFIED:20231103T014135Z
UID:35261-1722762000-1722776400@oldediblerenotahoe.com
SUMMARY:Riverside Farmers Market
DESCRIPTION:The Riverside Farmers Market stands as Reno’s authentic local market\, exclusively featuring vendors who cultivate\, rear\, or craft their products within the immediate vicinity of the city. Highlighting small-scale\, community-focused\, and sustainable farmers and ranchers\, the market is a testament to the belief that the foundation of healthy food lies in the health of the land. It also serves as a welcoming platform for Reno’s emerging agricultural talents\, providing a space for residents to connect with those who are dedicated to nourishing the Truckee Meadows community through locally grown produce.
URL:https://oldediblerenotahoe.com/event/riverside-farmers-market-3-2024-08-04/
LOCATION:Idlewild Park\, 1000 Cowan Dr.\, Reno\, NV\, 89509
CATEGORIES:Farmers Market,Shopping
END:VEVENT
BEGIN:VEVENT
DTSTART;TZID=America/Los_Angeles:20240803T083000
DTEND;TZID=America/Los_Angeles:20240803T130000
DTSTAMP:20260424T025341
CREATED:20240514T235534Z
LAST-MODIFIED:20240514T235534Z
UID:38694-1722673800-1722690000@oldediblerenotahoe.com
SUMMARY:Carson Farmers Market
DESCRIPTION:
URL:https://oldediblerenotahoe.com/event/carson-farmers-market-2024-08-03/
CATEGORIES:Farmer's Market,Farmers Market
END:VEVENT
BEGIN:VEVENT
DTSTART;TZID=America/Los_Angeles:20240802T150000
DTEND;TZID=America/Los_Angeles:20240802T200000
DTSTAMP:20260424T025341
CREATED:20240514T235305Z
LAST-MODIFIED:20240514T235305Z
UID:38658-1722610800-1722628800@oldediblerenotahoe.com
SUMMARY:Ski Run Farmers Market
DESCRIPTION:
URL:https://oldediblerenotahoe.com/event/ski-run-farmers-market-2024-08-02/
CATEGORIES:Farmer's Market,Farmers Market
END:VEVENT
BEGIN:VEVENT
DTSTART;TZID=America/Los_Angeles:20240802T100000
DTEND;TZID=America/Los_Angeles:20240802T133000
DTSTAMP:20260424T025341
CREATED:20240514T235222Z
LAST-MODIFIED:20240514T235222Z
UID:38647-1722592800-1722605400@oldediblerenotahoe.com
SUMMARY:Romano's Certified Farmers Market
DESCRIPTION:
URL:https://oldediblerenotahoe.com/event/romanos-certified-farmers-market-2024-08-02/
CATEGORIES:Farmer's Market,Farmers Market
END:VEVENT
BEGIN:VEVENT
DTSTART;TZID=America/Los_Angeles:20240802T080000
DTEND;TZID=America/Los_Angeles:20240802T130000
DTSTAMP:20260424T025341
CREATED:20240514T235442Z
LAST-MODIFIED:20240514T235442Z
UID:38682-1722585600-1722603600@oldediblerenotahoe.com
SUMMARY:Yerington Early Bird Farmer's Market
DESCRIPTION:
URL:https://oldediblerenotahoe.com/event/yerington-early-bird-farmers-market-2024-08-02/
CATEGORIES:Farmer's Market,Farmers Market
END:VEVENT
BEGIN:VEVENT
DTSTART;TZID=America/Los_Angeles:20240801T150000
DTEND;TZID=America/Los_Angeles:20240801T180000
DTSTAMP:20260424T025341
CREATED:20240514T235043Z
LAST-MODIFIED:20240514T235043Z
UID:38624-1722524400-1722535200@oldediblerenotahoe.com
SUMMARY:Incline Village Farmers' Market
DESCRIPTION:
URL:https://oldediblerenotahoe.com/event/incline-village-farmers-market-2024-08-01/
CATEGORIES:Farmer's Market,Farmers Market
END:VEVENT
BEGIN:VEVENT
DTSTART;TZID=America/Los_Angeles:20240801T150000
DTEND;TZID=America/Los_Angeles:20240801T180000
DTSTAMP:20260424T025341
CREATED:20240514T234958Z
LAST-MODIFIED:20240514T234958Z
UID:38610-1722524400-1722535200@oldediblerenotahoe.com
SUMMARY:Dayton Farmers Market
DESCRIPTION:
URL:https://oldediblerenotahoe.com/event/dayton-farmers-market-2024-08-01/
CATEGORIES:Farmer's Market,Farmers Market
END:VEVENT
BEGIN:VEVENT
DTSTART;TZID=America/Los_Angeles:20240730T080000
DTEND;TZID=America/Los_Angeles:20240730T130000
DTSTAMP:20260424T025341
CREATED:20240514T234544Z
LAST-MODIFIED:20240514T234544Z
UID:38582-1722326400-1722344400@oldediblerenotahoe.com
SUMMARY:Sparks United Methodist Church Farmers' Market
DESCRIPTION:
URL:https://oldediblerenotahoe.com/event/sparks-united-methodist-church-farmers-market-2024-07-30/
CATEGORIES:Farmer's Market,Farmers Market
END:VEVENT
BEGIN:VEVENT
DTSTART;TZID=America/Los_Angeles:20240730T080000
DTEND;TZID=America/Los_Angeles:20240730T130000
DTSTAMP:20260424T025341
CREATED:20240514T234448Z
LAST-MODIFIED:20240514T234448Z
UID:38570-1722326400-1722344400@oldediblerenotahoe.com
SUMMARY:South Lake Tahoe Certified Farmers Market
DESCRIPTION:
URL:https://oldediblerenotahoe.com/event/south-lake-tahoe-certified-farmers-market-2024-07-30/
CATEGORIES:Farmer's Market,Farmers Market
END:VEVENT
BEGIN:VEVENT
DTSTART;TZID=America/Los_Angeles:20240728T120000
DTEND;TZID=America/Los_Angeles:20240728T150000
DTSTAMP:20260424T025341
CREATED:20240514T235355Z
LAST-MODIFIED:20240514T235355Z
UID:38669-1722168000-1722178800@oldediblerenotahoe.com
SUMMARY:Stagecoach Junction Farmers' Market
DESCRIPTION:
URL:https://oldediblerenotahoe.com/event/stagecoach-junction-farmers-market-2024-07-28/
CATEGORIES:Farmer's Market,Farmers Market
END:VEVENT
BEGIN:VEVENT
DTSTART;TZID=America/Los_Angeles:20240728T090000
DTEND;TZID=America/Los_Angeles:20240728T130000
DTSTAMP:20260424T025341
CREATED:20231103T014135Z
LAST-MODIFIED:20231103T014135Z
UID:35260-1722157200-1722171600@oldediblerenotahoe.com
SUMMARY:Riverside Farmers Market
DESCRIPTION:The Riverside Farmers Market stands as Reno’s authentic local market\, exclusively featuring vendors who cultivate\, rear\, or craft their products within the immediate vicinity of the city. Highlighting small-scale\, community-focused\, and sustainable farmers and ranchers\, the market is a testament to the belief that the foundation of healthy food lies in the health of the land. It also serves as a welcoming platform for Reno’s emerging agricultural talents\, providing a space for residents to connect with those who are dedicated to nourishing the Truckee Meadows community through locally grown produce.
URL:https://oldediblerenotahoe.com/event/riverside-farmers-market-3-2024-07-28/
LOCATION:Idlewild Park\, 1000 Cowan Dr.\, Reno\, NV\, 89509
CATEGORIES:Farmers Market,Shopping
END:VEVENT
BEGIN:VEVENT
DTSTART;TZID=America/Los_Angeles:20240727T083000
DTEND;TZID=America/Los_Angeles:20240727T130000
DTSTAMP:20260424T025341
CREATED:20240514T235534Z
LAST-MODIFIED:20240514T235534Z
UID:38693-1722069000-1722085200@oldediblerenotahoe.com
SUMMARY:Carson Farmers Market
DESCRIPTION:
URL:https://oldediblerenotahoe.com/event/carson-farmers-market-2024-07-27/
CATEGORIES:Farmer's Market,Farmers Market
END:VEVENT
BEGIN:VEVENT
DTSTART;TZID=America/Los_Angeles:20240726T150000
DTEND;TZID=America/Los_Angeles:20240726T200000
DTSTAMP:20260424T025341
CREATED:20240514T235305Z
LAST-MODIFIED:20240514T235305Z
UID:38657-1722006000-1722024000@oldediblerenotahoe.com
SUMMARY:Ski Run Farmers Market
DESCRIPTION:
URL:https://oldediblerenotahoe.com/event/ski-run-farmers-market-2024-07-26/
CATEGORIES:Farmer's Market,Farmers Market
END:VEVENT
BEGIN:VEVENT
DTSTART;TZID=America/Los_Angeles:20240726T100000
DTEND;TZID=America/Los_Angeles:20240726T133000
DTSTAMP:20260424T025341
CREATED:20240514T235222Z
LAST-MODIFIED:20240514T235222Z
UID:38646-1721988000-1722000600@oldediblerenotahoe.com
SUMMARY:Romano's Certified Farmers Market
DESCRIPTION:
URL:https://oldediblerenotahoe.com/event/romanos-certified-farmers-market-2024-07-26/
CATEGORIES:Farmer's Market,Farmers Market
END:VEVENT
BEGIN:VEVENT
DTSTART;TZID=America/Los_Angeles:20240726T080000
DTEND;TZID=America/Los_Angeles:20240726T130000
DTSTAMP:20260424T025341
CREATED:20240514T235442Z
LAST-MODIFIED:20240514T235442Z
UID:38681-1721980800-1721998800@oldediblerenotahoe.com
SUMMARY:Yerington Early Bird Farmer's Market
DESCRIPTION:
URL:https://oldediblerenotahoe.com/event/yerington-early-bird-farmers-market-2024-07-26/
CATEGORIES:Farmer's Market,Farmers Market
END:VEVENT
END:VCALENDAR