BEGIN:VCALENDAR
VERSION:2.0
PRODID:-//Edible Reno-Tahoe - ECPv6.15.20//NONSGML v1.0//EN
CALSCALE:GREGORIAN
METHOD:PUBLISH
X-ORIGINAL-URL:https://oldediblerenotahoe.com
X-WR-CALDESC:Events for Edible Reno-Tahoe
REFRESH-INTERVAL;VALUE=DURATION:PT1H
X-Robots-Tag:noindex
X-PUBLISHED-TTL:PT1H
BEGIN:VTIMEZONE
TZID:America/Los_Angeles
BEGIN:DAYLIGHT
TZOFFSETFROM:-0800
TZOFFSETTO:-0700
TZNAME:PDT
DTSTART:20210314T100000
END:DAYLIGHT
BEGIN:STANDARD
TZOFFSETFROM:-0700
TZOFFSETTO:-0800
TZNAME:PST
DTSTART:20211107T090000
END:STANDARD
BEGIN:DAYLIGHT
TZOFFSETFROM:-0800
TZOFFSETTO:-0700
TZNAME:PDT
DTSTART:20220313T100000
END:DAYLIGHT
BEGIN:STANDARD
TZOFFSETFROM:-0700
TZOFFSETTO:-0800
TZNAME:PST
DTSTART:20221106T090000
END:STANDARD
BEGIN:DAYLIGHT
TZOFFSETFROM:-0800
TZOFFSETTO:-0700
TZNAME:PDT
DTSTART:20230312T100000
END:DAYLIGHT
BEGIN:STANDARD
TZOFFSETFROM:-0700
TZOFFSETTO:-0800
TZNAME:PST
DTSTART:20231105T090000
END:STANDARD
BEGIN:DAYLIGHT
TZOFFSETFROM:-0800
TZOFFSETTO:-0700
TZNAME:PDT
DTSTART:20240310T100000
END:DAYLIGHT
BEGIN:STANDARD
TZOFFSETFROM:-0700
TZOFFSETTO:-0800
TZNAME:PST
DTSTART:20241103T090000
END:STANDARD
END:VTIMEZONE
BEGIN:VEVENT
DTSTART;TZID=America/Los_Angeles:20231029T150000
DTEND;TZID=America/Los_Angeles:20231029T190000
DTSTAMP:20260425T053017
CREATED:20230925T192850Z
LAST-MODIFIED:20231002T204202Z
UID:34083-1698591600-1698606000@oldediblerenotahoe.com
SUMMARY:Park Farm Stand
DESCRIPTION:Venture into the fields and food forest\, meet the friendly goats named Oliver and June\, and immerse yourself in the vibrant atmosphere of a farm dedicated to combating food insecurity in the community. Explore an array of seasonal veggies\, herbs\, and pollinator plants available for sale. \nDon’t miss the opportunity to have Farmer Joe sharpen your knives between 5-7pm for just $5 per knife. Make sure to visit during the later part of the farm stand to get your knives expertly tuned while you shop for fresh produce!
URL:https://oldediblerenotahoe.com/event/parkfarmstand-2023-10-29/
LOCATION:Betsy Caughlin Donnelly Park\, 3295 Mayberry Dr.\, Reno\, NV\, 89519
CATEGORIES:Family friendly,Farmer's Market,Shopping
END:VEVENT
BEGIN:VEVENT
DTSTART;TZID=America/Los_Angeles:20231022T150000
DTEND;TZID=America/Los_Angeles:20231022T190000
DTSTAMP:20260425T053017
CREATED:20230925T192850Z
LAST-MODIFIED:20231002T204201Z
UID:34082-1697986800-1698001200@oldediblerenotahoe.com
SUMMARY:Park Farm Stand
DESCRIPTION:Venture into the fields and food forest\, meet the friendly goats named Oliver and June\, and immerse yourself in the vibrant atmosphere of a farm dedicated to combating food insecurity in the community. Explore an array of seasonal veggies\, herbs\, and pollinator plants available for sale. \nDon’t miss the opportunity to have Farmer Joe sharpen your knives between 5-7pm for just $5 per knife. Make sure to visit during the later part of the farm stand to get your knives expertly tuned while you shop for fresh produce!
URL:https://oldediblerenotahoe.com/event/parkfarmstand-2023-10-22/
LOCATION:Betsy Caughlin Donnelly Park\, 3295 Mayberry Dr.\, Reno\, NV\, 89519
CATEGORIES:Family friendly,Farmer's Market,Shopping
END:VEVENT
BEGIN:VEVENT
DTSTART;TZID=America/Los_Angeles:20231015T150000
DTEND;TZID=America/Los_Angeles:20231015T190000
DTSTAMP:20260425T053017
CREATED:20230925T192850Z
LAST-MODIFIED:20231002T204200Z
UID:34081-1697382000-1697396400@oldediblerenotahoe.com
SUMMARY:Park Farm Stand
DESCRIPTION:Venture into the fields and food forest\, meet the friendly goats named Oliver and June\, and immerse yourself in the vibrant atmosphere of a farm dedicated to combating food insecurity in the community. Explore an array of seasonal veggies\, herbs\, and pollinator plants available for sale. \nDon’t miss the opportunity to have Farmer Joe sharpen your knives between 5-7pm for just $5 per knife. Make sure to visit during the later part of the farm stand to get your knives expertly tuned while you shop for fresh produce!
URL:https://oldediblerenotahoe.com/event/parkfarmstand-2023-10-15/
LOCATION:Betsy Caughlin Donnelly Park\, 3295 Mayberry Dr.\, Reno\, NV\, 89519
CATEGORIES:Family friendly,Farmer's Market,Shopping
END:VEVENT
BEGIN:VEVENT
DTSTART;TZID=America/Los_Angeles:20231008T150000
DTEND;TZID=America/Los_Angeles:20231008T190000
DTSTAMP:20260425T053017
CREATED:20230925T192850Z
LAST-MODIFIED:20231002T204159Z
UID:34080-1696777200-1696791600@oldediblerenotahoe.com
SUMMARY:Park Farm Stand
DESCRIPTION:Venture into the fields and food forest\, meet the friendly goats named Oliver and June\, and immerse yourself in the vibrant atmosphere of a farm dedicated to combating food insecurity in the community. Explore an array of seasonal veggies\, herbs\, and pollinator plants available for sale. \nDon’t miss the opportunity to have Farmer Joe sharpen your knives between 5-7pm for just $5 per knife. Make sure to visit during the later part of the farm stand to get your knives expertly tuned while you shop for fresh produce!
URL:https://oldediblerenotahoe.com/event/parkfarmstand-2023-10-08/
LOCATION:Betsy Caughlin Donnelly Park\, 3295 Mayberry Dr.\, Reno\, NV\, 89519
CATEGORIES:Family friendly,Farmer's Market,Shopping
END:VEVENT
BEGIN:VEVENT
DTSTART;TZID=America/Los_Angeles:20231001T150000
DTEND;TZID=America/Los_Angeles:20231001T190000
DTSTAMP:20260425T053017
CREATED:20230925T192850Z
LAST-MODIFIED:20231002T204159Z
UID:34078-1696172400-1696186800@oldediblerenotahoe.com
SUMMARY:Park Farm Stand
DESCRIPTION:Venture into the fields and food forest\, meet the friendly goats named Oliver and June\, and immerse yourself in the vibrant atmosphere of a farm dedicated to combating food insecurity in the community. Explore an array of seasonal veggies\, herbs\, and pollinator plants available for sale. \nDon’t miss the opportunity to have Farmer Joe sharpen your knives between 5-7pm for just $5 per knife. Make sure to visit during the later part of the farm stand to get your knives expertly tuned while you shop for fresh produce!
URL:https://oldediblerenotahoe.com/event/parkfarmstand/
LOCATION:Betsy Caughlin Donnelly Park\, 3295 Mayberry Dr.\, Reno\, NV\, 89519
CATEGORIES:Family friendly,Farmer's Market,Shopping
END:VEVENT
BEGIN:VEVENT
DTSTART;TZID=America/Los_Angeles:20220604T090000
DTEND;TZID=America/Los_Angeles:20220604T130000
DTSTAMP:20260425T053017
CREATED:20220418T222721Z
LAST-MODIFIED:20220418T222721Z
UID:26419-1654333200-1654347600@oldediblerenotahoe.com
SUMMARY:Tamarack Junction Farmers Market
DESCRIPTION:The Tamarack Junction Casino is located at 13101 S. Virginia\,  Reno\, NV.   We will be open  Saturdays\, June 5 through September 25\, 9:00 am to 1:00 pm.  Our location is now in the west parking lot.  The south gate entrance to the casino is now open making entry to the market easy and we have tons of parking.
URL:https://oldediblerenotahoe.com/event/tamarack-junction-farmers-market/
LOCATION:Tamarack Junction\, 13101 S. Virginia St\, Reno\, 89511
CATEGORIES:Farmer's Market
END:VEVENT
BEGIN:VEVENT
DTSTART;TZID=America/Los_Angeles:20220604T080000
DTEND;TZID=America/Los_Angeles:20220604T170000
DTSTAMP:20260425T053017
CREATED:20220418T223001Z
LAST-MODIFIED:20220418T223001Z
UID:26438-1654329600-1654362000@oldediblerenotahoe.com
SUMMARY:The Village Market on California Avenue
DESCRIPTION:The Village Market is the longest running market in Reno and one of the most popular.  Located in The Village Shopping Center where Booth Street meets California Avenue\, one block south of Reno High School.  We will open on Saturdays\, June 5 through October 2\, 2021.  The hours are from 8AM through 1 PM
URL:https://oldediblerenotahoe.com/event/the-village-market-on-california-avenue/
LOCATION:The Shops at the Village\, 1119 California Avenue\, Reno
CATEGORIES:Farmer's Market
END:VEVENT
BEGIN:VEVENT
DTSTART;TZID=America/Los_Angeles:20220602T160000
DTEND;TZID=America/Los_Angeles:20220602T200000
DTSTAMP:20260425T053017
CREATED:20220418T222344Z
LAST-MODIFIED:20220418T222344Z
UID:26400-1654185600-1654200000@oldediblerenotahoe.com
SUMMARY:Riverside Farmers Market
DESCRIPTION:The Riverside Farmers Market is Reno’s truly local market\, with all vendors growing\, raising\, or making their goods within the tightest possible radius around Reno. We showcase small\, local\, and sustainable farmers and ranchers who believe that healthy food begins with a healthy land. We also are home to Reno’s newest farmers and ranchers\, making it the perfect place to meet the\nfine folks growing food locally for the Truckee Meadows community. \nOur strong commitment to high-quality goods means that you can always count on things like pesticide-free produce or pasture-raised meats and eggs at our market. Even our prepared food vendors strive to use organic and unprocessed ingredients as we re-envision what a healthy food system looks like. \nThe Riverside Farmers Market is a taste of how all open-air markets and bazaars once were\, back when the land was less burdened with contamination and human intervention. It’s also a nod to the future\, as we connect a community of conscious consumers with local organic and regenerative farmers and ranchers\,\nand talented makers of things beautiful and delicious.\n​
URL:https://oldediblerenotahoe.com/event/riverside-farmers-market-2/
LOCATION:McKinley Arts and Culture Center\, 925 Riverside Dr.\, Reno\, NV
CATEGORIES:Farmer's Market
END:VEVENT
END:VCALENDAR