BEGIN:VCALENDAR
VERSION:2.0
PRODID:-//Edible Reno-Tahoe - ECPv6.15.20//NONSGML v1.0//EN
CALSCALE:GREGORIAN
METHOD:PUBLISH
X-ORIGINAL-URL:https://oldediblerenotahoe.com
X-WR-CALDESC:Events for Edible Reno-Tahoe
REFRESH-INTERVAL;VALUE=DURATION:PT1H
X-Robots-Tag:noindex
X-PUBLISHED-TTL:PT1H
BEGIN:VTIMEZONE
TZID:America/Los_Angeles
BEGIN:DAYLIGHT
TZOFFSETFROM:-0800
TZOFFSETTO:-0700
TZNAME:PDT
DTSTART:20230312T100000
END:DAYLIGHT
BEGIN:STANDARD
TZOFFSETFROM:-0700
TZOFFSETTO:-0800
TZNAME:PST
DTSTART:20231105T090000
END:STANDARD
BEGIN:DAYLIGHT
TZOFFSETFROM:-0800
TZOFFSETTO:-0700
TZNAME:PDT
DTSTART:20240310T100000
END:DAYLIGHT
BEGIN:STANDARD
TZOFFSETFROM:-0700
TZOFFSETTO:-0800
TZNAME:PST
DTSTART:20241103T090000
END:STANDARD
BEGIN:DAYLIGHT
TZOFFSETFROM:-0800
TZOFFSETTO:-0700
TZNAME:PDT
DTSTART:20250309T100000
END:DAYLIGHT
BEGIN:STANDARD
TZOFFSETFROM:-0700
TZOFFSETTO:-0800
TZNAME:PST
DTSTART:20251102T090000
END:STANDARD
END:VTIMEZONE
BEGIN:VEVENT
DTSTART;TZID=America/Los_Angeles:20240718T150000
DTEND;TZID=America/Los_Angeles:20240718T180000
DTSTAMP:20260424T081749
CREATED:20240514T235043Z
LAST-MODIFIED:20240514T235043Z
UID:38622-1721314800-1721325600@oldediblerenotahoe.com
SUMMARY:Incline Village Farmers' Market
DESCRIPTION:
URL:https://oldediblerenotahoe.com/event/incline-village-farmers-market-2024-07-18/
CATEGORIES:Farmer's Market,Farmers Market
END:VEVENT
BEGIN:VEVENT
DTSTART;TZID=America/Los_Angeles:20240718T150000
DTEND;TZID=America/Los_Angeles:20240718T180000
DTSTAMP:20260424T081749
CREATED:20240514T234958Z
LAST-MODIFIED:20240514T234958Z
UID:38608-1721314800-1721325600@oldediblerenotahoe.com
SUMMARY:Dayton Farmers Market
DESCRIPTION:
URL:https://oldediblerenotahoe.com/event/dayton-farmers-market-2024-07-18/
CATEGORIES:Farmer's Market,Farmers Market
END:VEVENT
BEGIN:VEVENT
DTSTART;TZID=America/Los_Angeles:20240718T080000
DTEND;TZID=America/Los_Angeles:20240718T130000
DTSTAMP:20260424T081749
CREATED:20240514T235128Z
LAST-MODIFIED:20240514T235128Z
UID:38635-1721289600-1721307600@oldediblerenotahoe.com
SUMMARY:Tahoe City Farmers Market
DESCRIPTION:
URL:https://oldediblerenotahoe.com/event/tahoe-city-farmers-market-2024-07-18/
CATEGORIES:Farmer's Market,Farmers Market
END:VEVENT
BEGIN:VEVENT
DTSTART;TZID=America/Los_Angeles:20240716T160000
DTEND;TZID=America/Los_Angeles:20240716T200000
DTSTAMP:20260424T081749
CREATED:20240514T234351Z
LAST-MODIFIED:20240514T234351Z
UID:38559-1721145600-1721160000@oldediblerenotahoe.com
SUMMARY:Esmeralda Farmers Market
DESCRIPTION:
URL:https://oldediblerenotahoe.com/event/esmeralda-farmers-market-2024-07-16/
CATEGORIES:Farmer's Market,Farmers Market
END:VEVENT
BEGIN:VEVENT
DTSTART;TZID=America/Los_Angeles:20240716T080000
DTEND;TZID=America/Los_Angeles:20240716T130000
DTSTAMP:20260424T081749
CREATED:20240514T234641Z
LAST-MODIFIED:20240514T234641Z
UID:38595-1721116800-1721134800@oldediblerenotahoe.com
SUMMARY:Truckee Certified Farmers' Market
DESCRIPTION:
URL:https://oldediblerenotahoe.com/event/truckee-certified-farmers-market-2-2024-07-16/
CATEGORIES:Farmer's Market,Farmers Market
END:VEVENT
BEGIN:VEVENT
DTSTART;TZID=America/Los_Angeles:20240716T080000
DTEND;TZID=America/Los_Angeles:20240716T130000
DTSTAMP:20260424T081749
CREATED:20240514T234544Z
LAST-MODIFIED:20240514T234544Z
UID:38580-1721116800-1721134800@oldediblerenotahoe.com
SUMMARY:Sparks United Methodist Church Farmers' Market
DESCRIPTION:
URL:https://oldediblerenotahoe.com/event/sparks-united-methodist-church-farmers-market-2024-07-16/
CATEGORIES:Farmer's Market,Farmers Market
END:VEVENT
BEGIN:VEVENT
DTSTART;TZID=America/Los_Angeles:20240716T080000
DTEND;TZID=America/Los_Angeles:20240716T130000
DTSTAMP:20260424T081749
CREATED:20240514T234448Z
LAST-MODIFIED:20240514T234448Z
UID:38568-1721116800-1721134800@oldediblerenotahoe.com
SUMMARY:South Lake Tahoe Certified Farmers Market
DESCRIPTION:
URL:https://oldediblerenotahoe.com/event/south-lake-tahoe-certified-farmers-market-2024-07-16/
CATEGORIES:Farmer's Market,Farmers Market
END:VEVENT
BEGIN:VEVENT
DTSTART;TZID=America/Los_Angeles:20240716T080000
DTEND;TZID=America/Los_Angeles:20240716T130000
DTSTAMP:20260424T081749
CREATED:20240318T035827Z
LAST-MODIFIED:20240318T035827Z
UID:37919-1721116800-1721134800@oldediblerenotahoe.com
SUMMARY:Truckee Certified Farmers Market
DESCRIPTION:Check out the Truckee Certified Farmers Market every Tuesday morning from May through October. Conveniently located at Truckee River Regional Park\, just minutes from downtown Truckee. Fresh\, local\, and fun!
URL:https://oldediblerenotahoe.com/event/truckee-certified-farmers-market-2024-07-16/
LOCATION:Truckee River Regional Park
CATEGORIES:Farmer's Market
END:VEVENT
BEGIN:VEVENT
DTSTART;TZID=America/Los_Angeles:20240714T120000
DTEND;TZID=America/Los_Angeles:20240714T150000
DTSTAMP:20260424T081749
CREATED:20240514T235355Z
LAST-MODIFIED:20240514T235355Z
UID:38667-1720958400-1720969200@oldediblerenotahoe.com
SUMMARY:Stagecoach Junction Farmers' Market
DESCRIPTION:
URL:https://oldediblerenotahoe.com/event/stagecoach-junction-farmers-market-2024-07-14/
CATEGORIES:Farmer's Market,Farmers Market
END:VEVENT
BEGIN:VEVENT
DTSTART;TZID=America/Los_Angeles:20240713T083000
DTEND;TZID=America/Los_Angeles:20240713T130000
DTSTAMP:20260424T081749
CREATED:20240514T235534Z
LAST-MODIFIED:20240514T235534Z
UID:38691-1720859400-1720875600@oldediblerenotahoe.com
SUMMARY:Carson Farmers Market
DESCRIPTION:
URL:https://oldediblerenotahoe.com/event/carson-farmers-market-2024-07-13/
CATEGORIES:Farmer's Market,Farmers Market
END:VEVENT
BEGIN:VEVENT
DTSTART;TZID=America/Los_Angeles:20240712T150000
DTEND;TZID=America/Los_Angeles:20240712T200000
DTSTAMP:20260424T081749
CREATED:20240514T235305Z
LAST-MODIFIED:20240514T235305Z
UID:38655-1720796400-1720814400@oldediblerenotahoe.com
SUMMARY:Ski Run Farmers Market
DESCRIPTION:
URL:https://oldediblerenotahoe.com/event/ski-run-farmers-market-2024-07-12/
CATEGORIES:Farmer's Market,Farmers Market
END:VEVENT
BEGIN:VEVENT
DTSTART;TZID=America/Los_Angeles:20240712T100000
DTEND;TZID=America/Los_Angeles:20240712T133000
DTSTAMP:20260424T081749
CREATED:20240514T235222Z
LAST-MODIFIED:20240514T235222Z
UID:38644-1720778400-1720791000@oldediblerenotahoe.com
SUMMARY:Romano's Certified Farmers Market
DESCRIPTION:
URL:https://oldediblerenotahoe.com/event/romanos-certified-farmers-market-2024-07-12/
CATEGORIES:Farmer's Market,Farmers Market
END:VEVENT
BEGIN:VEVENT
DTSTART;TZID=America/Los_Angeles:20240712T100000
DTEND;TZID=America/Los_Angeles:20240712T133000
DTSTAMP:20260424T081749
CREATED:20240318T043511Z
LAST-MODIFIED:20240318T043511Z
UID:37945-1720778400-1720791000@oldediblerenotahoe.com
SUMMARY:Sierra Valley Farms Farmers Market
DESCRIPTION:
URL:https://oldediblerenotahoe.com/event/sierra-valley-farms-farmers-market-2024-07-12/
LOCATION:Sierra Valley Farms\, 1329 County Road A23\, Beckwourth\, CA
CATEGORIES:Farmer's Market
END:VEVENT
BEGIN:VEVENT
DTSTART;TZID=America/Los_Angeles:20240712T080000
DTEND;TZID=America/Los_Angeles:20240712T130000
DTSTAMP:20260424T081749
CREATED:20240514T235442Z
LAST-MODIFIED:20240514T235442Z
UID:38679-1720771200-1720789200@oldediblerenotahoe.com
SUMMARY:Yerington Early Bird Farmer's Market
DESCRIPTION:
URL:https://oldediblerenotahoe.com/event/yerington-early-bird-farmers-market-2024-07-12/
CATEGORIES:Farmer's Market,Farmers Market
END:VEVENT
BEGIN:VEVENT
DTSTART;TZID=America/Los_Angeles:20240711T150000
DTEND;TZID=America/Los_Angeles:20240711T180000
DTSTAMP:20260424T081749
CREATED:20240514T235043Z
LAST-MODIFIED:20240514T235043Z
UID:38621-1720710000-1720720800@oldediblerenotahoe.com
SUMMARY:Incline Village Farmers' Market
DESCRIPTION:
URL:https://oldediblerenotahoe.com/event/incline-village-farmers-market-2024-07-11/
CATEGORIES:Farmer's Market,Farmers Market
END:VEVENT
BEGIN:VEVENT
DTSTART;TZID=America/Los_Angeles:20240711T150000
DTEND;TZID=America/Los_Angeles:20240711T180000
DTSTAMP:20260424T081749
CREATED:20240514T234958Z
LAST-MODIFIED:20240514T234958Z
UID:38607-1720710000-1720720800@oldediblerenotahoe.com
SUMMARY:Dayton Farmers Market
DESCRIPTION:
URL:https://oldediblerenotahoe.com/event/dayton-farmers-market-2024-07-11/
CATEGORIES:Farmer's Market,Farmers Market
END:VEVENT
BEGIN:VEVENT
DTSTART;TZID=America/Los_Angeles:20240711T080000
DTEND;TZID=America/Los_Angeles:20240711T130000
DTSTAMP:20260424T081749
CREATED:20240514T235128Z
LAST-MODIFIED:20240514T235128Z
UID:38634-1720684800-1720702800@oldediblerenotahoe.com
SUMMARY:Tahoe City Farmers Market
DESCRIPTION:
URL:https://oldediblerenotahoe.com/event/tahoe-city-farmers-market-2024-07-11/
CATEGORIES:Farmer's Market,Farmers Market
END:VEVENT
BEGIN:VEVENT
DTSTART;TZID=America/Los_Angeles:20240709T160000
DTEND;TZID=America/Los_Angeles:20240709T200000
DTSTAMP:20260424T081749
CREATED:20240514T234351Z
LAST-MODIFIED:20240514T234351Z
UID:38558-1720540800-1720555200@oldediblerenotahoe.com
SUMMARY:Esmeralda Farmers Market
DESCRIPTION:
URL:https://oldediblerenotahoe.com/event/esmeralda-farmers-market-2024-07-09/
CATEGORIES:Farmer's Market,Farmers Market
END:VEVENT
BEGIN:VEVENT
DTSTART;TZID=America/Los_Angeles:20240709T080000
DTEND;TZID=America/Los_Angeles:20240709T130000
DTSTAMP:20260424T081749
CREATED:20240514T234641Z
LAST-MODIFIED:20240514T234641Z
UID:38594-1720512000-1720530000@oldediblerenotahoe.com
SUMMARY:Truckee Certified Farmers' Market
DESCRIPTION:
URL:https://oldediblerenotahoe.com/event/truckee-certified-farmers-market-2-2024-07-09/
CATEGORIES:Farmer's Market,Farmers Market
END:VEVENT
BEGIN:VEVENT
DTSTART;TZID=America/Los_Angeles:20240709T080000
DTEND;TZID=America/Los_Angeles:20240709T130000
DTSTAMP:20260424T081749
CREATED:20240514T234544Z
LAST-MODIFIED:20240514T234544Z
UID:38579-1720512000-1720530000@oldediblerenotahoe.com
SUMMARY:Sparks United Methodist Church Farmers' Market
DESCRIPTION:
URL:https://oldediblerenotahoe.com/event/sparks-united-methodist-church-farmers-market-2024-07-09/
CATEGORIES:Farmer's Market,Farmers Market
END:VEVENT
BEGIN:VEVENT
DTSTART;TZID=America/Los_Angeles:20240709T080000
DTEND;TZID=America/Los_Angeles:20240709T130000
DTSTAMP:20260424T081749
CREATED:20240514T234448Z
LAST-MODIFIED:20240514T234448Z
UID:38567-1720512000-1720530000@oldediblerenotahoe.com
SUMMARY:South Lake Tahoe Certified Farmers Market
DESCRIPTION:
URL:https://oldediblerenotahoe.com/event/south-lake-tahoe-certified-farmers-market-2024-07-09/
CATEGORIES:Farmer's Market,Farmers Market
END:VEVENT
BEGIN:VEVENT
DTSTART;TZID=America/Los_Angeles:20240709T080000
DTEND;TZID=America/Los_Angeles:20240709T130000
DTSTAMP:20260424T081749
CREATED:20240318T035827Z
LAST-MODIFIED:20240318T035827Z
UID:37918-1720512000-1720530000@oldediblerenotahoe.com
SUMMARY:Truckee Certified Farmers Market
DESCRIPTION:Check out the Truckee Certified Farmers Market every Tuesday morning from May through October. Conveniently located at Truckee River Regional Park\, just minutes from downtown Truckee. Fresh\, local\, and fun!
URL:https://oldediblerenotahoe.com/event/truckee-certified-farmers-market-2024-07-09/
LOCATION:Truckee River Regional Park
CATEGORIES:Farmer's Market
END:VEVENT
BEGIN:VEVENT
DTSTART;TZID=America/Los_Angeles:20240707T120000
DTEND;TZID=America/Los_Angeles:20240707T150000
DTSTAMP:20260424T081749
CREATED:20240514T235355Z
LAST-MODIFIED:20240514T235355Z
UID:38666-1720353600-1720364400@oldediblerenotahoe.com
SUMMARY:Stagecoach Junction Farmers' Market
DESCRIPTION:
URL:https://oldediblerenotahoe.com/event/stagecoach-junction-farmers-market-2024-07-07/
CATEGORIES:Farmer's Market,Farmers Market
END:VEVENT
BEGIN:VEVENT
DTSTART;TZID=America/Los_Angeles:20240706T083000
DTEND;TZID=America/Los_Angeles:20240706T130000
DTSTAMP:20260424T081749
CREATED:20240514T235534Z
LAST-MODIFIED:20240514T235534Z
UID:38690-1720254600-1720270800@oldediblerenotahoe.com
SUMMARY:Carson Farmers Market
DESCRIPTION:
URL:https://oldediblerenotahoe.com/event/carson-farmers-market-2024-07-06/
CATEGORIES:Farmer's Market,Farmers Market
END:VEVENT
BEGIN:VEVENT
DTSTART;TZID=America/Los_Angeles:20240705T150000
DTEND;TZID=America/Los_Angeles:20240705T200000
DTSTAMP:20260424T081749
CREATED:20240514T235305Z
LAST-MODIFIED:20240514T235305Z
UID:38654-1720191600-1720209600@oldediblerenotahoe.com
SUMMARY:Ski Run Farmers Market
DESCRIPTION:
URL:https://oldediblerenotahoe.com/event/ski-run-farmers-market-2024-07-05/
CATEGORIES:Farmer's Market,Farmers Market
END:VEVENT
BEGIN:VEVENT
DTSTART;TZID=America/Los_Angeles:20240705T100000
DTEND;TZID=America/Los_Angeles:20240705T133000
DTSTAMP:20260424T081749
CREATED:20240514T235222Z
LAST-MODIFIED:20240514T235222Z
UID:38643-1720173600-1720186200@oldediblerenotahoe.com
SUMMARY:Romano's Certified Farmers Market
DESCRIPTION:
URL:https://oldediblerenotahoe.com/event/romanos-certified-farmers-market-2024-07-05/
CATEGORIES:Farmer's Market,Farmers Market
END:VEVENT
BEGIN:VEVENT
DTSTART;TZID=America/Los_Angeles:20240705T100000
DTEND;TZID=America/Los_Angeles:20240705T133000
DTSTAMP:20260424T081749
CREATED:20240318T043511Z
LAST-MODIFIED:20240318T043511Z
UID:37944-1720173600-1720186200@oldediblerenotahoe.com
SUMMARY:Sierra Valley Farms Farmers Market
DESCRIPTION:
URL:https://oldediblerenotahoe.com/event/sierra-valley-farms-farmers-market-2024-07-05/
LOCATION:Sierra Valley Farms\, 1329 County Road A23\, Beckwourth\, CA
CATEGORIES:Farmer's Market
END:VEVENT
BEGIN:VEVENT
DTSTART;TZID=America/Los_Angeles:20240705T080000
DTEND;TZID=America/Los_Angeles:20240705T130000
DTSTAMP:20260424T081749
CREATED:20240514T235442Z
LAST-MODIFIED:20240514T235442Z
UID:38678-1720166400-1720184400@oldediblerenotahoe.com
SUMMARY:Yerington Early Bird Farmer's Market
DESCRIPTION:
URL:https://oldediblerenotahoe.com/event/yerington-early-bird-farmers-market-2024-07-05/
CATEGORIES:Farmer's Market,Farmers Market
END:VEVENT
BEGIN:VEVENT
DTSTART;TZID=America/Los_Angeles:20240704T150000
DTEND;TZID=America/Los_Angeles:20240704T180000
DTSTAMP:20260424T081749
CREATED:20240514T235043Z
LAST-MODIFIED:20240514T235043Z
UID:38620-1720105200-1720116000@oldediblerenotahoe.com
SUMMARY:Incline Village Farmers' Market
DESCRIPTION:
URL:https://oldediblerenotahoe.com/event/incline-village-farmers-market-2024-07-04/
CATEGORIES:Farmer's Market,Farmers Market
END:VEVENT
BEGIN:VEVENT
DTSTART;TZID=America/Los_Angeles:20240704T150000
DTEND;TZID=America/Los_Angeles:20240704T180000
DTSTAMP:20260424T081749
CREATED:20240514T234958Z
LAST-MODIFIED:20240514T234958Z
UID:38606-1720105200-1720116000@oldediblerenotahoe.com
SUMMARY:Dayton Farmers Market
DESCRIPTION:
URL:https://oldediblerenotahoe.com/event/dayton-farmers-market-2024-07-04/
CATEGORIES:Farmer's Market,Farmers Market
END:VEVENT
END:VCALENDAR