BEGIN:VCALENDAR
VERSION:2.0
PRODID:-//Edible Reno-Tahoe - ECPv6.15.20//NONSGML v1.0//EN
CALSCALE:GREGORIAN
METHOD:PUBLISH
X-WR-CALNAME:Edible Reno-Tahoe
X-ORIGINAL-URL:https://oldediblerenotahoe.com
X-WR-CALDESC:Events for Edible Reno-Tahoe
REFRESH-INTERVAL;VALUE=DURATION:PT1H
X-Robots-Tag:noindex
X-PUBLISHED-TTL:PT1H
BEGIN:VTIMEZONE
TZID:America/Los_Angeles
BEGIN:DAYLIGHT
TZOFFSETFROM:-0800
TZOFFSETTO:-0700
TZNAME:PDT
DTSTART:20230312T100000
END:DAYLIGHT
BEGIN:STANDARD
TZOFFSETFROM:-0700
TZOFFSETTO:-0800
TZNAME:PST
DTSTART:20231105T090000
END:STANDARD
BEGIN:DAYLIGHT
TZOFFSETFROM:-0800
TZOFFSETTO:-0700
TZNAME:PDT
DTSTART:20240310T100000
END:DAYLIGHT
BEGIN:STANDARD
TZOFFSETFROM:-0700
TZOFFSETTO:-0800
TZNAME:PST
DTSTART:20241103T090000
END:STANDARD
BEGIN:DAYLIGHT
TZOFFSETFROM:-0800
TZOFFSETTO:-0700
TZNAME:PDT
DTSTART:20250309T100000
END:DAYLIGHT
BEGIN:STANDARD
TZOFFSETFROM:-0700
TZOFFSETTO:-0800
TZNAME:PST
DTSTART:20251102T090000
END:STANDARD
END:VTIMEZONE
BEGIN:VEVENT
DTSTART;TZID=America/Los_Angeles:20240702T080000
DTEND;TZID=America/Los_Angeles:20240702T130000
DTSTAMP:20260424T163216
CREATED:20240318T035827Z
LAST-MODIFIED:20240318T035827Z
UID:37917-1719907200-1719925200@oldediblerenotahoe.com
SUMMARY:Truckee Certified Farmers Market
DESCRIPTION:Check out the Truckee Certified Farmers Market every Tuesday morning from May through October. Conveniently located at Truckee River Regional Park\, just minutes from downtown Truckee. Fresh\, local\, and fun!
URL:https://oldediblerenotahoe.com/event/truckee-certified-farmers-market-2024-07-02/
LOCATION:Truckee River Regional Park
CATEGORIES:Farmer's Market
END:VEVENT
BEGIN:VEVENT
DTSTART;TZID=America/Los_Angeles:20240630T120000
DTEND;TZID=America/Los_Angeles:20240630T150000
DTSTAMP:20260424T163216
CREATED:20240514T235355Z
LAST-MODIFIED:20240514T235355Z
UID:38665-1719748800-1719759600@oldediblerenotahoe.com
SUMMARY:Stagecoach Junction Farmers' Market
DESCRIPTION:
URL:https://oldediblerenotahoe.com/event/stagecoach-junction-farmers-market-2024-06-30/
CATEGORIES:Farmer's Market,Farmers Market
END:VEVENT
BEGIN:VEVENT
DTSTART;TZID=America/Los_Angeles:20240629T083000
DTEND;TZID=America/Los_Angeles:20240629T130000
DTSTAMP:20260424T163216
CREATED:20240514T235534Z
LAST-MODIFIED:20240514T235534Z
UID:38689-1719649800-1719666000@oldediblerenotahoe.com
SUMMARY:Carson Farmers Market
DESCRIPTION:
URL:https://oldediblerenotahoe.com/event/carson-farmers-market-2024-06-29/
CATEGORIES:Farmer's Market,Farmers Market
END:VEVENT
BEGIN:VEVENT
DTSTART;TZID=America/Los_Angeles:20240628T150000
DTEND;TZID=America/Los_Angeles:20240628T200000
DTSTAMP:20260424T163216
CREATED:20240514T235305Z
LAST-MODIFIED:20240514T235305Z
UID:38653-1719586800-1719604800@oldediblerenotahoe.com
SUMMARY:Ski Run Farmers Market
DESCRIPTION:
URL:https://oldediblerenotahoe.com/event/ski-run-farmers-market-2024-06-28/
CATEGORIES:Farmer's Market,Farmers Market
END:VEVENT
BEGIN:VEVENT
DTSTART;TZID=America/Los_Angeles:20240628T100000
DTEND;TZID=America/Los_Angeles:20240628T133000
DTSTAMP:20260424T163216
CREATED:20240514T235222Z
LAST-MODIFIED:20240514T235222Z
UID:38642-1719568800-1719581400@oldediblerenotahoe.com
SUMMARY:Romano's Certified Farmers Market
DESCRIPTION:
URL:https://oldediblerenotahoe.com/event/romanos-certified-farmers-market-2024-06-28/
CATEGORIES:Farmer's Market,Farmers Market
END:VEVENT
BEGIN:VEVENT
DTSTART;TZID=America/Los_Angeles:20240628T100000
DTEND;TZID=America/Los_Angeles:20240628T133000
DTSTAMP:20260424T163216
CREATED:20240318T043511Z
LAST-MODIFIED:20240318T043511Z
UID:37943-1719568800-1719581400@oldediblerenotahoe.com
SUMMARY:Sierra Valley Farms Farmers Market
DESCRIPTION:
URL:https://oldediblerenotahoe.com/event/sierra-valley-farms-farmers-market-2024-06-28/
LOCATION:Sierra Valley Farms\, 1329 County Road A23\, Beckwourth\, CA
CATEGORIES:Farmer's Market
END:VEVENT
BEGIN:VEVENT
DTSTART;TZID=America/Los_Angeles:20240628T080000
DTEND;TZID=America/Los_Angeles:20240628T130000
DTSTAMP:20260424T163216
CREATED:20240514T235442Z
LAST-MODIFIED:20240514T235442Z
UID:38677-1719561600-1719579600@oldediblerenotahoe.com
SUMMARY:Yerington Early Bird Farmer's Market
DESCRIPTION:
URL:https://oldediblerenotahoe.com/event/yerington-early-bird-farmers-market-2024-06-28/
CATEGORIES:Farmer's Market,Farmers Market
END:VEVENT
BEGIN:VEVENT
DTSTART;TZID=America/Los_Angeles:20240627T150000
DTEND;TZID=America/Los_Angeles:20240627T180000
DTSTAMP:20260424T163216
CREATED:20240514T235043Z
LAST-MODIFIED:20240514T235043Z
UID:38619-1719500400-1719511200@oldediblerenotahoe.com
SUMMARY:Incline Village Farmers' Market
DESCRIPTION:
URL:https://oldediblerenotahoe.com/event/incline-village-farmers-market-2024-06-27/
CATEGORIES:Farmer's Market,Farmers Market
END:VEVENT
BEGIN:VEVENT
DTSTART;TZID=America/Los_Angeles:20240627T150000
DTEND;TZID=America/Los_Angeles:20240627T180000
DTSTAMP:20260424T163216
CREATED:20240514T234958Z
LAST-MODIFIED:20240514T234958Z
UID:38605-1719500400-1719511200@oldediblerenotahoe.com
SUMMARY:Dayton Farmers Market
DESCRIPTION:
URL:https://oldediblerenotahoe.com/event/dayton-farmers-market-2024-06-27/
CATEGORIES:Farmer's Market,Farmers Market
END:VEVENT
BEGIN:VEVENT
DTSTART;TZID=America/Los_Angeles:20240627T080000
DTEND;TZID=America/Los_Angeles:20240627T130000
DTSTAMP:20260424T163216
CREATED:20240514T235128Z
LAST-MODIFIED:20240514T235128Z
UID:38632-1719475200-1719493200@oldediblerenotahoe.com
SUMMARY:Tahoe City Farmers Market
DESCRIPTION:
URL:https://oldediblerenotahoe.com/event/tahoe-city-farmers-market-2024-06-27/
CATEGORIES:Farmer's Market,Farmers Market
END:VEVENT
BEGIN:VEVENT
DTSTART;TZID=America/Los_Angeles:20240625T160000
DTEND;TZID=America/Los_Angeles:20240625T200000
DTSTAMP:20260424T163216
CREATED:20240514T234351Z
LAST-MODIFIED:20240514T234351Z
UID:38556-1719331200-1719345600@oldediblerenotahoe.com
SUMMARY:Esmeralda Farmers Market
DESCRIPTION:
URL:https://oldediblerenotahoe.com/event/esmeralda-farmers-market-2024-06-25/
CATEGORIES:Farmer's Market,Farmers Market
END:VEVENT
BEGIN:VEVENT
DTSTART;TZID=America/Los_Angeles:20240625T080000
DTEND;TZID=America/Los_Angeles:20240625T130000
DTSTAMP:20260424T163216
CREATED:20240514T234641Z
LAST-MODIFIED:20240514T234641Z
UID:38592-1719302400-1719320400@oldediblerenotahoe.com
SUMMARY:Truckee Certified Farmers' Market
DESCRIPTION:
URL:https://oldediblerenotahoe.com/event/truckee-certified-farmers-market-2-2024-06-25/
CATEGORIES:Farmer's Market,Farmers Market
END:VEVENT
BEGIN:VEVENT
DTSTART;TZID=America/Los_Angeles:20240625T080000
DTEND;TZID=America/Los_Angeles:20240625T130000
DTSTAMP:20260424T163216
CREATED:20240514T234544Z
LAST-MODIFIED:20240514T234544Z
UID:38577-1719302400-1719320400@oldediblerenotahoe.com
SUMMARY:Sparks United Methodist Church Farmers' Market
DESCRIPTION:
URL:https://oldediblerenotahoe.com/event/sparks-united-methodist-church-farmers-market-2024-06-25/
CATEGORIES:Farmer's Market,Farmers Market
END:VEVENT
BEGIN:VEVENT
DTSTART;TZID=America/Los_Angeles:20240625T080000
DTEND;TZID=America/Los_Angeles:20240625T130000
DTSTAMP:20260424T163216
CREATED:20240514T234448Z
LAST-MODIFIED:20240514T234448Z
UID:38565-1719302400-1719320400@oldediblerenotahoe.com
SUMMARY:South Lake Tahoe Certified Farmers Market
DESCRIPTION:
URL:https://oldediblerenotahoe.com/event/south-lake-tahoe-certified-farmers-market-2024-06-25/
CATEGORIES:Farmer's Market,Farmers Market
END:VEVENT
BEGIN:VEVENT
DTSTART;TZID=America/Los_Angeles:20240625T080000
DTEND;TZID=America/Los_Angeles:20240625T130000
DTSTAMP:20260424T163216
CREATED:20240318T035827Z
LAST-MODIFIED:20240318T035827Z
UID:37916-1719302400-1719320400@oldediblerenotahoe.com
SUMMARY:Truckee Certified Farmers Market
DESCRIPTION:Check out the Truckee Certified Farmers Market every Tuesday morning from May through October. Conveniently located at Truckee River Regional Park\, just minutes from downtown Truckee. Fresh\, local\, and fun!
URL:https://oldediblerenotahoe.com/event/truckee-certified-farmers-market-2024-06-25/
LOCATION:Truckee River Regional Park
CATEGORIES:Farmer's Market
END:VEVENT
BEGIN:VEVENT
DTSTART;TZID=America/Los_Angeles:20240623T120000
DTEND;TZID=America/Los_Angeles:20240623T150000
DTSTAMP:20260424T163216
CREATED:20240514T235355Z
LAST-MODIFIED:20240514T235355Z
UID:38664-1719144000-1719154800@oldediblerenotahoe.com
SUMMARY:Stagecoach Junction Farmers' Market
DESCRIPTION:
URL:https://oldediblerenotahoe.com/event/stagecoach-junction-farmers-market-2024-06-23/
CATEGORIES:Farmer's Market,Farmers Market
END:VEVENT
BEGIN:VEVENT
DTSTART;TZID=America/Los_Angeles:20240622T083000
DTEND;TZID=America/Los_Angeles:20240622T130000
DTSTAMP:20260424T163216
CREATED:20240514T235534Z
LAST-MODIFIED:20240514T235534Z
UID:38688-1719045000-1719061200@oldediblerenotahoe.com
SUMMARY:Carson Farmers Market
DESCRIPTION:
URL:https://oldediblerenotahoe.com/event/carson-farmers-market-2024-06-22/
CATEGORIES:Farmer's Market,Farmers Market
END:VEVENT
BEGIN:VEVENT
DTSTART;TZID=America/Los_Angeles:20240621T150000
DTEND;TZID=America/Los_Angeles:20240621T200000
DTSTAMP:20260424T163216
CREATED:20240514T235305Z
LAST-MODIFIED:20240514T235305Z
UID:38652-1718982000-1719000000@oldediblerenotahoe.com
SUMMARY:Ski Run Farmers Market
DESCRIPTION:
URL:https://oldediblerenotahoe.com/event/ski-run-farmers-market-2024-06-21/
CATEGORIES:Farmer's Market,Farmers Market
END:VEVENT
BEGIN:VEVENT
DTSTART;TZID=America/Los_Angeles:20240621T100000
DTEND;TZID=America/Los_Angeles:20240621T133000
DTSTAMP:20260424T163216
CREATED:20240514T235222Z
LAST-MODIFIED:20240514T235222Z
UID:38641-1718964000-1718976600@oldediblerenotahoe.com
SUMMARY:Romano's Certified Farmers Market
DESCRIPTION:
URL:https://oldediblerenotahoe.com/event/romanos-certified-farmers-market-2024-06-21/
CATEGORIES:Farmer's Market,Farmers Market
END:VEVENT
BEGIN:VEVENT
DTSTART;TZID=America/Los_Angeles:20240621T100000
DTEND;TZID=America/Los_Angeles:20240621T133000
DTSTAMP:20260424T163216
CREATED:20240318T043511Z
LAST-MODIFIED:20240318T043511Z
UID:37942-1718964000-1718976600@oldediblerenotahoe.com
SUMMARY:Sierra Valley Farms Farmers Market
DESCRIPTION:
URL:https://oldediblerenotahoe.com/event/sierra-valley-farms-farmers-market-2024-06-21/
LOCATION:Sierra Valley Farms\, 1329 County Road A23\, Beckwourth\, CA
CATEGORIES:Farmer's Market
END:VEVENT
BEGIN:VEVENT
DTSTART;TZID=America/Los_Angeles:20240621T080000
DTEND;TZID=America/Los_Angeles:20240621T130000
DTSTAMP:20260424T163216
CREATED:20240514T235442Z
LAST-MODIFIED:20240514T235442Z
UID:38676-1718956800-1718974800@oldediblerenotahoe.com
SUMMARY:Yerington Early Bird Farmer's Market
DESCRIPTION:
URL:https://oldediblerenotahoe.com/event/yerington-early-bird-farmers-market-2024-06-21/
CATEGORIES:Farmer's Market,Farmers Market
END:VEVENT
BEGIN:VEVENT
DTSTART;TZID=America/Los_Angeles:20240620T150000
DTEND;TZID=America/Los_Angeles:20240620T180000
DTSTAMP:20260424T163216
CREATED:20240514T235043Z
LAST-MODIFIED:20240514T235043Z
UID:38618-1718895600-1718906400@oldediblerenotahoe.com
SUMMARY:Incline Village Farmers' Market
DESCRIPTION:
URL:https://oldediblerenotahoe.com/event/incline-village-farmers-market-2024-06-20/
CATEGORIES:Farmer's Market,Farmers Market
END:VEVENT
BEGIN:VEVENT
DTSTART;TZID=America/Los_Angeles:20240620T150000
DTEND;TZID=America/Los_Angeles:20240620T180000
DTSTAMP:20260424T163216
CREATED:20240514T234958Z
LAST-MODIFIED:20240514T234958Z
UID:38604-1718895600-1718906400@oldediblerenotahoe.com
SUMMARY:Dayton Farmers Market
DESCRIPTION:
URL:https://oldediblerenotahoe.com/event/dayton-farmers-market-2024-06-20/
CATEGORIES:Farmer's Market,Farmers Market
END:VEVENT
BEGIN:VEVENT
DTSTART;TZID=America/Los_Angeles:20240620T080000
DTEND;TZID=America/Los_Angeles:20240620T130000
DTSTAMP:20260424T163216
CREATED:20240514T235128Z
LAST-MODIFIED:20240514T235128Z
UID:38631-1718870400-1718888400@oldediblerenotahoe.com
SUMMARY:Tahoe City Farmers Market
DESCRIPTION:
URL:https://oldediblerenotahoe.com/event/tahoe-city-farmers-market-2024-06-20/
CATEGORIES:Farmer's Market,Farmers Market
END:VEVENT
BEGIN:VEVENT
DTSTART;TZID=America/Los_Angeles:20240618T160000
DTEND;TZID=America/Los_Angeles:20240618T200000
DTSTAMP:20260424T163216
CREATED:20240514T234351Z
LAST-MODIFIED:20240514T234351Z
UID:38555-1718726400-1718740800@oldediblerenotahoe.com
SUMMARY:Esmeralda Farmers Market
DESCRIPTION:
URL:https://oldediblerenotahoe.com/event/esmeralda-farmers-market-2024-06-18/
CATEGORIES:Farmer's Market,Farmers Market
END:VEVENT
BEGIN:VEVENT
DTSTART;TZID=America/Los_Angeles:20240618T080000
DTEND;TZID=America/Los_Angeles:20240618T130000
DTSTAMP:20260424T163216
CREATED:20240514T234641Z
LAST-MODIFIED:20240514T234641Z
UID:38591-1718697600-1718715600@oldediblerenotahoe.com
SUMMARY:Truckee Certified Farmers' Market
DESCRIPTION:
URL:https://oldediblerenotahoe.com/event/truckee-certified-farmers-market-2-2024-06-18/
CATEGORIES:Farmer's Market,Farmers Market
END:VEVENT
BEGIN:VEVENT
DTSTART;TZID=America/Los_Angeles:20240618T080000
DTEND;TZID=America/Los_Angeles:20240618T130000
DTSTAMP:20260424T163216
CREATED:20240514T234544Z
LAST-MODIFIED:20240514T234544Z
UID:38576-1718697600-1718715600@oldediblerenotahoe.com
SUMMARY:Sparks United Methodist Church Farmers' Market
DESCRIPTION:
URL:https://oldediblerenotahoe.com/event/sparks-united-methodist-church-farmers-market-2024-06-18/
CATEGORIES:Farmer's Market,Farmers Market
END:VEVENT
BEGIN:VEVENT
DTSTART;TZID=America/Los_Angeles:20240618T080000
DTEND;TZID=America/Los_Angeles:20240618T130000
DTSTAMP:20260424T163216
CREATED:20240514T234448Z
LAST-MODIFIED:20240514T234448Z
UID:38564-1718697600-1718715600@oldediblerenotahoe.com
SUMMARY:South Lake Tahoe Certified Farmers Market
DESCRIPTION:
URL:https://oldediblerenotahoe.com/event/south-lake-tahoe-certified-farmers-market-2024-06-18/
CATEGORIES:Farmer's Market,Farmers Market
END:VEVENT
BEGIN:VEVENT
DTSTART;TZID=America/Los_Angeles:20240618T080000
DTEND;TZID=America/Los_Angeles:20240618T130000
DTSTAMP:20260424T163216
CREATED:20240318T035827Z
LAST-MODIFIED:20240318T035827Z
UID:37915-1718697600-1718715600@oldediblerenotahoe.com
SUMMARY:Truckee Certified Farmers Market
DESCRIPTION:Check out the Truckee Certified Farmers Market every Tuesday morning from May through October. Conveniently located at Truckee River Regional Park\, just minutes from downtown Truckee. Fresh\, local\, and fun!
URL:https://oldediblerenotahoe.com/event/truckee-certified-farmers-market-2024-06-18/
LOCATION:Truckee River Regional Park
CATEGORIES:Farmer's Market
END:VEVENT
BEGIN:VEVENT
DTSTART;TZID=America/Los_Angeles:20240616T120000
DTEND;TZID=America/Los_Angeles:20240616T150000
DTSTAMP:20260424T163216
CREATED:20240514T235355Z
LAST-MODIFIED:20240514T235355Z
UID:38663-1718539200-1718550000@oldediblerenotahoe.com
SUMMARY:Stagecoach Junction Farmers' Market
DESCRIPTION:
URL:https://oldediblerenotahoe.com/event/stagecoach-junction-farmers-market-2024-06-16/
CATEGORIES:Farmer's Market,Farmers Market
END:VEVENT
END:VCALENDAR