BEGIN:VCALENDAR
VERSION:2.0
PRODID:-//Edible Reno-Tahoe - ECPv6.15.20//NONSGML v1.0//EN
CALSCALE:GREGORIAN
METHOD:PUBLISH
X-WR-CALNAME:Edible Reno-Tahoe
X-ORIGINAL-URL:https://oldediblerenotahoe.com
X-WR-CALDESC:Events for Edible Reno-Tahoe
REFRESH-INTERVAL;VALUE=DURATION:PT1H
X-Robots-Tag:noindex
X-PUBLISHED-TTL:PT1H
BEGIN:VTIMEZONE
TZID:America/Los_Angeles
BEGIN:DAYLIGHT
TZOFFSETFROM:-0800
TZOFFSETTO:-0700
TZNAME:PDT
DTSTART:20230312T100000
END:DAYLIGHT
BEGIN:STANDARD
TZOFFSETFROM:-0700
TZOFFSETTO:-0800
TZNAME:PST
DTSTART:20231105T090000
END:STANDARD
BEGIN:DAYLIGHT
TZOFFSETFROM:-0800
TZOFFSETTO:-0700
TZNAME:PDT
DTSTART:20240310T100000
END:DAYLIGHT
BEGIN:STANDARD
TZOFFSETFROM:-0700
TZOFFSETTO:-0800
TZNAME:PST
DTSTART:20241103T090000
END:STANDARD
BEGIN:DAYLIGHT
TZOFFSETFROM:-0800
TZOFFSETTO:-0700
TZNAME:PDT
DTSTART:20250309T100000
END:DAYLIGHT
BEGIN:STANDARD
TZOFFSETFROM:-0700
TZOFFSETTO:-0800
TZNAME:PST
DTSTART:20251102T090000
END:STANDARD
END:VTIMEZONE
BEGIN:VEVENT
DTSTART;VALUE=DATE:20240707
DTEND;VALUE=DATE:20240805
DTSTAMP:20260425T110714
CREATED:20240311T041248Z
LAST-MODIFIED:20240311T041636Z
UID:37756-1720310400-1722815999@oldediblerenotahoe.com
SUMMARY:Classical Tahoe
DESCRIPTION:Celebrate summer with four weeks of world-class orchestra\, jazz\, chamber music\, and family concerts in stunning outdoor settings on Lake Tahoe’s North Shore. \n\n\nClassical Tahoe brings together the best musicians from the top orchestras in the country – Metropolitan Opera\, San Francisco Opera\, Los Angeles Philharmonic\, Philadelphia Orchestra\, San Francisco Symphony and many more – for exciting concerts you won’t want to miss.
URL:https://oldediblerenotahoe.com/event/classical-tahoe/
LOCATION:Classical Tahoe Pavilion\, 291 Country Club Drive\, Incline Village\, NV
CATEGORIES:Festival,Music
ATTACH;FMTTYPE=image/jpeg:https://oldediblerenotahoe.com/wp-content/uploads/2024/03/Website-Landscape-2024-Concert-Images-Landscape-1260-x-700-px-1080-x-600-px.jpg
END:VEVENT
BEGIN:VEVENT
DTSTART;TZID=America/Los_Angeles:20240801T193000
DTEND;TZID=America/Los_Angeles:20240801T213000
DTSTAMP:20260425T110714
CREATED:20231216T200609Z
LAST-MODIFIED:20231216T200609Z
UID:35840-1722540600-1722547800@oldediblerenotahoe.com
SUMMARY:Lake Tahoe Shakespeare Festival: The Merry Wives of Windsor
DESCRIPTION:Meet the rotund rascal Sir John Falstaff and the wise wives of Windsor in one of Shakespeare’s most raucous comedies. With an ego as big as his voracious appetite\, Falstaff conspires to woo the two wealthiest married ladies in town and pocket their riches. However\, Mistress Ford and Mistress Page devise a scheme of their own to teach him a well-deserved lesson in Wooing 101.
URL:https://oldediblerenotahoe.com/event/ltsfmerrywives-2024-08-01/
LOCATION:Sand Harbor State Park\, 2005 NV-28\, Incline Village\, NV\, 89451
CATEGORIES:Festival,Theatre
ATTACH;FMTTYPE=image/png:https://oldediblerenotahoe.com/wp-content/uploads/2023/12/MerryWives-ShowPage.png
END:VEVENT
END:VCALENDAR