BEGIN:VCALENDAR
VERSION:2.0
PRODID:-//Edible Reno-Tahoe - ECPv6.15.20//NONSGML v1.0//EN
CALSCALE:GREGORIAN
METHOD:PUBLISH
X-ORIGINAL-URL:https://oldediblerenotahoe.com
X-WR-CALDESC:Events for Edible Reno-Tahoe
REFRESH-INTERVAL;VALUE=DURATION:PT1H
X-Robots-Tag:noindex
X-PUBLISHED-TTL:PT1H
BEGIN:VTIMEZONE
TZID:America/Los_Angeles
BEGIN:DAYLIGHT
TZOFFSETFROM:-0800
TZOFFSETTO:-0700
TZNAME:PDT
DTSTART:20230312T100000
END:DAYLIGHT
BEGIN:STANDARD
TZOFFSETFROM:-0700
TZOFFSETTO:-0800
TZNAME:PST
DTSTART:20231105T090000
END:STANDARD
BEGIN:DAYLIGHT
TZOFFSETFROM:-0800
TZOFFSETTO:-0700
TZNAME:PDT
DTSTART:20240310T100000
END:DAYLIGHT
BEGIN:STANDARD
TZOFFSETFROM:-0700
TZOFFSETTO:-0800
TZNAME:PST
DTSTART:20241103T090000
END:STANDARD
BEGIN:DAYLIGHT
TZOFFSETFROM:-0800
TZOFFSETTO:-0700
TZNAME:PDT
DTSTART:20250309T100000
END:DAYLIGHT
BEGIN:STANDARD
TZOFFSETFROM:-0700
TZOFFSETTO:-0800
TZNAME:PST
DTSTART:20251102T090000
END:STANDARD
BEGIN:DAYLIGHT
TZOFFSETFROM:-0800
TZOFFSETTO:-0700
TZNAME:PDT
DTSTART:20260308T100000
END:DAYLIGHT
BEGIN:STANDARD
TZOFFSETFROM:-0700
TZOFFSETTO:-0800
TZNAME:PST
DTSTART:20261101T090000
END:STANDARD
END:VTIMEZONE
BEGIN:VEVENT
DTSTART;VALUE=DATE:20250918
DTEND;VALUE=DATE:20250922
DTSTAMP:20260423T225143
CREATED:20240114T152438Z
LAST-MODIFIED:20240114T152438Z
UID:36983-1758153600-1758499199@oldediblerenotahoe.com
SUMMARY:Lake Tahoe Wine + Feast
DESCRIPTION:
URL:https://oldediblerenotahoe.com/event/lake-tahoe-wine-feast/
LOCATION:Tahoe Blue Event Center\, Stateline\, NV
CATEGORIES:Festival,Food & Drink,Wine
END:VEVENT
BEGIN:VEVENT
DTSTART;TZID=America/Los_Angeles:20240928T120000
DTEND;TZID=America/Los_Angeles:20240928T180000
DTSTAMP:20260423T225143
CREATED:20240526T212827Z
LAST-MODIFIED:20240526T212827Z
UID:38796-1727524800-1727546400@oldediblerenotahoe.com
SUMMARY:Oktoberfest at The Village at Palisades Tahoe
DESCRIPTION:This annual event transforms the Village at Palisades Tahoe into the largest Bavarian playground in North Lake Tahoe\, complete with authentic German beer\, Bavarian music and dance\, plus the ever-popular Oktoberfest Games and plenty of family fun. \nEnjoy live entertainment by Joe Smiell’s 20 Piece Bavarian Band\, the Almenrausch Schuhplattler Dance Troop and Alpentanzer Schuhplattler Dance Troop\, accompanied by the Alpentanz Kapelle Band throughout the day. \nAuthentic Brats\, Pretzels\, Swiss Slices and traditional European dessert/pastries plus Root Beer Floats for the kids will be available for purchase.
URL:https://oldediblerenotahoe.com/event/oktoberfest-at-the-village-at-palisades-tahoe/
LOCATION:The Village at Palisades Tahoe\, Olympic Valley\, CA
CATEGORIES:Festival
END:VEVENT
BEGIN:VEVENT
DTSTART;TZID=America/Los_Angeles:20240921T120000
DTEND;TZID=America/Los_Angeles:20240921T170000
DTSTAMP:20260423T225143
CREATED:20240526T212638Z
LAST-MODIFIED:20240526T212638Z
UID:38793-1726920000-1726938000@oldediblerenotahoe.com
SUMMARY:Tahoe City Oktoberfest
DESCRIPTION:This exciting family-friendly event offers a wide selection of Bavarian-themed food options and delicious craft beers brewed by regional breweries. Enjoy live music and the sounds of an authentic accordion player\, Christiane Georgi.
URL:https://oldediblerenotahoe.com/event/tahoe-city-oktoberfest-2/
LOCATION:Layton State Park\, Tahoe City\, CA
CATEGORIES:Family friendly,Festival
END:VEVENT
BEGIN:VEVENT
DTSTART;VALUE=DATE:20240828
DTEND;VALUE=DATE:20240903
DTSTAMP:20260423T225143
CREATED:20240318T025609Z
LAST-MODIFIED:20240318T025609Z
UID:37865-1724803200-1725321599@oldediblerenotahoe.com
SUMMARY:Best in the West Nugget Rib Cook Off
DESCRIPTION:
URL:https://oldediblerenotahoe.com/event/best-in-the-west-nugget-rib-cook-off-2/
LOCATION:Victorian Square\, Sparks\, NV\, 89431
CATEGORIES:Activity,Festival,Food & Drink
END:VEVENT
BEGIN:VEVENT
DTSTART;VALUE=DATE:20240823
DTEND;VALUE=DATE:20240826
DTSTAMP:20260423T225143
CREATED:20240318T035144Z
LAST-MODIFIED:20240318T035144Z
UID:37904-1724371200-1724630399@oldediblerenotahoe.com
SUMMARY:Fallon Cantaloupe Festival & Country Fair
DESCRIPTION:Dating all the way back to 1911\, Fallon’s lasting love for locally renowned Hearts of Gold Cantaloupes has turned into the longest food and drink festival in Nevada. Sitting thousands of feet lower in elevation than the Reno area makes Fallon an agricultural hotspot for the Reno-Tahoe region\, with some of the best produce\, meat and dairy\, and award-winning grain-to-glass estate distilled spirits\, though the heralded juicy\, always-flavorful Hearts of Gold Cantaloupe may be Fallon’s crown jewel. It’s certainly been around long enough\, with substantial muskmelon production grown in Fallon\, then shipped to the East predating the Great Depression. Today\, this weekend-long festivity celebrates these specialty Fallon cantaloupes with all kinds of cantaloupe treats—from shakes\, to ice cream\, to juicy slices with decadent toppings and beyond—along with live local entertainment\, carnival rides\, livestock exhibits\, and plenty of vendors and fair food treats.
URL:https://oldediblerenotahoe.com/event/fallon-cantaloupe-festival-country-fair-2/
LOCATION:Churchill County Fairgrounds\, 325 Sheckler Road\, Fallon\, NV\, 89406
CATEGORIES:Community Events,Festival,Food & Drink
END:VEVENT
BEGIN:VEVENT
DTSTART;TZID=America/Los_Angeles:20240818T100000
DTEND;TZID=America/Los_Angeles:20240818T200000
DTSTAMP:20260423T225143
CREATED:20240318T023409Z
LAST-MODIFIED:20240318T023409Z
UID:37846-1723975200-1724011200@oldediblerenotahoe.com
SUMMARY:Andelin Family Farm Summer Festival
DESCRIPTION:The summer festival is a fun and memorable experience for all farm guests! Admission includes access to the U-pick fields\, hay ride\, mini zips\, meeting the farm animals\, kitten barn experience\, barnyard activities and more!
URL:https://oldediblerenotahoe.com/event/andelin-family-farm-summer-festival-2024-08-18/
LOCATION:Andelin Family Farm\, 8100 Pyramid Way\, Spanish Springs\, NV\, 89436
CATEGORIES:Activity,Family friendly,Festival
END:VEVENT
BEGIN:VEVENT
DTSTART;TZID=America/Los_Angeles:20240816T160000
DTEND;TZID=America/Los_Angeles:20240816T200000
DTSTAMP:20260423T225143
CREATED:20240318T023409Z
LAST-MODIFIED:20240318T023409Z
UID:37845-1723824000-1723838400@oldediblerenotahoe.com
SUMMARY:Andelin Family Farm Summer Festival
DESCRIPTION:The summer festival is a fun and memorable experience for all farm guests! Admission includes access to the U-pick fields\, hay ride\, mini zips\, meeting the farm animals\, kitten barn experience\, barnyard activities and more!
URL:https://oldediblerenotahoe.com/event/andelin-family-farm-summer-festival-2024-08-16/
LOCATION:Andelin Family Farm\, 8100 Pyramid Way\, Spanish Springs\, NV\, 89436
CATEGORIES:Activity,Family friendly,Festival
END:VEVENT
BEGIN:VEVENT
DTSTART;TZID=America/Los_Angeles:20240815T160000
DTEND;TZID=America/Los_Angeles:20240815T200000
DTSTAMP:20260423T225143
CREATED:20240318T023409Z
LAST-MODIFIED:20240318T023409Z
UID:37844-1723737600-1723752000@oldediblerenotahoe.com
SUMMARY:Andelin Family Farm Summer Festival
DESCRIPTION:The summer festival is a fun and memorable experience for all farm guests! Admission includes access to the U-pick fields\, hay ride\, mini zips\, meeting the farm animals\, kitten barn experience\, barnyard activities and more!
URL:https://oldediblerenotahoe.com/event/andelin-family-farm-summer-festival-2024-08-15-2/
LOCATION:Andelin Family Farm\, 8100 Pyramid Way\, Spanish Springs\, NV\, 89436
CATEGORIES:Activity,Family friendly,Festival
END:VEVENT
BEGIN:VEVENT
DTSTART;TZID=America/Los_Angeles:20240815T100000
DTEND;TZID=America/Los_Angeles:20240815T200000
DTSTAMP:20260423T225143
CREATED:20240318T023409Z
LAST-MODIFIED:20240318T023409Z
UID:37843-1723716000-1723752000@oldediblerenotahoe.com
SUMMARY:Andelin Family Farm Summer Festival
DESCRIPTION:The summer festival is a fun and memorable experience for all farm guests! Admission includes access to the U-pick fields\, hay ride\, mini zips\, meeting the farm animals\, kitten barn experience\, barnyard activities and more!
URL:https://oldediblerenotahoe.com/event/andelin-family-farm-summer-festival-2024-08-15/
LOCATION:Andelin Family Farm\, 8100 Pyramid Way\, Spanish Springs\, NV\, 89436
CATEGORIES:Activity,Family friendly,Festival
END:VEVENT
BEGIN:VEVENT
DTSTART;TZID=America/Los_Angeles:20240811T100000
DTEND;TZID=America/Los_Angeles:20240811T200000
DTSTAMP:20260423T225143
CREATED:20240318T023409Z
LAST-MODIFIED:20240318T023409Z
UID:37842-1723370400-1723406400@oldediblerenotahoe.com
SUMMARY:Andelin Family Farm Summer Festival
DESCRIPTION:The summer festival is a fun and memorable experience for all farm guests! Admission includes access to the U-pick fields\, hay ride\, mini zips\, meeting the farm animals\, kitten barn experience\, barnyard activities and more!
URL:https://oldediblerenotahoe.com/event/andelin-family-farm-summer-festival-2024-08-11/
LOCATION:Andelin Family Farm\, 8100 Pyramid Way\, Spanish Springs\, NV\, 89436
CATEGORIES:Activity,Family friendly,Festival
END:VEVENT
BEGIN:VEVENT
DTSTART;TZID=America/Los_Angeles:20240809T160000
DTEND;TZID=America/Los_Angeles:20240809T200000
DTSTAMP:20260423T225143
CREATED:20240318T023409Z
LAST-MODIFIED:20240318T023409Z
UID:37841-1723219200-1723233600@oldediblerenotahoe.com
SUMMARY:Andelin Family Farm Summer Festival
DESCRIPTION:The summer festival is a fun and memorable experience for all farm guests! Admission includes access to the U-pick fields\, hay ride\, mini zips\, meeting the farm animals\, kitten barn experience\, barnyard activities and more!
URL:https://oldediblerenotahoe.com/event/andelin-family-farm-summer-festival-2024-08-09/
LOCATION:Andelin Family Farm\, 8100 Pyramid Way\, Spanish Springs\, NV\, 89436
CATEGORIES:Activity,Family friendly,Festival
END:VEVENT
BEGIN:VEVENT
DTSTART;TZID=America/Los_Angeles:20240808T160000
DTEND;TZID=America/Los_Angeles:20240808T200000
DTSTAMP:20260423T225143
CREATED:20240318T023409Z
LAST-MODIFIED:20240318T023409Z
UID:37840-1723132800-1723147200@oldediblerenotahoe.com
SUMMARY:Andelin Family Farm Summer Festival
DESCRIPTION:The summer festival is a fun and memorable experience for all farm guests! Admission includes access to the U-pick fields\, hay ride\, mini zips\, meeting the farm animals\, kitten barn experience\, barnyard activities and more!
URL:https://oldediblerenotahoe.com/event/andelin-family-farm-summer-festival/
LOCATION:Andelin Family Farm\, 8100 Pyramid Way\, Spanish Springs\, NV\, 89436
CATEGORIES:Activity,Family friendly,Festival
END:VEVENT
BEGIN:VEVENT
DTSTART;TZID=America/Los_Angeles:20240804T193000
DTEND;TZID=America/Los_Angeles:20240804T213000
DTSTAMP:20260423T225143
CREATED:20231216T200609Z
LAST-MODIFIED:20231216T200609Z
UID:35841-1722799800-1722807000@oldediblerenotahoe.com
SUMMARY:Lake Tahoe Shakespeare Festival: The Merry Wives of Windsor
DESCRIPTION:Meet the rotund rascal Sir John Falstaff and the wise wives of Windsor in one of Shakespeare’s most raucous comedies. With an ego as big as his voracious appetite\, Falstaff conspires to woo the two wealthiest married ladies in town and pocket their riches. However\, Mistress Ford and Mistress Page devise a scheme of their own to teach him a well-deserved lesson in Wooing 101.
URL:https://oldediblerenotahoe.com/event/ltsfmerrywives-2024-08-04/
LOCATION:Sand Harbor State Park\, 2005 NV-28\, Incline Village\, NV\, 89451
CATEGORIES:Festival,Theatre
ATTACH;FMTTYPE=image/png:https://oldediblerenotahoe.com/wp-content/uploads/2023/12/MerryWives-ShowPage.png
END:VEVENT
BEGIN:VEVENT
DTSTART;TZID=America/Los_Angeles:20240803T110000
DTEND;TZID=America/Los_Angeles:20240803T180000
DTSTAMP:20260423T225143
CREATED:20240318T043648Z
LAST-MODIFIED:20240723T011346Z
UID:37951-1722682800-1722708000@oldediblerenotahoe.com
SUMMARY:Reno Garlic Fest
DESCRIPTION:
URL:https://oldediblerenotahoe.com/event/reno-garlic-fest-2/
LOCATION:McKinley Arts and Culture Center\, 925 Riverside Dr.\, Reno\, NV
CATEGORIES:Festival,Food & Drink
END:VEVENT
BEGIN:VEVENT
DTSTART;VALUE=DATE:20240803
DTEND;VALUE=DATE:20240805
DTSTAMP:20260423T225143
CREATED:20240311T043518Z
LAST-MODIFIED:20240311T043518Z
UID:37779-1722643200-1722815999@oldediblerenotahoe.com
SUMMARY:Lake Tahoe Reggae Festival
DESCRIPTION:Taking place at Palisades Tahoe over the weekend of August 3rd and 4th\, the Lake Tahoe Reggae Festival will bring the likes of multiple-time Grammy-winner Shaggy\, the Reggae/Rock blends of Rebelution\, long-time fan-favorite hip hop duo Atmosphere\, and many more. “Having just wrapped our winter edition of Lake Tahoe Reggae Festival\, we are stoked to bring the vibes back in a summer setting where\, in August\, fans will sub in swimming\, hiking\, fishing\, you name it\, for the skiing that was done last weekend\,” says co-founder of Good Vibez Presents\, Dan Sheehan. “And we’ll continue to dance all night.” \nFull lineups for both days can be found below\, and fans should keep an eye out for a few additional artists in the coming weeks. Both days will be hosted by Otis Otes and feature DJ sets from Squarefield Massive. For more information\, please visit laketahoereggaefest.com/summer. \nLake Tahoe Reggae Festival 2024 Lineup:\nSaturday\, August 3rd:\nShaggy\nAtmosphere\nCollie Buddz\nProtoje\nJesse Royal\nEli-Mac\nArden Park Roots \nSunday\, August 4th:\nRebelution\nCypress Hill\nTribal Seeds\nMike Love\nAurorawave\nLizano
URL:https://oldediblerenotahoe.com/event/lake-tahoe-reggae-festival/
LOCATION:Palisades Tahoe\, 1960 Squaw Valley Road\, Olympic Valley\, CA\, 96146
CATEGORIES:Festival,Music
ATTACH;FMTTYPE=image/webp:https://oldediblerenotahoe.com/wp-content/uploads/2024/03/3.webp
END:VEVENT
BEGIN:VEVENT
DTSTART;TZID=America/Los_Angeles:20240801T193000
DTEND;TZID=America/Los_Angeles:20240801T213000
DTSTAMP:20260423T225143
CREATED:20231216T200609Z
LAST-MODIFIED:20231216T200609Z
UID:35840-1722540600-1722547800@oldediblerenotahoe.com
SUMMARY:Lake Tahoe Shakespeare Festival: The Merry Wives of Windsor
DESCRIPTION:Meet the rotund rascal Sir John Falstaff and the wise wives of Windsor in one of Shakespeare’s most raucous comedies. With an ego as big as his voracious appetite\, Falstaff conspires to woo the two wealthiest married ladies in town and pocket their riches. However\, Mistress Ford and Mistress Page devise a scheme of their own to teach him a well-deserved lesson in Wooing 101.
URL:https://oldediblerenotahoe.com/event/ltsfmerrywives-2024-08-01/
LOCATION:Sand Harbor State Park\, 2005 NV-28\, Incline Village\, NV\, 89451
CATEGORIES:Festival,Theatre
ATTACH;FMTTYPE=image/png:https://oldediblerenotahoe.com/wp-content/uploads/2023/12/MerryWives-ShowPage.png
END:VEVENT
BEGIN:VEVENT
DTSTART;TZID=America/Los_Angeles:20240731T193000
DTEND;TZID=America/Los_Angeles:20240731T213000
DTSTAMP:20260423T225143
CREATED:20231216T200609Z
LAST-MODIFIED:20231216T200609Z
UID:35839-1722454200-1722461400@oldediblerenotahoe.com
SUMMARY:Lake Tahoe Shakespeare Festival: The Merry Wives of Windsor
DESCRIPTION:Meet the rotund rascal Sir John Falstaff and the wise wives of Windsor in one of Shakespeare’s most raucous comedies. With an ego as big as his voracious appetite\, Falstaff conspires to woo the two wealthiest married ladies in town and pocket their riches. However\, Mistress Ford and Mistress Page devise a scheme of their own to teach him a well-deserved lesson in Wooing 101.
URL:https://oldediblerenotahoe.com/event/ltsfmerrywives-2024-07-31/
LOCATION:Sand Harbor State Park\, 2005 NV-28\, Incline Village\, NV\, 89451
CATEGORIES:Festival,Theatre
ATTACH;FMTTYPE=image/png:https://oldediblerenotahoe.com/wp-content/uploads/2023/12/MerryWives-ShowPage.png
END:VEVENT
BEGIN:VEVENT
DTSTART;TZID=America/Los_Angeles:20240727T193000
DTEND;TZID=America/Los_Angeles:20240727T213000
DTSTAMP:20260423T225143
CREATED:20231216T200609Z
LAST-MODIFIED:20231216T200609Z
UID:35838-1722108600-1722115800@oldediblerenotahoe.com
SUMMARY:Lake Tahoe Shakespeare Festival: The Merry Wives of Windsor
DESCRIPTION:Meet the rotund rascal Sir John Falstaff and the wise wives of Windsor in one of Shakespeare’s most raucous comedies. With an ego as big as his voracious appetite\, Falstaff conspires to woo the two wealthiest married ladies in town and pocket their riches. However\, Mistress Ford and Mistress Page devise a scheme of their own to teach him a well-deserved lesson in Wooing 101.
URL:https://oldediblerenotahoe.com/event/ltsfmerrywives-2024-07-27/
LOCATION:Sand Harbor State Park\, 2005 NV-28\, Incline Village\, NV\, 89451
CATEGORIES:Festival,Theatre
ATTACH;FMTTYPE=image/png:https://oldediblerenotahoe.com/wp-content/uploads/2023/12/MerryWives-ShowPage.png
END:VEVENT
BEGIN:VEVENT
DTSTART;TZID=America/Los_Angeles:20240726T193000
DTEND;TZID=America/Los_Angeles:20240726T213000
DTSTAMP:20260423T225143
CREATED:20231216T200609Z
LAST-MODIFIED:20231216T200609Z
UID:35837-1722022200-1722029400@oldediblerenotahoe.com
SUMMARY:Lake Tahoe Shakespeare Festival: The Merry Wives of Windsor
DESCRIPTION:Meet the rotund rascal Sir John Falstaff and the wise wives of Windsor in one of Shakespeare’s most raucous comedies. With an ego as big as his voracious appetite\, Falstaff conspires to woo the two wealthiest married ladies in town and pocket their riches. However\, Mistress Ford and Mistress Page devise a scheme of their own to teach him a well-deserved lesson in Wooing 101.
URL:https://oldediblerenotahoe.com/event/ltsfmerrywives-2024-07-26/
LOCATION:Sand Harbor State Park\, 2005 NV-28\, Incline Village\, NV\, 89451
CATEGORIES:Festival,Theatre
ATTACH;FMTTYPE=image/png:https://oldediblerenotahoe.com/wp-content/uploads/2023/12/MerryWives-ShowPage.png
END:VEVENT
BEGIN:VEVENT
DTSTART;VALUE=DATE:20240725
DTEND;VALUE=DATE:20240728
DTSTAMP:20260423T225143
CREATED:20240318T034922Z
LAST-MODIFIED:20240318T034922Z
UID:37902-1721865600-1722124799@oldediblerenotahoe.com
SUMMARY:Night in the Country
DESCRIPTION:Pure country\, pure Nevada farmland. What first began as a Yerington-area fundraiser for the Boys and Girls Club has grown into one of the biggest country music fests in the West. In addition to some of America’s top performers and various stages throughout the venue\, ticket holders can access Full Moon Saloon\, Extreme Bull Riding and other rodeo acts\, mud volleyball and more. So grab that American flag bikini\, a case of ice-cold beer and find the road to Yerington\, NV for an unforgettable Night in the Country.
URL:https://oldediblerenotahoe.com/event/night-in-the-country-3/
LOCATION:Yerington\, NV
CATEGORIES:Festival,Music
END:VEVENT
BEGIN:VEVENT
DTSTART;TZID=America/Los_Angeles:20240721T193000
DTEND;TZID=America/Los_Angeles:20240721T213000
DTSTAMP:20260423T225143
CREATED:20231216T200609Z
LAST-MODIFIED:20231216T200609Z
UID:35836-1721590200-1721597400@oldediblerenotahoe.com
SUMMARY:Lake Tahoe Shakespeare Festival: The Merry Wives of Windsor
DESCRIPTION:Meet the rotund rascal Sir John Falstaff and the wise wives of Windsor in one of Shakespeare’s most raucous comedies. With an ego as big as his voracious appetite\, Falstaff conspires to woo the two wealthiest married ladies in town and pocket their riches. However\, Mistress Ford and Mistress Page devise a scheme of their own to teach him a well-deserved lesson in Wooing 101.
URL:https://oldediblerenotahoe.com/event/ltsfmerrywives-2024-07-21/
LOCATION:Sand Harbor State Park\, 2005 NV-28\, Incline Village\, NV\, 89451
CATEGORIES:Festival,Theatre
ATTACH;FMTTYPE=image/png:https://oldediblerenotahoe.com/wp-content/uploads/2023/12/MerryWives-ShowPage.png
END:VEVENT
BEGIN:VEVENT
DTSTART;TZID=America/Los_Angeles:20240720T193000
DTEND;TZID=America/Los_Angeles:20240720T213000
DTSTAMP:20260423T225143
CREATED:20231216T195728Z
LAST-MODIFIED:20231216T195728Z
UID:35828-1721503800-1721511000@oldediblerenotahoe.com
SUMMARY:Lake Tahoe Shakespeare Festival: Always ... Patsy Cline
DESCRIPTION:Enjoy the touching true story of Patsy Cline’s friendship with a fan\, Louise Seger\, which started in 1961 and continued until the premature death of the renowned country star. Told through Cline’s music\, this humorous and heartfelt tribute features 27 songs and many of her unforgettable hits such as “Crazy\,” “I Fall to Pieces\,” “Sweet Dreams” and “Walking After Midnight.”
URL:https://oldediblerenotahoe.com/event/ltsfalways-2024-07-20/
LOCATION:Sand Harbor State Park\, 2005 NV-28\, Incline Village\, NV\, 89451
CATEGORIES:Festival,Theatre
ATTACH;FMTTYPE=image/png:https://oldediblerenotahoe.com/wp-content/uploads/2023/12/PatsyCline-ShowPage.png
END:VEVENT
BEGIN:VEVENT
DTSTART;TZID=America/Los_Angeles:20240719T193000
DTEND;TZID=America/Los_Angeles:20240719T213000
DTSTAMP:20260423T225143
CREATED:20231216T195728Z
LAST-MODIFIED:20231216T195728Z
UID:35827-1721417400-1721424600@oldediblerenotahoe.com
SUMMARY:Lake Tahoe Shakespeare Festival: Always ... Patsy Cline
DESCRIPTION:Enjoy the touching true story of Patsy Cline’s friendship with a fan\, Louise Seger\, which started in 1961 and continued until the premature death of the renowned country star. Told through Cline’s music\, this humorous and heartfelt tribute features 27 songs and many of her unforgettable hits such as “Crazy\,” “I Fall to Pieces\,” “Sweet Dreams” and “Walking After Midnight.”
URL:https://oldediblerenotahoe.com/event/ltsfalways-2024-07-19/
LOCATION:Sand Harbor State Park\, 2005 NV-28\, Incline Village\, NV\, 89451
CATEGORIES:Festival,Theatre
ATTACH;FMTTYPE=image/png:https://oldediblerenotahoe.com/wp-content/uploads/2023/12/PatsyCline-ShowPage.png
END:VEVENT
BEGIN:VEVENT
DTSTART;TZID=America/Los_Angeles:20240718T193000
DTEND;TZID=America/Los_Angeles:20240718T213000
DTSTAMP:20260423T225143
CREATED:20231216T200609Z
LAST-MODIFIED:20231216T200609Z
UID:35835-1721331000-1721338200@oldediblerenotahoe.com
SUMMARY:Lake Tahoe Shakespeare Festival: The Merry Wives of Windsor
DESCRIPTION:Meet the rotund rascal Sir John Falstaff and the wise wives of Windsor in one of Shakespeare’s most raucous comedies. With an ego as big as his voracious appetite\, Falstaff conspires to woo the two wealthiest married ladies in town and pocket their riches. However\, Mistress Ford and Mistress Page devise a scheme of their own to teach him a well-deserved lesson in Wooing 101.
URL:https://oldediblerenotahoe.com/event/ltsfmerrywives-2024-07-18/
LOCATION:Sand Harbor State Park\, 2005 NV-28\, Incline Village\, NV\, 89451
CATEGORIES:Festival,Theatre
ATTACH;FMTTYPE=image/png:https://oldediblerenotahoe.com/wp-content/uploads/2023/12/MerryWives-ShowPage.png
END:VEVENT
BEGIN:VEVENT
DTSTART;TZID=America/Los_Angeles:20240717T193000
DTEND;TZID=America/Los_Angeles:20240717T213000
DTSTAMP:20260423T225143
CREATED:20231216T200609Z
LAST-MODIFIED:20231216T200609Z
UID:35834-1721244600-1721251800@oldediblerenotahoe.com
SUMMARY:Lake Tahoe Shakespeare Festival: The Merry Wives of Windsor
DESCRIPTION:Meet the rotund rascal Sir John Falstaff and the wise wives of Windsor in one of Shakespeare’s most raucous comedies. With an ego as big as his voracious appetite\, Falstaff conspires to woo the two wealthiest married ladies in town and pocket their riches. However\, Mistress Ford and Mistress Page devise a scheme of their own to teach him a well-deserved lesson in Wooing 101.
URL:https://oldediblerenotahoe.com/event/ltsfmerrywives-2024-07-17/
LOCATION:Sand Harbor State Park\, 2005 NV-28\, Incline Village\, NV\, 89451
CATEGORIES:Festival,Theatre
ATTACH;FMTTYPE=image/png:https://oldediblerenotahoe.com/wp-content/uploads/2023/12/MerryWives-ShowPage.png
END:VEVENT
BEGIN:VEVENT
DTSTART;TZID=America/Los_Angeles:20240716T193000
DTEND;TZID=America/Los_Angeles:20240716T213000
DTSTAMP:20260423T225143
CREATED:20231216T195728Z
LAST-MODIFIED:20231216T195728Z
UID:35826-1721158200-1721165400@oldediblerenotahoe.com
SUMMARY:Lake Tahoe Shakespeare Festival: Always ... Patsy Cline
DESCRIPTION:Enjoy the touching true story of Patsy Cline’s friendship with a fan\, Louise Seger\, which started in 1961 and continued until the premature death of the renowned country star. Told through Cline’s music\, this humorous and heartfelt tribute features 27 songs and many of her unforgettable hits such as “Crazy\,” “I Fall to Pieces\,” “Sweet Dreams” and “Walking After Midnight.”
URL:https://oldediblerenotahoe.com/event/ltsfalways-2024-07-16/
LOCATION:Sand Harbor State Park\, 2005 NV-28\, Incline Village\, NV\, 89451
CATEGORIES:Festival,Theatre
ATTACH;FMTTYPE=image/png:https://oldediblerenotahoe.com/wp-content/uploads/2023/12/PatsyCline-ShowPage.png
END:VEVENT
BEGIN:VEVENT
DTSTART;TZID=America/Los_Angeles:20240714T193000
DTEND;TZID=America/Los_Angeles:20240714T213000
DTSTAMP:20260423T225143
CREATED:20231216T200609Z
LAST-MODIFIED:20231216T200609Z
UID:35833-1720985400-1720992600@oldediblerenotahoe.com
SUMMARY:Lake Tahoe Shakespeare Festival: The Merry Wives of Windsor
DESCRIPTION:Meet the rotund rascal Sir John Falstaff and the wise wives of Windsor in one of Shakespeare’s most raucous comedies. With an ego as big as his voracious appetite\, Falstaff conspires to woo the two wealthiest married ladies in town and pocket their riches. However\, Mistress Ford and Mistress Page devise a scheme of their own to teach him a well-deserved lesson in Wooing 101.
URL:https://oldediblerenotahoe.com/event/ltsfmerrywives-2024-07-14/
LOCATION:Sand Harbor State Park\, 2005 NV-28\, Incline Village\, NV\, 89451
CATEGORIES:Festival,Theatre
ATTACH;FMTTYPE=image/png:https://oldediblerenotahoe.com/wp-content/uploads/2023/12/MerryWives-ShowPage.png
END:VEVENT
BEGIN:VEVENT
DTSTART;VALUE=DATE:20240714
DTEND;VALUE=DATE:20240715
DTSTAMP:20260423T225143
CREATED:20240318T033738Z
LAST-MODIFIED:20240318T033738Z
UID:37889-1720915200-1721001599@oldediblerenotahoe.com
SUMMARY:Sierra Nevada Lavender and Honey Festival
DESCRIPTION:This “scent-sational” event features all things lavender and honey along with arts and crafts\, food\, demonstrations\, music\, entertainment and more. It’s a festival for all ages\, so invite your friends and family to enjoy a beautiful day
URL:https://oldediblerenotahoe.com/event/sierra-nevada-lavender-and-honey-festival-3/
LOCATION:Idlewild Park\, 1000 Cowan Dr.\, Reno\, NV\, 89509
CATEGORIES:Family friendly,Festival
ATTACH;FMTTYPE=image/jpeg:https://oldediblerenotahoe.com/wp-content/uploads/2024/03/Honey-and-Lavender-Festival-FEATURED.jpeg
END:VEVENT
BEGIN:VEVENT
DTSTART;TZID=America/Los_Angeles:20240713T193000
DTEND;TZID=America/Los_Angeles:20240713T213000
DTSTAMP:20260423T225143
CREATED:20231216T200609Z
LAST-MODIFIED:20231216T200609Z
UID:35832-1720899000-1720906200@oldediblerenotahoe.com
SUMMARY:Lake Tahoe Shakespeare Festival: The Merry Wives of Windsor
DESCRIPTION:Meet the rotund rascal Sir John Falstaff and the wise wives of Windsor in one of Shakespeare’s most raucous comedies. With an ego as big as his voracious appetite\, Falstaff conspires to woo the two wealthiest married ladies in town and pocket their riches. However\, Mistress Ford and Mistress Page devise a scheme of their own to teach him a well-deserved lesson in Wooing 101.
URL:https://oldediblerenotahoe.com/event/ltsfmerrywives-2024-07-13/
LOCATION:Sand Harbor State Park\, 2005 NV-28\, Incline Village\, NV\, 89451
CATEGORIES:Festival,Theatre
ATTACH;FMTTYPE=image/png:https://oldediblerenotahoe.com/wp-content/uploads/2023/12/MerryWives-ShowPage.png
END:VEVENT
BEGIN:VEVENT
DTSTART;TZID=America/Los_Angeles:20240712T193000
DTEND;TZID=America/Los_Angeles:20240712T213000
DTSTAMP:20260423T225143
CREATED:20231216T200609Z
LAST-MODIFIED:20231216T200609Z
UID:35830-1720812600-1720819800@oldediblerenotahoe.com
SUMMARY:Lake Tahoe Shakespeare Festival: The Merry Wives of Windsor
DESCRIPTION:Meet the rotund rascal Sir John Falstaff and the wise wives of Windsor in one of Shakespeare’s most raucous comedies. With an ego as big as his voracious appetite\, Falstaff conspires to woo the two wealthiest married ladies in town and pocket their riches. However\, Mistress Ford and Mistress Page devise a scheme of their own to teach him a well-deserved lesson in Wooing 101.
URL:https://oldediblerenotahoe.com/event/ltsfmerrywives/
LOCATION:Sand Harbor State Park\, 2005 NV-28\, Incline Village\, NV\, 89451
CATEGORIES:Festival,Theatre
ATTACH;FMTTYPE=image/png:https://oldediblerenotahoe.com/wp-content/uploads/2023/12/MerryWives-ShowPage.png
END:VEVENT
END:VCALENDAR