BEGIN:VCALENDAR
VERSION:2.0
PRODID:-//Edible Reno-Tahoe - ECPv6.15.20//NONSGML v1.0//EN
CALSCALE:GREGORIAN
METHOD:PUBLISH
X-ORIGINAL-URL:https://oldediblerenotahoe.com
X-WR-CALDESC:Events for Edible Reno-Tahoe
REFRESH-INTERVAL;VALUE=DURATION:PT1H
X-Robots-Tag:noindex
X-PUBLISHED-TTL:PT1H
BEGIN:VTIMEZONE
TZID:America/Los_Angeles
BEGIN:DAYLIGHT
TZOFFSETFROM:-0800
TZOFFSETTO:-0700
TZNAME:PDT
DTSTART:20220313T100000
END:DAYLIGHT
BEGIN:STANDARD
TZOFFSETFROM:-0700
TZOFFSETTO:-0800
TZNAME:PST
DTSTART:20221106T090000
END:STANDARD
BEGIN:DAYLIGHT
TZOFFSETFROM:-0800
TZOFFSETTO:-0700
TZNAME:PDT
DTSTART:20230312T100000
END:DAYLIGHT
BEGIN:STANDARD
TZOFFSETFROM:-0700
TZOFFSETTO:-0800
TZNAME:PST
DTSTART:20231105T090000
END:STANDARD
BEGIN:DAYLIGHT
TZOFFSETFROM:-0800
TZOFFSETTO:-0700
TZNAME:PDT
DTSTART:20240310T100000
END:DAYLIGHT
BEGIN:STANDARD
TZOFFSETFROM:-0700
TZOFFSETTO:-0800
TZNAME:PST
DTSTART:20241103T090000
END:STANDARD
END:VTIMEZONE
BEGIN:VEVENT
DTSTART;TZID=America/Los_Angeles:20231011T100000
DTEND;TZID=America/Los_Angeles:20231011T200000
DTSTAMP:20260424T210311
CREATED:20231002T214842Z
LAST-MODIFIED:20231002T214842Z
UID:34430-1697018400-1697054400@oldediblerenotahoe.com
SUMMARY:Ferrari Farms Fall Festival
DESCRIPTION:Explore Ferrari Farms’ haunted corn maze\, country story\, farm animals\, and more during their Fall Festival.
URL:https://oldediblerenotahoe.com/event/ferrarifestival-2023-10-11/
LOCATION:Ferrari Farms\, 4701 Mill Street\, Reno\, NV\, 89502
CATEGORIES:Activity,Festival
END:VEVENT
BEGIN:VEVENT
DTSTART;TZID=America/Los_Angeles:20231011T100000
DTEND;TZID=America/Los_Angeles:20231011T170000
DTSTAMP:20260424T210311
CREATED:20231002T212325Z
LAST-MODIFIED:20231002T212325Z
UID:34375-1697018400-1697043600@oldediblerenotahoe.com
SUMMARY:Corley Ranch Harvest Festival & Pumpkin Patch
DESCRIPTION:Corley Ranch’s October Harvest Festival & Pumpkin Patch is an autumn magical delight\, whether you’re seeking weekday serenity or weekend wonder! Limited activities during the weekday; however\, the ranch comes alive with activities on the weekend including pig races\, giant sling shot and hay wagon rides.
URL:https://oldediblerenotahoe.com/event/corleyharvestfestival-2023-10-11/
LOCATION:Corley Ranch\, Carson Valley\, NV
CATEGORIES:Family friendly,Festival,Holiday
ATTACH;FMTTYPE=image/png:https://oldediblerenotahoe.com/wp-content/uploads/2023/10/corley.png
END:VEVENT
BEGIN:VEVENT
DTSTART;TZID=America/Los_Angeles:20231010T100000
DTEND;TZID=America/Los_Angeles:20231010T200000
DTSTAMP:20260424T210311
CREATED:20231002T214842Z
LAST-MODIFIED:20231002T214842Z
UID:34429-1696932000-1696968000@oldediblerenotahoe.com
SUMMARY:Ferrari Farms Fall Festival
DESCRIPTION:Explore Ferrari Farms’ haunted corn maze\, country story\, farm animals\, and more during their Fall Festival.
URL:https://oldediblerenotahoe.com/event/ferrarifestival-2023-10-10/
LOCATION:Ferrari Farms\, 4701 Mill Street\, Reno\, NV\, 89502
CATEGORIES:Activity,Festival
END:VEVENT
BEGIN:VEVENT
DTSTART;TZID=America/Los_Angeles:20231010T100000
DTEND;TZID=America/Los_Angeles:20231010T170000
DTSTAMP:20260424T210311
CREATED:20231002T212325Z
LAST-MODIFIED:20231002T212325Z
UID:34374-1696932000-1696957200@oldediblerenotahoe.com
SUMMARY:Corley Ranch Harvest Festival & Pumpkin Patch
DESCRIPTION:Corley Ranch’s October Harvest Festival & Pumpkin Patch is an autumn magical delight\, whether you’re seeking weekday serenity or weekend wonder! Limited activities during the weekday; however\, the ranch comes alive with activities on the weekend including pig races\, giant sling shot and hay wagon rides.
URL:https://oldediblerenotahoe.com/event/corleyharvestfestival-2023-10-10/
LOCATION:Corley Ranch\, Carson Valley\, NV
CATEGORIES:Family friendly,Festival,Holiday
ATTACH;FMTTYPE=image/png:https://oldediblerenotahoe.com/wp-content/uploads/2023/10/corley.png
END:VEVENT
BEGIN:VEVENT
DTSTART;TZID=America/Los_Angeles:20231009T100000
DTEND;TZID=America/Los_Angeles:20231009T200000
DTSTAMP:20260424T210311
CREATED:20231002T214842Z
LAST-MODIFIED:20231002T214842Z
UID:34428-1696845600-1696881600@oldediblerenotahoe.com
SUMMARY:Ferrari Farms Fall Festival
DESCRIPTION:Explore Ferrari Farms’ haunted corn maze\, country story\, farm animals\, and more during their Fall Festival.
URL:https://oldediblerenotahoe.com/event/ferrarifestival-2023-10-09/
LOCATION:Ferrari Farms\, 4701 Mill Street\, Reno\, NV\, 89502
CATEGORIES:Activity,Festival
END:VEVENT
BEGIN:VEVENT
DTSTART;TZID=America/Los_Angeles:20231009T100000
DTEND;TZID=America/Los_Angeles:20231009T170000
DTSTAMP:20260424T210311
CREATED:20231002T212325Z
LAST-MODIFIED:20231002T212325Z
UID:34373-1696845600-1696870800@oldediblerenotahoe.com
SUMMARY:Corley Ranch Harvest Festival & Pumpkin Patch
DESCRIPTION:Corley Ranch’s October Harvest Festival & Pumpkin Patch is an autumn magical delight\, whether you’re seeking weekday serenity or weekend wonder! Limited activities during the weekday; however\, the ranch comes alive with activities on the weekend including pig races\, giant sling shot and hay wagon rides.
URL:https://oldediblerenotahoe.com/event/corleyharvestfestival-2023-10-09/
LOCATION:Corley Ranch\, Carson Valley\, NV
CATEGORIES:Family friendly,Festival,Holiday
ATTACH;FMTTYPE=image/png:https://oldediblerenotahoe.com/wp-content/uploads/2023/10/corley.png
END:VEVENT
BEGIN:VEVENT
DTSTART;TZID=America/Los_Angeles:20231008T110000
DTEND;TZID=America/Los_Angeles:20231008T170000
DTSTAMP:20260424T210311
CREATED:20230922T191203Z
LAST-MODIFIED:20230922T191203Z
UID:33921-1696762800-1696784400@oldediblerenotahoe.com
SUMMARY:Made in Tahoe Festival
DESCRIPTION:The Made in Tahoe Festival is set to return on October 7th and 8th! This event\, taking place at The Village at Palisades Tahoe\, is a vibrant celebration of all things local\, showcasing the incredible talents and creations from the Lake Tahoe Basin and Truckee areas. From artisans and businesses to chefs and entertainers\, attendees can explore a diverse range of offerings while savoring delicious local food and beer. Don’t miss this opportunity to support Tahoe and Truckee’s finest and immerse yourself in the unique spirit of the community. \nAdmission is free\, so mark your calendar for a weekend of local culture and creativity.
URL:https://oldediblerenotahoe.com/event/madeintahoe2023-2023-10-08/
LOCATION:The Village at Palisades Tahoe\, Olympic Valley\, CA
CATEGORIES:Family friendly,Festival,Outdoors,Shopping
END:VEVENT
BEGIN:VEVENT
DTSTART;TZID=America/Los_Angeles:20231008T100000
DTEND;TZID=America/Los_Angeles:20231008T200000
DTSTAMP:20260424T210311
CREATED:20231002T214842Z
LAST-MODIFIED:20231002T214842Z
UID:34427-1696759200-1696795200@oldediblerenotahoe.com
SUMMARY:Ferrari Farms Fall Festival
DESCRIPTION:Explore Ferrari Farms’ haunted corn maze\, country story\, farm animals\, and more during their Fall Festival.
URL:https://oldediblerenotahoe.com/event/ferrarifestival-2023-10-08/
LOCATION:Ferrari Farms\, 4701 Mill Street\, Reno\, NV\, 89502
CATEGORIES:Activity,Festival
END:VEVENT
BEGIN:VEVENT
DTSTART;TZID=America/Los_Angeles:20231008T100000
DTEND;TZID=America/Los_Angeles:20231008T170000
DTSTAMP:20260424T210311
CREATED:20231002T212325Z
LAST-MODIFIED:20231002T212325Z
UID:34372-1696759200-1696784400@oldediblerenotahoe.com
SUMMARY:Corley Ranch Harvest Festival & Pumpkin Patch
DESCRIPTION:Corley Ranch’s October Harvest Festival & Pumpkin Patch is an autumn magical delight\, whether you’re seeking weekday serenity or weekend wonder! Limited activities during the weekday; however\, the ranch comes alive with activities on the weekend including pig races\, giant sling shot and hay wagon rides.
URL:https://oldediblerenotahoe.com/event/corleyharvestfestival-2023-10-08/
LOCATION:Corley Ranch\, Carson Valley\, NV
CATEGORIES:Family friendly,Festival,Holiday
ATTACH;FMTTYPE=image/png:https://oldediblerenotahoe.com/wp-content/uploads/2023/10/corley.png
END:VEVENT
BEGIN:VEVENT
DTSTART;TZID=America/Los_Angeles:20231007T110000
DTEND;TZID=America/Los_Angeles:20231007T170000
DTSTAMP:20260424T210311
CREATED:20230922T191203Z
LAST-MODIFIED:20230922T191203Z
UID:33919-1696676400-1696698000@oldediblerenotahoe.com
SUMMARY:Made in Tahoe Festival
DESCRIPTION:The Made in Tahoe Festival is set to return on October 7th and 8th! This event\, taking place at The Village at Palisades Tahoe\, is a vibrant celebration of all things local\, showcasing the incredible talents and creations from the Lake Tahoe Basin and Truckee areas. From artisans and businesses to chefs and entertainers\, attendees can explore a diverse range of offerings while savoring delicious local food and beer. Don’t miss this opportunity to support Tahoe and Truckee’s finest and immerse yourself in the unique spirit of the community. \nAdmission is free\, so mark your calendar for a weekend of local culture and creativity.
URL:https://oldediblerenotahoe.com/event/madeintahoe2023/
LOCATION:The Village at Palisades Tahoe\, Olympic Valley\, CA
CATEGORIES:Family friendly,Festival,Outdoors,Shopping
END:VEVENT
BEGIN:VEVENT
DTSTART;TZID=America/Los_Angeles:20231007T100000
DTEND;TZID=America/Los_Angeles:20231007T200000
DTSTAMP:20260424T210311
CREATED:20231002T214842Z
LAST-MODIFIED:20231002T214842Z
UID:34426-1696672800-1696708800@oldediblerenotahoe.com
SUMMARY:Ferrari Farms Fall Festival
DESCRIPTION:Explore Ferrari Farms’ haunted corn maze\, country story\, farm animals\, and more during their Fall Festival.
URL:https://oldediblerenotahoe.com/event/ferrarifestival-2023-10-07/
LOCATION:Ferrari Farms\, 4701 Mill Street\, Reno\, NV\, 89502
CATEGORIES:Activity,Festival
END:VEVENT
BEGIN:VEVENT
DTSTART;TZID=America/Los_Angeles:20231007T100000
DTEND;TZID=America/Los_Angeles:20231007T170000
DTSTAMP:20260424T210311
CREATED:20231002T212325Z
LAST-MODIFIED:20231002T212325Z
UID:34371-1696672800-1696698000@oldediblerenotahoe.com
SUMMARY:Corley Ranch Harvest Festival & Pumpkin Patch
DESCRIPTION:Corley Ranch’s October Harvest Festival & Pumpkin Patch is an autumn magical delight\, whether you’re seeking weekday serenity or weekend wonder! Limited activities during the weekday; however\, the ranch comes alive with activities on the weekend including pig races\, giant sling shot and hay wagon rides.
URL:https://oldediblerenotahoe.com/event/corleyharvestfestival-2023-10-07/
LOCATION:Corley Ranch\, Carson Valley\, NV
CATEGORIES:Family friendly,Festival,Holiday
ATTACH;FMTTYPE=image/png:https://oldediblerenotahoe.com/wp-content/uploads/2023/10/corley.png
END:VEVENT
BEGIN:VEVENT
DTSTART;TZID=America/Los_Angeles:20231007T090000
DTEND;TZID=America/Los_Angeles:20231007T150000
DTSTAMP:20260424T210311
CREATED:20230928T212140Z
LAST-MODIFIED:20230928T212140Z
UID:34295-1696669200-1696690800@oldediblerenotahoe.com
SUMMARY:Annual Fall Festival & Coffin Races
DESCRIPTION:On the first Saturday in October\, the Carson Valley hosts the Scarecrow\, Harvest Festival\, and Annual Slaughterhouse Lane Coffin Races\, organized by Main Street Gardens and East Fork Gallery. These events culminate in the Main Street Fall Fest at Heritage Park\, featuring music\, activities\, demonstrations\, and vendors. This free community-driven festival celebrates tradition\, creativity\, and diversity in the region\, offering arts\, crafts\, community connections\, and more.
URL:https://oldediblerenotahoe.com/event/gardnervillefallfest/
LOCATION:Main Street\, Gardnerville\, NV
CATEGORIES:Activity,Community Events,Family friendly,Festival,Holiday
ATTACH;FMTTYPE=image/png:https://oldediblerenotahoe.com/wp-content/uploads/2023/09/Fall-Festival-Flyer-Facebook-Event-Cover-1.png
END:VEVENT
BEGIN:VEVENT
DTSTART;TZID=America/Los_Angeles:20231006T170000
DTEND;TZID=America/Los_Angeles:20231006T200000
DTSTAMP:20260424T210311
CREATED:20231002T213644Z
LAST-MODIFIED:20231002T213644Z
UID:34407-1696611600-1696622400@oldediblerenotahoe.com
SUMMARY:Lattin Farms Evening Corn Maze
DESCRIPTION:Lattin Farms’ Fall Festival is its premier event featuring all your favorite activities and a whole lot of fun. The corn maze\, pumpkin patch\, scarecrow factory and more will help you celebrate Fall and the bounty of the farm harvest.
URL:https://oldediblerenotahoe.com/event/lattinfarmscornmaze/
LOCATION:Lattin Farms\, 1955 McLean Road\, Fallon\, NV\, 89406
CATEGORIES:Activity,Festival
END:VEVENT
BEGIN:VEVENT
DTSTART;TZID=America/Los_Angeles:20231006T100000
DTEND;TZID=America/Los_Angeles:20231006T200000
DTSTAMP:20260424T210311
CREATED:20231002T214842Z
LAST-MODIFIED:20231002T214842Z
UID:34425-1696586400-1696622400@oldediblerenotahoe.com
SUMMARY:Ferrari Farms Fall Festival
DESCRIPTION:Explore Ferrari Farms’ haunted corn maze\, country story\, farm animals\, and more during their Fall Festival.
URL:https://oldediblerenotahoe.com/event/ferrarifestival-2023-10-06/
LOCATION:Ferrari Farms\, 4701 Mill Street\, Reno\, NV\, 89502
CATEGORIES:Activity,Festival
END:VEVENT
BEGIN:VEVENT
DTSTART;TZID=America/Los_Angeles:20231006T100000
DTEND;TZID=America/Los_Angeles:20231006T170000
DTSTAMP:20260424T210311
CREATED:20231002T212325Z
LAST-MODIFIED:20231002T212325Z
UID:34370-1696586400-1696611600@oldediblerenotahoe.com
SUMMARY:Corley Ranch Harvest Festival & Pumpkin Patch
DESCRIPTION:Corley Ranch’s October Harvest Festival & Pumpkin Patch is an autumn magical delight\, whether you’re seeking weekday serenity or weekend wonder! Limited activities during the weekday; however\, the ranch comes alive with activities on the weekend including pig races\, giant sling shot and hay wagon rides.
URL:https://oldediblerenotahoe.com/event/corleyharvestfestival-2023-10-06/
LOCATION:Corley Ranch\, Carson Valley\, NV
CATEGORIES:Family friendly,Festival,Holiday
ATTACH;FMTTYPE=image/png:https://oldediblerenotahoe.com/wp-content/uploads/2023/10/corley.png
END:VEVENT
BEGIN:VEVENT
DTSTART;TZID=America/Los_Angeles:20231005T100000
DTEND;TZID=America/Los_Angeles:20231005T200000
DTSTAMP:20260424T210311
CREATED:20231002T214842Z
LAST-MODIFIED:20231002T214842Z
UID:34424-1696500000-1696536000@oldediblerenotahoe.com
SUMMARY:Ferrari Farms Fall Festival
DESCRIPTION:Explore Ferrari Farms’ haunted corn maze\, country story\, farm animals\, and more during their Fall Festival.
URL:https://oldediblerenotahoe.com/event/ferrarifestival-2023-10-05/
LOCATION:Ferrari Farms\, 4701 Mill Street\, Reno\, NV\, 89502
CATEGORIES:Activity,Festival
END:VEVENT
BEGIN:VEVENT
DTSTART;TZID=America/Los_Angeles:20231005T100000
DTEND;TZID=America/Los_Angeles:20231005T170000
DTSTAMP:20260424T210311
CREATED:20231002T212325Z
LAST-MODIFIED:20231002T212325Z
UID:34369-1696500000-1696525200@oldediblerenotahoe.com
SUMMARY:Corley Ranch Harvest Festival & Pumpkin Patch
DESCRIPTION:Corley Ranch’s October Harvest Festival & Pumpkin Patch is an autumn magical delight\, whether you’re seeking weekday serenity or weekend wonder! Limited activities during the weekday; however\, the ranch comes alive with activities on the weekend including pig races\, giant sling shot and hay wagon rides.
URL:https://oldediblerenotahoe.com/event/corleyharvestfestival-2023-10-05/
LOCATION:Corley Ranch\, Carson Valley\, NV
CATEGORIES:Family friendly,Festival,Holiday
ATTACH;FMTTYPE=image/png:https://oldediblerenotahoe.com/wp-content/uploads/2023/10/corley.png
END:VEVENT
BEGIN:VEVENT
DTSTART;VALUE=DATE:20231005
DTEND;VALUE=DATE:20231008
DTSTAMP:20260424T210311
CREATED:20230921T011708Z
LAST-MODIFIED:20230921T011708Z
UID:33880-1696464000-1696723199@oldediblerenotahoe.com
SUMMARY:Off Beat Music Festival
DESCRIPTION:Experience the Off Beat Music Festival\, a three-day town-wide musical extravaganza featuring more than 60 performances. Don’t overlook this dynamic weekend filled with concerts spanning Midtown Reno. Whether you prefer a one-day pass or a three-day VIP wristband\, there’s a perfect dose of entertainment for every music enthusiast. \nLearn more and purchase tickets at offbeatreno.com.
URL:https://oldediblerenotahoe.com/event/offbeat2023/
LOCATION:NV
CATEGORIES:Festival,Music
ATTACH;FMTTYPE=image/jpeg:https://oldediblerenotahoe.com/wp-content/uploads/2023/09/364804954_800774785391735_4995066749240766975_n.jpeg
END:VEVENT
BEGIN:VEVENT
DTSTART;TZID=America/Los_Angeles:20231004T100000
DTEND;TZID=America/Los_Angeles:20231004T200000
DTSTAMP:20260424T210311
CREATED:20231002T214842Z
LAST-MODIFIED:20231002T214842Z
UID:34423-1696413600-1696449600@oldediblerenotahoe.com
SUMMARY:Ferrari Farms Fall Festival
DESCRIPTION:Explore Ferrari Farms’ haunted corn maze\, country story\, farm animals\, and more during their Fall Festival.
URL:https://oldediblerenotahoe.com/event/ferrarifestival-2023-10-04/
LOCATION:Ferrari Farms\, 4701 Mill Street\, Reno\, NV\, 89502
CATEGORIES:Activity,Festival
END:VEVENT
BEGIN:VEVENT
DTSTART;TZID=America/Los_Angeles:20231004T100000
DTEND;TZID=America/Los_Angeles:20231004T170000
DTSTAMP:20260424T210311
CREATED:20231002T212325Z
LAST-MODIFIED:20231002T212325Z
UID:34368-1696413600-1696438800@oldediblerenotahoe.com
SUMMARY:Corley Ranch Harvest Festival & Pumpkin Patch
DESCRIPTION:Corley Ranch’s October Harvest Festival & Pumpkin Patch is an autumn magical delight\, whether you’re seeking weekday serenity or weekend wonder! Limited activities during the weekday; however\, the ranch comes alive with activities on the weekend including pig races\, giant sling shot and hay wagon rides.
URL:https://oldediblerenotahoe.com/event/corleyharvestfestival-2023-10-04/
LOCATION:Corley Ranch\, Carson Valley\, NV
CATEGORIES:Family friendly,Festival,Holiday
ATTACH;FMTTYPE=image/png:https://oldediblerenotahoe.com/wp-content/uploads/2023/10/corley.png
END:VEVENT
BEGIN:VEVENT
DTSTART;TZID=America/Los_Angeles:20231003T100000
DTEND;TZID=America/Los_Angeles:20231003T200000
DTSTAMP:20260424T210311
CREATED:20231002T214842Z
LAST-MODIFIED:20231002T214842Z
UID:34422-1696327200-1696363200@oldediblerenotahoe.com
SUMMARY:Ferrari Farms Fall Festival
DESCRIPTION:Explore Ferrari Farms’ haunted corn maze\, country story\, farm animals\, and more during their Fall Festival.
URL:https://oldediblerenotahoe.com/event/ferrarifestival-2023-10-03/
LOCATION:Ferrari Farms\, 4701 Mill Street\, Reno\, NV\, 89502
CATEGORIES:Activity,Festival
END:VEVENT
BEGIN:VEVENT
DTSTART;TZID=America/Los_Angeles:20231003T100000
DTEND;TZID=America/Los_Angeles:20231003T170000
DTSTAMP:20260424T210311
CREATED:20231002T212325Z
LAST-MODIFIED:20231002T212325Z
UID:34367-1696327200-1696352400@oldediblerenotahoe.com
SUMMARY:Corley Ranch Harvest Festival & Pumpkin Patch
DESCRIPTION:Corley Ranch’s October Harvest Festival & Pumpkin Patch is an autumn magical delight\, whether you’re seeking weekday serenity or weekend wonder! Limited activities during the weekday; however\, the ranch comes alive with activities on the weekend including pig races\, giant sling shot and hay wagon rides.
URL:https://oldediblerenotahoe.com/event/corleyharvestfestival-2023-10-03/
LOCATION:Corley Ranch\, Carson Valley\, NV
CATEGORIES:Family friendly,Festival,Holiday
ATTACH;FMTTYPE=image/png:https://oldediblerenotahoe.com/wp-content/uploads/2023/10/corley.png
END:VEVENT
BEGIN:VEVENT
DTSTART;TZID=America/Los_Angeles:20231002T100000
DTEND;TZID=America/Los_Angeles:20231002T200000
DTSTAMP:20260424T210311
CREATED:20231002T214842Z
LAST-MODIFIED:20231002T214842Z
UID:34421-1696240800-1696276800@oldediblerenotahoe.com
SUMMARY:Ferrari Farms Fall Festival
DESCRIPTION:Explore Ferrari Farms’ haunted corn maze\, country story\, farm animals\, and more during their Fall Festival.
URL:https://oldediblerenotahoe.com/event/ferrarifestival-2023-10-02/
LOCATION:Ferrari Farms\, 4701 Mill Street\, Reno\, NV\, 89502
CATEGORIES:Activity,Festival
END:VEVENT
BEGIN:VEVENT
DTSTART;TZID=America/Los_Angeles:20231002T100000
DTEND;TZID=America/Los_Angeles:20231002T170000
DTSTAMP:20260424T210311
CREATED:20231002T212325Z
LAST-MODIFIED:20231002T212325Z
UID:34366-1696240800-1696266000@oldediblerenotahoe.com
SUMMARY:Corley Ranch Harvest Festival & Pumpkin Patch
DESCRIPTION:Corley Ranch’s October Harvest Festival & Pumpkin Patch is an autumn magical delight\, whether you’re seeking weekday serenity or weekend wonder! Limited activities during the weekday; however\, the ranch comes alive with activities on the weekend including pig races\, giant sling shot and hay wagon rides.
URL:https://oldediblerenotahoe.com/event/corleyharvestfestival-2023-10-02/
LOCATION:Corley Ranch\, Carson Valley\, NV
CATEGORIES:Family friendly,Festival,Holiday
ATTACH;FMTTYPE=image/png:https://oldediblerenotahoe.com/wp-content/uploads/2023/10/corley.png
END:VEVENT
BEGIN:VEVENT
DTSTART;TZID=America/Los_Angeles:20231001T100000
DTEND;TZID=America/Los_Angeles:20231001T200000
DTSTAMP:20260424T210311
CREATED:20231002T214842Z
LAST-MODIFIED:20231002T214842Z
UID:34420-1696154400-1696190400@oldediblerenotahoe.com
SUMMARY:Ferrari Farms Fall Festival
DESCRIPTION:Explore Ferrari Farms’ haunted corn maze\, country story\, farm animals\, and more during their Fall Festival.
URL:https://oldediblerenotahoe.com/event/ferrarifestival-2023-10-01/
LOCATION:Ferrari Farms\, 4701 Mill Street\, Reno\, NV\, 89502
CATEGORIES:Activity,Festival
END:VEVENT
BEGIN:VEVENT
DTSTART;TZID=America/Los_Angeles:20231001T100000
DTEND;TZID=America/Los_Angeles:20231001T170000
DTSTAMP:20260424T210311
CREATED:20231002T212325Z
LAST-MODIFIED:20231002T212325Z
UID:34363-1696154400-1696179600@oldediblerenotahoe.com
SUMMARY:Corley Ranch Harvest Festival & Pumpkin Patch
DESCRIPTION:Corley Ranch’s October Harvest Festival & Pumpkin Patch is an autumn magical delight\, whether you’re seeking weekday serenity or weekend wonder! Limited activities during the weekday; however\, the ranch comes alive with activities on the weekend including pig races\, giant sling shot and hay wagon rides.
URL:https://oldediblerenotahoe.com/event/corleyharvestfestival/
LOCATION:Corley Ranch\, Carson Valley\, NV
CATEGORIES:Family friendly,Festival,Holiday
ATTACH;FMTTYPE=image/png:https://oldediblerenotahoe.com/wp-content/uploads/2023/10/corley.png
END:VEVENT
BEGIN:VEVENT
DTSTART;TZID=America/Los_Angeles:20230930T120000
DTEND;TZID=America/Los_Angeles:20230930T180000
DTSTAMP:20260424T210311
CREATED:20230921T192322Z
LAST-MODIFIED:20230921T192322Z
UID:33908-1696075200-1696096800@oldediblerenotahoe.com
SUMMARY:Annual Oktoberfest in The Village at Palisades Tahoe
DESCRIPTION:Experience Bavaria in North Lake Tahoe at the Annual Oktoberfest in The Village at Palisades Tahoe on September 30\, 2023\, from 12pm to 6pm. Enjoy authentic food\, live music\, games\, and beer. Highlights include Joe Smiell’s 20 piece Bavarian band\, traditional dances\, and a delectable menu featuring brats\, pretzels\, desserts\, and root beer floats for kids. Kids 12 and under are free. \nLearn more and secure your ticket(s) here.
URL:https://oldediblerenotahoe.com/event/palisadesoktoberfest/
LOCATION:The Village at Palisades Tahoe\, Olympic Valley\, CA
CATEGORIES:Activity,Family friendly,Festival,Food & Drink
ATTACH;FMTTYPE=image/jpeg:https://oldediblerenotahoe.com/wp-content/uploads/2023/09/Oktoberfest-1-1.jpg
END:VEVENT
BEGIN:VEVENT
DTSTART;TZID=America/Los_Angeles:20230930T100000
DTEND;TZID=America/Los_Angeles:20230930T200000
DTSTAMP:20260424T210311
CREATED:20231002T214842Z
LAST-MODIFIED:20231002T214842Z
UID:34417-1696068000-1696104000@oldediblerenotahoe.com
SUMMARY:Ferrari Farms Fall Festival
DESCRIPTION:Explore Ferrari Farms’ haunted corn maze\, country story\, farm animals\, and more during their Fall Festival.
URL:https://oldediblerenotahoe.com/event/ferrarifestival/
LOCATION:Ferrari Farms\, 4701 Mill Street\, Reno\, NV\, 89502
CATEGORIES:Activity,Festival
END:VEVENT
BEGIN:VEVENT
DTSTART;TZID=America/Los_Angeles:20230923T120000
DTEND;TZID=America/Los_Angeles:20230923T170000
DTSTAMP:20260424T210311
CREATED:20230913T202349Z
LAST-MODIFIED:20230918T220804Z
UID:32686-1695470400-1695488400@oldediblerenotahoe.com
SUMMARY:Tahoe City Oktoberfest
DESCRIPTION:The eagerly awaited Tahoe City Oktoberfest returns\, offering a day of festive family fun on September 23rd from 12 pm to 5 pm at the scenic Gatekeeper’s Museum/William B. Layton State Park in Tahoe City\, California. Enjoy craft beers\, live music\, Bavarian-themed games\, and a lively craft vendor village\, all sponsored by a dedicated group of local supporters. It’s a FREE community event with food and drinks available for purchase\, featuring engaging activities\, games\, and even a Lederhosen 5K run. Join in the celebration\, enjoy the picturesque setting\, and savor the flavors of Oktoberfest. \nFor updates and ticket information\, visit visittahoecity.org.
URL:https://oldediblerenotahoe.com/event/tahoe-city-oktoberfest/
LOCATION:Gatekeeper’s Museum\, 130 W Lake Blvd\, Tahoe City\, CA\, 96145
CATEGORIES:Festival
ATTACH;FMTTYPE=image/jpeg:https://oldediblerenotahoe.com/wp-content/uploads/2023/09/Oktoberfest1.jpeg
END:VEVENT
END:VCALENDAR