BEGIN:VCALENDAR
VERSION:2.0
PRODID:-//Edible Reno-Tahoe - ECPv6.15.20//NONSGML v1.0//EN
CALSCALE:GREGORIAN
METHOD:PUBLISH
X-ORIGINAL-URL:https://oldediblerenotahoe.com
X-WR-CALDESC:Events for Edible Reno-Tahoe
REFRESH-INTERVAL;VALUE=DURATION:PT1H
X-Robots-Tag:noindex
X-PUBLISHED-TTL:PT1H
BEGIN:VTIMEZONE
TZID:America/Los_Angeles
BEGIN:DAYLIGHT
TZOFFSETFROM:-0800
TZOFFSETTO:-0700
TZNAME:PDT
DTSTART:20200308T100000
END:DAYLIGHT
BEGIN:STANDARD
TZOFFSETFROM:-0700
TZOFFSETTO:-0800
TZNAME:PST
DTSTART:20201101T090000
END:STANDARD
BEGIN:DAYLIGHT
TZOFFSETFROM:-0800
TZOFFSETTO:-0700
TZNAME:PDT
DTSTART:20210314T100000
END:DAYLIGHT
BEGIN:STANDARD
TZOFFSETFROM:-0700
TZOFFSETTO:-0800
TZNAME:PST
DTSTART:20211107T090000
END:STANDARD
BEGIN:DAYLIGHT
TZOFFSETFROM:-0800
TZOFFSETTO:-0700
TZNAME:PDT
DTSTART:20220313T100000
END:DAYLIGHT
BEGIN:STANDARD
TZOFFSETFROM:-0700
TZOFFSETTO:-0800
TZNAME:PST
DTSTART:20221106T090000
END:STANDARD
END:VTIMEZONE
BEGIN:VEVENT
DTSTART;VALUE=DATE:20210901
DTEND;VALUE=DATE:20210910
DTSTAMP:20260425T065251
CREATED:20210512T230742Z
LAST-MODIFIED:20210512T230742Z
UID:24136-1630454400-1631231999@oldediblerenotahoe.com
SUMMARY:The Great Depressurization
DESCRIPTION:The Great Depressurization is a three-day\, multi-venue festival in Reno featuring DJs\, bands\, activities\, pool parties\, late-night shows and more. The Great Depressurization offers hotel and restaurant deals for weary travelers leaving the Black Rock Desert.
URL:https://oldediblerenotahoe.com/event/the-great-depressurization/
LOCATION:Downtown Reno
CATEGORIES:Community Events,Festival,Music
END:VEVENT
BEGIN:VEVENT
DTSTART;VALUE=DATE:20210827
DTEND;VALUE=DATE:20210828
DTSTAMP:20260425T065251
CREATED:20210707T225108Z
LAST-MODIFIED:20210707T225108Z
UID:24649-1630022400-1630108799@oldediblerenotahoe.com
SUMMARY:FALLON CANTALOUPE FESTIVAL & COUNTRY FAIR
DESCRIPTION:The Fallon Cantaloupe Festival & Country Fair is dedicated to our mission of providing a prime opportunity for all ages to learn about agriculture in Nevada. Some of our booths that aim to educate include the Churchill County FFA\, 4-H\, High Desert Youth Grange\, Churchill County Farm Bureau and more! \nIn addition to the main Fallon Cantaloupe Festival & Country Fair events\, there are lots of other fun and exciting activities happening all throughout the day\, with something for everyone to enjoy. Check the space below to see what we have in store\, and if you have any questions\, please feel free to reach out and we would be more than happy to help.
URL:https://oldediblerenotahoe.com/event/fallon-cantaloupe-festival-country-fair/
LOCATION:Fallon\, NV
CATEGORIES:Activity,Community Events,Educational,Festival,Food & Drink,Outdoors
END:VEVENT
BEGIN:VEVENT
DTSTART;VALUE=DATE:20210821
DTEND;VALUE=DATE:20210822
DTSTAMP:20260425T065251
CREATED:20210512T230521Z
LAST-MODIFIED:20210512T230521Z
UID:24133-1629504000-1629590399@oldediblerenotahoe.com
SUMMARY:NORTHERN NEVADA INTERNATIONAL DRAGON BOAT FESTIVAL
DESCRIPTION:Major League Dragon Boat continues to blaze trails west in Northern Nevada! Join us in the City of Sparks! \nWith eighty acres of water accommodate swimming\, boating\, fishing\, and scuba diving\, Sparks Marina provides the perfect conditions for stellar dragon boat racing. Add in breath-taking views of the nearby mountains\, and you’ve got one of the most picturesque venues on the MLDB calendar. \nLike all other MLDB festivals\, this event is a travel destination offering crews plenty to see and do before and after the races. Adventurous paddlers will want to extend their stay to enjoy Whitewater Park at Rock Park for kayaking\, tubing and rafting; while those with a fever for shopping will want to check out Scheels\, the largest total sports store in the world\, or nearby outlet malls. Seeking nighttime entertainment? Reno is only minutes from downtown Sparks. Whatever your flavour\, Sparks has you covered to make your stay a truly memorable one. \nPaddlers\, weekend warriors\, and families are invited to join us in the festivities and excitement throughout the day at Sparks Marina! Visit the many vendors and exhibitors in the Health and Wellness Village\, Food Truck Bazaar and more. \nGather your friends\, family\, and colleagues and register your team today to enjoy a full day of racing! Whether you’re a beginner paddler or dragon boat pro\, you’re sure to have a wonderful time racing in the City of Sparks!
URL:https://oldediblerenotahoe.com/event/northern-nevada-international-dragon-boat-festival/
LOCATION:Sparks Marina\, 300 Howard Dr\, Sparks
CATEGORIES:Community Events,Festival,Outdoors
END:VEVENT
BEGIN:VEVENT
DTSTART;TZID=America/Los_Angeles:20210731T193000
DTEND;TZID=America/Los_Angeles:20210731T210000
DTSTAMP:20260425T065251
CREATED:20210514T000419Z
LAST-MODIFIED:20210514T000419Z
UID:24259-1627759800-1627765200@oldediblerenotahoe.com
SUMMARY:ARTOWN CLOSING NIGHT: BUFFY SAINTE-MARIE
DESCRIPTION:Sainte-Marie has spent her whole life creating\, and her artistry\, humanitarian efforts\, and Indigenous leadership have made her a unique force in the music industry. In 1969\, she made one of the world’s first electronic vocal albums; in 1982 she became the only Indigenous person to win an Oscar; she spent five years on Sesame Street where she became the first woman to breastfeed on national television. She’s been blacklisted and silenced. She’s written pop standards sung and recorded by the likes of Janis Joplin\, Elvis Presley\, Donovan\, Joe Cocker and Jennifer Warnes. She penned “Universal Soldier\,” the definitive anti-war anthem of the 20th century. She is an icon who keeps one foot firmly planted on either side of the North American border\, in the un-surrendered territories that comprise Canada and the USA.
URL:https://oldediblerenotahoe.com/event/artown-closing-night-buffy-sainte-marie/
LOCATION:Rancho San Rafael Regional Park\, 1595 N Sierra St\, Reno
CATEGORIES:Activity,Arts,Community Events,Cultural,Festival,Music,Nonprofit,Outdoors
END:VEVENT
BEGIN:VEVENT
DTSTART;VALUE=DATE:20210730
DTEND;VALUE=DATE:20210816
DTSTAMP:20260425T065251
CREATED:20210512T230239Z
LAST-MODIFIED:20210512T230239Z
UID:24130-1627603200-1629071999@oldediblerenotahoe.com
SUMMARY:Classical Tahoe Festival & Music Institute 10th Anniversary
DESCRIPTION:Each summer\, Classical Tahoe brings together America’s leading classical musicians for a three-week festival of orchestra concerts on the campus of Sierra Nevada University in Incline Village\, Nev.
URL:https://oldediblerenotahoe.com/event/classical-tahoe-festival-music-institute-10th-anniversary/
LOCATION:Sierra Nevada University\, 999 Tahoe Blvd\, Incline Village\, NV
CATEGORIES:Arts,Community Events,Festival,Music
END:VEVENT
BEGIN:VEVENT
DTSTART;VALUE=DATE:20210727
DTEND;VALUE=DATE:20210731
DTSTAMP:20260425T065251
CREATED:20210513T212604Z
LAST-MODIFIED:20210513T212604Z
UID:24218-1627344000-1627689599@oldediblerenotahoe.com
SUMMARY:Lake Tahoe Dance Festival
DESCRIPTION:This summer we will feature world-renowned dancers including Holly Curran\, Traci Finch\, Chris McDaniel\, Christin Hanna\, Stephen Hanna\, and Ashley Bouder.⁠\n⁠See these extraordinary dancers in works by Jehbreal Jackson\, Constantine Baecher\, Kristina Berger\, Erik Wagner\, Durante Verzola\, Marco Pelle\, and Jack Blackmon. Stay tuned for more festival information to follow in the coming weeks.⁠\n⁠Ticketing is limited and available by socially distanced\, two-person pods.
URL:https://oldediblerenotahoe.com/event/lake-tahoe-dance-festival/
LOCATION:Gatekeeper’s Museum\, 130 W Lake Blvd\, Tahoe City\, CA\, 96145
CATEGORIES:Arts,Community Events,Dance,Festival,Outdoors
END:VEVENT
BEGIN:VEVENT
DTSTART;TZID=America/Los_Angeles:20210724T130000
DTEND;TZID=America/Los_Angeles:20210724T160000
DTSTAMP:20260425T065251
CREATED:20210721T204835Z
LAST-MODIFIED:20210721T204835Z
UID:24720-1627131600-1627142400@oldediblerenotahoe.com
SUMMARY:Inaugural Dr. Martin Luther King Jr. Celebration Summerfest 2021
DESCRIPTION:The Northern Nevada Dr. Martin Luther King\, Jr. Memorial Committee presents its first annual Dr. Martin Luther Kings\, Jr.\, Summerfest. The Summerfest will include fun for the whole family\, community fellowship\, games\, music\, art\, and food trucks. \nThis event will be held at Pat Baker Park on Saturday\, July 24th\, from 1:00-4:00 pm. It is our goal that this event will inspire the community to take action in support of human and civil rights in their day-to-day interactions and work. \nThe Northern Nevada Dr. MLK\, Jr.\, Memorial Committee promotes collaborative and cooperative relations\, encourages the sharing of information among all organizations and faith groups. We work with our members and the community at large to support inclusion\, kindness\, charity\, love\, and respect among all religious groups and residents of Nevada. Our goal is to understand and honor all faiths\, cultures\, and beliefs. We create an environment of understanding through communication\, having an open mind and open heart\, and joining together to focus on what unites us while respecting how we differ. \nAs part of the festivities\, a new mural will be created at Pat Baker Park. Artist Terrence Hammond\, a local muralist and painter\, will lead the painting of the mural. Community members will have an opportunity to help lay the foundation for the mural during the event. The mural\, funded by the City of Reno’s 2% for Public Art fund\, will depict and honor local black women and men who have made a difference in our community. Hammond says\, “Given Pat Baker Park as the location\, the concept reflects an authentic street art style that children can understand as well as bringing an aesthetic that is unique and appreciated by all age groups. The characters are representations of Evelyn Mount\, Kenneth B. Dalton\, Dolores Feemster\, Bernice Matthews\, and Ondra L. Berry all of whom have made significant contributions to black culture and community in our city.”
URL:https://oldediblerenotahoe.com/event/inaugural-dr-martin-luther-king-jr-celebration-summerfest-2021/
LOCATION:Pat Baker Park\, 1910 Bishop St.\, Reno\, NV\, 89512
CATEGORIES:Community Events,Cultural,Festival,Food & Drink,Outdoors
END:VEVENT
BEGIN:VEVENT
DTSTART;VALUE=DATE:20210724
DTEND;VALUE=DATE:20210726
DTSTAMP:20260425T065251
CREATED:20210527T202711Z
LAST-MODIFIED:20210527T202711Z
UID:24328-1627084800-1627257599@oldediblerenotahoe.com
SUMMARY:Lost Sierra Electric Bike Festival
DESCRIPTION:Eco Bike Adventures presents: The 6th Annual LOST SIERRA ELECTRIC BIKE FEST \nAbout this Event \nEco Bike Adventures presents: \nThe 6th Annual LOST SIERRA ELECTRIC BIKE FEST July 23-25\, 2021 \nThe 6th Annual Lost Sierra Electric Bike Festival is your opportunity to connect with people who share the same passion for Electric Bikes and the great outdoors. The 3-day Electric Bike Festival includes camping\, electric bike racing/demos\, BBQ and festivities. \nLocated less than an hour from Reno\, NV or Truckee\, CA and four hours from San Francisco\, CA\, the Lost Sierra is a lesser known\, yet stunningly beautiful region of the Sierra Nevada. It is a high alpine area with spectacular features such as the Sierra Buttes\, Gold Lake\, Graeagle and the gold rush town turned mountain bike Mecca\, of Downieville. \nYou can camp with us at the Diamond S Ranch Friday / Saturday Night\, and enjoy a buffet-style Western BBQ in our traditional dutch barn Saturday Night\, and then enjoy some music and videos with family and friends. Guided tours will be provided as a chance to get out and enjoy the local Lost Sierra. \nEarly Bird All Festival Pass for Camping on Friday and Saturday night July 23/24 including unlimited race entries\, electric bike demos & BBQ is $199. \nWater & bathrooms available on site.
URL:https://oldediblerenotahoe.com/event/lost-sierra-electric-bike-festival/
LOCATION:Eco Bike Adventures Sierra Valley\, 3559 Beckwourth Calpine Road\, Beckwourth\, CA
CATEGORIES:Community Events,Festival,Outdoors
END:VEVENT
BEGIN:VEVENT
DTSTART;VALUE=DATE:20210724
DTEND;VALUE=DATE:20210725
DTSTAMP:20260425T065251
CREATED:20210512T230000Z
LAST-MODIFIED:20210512T230000Z
UID:24127-1627084800-1627171199@oldediblerenotahoe.com
SUMMARY:Northern Nevada Pride
DESCRIPTION:Participate in the parade and show your pride!
URL:https://oldediblerenotahoe.com/event/northern-nevada-pride/
LOCATION:Wingfield Park
CATEGORIES:Community Events,Festival,Outdoors
END:VEVENT
BEGIN:VEVENT
DTSTART;TZID=America/Los_Angeles:20210717T193000
DTEND;TZID=America/Los_Angeles:20210717T210000
DTSTAMP:20260425T065251
CREATED:20210513T231349Z
LAST-MODIFIED:20210513T231349Z
UID:24248-1626550200-1626555600@oldediblerenotahoe.com
SUMMARY:SIERRA NEVADA BALLET PRESENTS: GISELLE
DESCRIPTION:The famous classic Giselle is the bittersweet story of love and death that has moved audiences of all ages in every corner of the world. It is possibly the best-loved of the world’s ballets about the peasant girl who falls in love with a Prince\, dies of a broken heart and is transformed into a spirit protecting her lover from the vengeance of a group of evil female spirits called Wilis. SNB’s production features DaYoung Jung\, Alehendro Gonzales\, Ananda Bena-Weber and a cast of 30 dancers.
URL:https://oldediblerenotahoe.com/event/sierra-nevada-ballet-presents-giselle/
LOCATION:Rancho San Rafael Regional Park\, 1595 N Sierra St\, Reno
CATEGORIES:Arts,Community Events,Cultural,Dance,Festival,Nonprofit,Outdoors
END:VEVENT
BEGIN:VEVENT
DTSTART;VALUE=DATE:20210717
DTEND;VALUE=DATE:20210823
DTSTAMP:20260425T065251
CREATED:20210513T211221Z
LAST-MODIFIED:20210513T211221Z
UID:24215-1626480000-1629676799@oldediblerenotahoe.com
SUMMARY:Lake Tahoe Shakespeare Festival
DESCRIPTION:Entertainment\, family\, friends and food/drink will converge under the stars again on the scenic shore of Lake Tahoe this summer as Lake Tahoe Shakespeare Festival (LTSF) launches its 2021 season. Showcasing live entertainment seven nights a week at Sand Harbor\, Lake Tahoe Nevada State Park\, Lake Tahoe Shakespeare Festival’s 2021 season is headlined by mega-hit productions of Much Ado About Nothing\, Shakespeare’s sublime battle of wits and wills\, and Mamma Mia!\, the smash hit feel-good musical. Mamma Mia! (Music and lyrics by Benny Andersson and Björn Ulvaeus / Some songs with Stig Anderson / Book by Catherine Johnson / Originally conceived by Judy Craymer) is presented through special arrangement with MUSIC THEATRE INTERNATIONAL (MTI). \n 
URL:https://oldediblerenotahoe.com/event/lake-tahoe-shakespeare-festival/
LOCATION:Sand Harbor State Park\, 2005 NV-28\, Incline Village\, NV\, 89451
CATEGORIES:Arts,Community Events,Festival,Outdoors,Theatre
END:VEVENT
BEGIN:VEVENT
DTSTART;TZID=America/Los_Angeles:20210716T180000
DTEND;TZID=America/Los_Angeles:20210716T220000
DTSTAMP:20260425T065251
CREATED:20210527T202346Z
LAST-MODIFIED:20210527T202346Z
UID:24326-1626458400-1626472800@oldediblerenotahoe.com
SUMMARY:Gospel Fest 2021
DESCRIPTION:World of Life Ministries presents the 14th Annual Gospel Fest\, featuring Grammy Award-winning Artist-Writer Juanita Wynn and Dove Award Nominated Producer K-Ross. Additional performances by The Wynn Sisters\, Desean Horne\, David Perez\, Luke Wynn\, Joshua Watson\, William J. Wynn\, Cherael Murray and Sky Davis.
URL:https://oldediblerenotahoe.com/event/gospel-fest-2021/
LOCATION:Rancho San Rafael Regional Park\, 1595 N Sierra St\, Reno
CATEGORIES:Arts,Community Events,Cultural,Dance,Festival,Music,Nonprofit,Outdoors
END:VEVENT
BEGIN:VEVENT
DTSTART;TZID=America/Los_Angeles:20210710T170000
DTEND;TZID=America/Los_Angeles:20210710T170000
DTSTAMP:20260425T065251
CREATED:20210513T225830Z
LAST-MODIFIED:20210513T225830Z
UID:24238-1625936400-1625936400@oldediblerenotahoe.com
SUMMARY:Pops on the River
DESCRIPTION:Pssst…we have some swingin’ news just for you! Good news – you don’t need a secret password to find out about this speakeasy. We know you’ve been waiting to hear from us about the Reno Phil’s next move for Pops on the River – The Golden Era of Reno. Plans for the party of the century were well underway last year when the whole world changed and forced us to pause to protect the whole operation\, “Che peccato.” Well\, the time to pick up a mic and fedora\, step into the spotlight and saddle up is now\, and we’re ready to let you in on a little secret- we’ve figured out a way to move our party upriver and bring back the city’s best pop-up celebration in the park for 2021. \nTHE MUSIC\nThe Reno Phil honors “The First Lady of Song” Ella Fitzgerald. This concert will feature many of her most beloved hits from the Great American Songbook\, including How High the Moon\,  Summertime\, A-Tisket\, A-Tasket\, Satin Doll\, Blue Skies\,  and many more.  Starring the Reno Phil Orchestra under the baton of Maestro Laura Jackson and two amazing vocalists\, Capathia Jenkins & Aisha de Haas. Join the Reno Phil  for an unforgettable journey through some of history’s most cherished songs.
URL:https://oldediblerenotahoe.com/event/pops-on-the-river/
LOCATION:Rancho San Rafael Regional Park\, 1595 N Sierra St\, Reno
CATEGORIES:Arts,Community Events,Festival,Music,Nonprofit,Outdoors
END:VEVENT
BEGIN:VEVENT
DTSTART;TZID=America/Los_Angeles:20210710T090000
DTEND;TZID=America/Los_Angeles:20210710T140000
DTSTAMP:20260425T065251
CREATED:20210513T230057Z
LAST-MODIFIED:20210513T230057Z
UID:24240-1625907600-1625925600@oldediblerenotahoe.com
SUMMARY:7th Annual Lavender Day
DESCRIPTION:Join us outside the Labyrinth Garden and in Saint Patrick’s Grove as we host our 7th annual Lavender Day.  \nThe scent of lavender will be in the air\, come and celebrate! \nThere will be demonstrations on harvesting\, infusing\, and cooking with lavender and other mini-presentations. \nTen varieties of lavender plants will be available to purchase – all chosen to grow in Northern Nevada. Master Gardeners will also be on hand to provide growing tips for our area. \nPurchase fresh lavender wreaths and DIY kits to make lavender wands. Enjoy shopping with local artists and other exhibitors – purchase natural bath and body products as well as essential oils\, candles\, and edible products made or infused with lavender\, jewelry\, garden art and stakes\, fairy garden accessories\, and more. \nBeat the heat with our thirst quenching\, homemade lavender lemonade and iced tea. \nEnjoy the vocal talents of the Retro Radio Girls – a local all female harmony trio performing a delightful mix of classical hits from bygone years to popular modern songs with a unique twist. 
URL:https://oldediblerenotahoe.com/event/7th-annual-lavender-day/
LOCATION:Rancho San Rafael Regional Park\, 1595 N Sierra St\, Reno
CATEGORIES:Activity,Community Events,Festival,Gardening,Nonprofit,Outdoors
END:VEVENT
BEGIN:VEVENT
DTSTART;TZID=America/Los_Angeles:20210703T193000
DTEND;TZID=America/Los_Angeles:20210703T193000
DTSTAMP:20260425T065251
CREATED:20210513T225440Z
LAST-MODIFIED:20210513T225440Z
UID:24235-1625340600-1625340600@oldediblerenotahoe.com
SUMMARY:AMERICAN SALUTE: JULY 4TH WITH THE RENO PHIL
DESCRIPTION:In celebration with Artown\, the Reno Phil Orchestra and vocalist Kyle Rea will perform patriotic and classical favorites at Rancho San Rafael Regional Park on Saturday and Sunday\, July 3rd & 4th during Artown. Conducted by Jason Altieri\, this family friendly performance will begin at 7:30pm and will end with a fantastic firework finale.
URL:https://oldediblerenotahoe.com/event/american-salute-july-4th-with-the-reno-phil/
LOCATION:Rancho San Rafael Regional Park\, 1595 N Sierra St\, Reno
CATEGORIES:Arts,Community Events,Festival,Holiday,Music,Outdoors
END:VEVENT
BEGIN:VEVENT
DTSTART;TZID=America/Los_Angeles:20210701T193000
DTEND;TZID=America/Los_Angeles:20210701T210000
DTSTAMP:20260425T065251
CREATED:20210513T225034Z
LAST-MODIFIED:20210513T225034Z
UID:24233-1625167800-1625173200@oldediblerenotahoe.com
SUMMARY:Artown Opening Night: the Hot Sardines
DESCRIPTION:Fueled by the belief that classic jazz feeds the heart and soul\, THE HOT SARDINES are on a mission to make old sounds new again and prove that joyful music can bring people together in a disconnected world. In the last two years\, the Hot Sardines have been featured at the Newport Jazz Festival and the Montreal Jazz Festival\, have sold out NYC venues from Joe’s Pub to Bowery Ballroom and more than 150 tour dates from Chicago to London\, and have released two albums on Universal Music Classics to critical raves and a No. 1 slot on the iTunes Jazz chart in the U.S. and internationally.
URL:https://oldediblerenotahoe.com/event/artown-opening-night-the-hot-sardines/
LOCATION:Rancho San Rafael Regional Park\, 1595 N Sierra St\, Reno
CATEGORIES:Activity,Arts,Community Events,Festival,Music,Outdoors
END:VEVENT
BEGIN:VEVENT
DTSTART;TZID=America/Los_Angeles:20210619T130000
DTEND;TZID=America/Los_Angeles:20210619T170000
DTSTAMP:20260425T065251
CREATED:20210512T231320Z
LAST-MODIFIED:20210512T231320Z
UID:24139-1624107600-1624122000@oldediblerenotahoe.com
SUMMARY:4th Annual 2021 Brewfest
DESCRIPTION:Beer\, spirits\, kombucha\, soda tasting and live music.
URL:https://oldediblerenotahoe.com/event/4th-annual-2021-brewfest/
LOCATION:Shops at Heavenly Village\, 1001 Heavenly Village Way\, South Lake Tahoe
CATEGORIES:Community Events,Festival,Food & Drink,Outdoors
END:VEVENT
END:VCALENDAR