BEGIN:VCALENDAR
VERSION:2.0
PRODID:-//Edible Reno-Tahoe - ECPv6.15.20//NONSGML v1.0//EN
CALSCALE:GREGORIAN
METHOD:PUBLISH
X-WR-CALNAME:Edible Reno-Tahoe
X-ORIGINAL-URL:https://oldediblerenotahoe.com
X-WR-CALDESC:Events for Edible Reno-Tahoe
REFRESH-INTERVAL;VALUE=DURATION:PT1H
X-Robots-Tag:noindex
X-PUBLISHED-TTL:PT1H
BEGIN:VTIMEZONE
TZID:America/Los_Angeles
BEGIN:DAYLIGHT
TZOFFSETFROM:-0800
TZOFFSETTO:-0700
TZNAME:PDT
DTSTART:20220313T100000
END:DAYLIGHT
BEGIN:STANDARD
TZOFFSETFROM:-0700
TZOFFSETTO:-0800
TZNAME:PST
DTSTART:20221106T090000
END:STANDARD
BEGIN:DAYLIGHT
TZOFFSETFROM:-0800
TZOFFSETTO:-0700
TZNAME:PDT
DTSTART:20230312T100000
END:DAYLIGHT
BEGIN:STANDARD
TZOFFSETFROM:-0700
TZOFFSETTO:-0800
TZNAME:PST
DTSTART:20231105T090000
END:STANDARD
BEGIN:DAYLIGHT
TZOFFSETFROM:-0800
TZOFFSETTO:-0700
TZNAME:PDT
DTSTART:20240310T100000
END:DAYLIGHT
BEGIN:STANDARD
TZOFFSETFROM:-0700
TZOFFSETTO:-0800
TZNAME:PST
DTSTART:20241103T090000
END:STANDARD
BEGIN:DAYLIGHT
TZOFFSETFROM:-0800
TZOFFSETTO:-0700
TZNAME:PDT
DTSTART:20250309T100000
END:DAYLIGHT
BEGIN:STANDARD
TZOFFSETFROM:-0700
TZOFFSETTO:-0800
TZNAME:PST
DTSTART:20251102T090000
END:STANDARD
END:VTIMEZONE
BEGIN:VEVENT
DTSTART;TZID=America/Los_Angeles:20240702T193000
DTEND;TZID=America/Los_Angeles:20240702T213000
DTSTAMP:20260424T095554
CREATED:20231216T195728Z
LAST-MODIFIED:20231216T195728Z
UID:35821-1719948600-1719955800@oldediblerenotahoe.com
SUMMARY:Lake Tahoe Shakespeare Festival: Always ... Patsy Cline
DESCRIPTION:Enjoy the touching true story of Patsy Cline’s friendship with a fan\, Louise Seger\, which started in 1961 and continued until the premature death of the renowned country star. Told through Cline’s music\, this humorous and heartfelt tribute features 27 songs and many of her unforgettable hits such as “Crazy\,” “I Fall to Pieces\,” “Sweet Dreams” and “Walking After Midnight.”
URL:https://oldediblerenotahoe.com/event/ltsfalways-2024-07-02/
LOCATION:Sand Harbor State Park\, 2005 NV-28\, Incline Village\, NV\, 89451
CATEGORIES:Festival,Theatre
ATTACH;FMTTYPE=image/png:https://oldediblerenotahoe.com/wp-content/uploads/2023/12/PatsyCline-ShowPage.png
END:VEVENT
BEGIN:VEVENT
DTSTART;VALUE=DATE:20240701
DTEND;VALUE=DATE:20240801
DTSTAMP:20260424T095554
CREATED:20240318T034753Z
LAST-MODIFIED:20240318T034753Z
UID:37900-1719792000-1722470399@oldediblerenotahoe.com
SUMMARY:Reno is Artown
DESCRIPTION:
URL:https://oldediblerenotahoe.com/event/reno-is-artown/
LOCATION:NV
CATEGORIES:Community Events,Festival
END:VEVENT
BEGIN:VEVENT
DTSTART;TZID=America/Los_Angeles:20240630T193000
DTEND;TZID=America/Los_Angeles:20240630T213000
DTSTAMP:20260424T095554
CREATED:20231216T195728Z
LAST-MODIFIED:20231216T195728Z
UID:35820-1719775800-1719783000@oldediblerenotahoe.com
SUMMARY:Lake Tahoe Shakespeare Festival: Always ... Patsy Cline
DESCRIPTION:Enjoy the touching true story of Patsy Cline’s friendship with a fan\, Louise Seger\, which started in 1961 and continued until the premature death of the renowned country star. Told through Cline’s music\, this humorous and heartfelt tribute features 27 songs and many of her unforgettable hits such as “Crazy\,” “I Fall to Pieces\,” “Sweet Dreams” and “Walking After Midnight.”
URL:https://oldediblerenotahoe.com/event/ltsfalways-2024-06-30/
LOCATION:Sand Harbor State Park\, 2005 NV-28\, Incline Village\, NV\, 89451
CATEGORIES:Festival,Theatre
ATTACH;FMTTYPE=image/png:https://oldediblerenotahoe.com/wp-content/uploads/2023/12/PatsyCline-ShowPage.png
END:VEVENT
BEGIN:VEVENT
DTSTART;TZID=America/Los_Angeles:20240629T193000
DTEND;TZID=America/Los_Angeles:20240629T213000
DTSTAMP:20260424T095554
CREATED:20231216T195728Z
LAST-MODIFIED:20231216T195728Z
UID:35819-1719689400-1719696600@oldediblerenotahoe.com
SUMMARY:Lake Tahoe Shakespeare Festival: Always ... Patsy Cline
DESCRIPTION:Enjoy the touching true story of Patsy Cline’s friendship with a fan\, Louise Seger\, which started in 1961 and continued until the premature death of the renowned country star. Told through Cline’s music\, this humorous and heartfelt tribute features 27 songs and many of her unforgettable hits such as “Crazy\,” “I Fall to Pieces\,” “Sweet Dreams” and “Walking After Midnight.”
URL:https://oldediblerenotahoe.com/event/ltsfalways-2024-06-29/
LOCATION:Sand Harbor State Park\, 2005 NV-28\, Incline Village\, NV\, 89451
CATEGORIES:Festival,Theatre
ATTACH;FMTTYPE=image/png:https://oldediblerenotahoe.com/wp-content/uploads/2023/12/PatsyCline-ShowPage.png
END:VEVENT
BEGIN:VEVENT
DTSTART;TZID=America/Los_Angeles:20240628T193000
DTEND;TZID=America/Los_Angeles:20240628T213000
DTSTAMP:20260424T095554
CREATED:20231216T195728Z
LAST-MODIFIED:20231216T195728Z
UID:35817-1719603000-1719610200@oldediblerenotahoe.com
SUMMARY:Lake Tahoe Shakespeare Festival: Always ... Patsy Cline
DESCRIPTION:Enjoy the touching true story of Patsy Cline’s friendship with a fan\, Louise Seger\, which started in 1961 and continued until the premature death of the renowned country star. Told through Cline’s music\, this humorous and heartfelt tribute features 27 songs and many of her unforgettable hits such as “Crazy\,” “I Fall to Pieces\,” “Sweet Dreams” and “Walking After Midnight.”
URL:https://oldediblerenotahoe.com/event/ltsfalways/
LOCATION:Sand Harbor State Park\, 2005 NV-28\, Incline Village\, NV\, 89451
CATEGORIES:Festival,Theatre
ATTACH;FMTTYPE=image/png:https://oldediblerenotahoe.com/wp-content/uploads/2023/12/PatsyCline-ShowPage.png
END:VEVENT
BEGIN:VEVENT
DTSTART;TZID=America/Los_Angeles:20240622T150000
DTEND;TZID=America/Los_Angeles:20240622T200000
DTSTAMP:20260424T095554
CREATED:20240318T034603Z
LAST-MODIFIED:20240318T034603Z
UID:37898-1719068400-1719086400@oldediblerenotahoe.com
SUMMARY:Capital City Brewfest
DESCRIPTION:There’s no better way to kickoff summertime in the high desert than sipping your way through more than two dozen local breweries in the heart of historic Carson City. Breweries\, distilleries\, and both cider and kombucha makers will be serving up samples alongside local food trucks and live music. \n 
URL:https://oldediblerenotahoe.com/event/capital-city-brewfest-3/
LOCATION:Downtown Carson City
CATEGORIES:21+,Festival,Food & Drink
END:VEVENT
BEGIN:VEVENT
DTSTART;TZID=America/Los_Angeles:20240622T133000
DTEND;TZID=America/Los_Angeles:20240622T210000
DTSTAMP:20260424T095554
CREATED:20240311T040848Z
LAST-MODIFIED:20240311T040848Z
UID:37753-1719063000-1719090000@oldediblerenotahoe.com
SUMMARY:Lake Tahoe Is For Lovers
DESCRIPTION:
URL:https://oldediblerenotahoe.com/event/lake-tahoe-is-for-lovers/
LOCATION:Harvey’s Lake Tahoe
CATEGORIES:Festival
ATTACH;FMTTYPE=image/jpeg:https://oldediblerenotahoe.com/wp-content/uploads/2024/03/TahoeIsForLovers_1024.jpg
END:VEVENT
BEGIN:VEVENT
DTSTART;TZID=America/Los_Angeles:20240615T120000
DTEND;TZID=America/Los_Angeles:20240615T220000
DTSTAMP:20260424T095554
CREATED:20240318T033515Z
LAST-MODIFIED:20240318T033515Z
UID:37887-1718452800-1718488800@oldediblerenotahoe.com
SUMMARY:27th Annual BBQ\, Brews & Blues Festival
DESCRIPTION:
URL:https://oldediblerenotahoe.com/event/27th-annual-bbq-brews-blues-festival-2024-06-15/
LOCATION:The Row
CATEGORIES:21+,Festival,Food & Drink
END:VEVENT
BEGIN:VEVENT
DTSTART;TZID=America/Los_Angeles:20240614T150000
DTEND;TZID=America/Los_Angeles:20240614T230000
DTSTAMP:20260424T095554
CREATED:20240318T033515Z
LAST-MODIFIED:20240318T033515Z
UID:37886-1718377200-1718406000@oldediblerenotahoe.com
SUMMARY:27th Annual BBQ\, Brews & Blues Festival
DESCRIPTION:
URL:https://oldediblerenotahoe.com/event/27th-annual-bbq-brews-blues-festival/
LOCATION:The Row
CATEGORIES:21+,Festival,Food & Drink
END:VEVENT
BEGIN:VEVENT
DTSTART;VALUE=DATE:20240607
DTEND;VALUE=DATE:20240610
DTSTAMP:20260424T095554
CREATED:20240318T033247Z
LAST-MODIFIED:20240318T033247Z
UID:37884-1717718400-1717977599@oldediblerenotahoe.com
SUMMARY:Reno River Festival
DESCRIPTION:The Reno River Festival heats up in 2024 with three days of outdoor adventure in the heart of downtown Reno! The festival is moving to June 7-9 and adding an extra day in the sun to celebrate all things summer. Riverfest features concerts in the park\, food\, local craft beer\, award-winning hard seltzers\, shopping\, adrenaline-pumping thrill rides\, the most unique bike ride in Northern Nevada\, the largest cornhole event in the region\, a new festival scavenger hunt\, AND the brand-new Great Reno River Rally!
URL:https://oldediblerenotahoe.com/event/reno-river-festival-2/
LOCATION:Wingfield Park
CATEGORIES:Activity,Family friendly,Festival
END:VEVENT
BEGIN:VEVENT
DTSTART;VALUE=DATE:20240531
DTEND;VALUE=DATE:20240603
DTSTAMP:20260424T095554
CREATED:20231228T005514Z
LAST-MODIFIED:20231228T005514Z
UID:36543-1717113600-1717372799@oldediblerenotahoe.com
SUMMARY:Back Country Festival
DESCRIPTION:BackCountry Festival is here\, featuring live country music performances\, barbecue\, and brews! This summer\, the music\, food\, and beer fest is set to take place at Corley Ranch in the beautiful Eastern Sierra.
URL:https://oldediblerenotahoe.com/event/back-country-festival/
LOCATION:Corley Ranch\, Carson Valley\, NV
CATEGORIES:Festival,Music
END:VEVENT
BEGIN:VEVENT
DTSTART;VALUE=DATE:20240524
DTEND;VALUE=DATE:20240528
DTSTAMP:20260424T095554
CREATED:20240514T231551Z
LAST-MODIFIED:20240514T231551Z
UID:38528-1716508800-1716854399@oldediblerenotahoe.com
SUMMARY:Casino Fandango's Rockin' Rib-Fest
DESCRIPTION:Renowned rib cookers from across the nation will be manning the grills—including crowd favorites like Get ‘Er-Smoked\, Carson City BBQ\, Men Wielding Fire\, Big Daddy’s Sin City\, Awesome Aussie Australian BBQ and Battle Born Smokers.
URL:https://oldediblerenotahoe.com/event/casino-fandangos-rockin-rib-fest/
LOCATION:Casino Fandango\, 3800 S. Carson St.\, Carson City\, NV\, 89701
CATEGORIES:Festival,Food & Drink
END:VEVENT
BEGIN:VEVENT
DTSTART;TZID=America/Los_Angeles:20240519T100000
DTEND;TZID=America/Los_Angeles:20240519T170000
DTSTAMP:20260424T095554
CREATED:20240114T160238Z
LAST-MODIFIED:20240114T160238Z
UID:37073-1716112800-1716138000@oldediblerenotahoe.com
SUMMARY:42nd Annual Chili On The Comstock & Craft Brew Tour
DESCRIPTION:Summer starts in Virginia City and that means chili and beer! With countless chili cooks vying to win the title (and your hearts) and craft brews from Virginia City and the region\, there’s no better way to start May than with the most delicious event around.
URL:https://oldediblerenotahoe.com/event/42nd-annual-chili-on-the-comstock-craft-brew-tour-2024-05-19/
LOCATION:Virginia City
CATEGORIES:Festival,Food & Drink
END:VEVENT
BEGIN:VEVENT
DTSTART;TZID=America/Los_Angeles:20240518T100000
DTEND;TZID=America/Los_Angeles:20240518T170000
DTSTAMP:20260424T095554
CREATED:20240114T160238Z
LAST-MODIFIED:20240114T160238Z
UID:37072-1716026400-1716051600@oldediblerenotahoe.com
SUMMARY:42nd Annual Chili On The Comstock & Craft Brew Tour
DESCRIPTION:Summer starts in Virginia City and that means chili and beer! With countless chili cooks vying to win the title (and your hearts) and craft brews from Virginia City and the region\, there’s no better way to start May than with the most delicious event around.
URL:https://oldediblerenotahoe.com/event/42nd-annual-chili-on-the-comstock-craft-brew-tour/
LOCATION:Virginia City
CATEGORIES:Festival,Food & Drink
END:VEVENT
BEGIN:VEVENT
DTSTART;VALUE=DATE:20240505
DTEND;VALUE=DATE:20240506
DTSTAMP:20260424T095554
CREATED:20240212T180602Z
LAST-MODIFIED:20240212T180602Z
UID:37288-1714867200-1714953599@oldediblerenotahoe.com
SUMMARY:Jewish Film Festival
DESCRIPTION:
URL:https://oldediblerenotahoe.com/event/jewish-film-festival/
LOCATION:National Automobile Museum\, 10 South Lake St.\, Reno\, 89501
CATEGORIES:Cultural,Festival,Film
END:VEVENT
BEGIN:VEVENT
DTSTART;TZID=America/Los_Angeles:20240420T100000
DTEND;TZID=America/Los_Angeles:20240420T180000
DTSTAMP:20260424T095554
CREATED:20231128T035621Z
LAST-MODIFIED:20240114T153413Z
UID:35630-1713607200-1713636000@oldediblerenotahoe.com
SUMMARY:Reno Earth Day
DESCRIPTION:An excellent opportunity for everyone in the family to learn about the environment\, better practices. Shop\, enjoy music\, food and beer. 
URL:https://oldediblerenotahoe.com/event/reno-earth-day-3/
LOCATION:Idlewild Park\, 1000 Cowan Dr.\, Reno\, NV\, 89509
CATEGORIES:Festival
END:VEVENT
BEGIN:VEVENT
DTSTART;TZID=America/Los_Angeles:20240414T160000
DTEND;TZID=America/Los_Angeles:20240414T210000
DTSTAMP:20260424T095554
CREATED:20240216T231447Z
LAST-MODIFIED:20240216T231447Z
UID:37387-1713110400-1713128400@oldediblerenotahoe.com
SUMMARY:Banff Mountain Film Festival World Tour
DESCRIPTION:
URL:https://oldediblerenotahoe.com/event/banff-mountain-film-festival-world-tour/
LOCATION:Downtown Reno Ballroom\, 401 N Center St.\, Reno\, NV
CATEGORIES:Festival,Film
END:VEVENT
BEGIN:VEVENT
DTSTART;TZID=America/Los_Angeles:20240407T140000
DTEND;TZID=America/Los_Angeles:20240407T230000
DTSTAMP:20260424T095554
CREATED:20231005T203651Z
LAST-MODIFIED:20231005T203651Z
UID:34535-1712498400-1712530800@oldediblerenotahoe.com
SUMMARY:8th Annual WinterWonderGrass Festival
DESCRIPTION:The WinterWonderGrass Festival is a harmonious celebration that bridges the gap between nature\, music\, and family\, sparking inspiration at every turn. It thrives on the belief that when people gather with open hearts and open minds\, embracing their differences and unique perspectives\, they dissolve the illusion of separation and come together as one. This event serves as a powerful platform where artists\, vendors\, attendees\, and our precious planet unite\, fostering a deeper sense of community and connection.
URL:https://oldediblerenotahoe.com/event/8thwinterwondergrass-2024-04-07/
LOCATION:Palisades Tahoe\, 1960 Squaw Valley Road\, Olympic Valley\, CA\, 96146
CATEGORIES:Festival,Music
ATTACH;FMTTYPE=image/png:https://oldediblerenotahoe.com/wp-content/uploads/2023/10/header.png
END:VEVENT
BEGIN:VEVENT
DTSTART;TZID=America/Los_Angeles:20240406T140000
DTEND;TZID=America/Los_Angeles:20240406T230000
DTSTAMP:20260424T095554
CREATED:20231005T203651Z
LAST-MODIFIED:20231005T203651Z
UID:34534-1712412000-1712444400@oldediblerenotahoe.com
SUMMARY:8th Annual WinterWonderGrass Festival
DESCRIPTION:The WinterWonderGrass Festival is a harmonious celebration that bridges the gap between nature\, music\, and family\, sparking inspiration at every turn. It thrives on the belief that when people gather with open hearts and open minds\, embracing their differences and unique perspectives\, they dissolve the illusion of separation and come together as one. This event serves as a powerful platform where artists\, vendors\, attendees\, and our precious planet unite\, fostering a deeper sense of community and connection.
URL:https://oldediblerenotahoe.com/event/8thwinterwondergrass-2024-04-06/
LOCATION:Palisades Tahoe\, 1960 Squaw Valley Road\, Olympic Valley\, CA\, 96146
CATEGORIES:Festival,Music
ATTACH;FMTTYPE=image/png:https://oldediblerenotahoe.com/wp-content/uploads/2023/10/header.png
END:VEVENT
BEGIN:VEVENT
DTSTART;TZID=America/Los_Angeles:20240405T140000
DTEND;TZID=America/Los_Angeles:20240405T230000
DTSTAMP:20260424T095554
CREATED:20231005T203651Z
LAST-MODIFIED:20231005T203651Z
UID:34530-1712325600-1712358000@oldediblerenotahoe.com
SUMMARY:8th Annual WinterWonderGrass Festival
DESCRIPTION:The WinterWonderGrass Festival is a harmonious celebration that bridges the gap between nature\, music\, and family\, sparking inspiration at every turn. It thrives on the belief that when people gather with open hearts and open minds\, embracing their differences and unique perspectives\, they dissolve the illusion of separation and come together as one. This event serves as a powerful platform where artists\, vendors\, attendees\, and our precious planet unite\, fostering a deeper sense of community and connection.
URL:https://oldediblerenotahoe.com/event/8thwinterwondergrass/
LOCATION:Palisades Tahoe\, 1960 Squaw Valley Road\, Olympic Valley\, CA\, 96146
CATEGORIES:Festival,Music
ATTACH;FMTTYPE=image/png:https://oldediblerenotahoe.com/wp-content/uploads/2023/10/header.png
END:VEVENT
BEGIN:VEVENT
DTSTART;TZID=America/Los_Angeles:20240316T100000
DTEND;TZID=America/Los_Angeles:20240316T160000
DTSTAMP:20260424T095554
CREATED:20240114T155744Z
LAST-MODIFIED:20240114T155744Z
UID:37068-1710583200-1710604800@oldediblerenotahoe.com
SUMMARY:Rocky Mountain Oyster Fry
DESCRIPTION:Ready to have a ball or two? Put the 33rd Rocky Mountain Oyster Fry and St. Patrick’s Day celebration in historic Virginia City on the top of your list – one of the largest\, festive St. Patrick’s Day events in the west. Daring revelers sample tasty testes from cooks competing for the title of Best Rocky Mountain Oyster Cook in the country. This testy festy includes a whole day of fun with music\, a parade\, the most outlandish St. Patrick’s Day atmosphere around and\, of course\, Rocky Mountain Oysters being served up piping hot in a variety of tasty ways.
URL:https://oldediblerenotahoe.com/event/rocky-mountain-oyster-fry/
LOCATION:Virginia City
CATEGORIES:Festival,Food & Drink
END:VEVENT
BEGIN:VEVENT
DTSTART;VALUE=DATE:20240229
DTEND;VALUE=DATE:20240311
DTSTAMP:20260424T095554
CREATED:20231128T022537Z
LAST-MODIFIED:20231128T022537Z
UID:35554-1709164800-1710115199@oldediblerenotahoe.com
SUMMARY:North Lake Tahoe SNOWFEST
DESCRIPTION:North Lake Tahoe SNOWFEST is one of the largest winter mountain festivals on the west coast. This annual event celebrates the best of North Lake Tahoe and all it has to offer by showcasing the relationships between the North Lake Tahoe community and the people who visit. The mission of this event is to support local nonprofits\, public programs\, student organizations\, and scholarships\, through the production of our unique ten-day festival.
URL:https://oldediblerenotahoe.com/event/north-lake-tahoe-snowfest/
LOCATION:North Lake Tahoe
CATEGORIES:Festival,Nonprofit
ATTACH;FMTTYPE=image/png:https://oldediblerenotahoe.com/wp-content/uploads/2023/11/Official-SNOWFEST-LOGO-favicon.png
END:VEVENT
BEGIN:VEVENT
DTSTART;TZID=America/Los_Angeles:20240218T160000
DTEND;TZID=America/Los_Angeles:20240218T230000
DTSTAMP:20260424T095554
CREATED:20231024T224944Z
LAST-MODIFIED:20231024T224944Z
UID:34847-1708272000-1708297200@oldediblerenotahoe.com
SUMMARY:Lake Tahoe Winter Reggae Festival
DESCRIPTION:Good Vibez Presents and PR Entertainment\, Inc.\, the teams behind Lake Tahoe’s Reggae Festival\, announce the Lake Tahoe Winter Reggae Festival 2024 on February 17th and 18th. Reggae legends Damian ‘Jr Gong’ & Stephen Marley and Stick Figure will perform at the Tahoe Blue Event Center in Stateline\, Nevada. Tickets are available now for two days of reggae music\, featuring other artists like The Green and Collie Buddz.
URL:https://oldediblerenotahoe.com/event/lake-tahoe-winter-reggae-festival-2024-02-18/
LOCATION:Tahoe Blue Event Center\, Stateline\, NV
CATEGORIES:Festival,Music
ATTACH;FMTTYPE=image/png:https://oldediblerenotahoe.com/wp-content/uploads/2023/10/unnamed-1.png
END:VEVENT
BEGIN:VEVENT
DTSTART;TZID=America/Los_Angeles:20240217T160000
DTEND;TZID=America/Los_Angeles:20240217T230000
DTSTAMP:20260424T095554
CREATED:20231024T224944Z
LAST-MODIFIED:20231024T224944Z
UID:34843-1708185600-1708210800@oldediblerenotahoe.com
SUMMARY:Lake Tahoe Winter Reggae Festival
DESCRIPTION:Good Vibez Presents and PR Entertainment\, Inc.\, the teams behind Lake Tahoe’s Reggae Festival\, announce the Lake Tahoe Winter Reggae Festival 2024 on February 17th and 18th. Reggae legends Damian ‘Jr Gong’ & Stephen Marley and Stick Figure will perform at the Tahoe Blue Event Center in Stateline\, Nevada. Tickets are available now for two days of reggae music\, featuring other artists like The Green and Collie Buddz.
URL:https://oldediblerenotahoe.com/event/lake-tahoe-winter-reggae-festival/
LOCATION:Tahoe Blue Event Center\, Stateline\, NV
CATEGORIES:Festival,Music
ATTACH;FMTTYPE=image/png:https://oldediblerenotahoe.com/wp-content/uploads/2023/10/unnamed-1.png
END:VEVENT
BEGIN:VEVENT
DTSTART;VALUE=DATE:20240204
DTEND;VALUE=DATE:20240208
DTSTAMP:20260424T095554
CREATED:20231216T224408Z
LAST-MODIFIED:20231216T224408Z
UID:36110-1707004800-1707350399@oldediblerenotahoe.com
SUMMARY:Reno Latin Dance Fest
DESCRIPTION:
URL:https://oldediblerenotahoe.com/event/reno-latin-dance-fest/
LOCATION:NV
CATEGORIES:Activity,Festival
END:VEVENT
BEGIN:VEVENT
DTSTART;TZID=America/Los_Angeles:20240203T110000
DTEND;TZID=America/Los_Angeles:20240203T150000
DTSTAMP:20260424T095554
CREATED:20231220T004929Z
LAST-MODIFIED:20231220T004929Z
UID:36219-1706958000-1706972400@oldediblerenotahoe.com
SUMMARY:Groundhog Fever Festival
DESCRIPTION:Step out of your routine and mark Saturday\, February 3rd\, on your calendar to attend the Annual Groundhog Fever Festival\, promising an afternoon of excitement and entertainment! The festivities kick off at 11:00 a.m. with a series of mini-contests featuring enticing prizes throughout the day. From the intriguing Whip Cream Wrangle to the beloved Flip Cup Fight for beer enthusiasts\, the event caters to all ages. Quincy’s furry forecaster\, Chuck Wood\, predicts winter’s fate\, leading into Arm Wrestle-Mania and the Facial Hair Frenzy. Kids can showcase their creativity at the make-your-own-mustache booth\, while the Kid Zone\, sponsored by local businesses\, offers a variety of activities. Quircus brings back the fun with cotton candy\, face painting\, and more\, while Sierra Buttes Trail Stewardship and Gott Powersports introduce exciting additions. Explore a classic car display\, savor chili at the cook-off\, and enjoy beer or wine at the booths. Don’t miss out on this fantastic event brought to you by the Quincy Chamber of Commerce with a decade of support from The Knook in serving the Quincy community.
URL:https://oldediblerenotahoe.com/event/groundhog-fever-festival/
LOCATION:Downtown Quincy
CATEGORIES:Family friendly,Festival
ATTACH;FMTTYPE=image/png:https://oldediblerenotahoe.com/wp-content/uploads/2023/12/2024-GFF-Flyer-w-sponsor.png
END:VEVENT
BEGIN:VEVENT
DTSTART;TZID=America/Los_Angeles:20240120T120000
DTEND;TZID=America/Los_Angeles:20240120T213000
DTSTAMP:20260424T095554
CREATED:20231216T190325Z
LAST-MODIFIED:20231216T190325Z
UID:35765-1705752000-1705786200@oldediblerenotahoe.com
SUMMARY:The Biggest Little Theatre Festival
DESCRIPTION:The thirteenth annual BIGGEST little Theatre Festival at Brüka Theatre is a showcase for original theatre pieces featuring traditional and nontraditional performances created by local and regional artists. Aligning with Brüka Theatre’s Mission:  To create and share the experience of innovative theatre\, this small festival features performances in our downtown Sub-Brüka space. Each performance is 60 minutes in length or under and followed by a talk-back.
URL:https://oldediblerenotahoe.com/event/the-biggest-little-theatre-festival-2024-01-20/
LOCATION:Brüka Theatre\, 99 North Virginia Street\, Reno\, NV\, 89501
CATEGORIES:Festival,Theatre
END:VEVENT
BEGIN:VEVENT
DTSTART;TZID=America/Los_Angeles:20240119T183000
DTEND;TZID=America/Los_Angeles:20240119T213000
DTSTAMP:20260424T095554
CREATED:20231216T190325Z
LAST-MODIFIED:20231216T190325Z
UID:35764-1705689000-1705699800@oldediblerenotahoe.com
SUMMARY:The Biggest Little Theatre Festival
DESCRIPTION:The thirteenth annual BIGGEST little Theatre Festival at Brüka Theatre is a showcase for original theatre pieces featuring traditional and nontraditional performances created by local and regional artists. Aligning with Brüka Theatre’s Mission:  To create and share the experience of innovative theatre\, this small festival features performances in our downtown Sub-Brüka space. Each performance is 60 minutes in length or under and followed by a talk-back.
URL:https://oldediblerenotahoe.com/event/the-biggest-little-theatre-festival-2024-01-19/
LOCATION:Brüka Theatre\, 99 North Virginia Street\, Reno\, NV\, 89501
CATEGORIES:Festival,Theatre
END:VEVENT
BEGIN:VEVENT
DTSTART;TZID=America/Los_Angeles:20240118T180000
DTEND;TZID=America/Los_Angeles:20240118T200000
DTSTAMP:20260424T095554
CREATED:20231216T190325Z
LAST-MODIFIED:20231216T190325Z
UID:35763-1705600800-1705608000@oldediblerenotahoe.com
SUMMARY:The Biggest Little Theatre Festival
DESCRIPTION:The thirteenth annual BIGGEST little Theatre Festival at Brüka Theatre is a showcase for original theatre pieces featuring traditional and nontraditional performances created by local and regional artists. Aligning with Brüka Theatre’s Mission:  To create and share the experience of innovative theatre\, this small festival features performances in our downtown Sub-Brüka space. Each performance is 60 minutes in length or under and followed by a talk-back.
URL:https://oldediblerenotahoe.com/event/the-biggest-little-theatre-festival/
LOCATION:Brüka Theatre\, 99 North Virginia Street\, Reno\, NV\, 89501
CATEGORIES:Festival,Theatre
END:VEVENT
BEGIN:VEVENT
DTSTART;TZID=America/Los_Angeles:20231222T180000
DTEND;TZID=America/Los_Angeles:20231222T210000
DTSTAMP:20260424T095554
CREATED:20231128T020206Z
LAST-MODIFIED:20231128T020206Z
UID:35537-1703268000-1703278800@oldediblerenotahoe.com
SUMMARY:Cornish Christmas
DESCRIPTION:Downtown Grass Valley will be filled with the sights and sounds of an old-fashioned Christmas: carolers\, musicians\, and a fire pit to warm your hands.  Look for Santa and Mrs. Claus\, the Snow Queen\, the Tree Lady\, and other holiday characters.  The event hosts craft and food vendors\, and the town shops\, restaurants\, wine-tasting rooms\, tap houses\, and bars are open.  The streets will be awash in festive holiday décor\, lights\, and sparkling windows.
URL:https://oldediblerenotahoe.com/event/cornish-christmas-2023-12-22/
LOCATION:Downtown Grass Valley
CATEGORIES:Festival,Holiday,Shopping
ATTACH;FMTTYPE=image/jpeg:https://oldediblerenotahoe.com/wp-content/uploads/2023/11/DgC-DSBAkYeQn6aXgAwMl33f.jpg
END:VEVENT
END:VCALENDAR