BEGIN:VCALENDAR
VERSION:2.0
PRODID:-//Edible Reno-Tahoe - ECPv6.15.20//NONSGML v1.0//EN
CALSCALE:GREGORIAN
METHOD:PUBLISH
X-ORIGINAL-URL:https://oldediblerenotahoe.com
X-WR-CALDESC:Events for Edible Reno-Tahoe
REFRESH-INTERVAL;VALUE=DURATION:PT1H
X-Robots-Tag:noindex
X-PUBLISHED-TTL:PT1H
BEGIN:VTIMEZONE
TZID:America/Los_Angeles
BEGIN:DAYLIGHT
TZOFFSETFROM:-0800
TZOFFSETTO:-0700
TZNAME:PDT
DTSTART:20230312T100000
END:DAYLIGHT
BEGIN:STANDARD
TZOFFSETFROM:-0700
TZOFFSETTO:-0800
TZNAME:PST
DTSTART:20231105T090000
END:STANDARD
BEGIN:DAYLIGHT
TZOFFSETFROM:-0800
TZOFFSETTO:-0700
TZNAME:PDT
DTSTART:20240310T100000
END:DAYLIGHT
BEGIN:STANDARD
TZOFFSETFROM:-0700
TZOFFSETTO:-0800
TZNAME:PST
DTSTART:20241103T090000
END:STANDARD
BEGIN:DAYLIGHT
TZOFFSETFROM:-0800
TZOFFSETTO:-0700
TZNAME:PDT
DTSTART:20250309T100000
END:DAYLIGHT
BEGIN:STANDARD
TZOFFSETFROM:-0700
TZOFFSETTO:-0800
TZNAME:PST
DTSTART:20251102T090000
END:STANDARD
END:VTIMEZONE
BEGIN:VEVENT
DTSTART;TZID=America/Los_Angeles:20240915T103000
DTEND;TZID=America/Los_Angeles:20240915T143000
DTSTAMP:20260424T091549
CREATED:20230922T193120Z
LAST-MODIFIED:20230922T193120Z
UID:36280-1726396200-1726410600@oldediblerenotahoe.com
SUMMARY:Sunday Music Brunch
DESCRIPTION:Sunday Music Brunch at the Nevada Museum of Art Café is the perfect precursor to an afternoon exploring galleries. Chef Colin Smith has updated the menu to include an eclectic array of options from traditional breakfast fare to lunch options–both of which pair nicely with juice\, coffee\, champagne or a mimosa. Enjoy live music by Colin Ross from 11:30 to 2:30. Doors open at 10:30 am and service continues until 2:30 pm. Reservations are required for parties of five or more\, but encouraged for all as space is limited. Museum members receive 10% savings as a benefit of membership. \nCall the Café at 775-284-2921 for more information.
URL:https://oldediblerenotahoe.com/event/sundaymusicbrunch-2024-09-15/
LOCATION:Nevada Museum of Art\, 160 West Liberty\, Reno\, Nevada\, 89501
CATEGORIES:Food & Drink,Music
ATTACH;FMTTYPE=image/jpeg:https://oldediblerenotahoe.com/wp-content/uploads/2023/09/Roundabout_CafeAtNMA-Spring2022-3186-768x432-1.jpg
END:VEVENT
BEGIN:VEVENT
DTSTART;TZID=America/Los_Angeles:20240914T160000
DTEND;TZID=America/Los_Angeles:20240914T220000
DTSTAMP:20260424T091549
CREATED:20240624T190648Z
LAST-MODIFIED:20240713T211850Z
UID:38888-1726329600-1726351200@oldediblerenotahoe.com
SUMMARY:Reno Rodeo Foundation's Rhythm & Rawhide Reimagined
DESCRIPTION:Enjoy an unforgettable evening at the Reno Ballroom on September 14\, 2024 at the Reno Rodeo Foundation’s Rhythm & Rawhide Reimagined. This year\, the event features performances by three incredible local artists: Patrice\, Huckleberry Road\, and Madeiros Drive. \nThe Reno Rodeo Foundation\, in partnership with Dolan Auto Group\, proudly presents this much-anticipated country western-infused fundraising event that has been delightfully reimagined. \nIt’s a night where cowboy hats\, jeans\, summer dresses\, and cowboy boots are all welcome\, blending the charm of country music with a festive atmosphere. Over the years\, Rhythm & Rawhide has become the place to be for musical enthusiasts and social butterflies alike. And\, this year\, there are a few options depending on when you want to join in!
URL:https://oldediblerenotahoe.com/event/rhythm-rawhide/
LOCATION:Downtown Reno Ballroom\, 401 N Center St.\, Reno\, NV
CATEGORIES:Food & Drink,Gala,Music,Nonprofit
ATTACH;FMTTYPE=image/jpeg:https://oldediblerenotahoe.com/wp-content/uploads/2024/06/ROFOU_109382_May2024_FacebookEventCover_1920x1005-2.jpg
END:VEVENT
BEGIN:VEVENT
DTSTART;TZID=America/Los_Angeles:20240908T103000
DTEND;TZID=America/Los_Angeles:20240908T143000
DTSTAMP:20260424T091549
CREATED:20230922T193120Z
LAST-MODIFIED:20230922T193120Z
UID:36279-1725791400-1725805800@oldediblerenotahoe.com
SUMMARY:Sunday Music Brunch
DESCRIPTION:Sunday Music Brunch at the Nevada Museum of Art Café is the perfect precursor to an afternoon exploring galleries. Chef Colin Smith has updated the menu to include an eclectic array of options from traditional breakfast fare to lunch options–both of which pair nicely with juice\, coffee\, champagne or a mimosa. Enjoy live music by Colin Ross from 11:30 to 2:30. Doors open at 10:30 am and service continues until 2:30 pm. Reservations are required for parties of five or more\, but encouraged for all as space is limited. Museum members receive 10% savings as a benefit of membership. \nCall the Café at 775-284-2921 for more information.
URL:https://oldediblerenotahoe.com/event/sundaymusicbrunch-2024-09-08/
LOCATION:Nevada Museum of Art\, 160 West Liberty\, Reno\, Nevada\, 89501
CATEGORIES:Food & Drink,Music
ATTACH;FMTTYPE=image/jpeg:https://oldediblerenotahoe.com/wp-content/uploads/2023/09/Roundabout_CafeAtNMA-Spring2022-3186-768x432-1.jpg
END:VEVENT
BEGIN:VEVENT
DTSTART;TZID=America/Los_Angeles:20240907T163000
DTEND;TZID=America/Los_Angeles:20240907T193000
DTSTAMP:20260424T091549
CREATED:20240318T040557Z
LAST-MODIFIED:20240318T040557Z
UID:37936-1725726600-1725737400@oldediblerenotahoe.com
SUMMARY:Dinner in the Barn
DESCRIPTION:This spectacular dinner series celebrates food\, farm\, and community. Each night is an all-inclusive four course dinner of farm-fresh food\, farm tour\, live music\, and beverages. \nBe dazzled by Executive Chef\, Mike Trombetta\, along with local guest chefs who incorporate over 40 different local\, organic ingredients into the menu that is developed the night of the dinners for your surprise.
URL:https://oldediblerenotahoe.com/event/dinner-in-the-barn-2-2024-09-07/
LOCATION:Sierra Valley Farms\, 1329 County Road A23\, Beckwourth\, CA
CATEGORIES:Food & Drink
END:VEVENT
BEGIN:VEVENT
DTSTART;VALUE=DATE:20240907
DTEND;VALUE=DATE:20240908
DTSTAMP:20260424T091549
CREATED:20240408T032211Z
LAST-MODIFIED:20240408T032211Z
UID:38033-1725667200-1725753599@oldediblerenotahoe.com
SUMMARY:Incline Wine + Food
DESCRIPTION:Incline Wine + Food is a premier annual event located in Incline Village\, nestled along the pristine shores of Lake Tahoe\, bringing together wine aficionados\, culinary connoisseurs\, and champions of community causes. Our purpose is to provide extraordinary experiences that benefit local nonprofits\, support community youth\, and celebrate the finer things in life.
URL:https://oldediblerenotahoe.com/event/incline-wine-food/
CATEGORIES:Food & Drink
END:VEVENT
BEGIN:VEVENT
DTSTART;TZID=America/Los_Angeles:20240901T110000
DTEND;TZID=America/Los_Angeles:20240901T130000
DTSTAMP:20260424T091549
CREATED:20240318T041208Z
LAST-MODIFIED:20240318T041208Z
UID:37932-1725188400-1725195600@oldediblerenotahoe.com
SUMMARY:Brunch in the Barn at the Farm
DESCRIPTION:Join Sierra Valley Farms for Sunday Branch in its 1938 barn. Unique menus utilizing local and organic ingredients will be exquisitely prepared each Sunday.
URL:https://oldediblerenotahoe.com/event/brunch-in-the-barn-at-the-farm-2-2024-09-01/
LOCATION:Sierra Valley Farms\, 1329 County Road A23\, Beckwourth\, CA
CATEGORIES:Food & Drink
END:VEVENT
BEGIN:VEVENT
DTSTART;TZID=America/Los_Angeles:20240901T103000
DTEND;TZID=America/Los_Angeles:20240901T143000
DTSTAMP:20260424T091549
CREATED:20230922T193120Z
LAST-MODIFIED:20230922T193120Z
UID:36278-1725186600-1725201000@oldediblerenotahoe.com
SUMMARY:Sunday Music Brunch
DESCRIPTION:Sunday Music Brunch at the Nevada Museum of Art Café is the perfect precursor to an afternoon exploring galleries. Chef Colin Smith has updated the menu to include an eclectic array of options from traditional breakfast fare to lunch options–both of which pair nicely with juice\, coffee\, champagne or a mimosa. Enjoy live music by Colin Ross from 11:30 to 2:30. Doors open at 10:30 am and service continues until 2:30 pm. Reservations are required for parties of five or more\, but encouraged for all as space is limited. Museum members receive 10% savings as a benefit of membership. \nCall the Café at 775-284-2921 for more information.
URL:https://oldediblerenotahoe.com/event/sundaymusicbrunch-2024-09-01/
LOCATION:Nevada Museum of Art\, 160 West Liberty\, Reno\, Nevada\, 89501
CATEGORIES:Food & Drink,Music
ATTACH;FMTTYPE=image/jpeg:https://oldediblerenotahoe.com/wp-content/uploads/2023/09/Roundabout_CafeAtNMA-Spring2022-3186-768x432-1.jpg
END:VEVENT
BEGIN:VEVENT
DTSTART;VALUE=DATE:20240828
DTEND;VALUE=DATE:20240903
DTSTAMP:20260424T091549
CREATED:20240318T025609Z
LAST-MODIFIED:20240318T025609Z
UID:37865-1724803200-1725321599@oldediblerenotahoe.com
SUMMARY:Best in the West Nugget Rib Cook Off
DESCRIPTION:
URL:https://oldediblerenotahoe.com/event/best-in-the-west-nugget-rib-cook-off-2/
LOCATION:Victorian Square\, Sparks\, NV\, 89431
CATEGORIES:Activity,Festival,Food & Drink
END:VEVENT
BEGIN:VEVENT
DTSTART;TZID=America/Los_Angeles:20240825T103000
DTEND;TZID=America/Los_Angeles:20240825T143000
DTSTAMP:20260424T091549
CREATED:20230922T193120Z
LAST-MODIFIED:20230922T193120Z
UID:36277-1724581800-1724596200@oldediblerenotahoe.com
SUMMARY:Sunday Music Brunch
DESCRIPTION:Sunday Music Brunch at the Nevada Museum of Art Café is the perfect precursor to an afternoon exploring galleries. Chef Colin Smith has updated the menu to include an eclectic array of options from traditional breakfast fare to lunch options–both of which pair nicely with juice\, coffee\, champagne or a mimosa. Enjoy live music by Colin Ross from 11:30 to 2:30. Doors open at 10:30 am and service continues until 2:30 pm. Reservations are required for parties of five or more\, but encouraged for all as space is limited. Museum members receive 10% savings as a benefit of membership. \nCall the Café at 775-284-2921 for more information.
URL:https://oldediblerenotahoe.com/event/sundaymusicbrunch-2024-08-25/
LOCATION:Nevada Museum of Art\, 160 West Liberty\, Reno\, Nevada\, 89501
CATEGORIES:Food & Drink,Music
ATTACH;FMTTYPE=image/jpeg:https://oldediblerenotahoe.com/wp-content/uploads/2023/09/Roundabout_CafeAtNMA-Spring2022-3186-768x432-1.jpg
END:VEVENT
BEGIN:VEVENT
DTSTART;VALUE=DATE:20240823
DTEND;VALUE=DATE:20240826
DTSTAMP:20260424T091549
CREATED:20240318T035144Z
LAST-MODIFIED:20240318T035144Z
UID:37904-1724371200-1724630399@oldediblerenotahoe.com
SUMMARY:Fallon Cantaloupe Festival & Country Fair
DESCRIPTION:Dating all the way back to 1911\, Fallon’s lasting love for locally renowned Hearts of Gold Cantaloupes has turned into the longest food and drink festival in Nevada. Sitting thousands of feet lower in elevation than the Reno area makes Fallon an agricultural hotspot for the Reno-Tahoe region\, with some of the best produce\, meat and dairy\, and award-winning grain-to-glass estate distilled spirits\, though the heralded juicy\, always-flavorful Hearts of Gold Cantaloupe may be Fallon’s crown jewel. It’s certainly been around long enough\, with substantial muskmelon production grown in Fallon\, then shipped to the East predating the Great Depression. Today\, this weekend-long festivity celebrates these specialty Fallon cantaloupes with all kinds of cantaloupe treats—from shakes\, to ice cream\, to juicy slices with decadent toppings and beyond—along with live local entertainment\, carnival rides\, livestock exhibits\, and plenty of vendors and fair food treats.
URL:https://oldediblerenotahoe.com/event/fallon-cantaloupe-festival-country-fair-2/
LOCATION:Churchill County Fairgrounds\, 325 Sheckler Road\, Fallon\, NV\, 89406
CATEGORIES:Community Events,Festival,Food & Drink
END:VEVENT
BEGIN:VEVENT
DTSTART;TZID=America/Los_Angeles:20240818T110000
DTEND;TZID=America/Los_Angeles:20240818T130000
DTSTAMP:20260424T091549
CREATED:20240318T041208Z
LAST-MODIFIED:20240318T041208Z
UID:37931-1723978800-1723986000@oldediblerenotahoe.com
SUMMARY:Brunch in the Barn at the Farm
DESCRIPTION:Join Sierra Valley Farms for Sunday Branch in its 1938 barn. Unique menus utilizing local and organic ingredients will be exquisitely prepared each Sunday.
URL:https://oldediblerenotahoe.com/event/brunch-in-the-barn-at-the-farm-2-2024-08-18/
LOCATION:Sierra Valley Farms\, 1329 County Road A23\, Beckwourth\, CA
CATEGORIES:Food & Drink
END:VEVENT
BEGIN:VEVENT
DTSTART;TZID=America/Los_Angeles:20240818T103000
DTEND;TZID=America/Los_Angeles:20240818T143000
DTSTAMP:20260424T091549
CREATED:20230922T193120Z
LAST-MODIFIED:20230922T193120Z
UID:36276-1723977000-1723991400@oldediblerenotahoe.com
SUMMARY:Sunday Music Brunch
DESCRIPTION:Sunday Music Brunch at the Nevada Museum of Art Café is the perfect precursor to an afternoon exploring galleries. Chef Colin Smith has updated the menu to include an eclectic array of options from traditional breakfast fare to lunch options–both of which pair nicely with juice\, coffee\, champagne or a mimosa. Enjoy live music by Colin Ross from 11:30 to 2:30. Doors open at 10:30 am and service continues until 2:30 pm. Reservations are required for parties of five or more\, but encouraged for all as space is limited. Museum members receive 10% savings as a benefit of membership. \nCall the Café at 775-284-2921 for more information.
URL:https://oldediblerenotahoe.com/event/sundaymusicbrunch-2024-08-18/
LOCATION:Nevada Museum of Art\, 160 West Liberty\, Reno\, Nevada\, 89501
CATEGORIES:Food & Drink,Music
ATTACH;FMTTYPE=image/jpeg:https://oldediblerenotahoe.com/wp-content/uploads/2023/09/Roundabout_CafeAtNMA-Spring2022-3186-768x432-1.jpg
END:VEVENT
BEGIN:VEVENT
DTSTART;TZID=America/Los_Angeles:20240816T160000
DTEND;TZID=America/Los_Angeles:20240816T210000
DTSTAMP:20260424T091549
CREATED:20240226T200900Z
LAST-MODIFIED:20240226T200900Z
UID:37422-1723824000-1723842000@oldediblerenotahoe.com
SUMMARY:Food Truck Friday
DESCRIPTION:Come hungry and leave full with over 35 rotating gourmet food\, craft desserts\, beer\, wine\, and mixed drink vendors to serve you weekly. Free to attend with live music\, lots of grass to sit on with friends and family\, plenty of parking and a large playground\,  we are a great family event for locals.  Relax in the park\, bring your lawn chairs and a blanket and let us cook for you! Reno Street Food is the original weekly gourmet street food event in Reno put on by locals for locals.
URL:https://oldediblerenotahoe.com/event/food-truck-friday-2-2024-08-16/
CATEGORIES:Food & Drink
END:VEVENT
BEGIN:VEVENT
DTSTART;TZID=America/Los_Angeles:20240814T170000
DTEND;TZID=America/Los_Angeles:20240814T203000
DTSTAMP:20260424T091549
CREATED:20240526T213638Z
LAST-MODIFIED:20240526T213638Z
UID:38814-1723654800-1723667400@oldediblerenotahoe.com
SUMMARY:Feed the Camel
DESCRIPTION:
URL:https://oldediblerenotahoe.com/event/feed-the-camel-3-2024-08-14/
LOCATION:McKinley Arts and Culture Center\, 925 Riverside Dr.\, Reno\, NV
CATEGORIES:Food & Drink
END:VEVENT
BEGIN:VEVENT
DTSTART;TZID=America/Los_Angeles:20240811T103000
DTEND;TZID=America/Los_Angeles:20240811T143000
DTSTAMP:20260424T091549
CREATED:20230922T193120Z
LAST-MODIFIED:20230922T193120Z
UID:36275-1723372200-1723386600@oldediblerenotahoe.com
SUMMARY:Sunday Music Brunch
DESCRIPTION:Sunday Music Brunch at the Nevada Museum of Art Café is the perfect precursor to an afternoon exploring galleries. Chef Colin Smith has updated the menu to include an eclectic array of options from traditional breakfast fare to lunch options–both of which pair nicely with juice\, coffee\, champagne or a mimosa. Enjoy live music by Colin Ross from 11:30 to 2:30. Doors open at 10:30 am and service continues until 2:30 pm. Reservations are required for parties of five or more\, but encouraged for all as space is limited. Museum members receive 10% savings as a benefit of membership. \nCall the Café at 775-284-2921 for more information.
URL:https://oldediblerenotahoe.com/event/sundaymusicbrunch-2024-08-11/
LOCATION:Nevada Museum of Art\, 160 West Liberty\, Reno\, Nevada\, 89501
CATEGORIES:Food & Drink,Music
ATTACH;FMTTYPE=image/jpeg:https://oldediblerenotahoe.com/wp-content/uploads/2023/09/Roundabout_CafeAtNMA-Spring2022-3186-768x432-1.jpg
END:VEVENT
BEGIN:VEVENT
DTSTART;TZID=America/Los_Angeles:20240810T163000
DTEND;TZID=America/Los_Angeles:20240810T193000
DTSTAMP:20260424T091549
CREATED:20240318T040557Z
LAST-MODIFIED:20240318T040557Z
UID:37935-1723307400-1723318200@oldediblerenotahoe.com
SUMMARY:Dinner in the Barn
DESCRIPTION:This spectacular dinner series celebrates food\, farm\, and community. Each night is an all-inclusive four course dinner of farm-fresh food\, farm tour\, live music\, and beverages. \nBe dazzled by Executive Chef\, Mike Trombetta\, along with local guest chefs who incorporate over 40 different local\, organic ingredients into the menu that is developed the night of the dinners for your surprise.
URL:https://oldediblerenotahoe.com/event/dinner-in-the-barn-2-2024-08-10/
LOCATION:Sierra Valley Farms\, 1329 County Road A23\, Beckwourth\, CA
CATEGORIES:Food & Drink
END:VEVENT
BEGIN:VEVENT
DTSTART;TZID=America/Los_Angeles:20240809T160000
DTEND;TZID=America/Los_Angeles:20240809T210000
DTSTAMP:20260424T091549
CREATED:20240226T200900Z
LAST-MODIFIED:20240226T200900Z
UID:37421-1723219200-1723237200@oldediblerenotahoe.com
SUMMARY:Food Truck Friday
DESCRIPTION:Come hungry and leave full with over 35 rotating gourmet food\, craft desserts\, beer\, wine\, and mixed drink vendors to serve you weekly. Free to attend with live music\, lots of grass to sit on with friends and family\, plenty of parking and a large playground\,  we are a great family event for locals.  Relax in the park\, bring your lawn chairs and a blanket and let us cook for you! Reno Street Food is the original weekly gourmet street food event in Reno put on by locals for locals.
URL:https://oldediblerenotahoe.com/event/food-truck-friday-2-2024-08-09/
CATEGORIES:Food & Drink
END:VEVENT
BEGIN:VEVENT
DTSTART;TZID=America/Los_Angeles:20240807T170000
DTEND;TZID=America/Los_Angeles:20240807T203000
DTSTAMP:20260424T091549
CREATED:20240526T213638Z
LAST-MODIFIED:20240526T213638Z
UID:38813-1723050000-1723062600@oldediblerenotahoe.com
SUMMARY:Feed the Camel
DESCRIPTION:
URL:https://oldediblerenotahoe.com/event/feed-the-camel-3-2024-08-07/
LOCATION:McKinley Arts and Culture Center\, 925 Riverside Dr.\, Reno\, NV
CATEGORIES:Food & Drink
END:VEVENT
BEGIN:VEVENT
DTSTART;TZID=America/Los_Angeles:20240804T110000
DTEND;TZID=America/Los_Angeles:20240804T130000
DTSTAMP:20260424T091549
CREATED:20240318T041208Z
LAST-MODIFIED:20240318T041208Z
UID:37930-1722769200-1722776400@oldediblerenotahoe.com
SUMMARY:Brunch in the Barn at the Farm
DESCRIPTION:Join Sierra Valley Farms for Sunday Branch in its 1938 barn. Unique menus utilizing local and organic ingredients will be exquisitely prepared each Sunday.
URL:https://oldediblerenotahoe.com/event/brunch-in-the-barn-at-the-farm-2-2024-08-04/
LOCATION:Sierra Valley Farms\, 1329 County Road A23\, Beckwourth\, CA
CATEGORIES:Food & Drink
END:VEVENT
BEGIN:VEVENT
DTSTART;TZID=America/Los_Angeles:20240804T103000
DTEND;TZID=America/Los_Angeles:20240804T143000
DTSTAMP:20260424T091549
CREATED:20230922T193120Z
LAST-MODIFIED:20230922T193120Z
UID:36274-1722767400-1722781800@oldediblerenotahoe.com
SUMMARY:Sunday Music Brunch
DESCRIPTION:Sunday Music Brunch at the Nevada Museum of Art Café is the perfect precursor to an afternoon exploring galleries. Chef Colin Smith has updated the menu to include an eclectic array of options from traditional breakfast fare to lunch options–both of which pair nicely with juice\, coffee\, champagne or a mimosa. Enjoy live music by Colin Ross from 11:30 to 2:30. Doors open at 10:30 am and service continues until 2:30 pm. Reservations are required for parties of five or more\, but encouraged for all as space is limited. Museum members receive 10% savings as a benefit of membership. \nCall the Café at 775-284-2921 for more information.
URL:https://oldediblerenotahoe.com/event/sundaymusicbrunch-2024-08-04/
LOCATION:Nevada Museum of Art\, 160 West Liberty\, Reno\, Nevada\, 89501
CATEGORIES:Food & Drink,Music
ATTACH;FMTTYPE=image/jpeg:https://oldediblerenotahoe.com/wp-content/uploads/2023/09/Roundabout_CafeAtNMA-Spring2022-3186-768x432-1.jpg
END:VEVENT
BEGIN:VEVENT
DTSTART;TZID=America/Los_Angeles:20240803T110000
DTEND;TZID=America/Los_Angeles:20240803T180000
DTSTAMP:20260424T091549
CREATED:20240318T043648Z
LAST-MODIFIED:20240723T011346Z
UID:37951-1722682800-1722708000@oldediblerenotahoe.com
SUMMARY:Reno Garlic Fest
DESCRIPTION:
URL:https://oldediblerenotahoe.com/event/reno-garlic-fest-2/
LOCATION:McKinley Arts and Culture Center\, 925 Riverside Dr.\, Reno\, NV
CATEGORIES:Festival,Food & Drink
END:VEVENT
BEGIN:VEVENT
DTSTART;TZID=America/Los_Angeles:20240802T160000
DTEND;TZID=America/Los_Angeles:20240802T210000
DTSTAMP:20260424T091549
CREATED:20240226T200900Z
LAST-MODIFIED:20240226T200900Z
UID:37420-1722614400-1722632400@oldediblerenotahoe.com
SUMMARY:Food Truck Friday
DESCRIPTION:Come hungry and leave full with over 35 rotating gourmet food\, craft desserts\, beer\, wine\, and mixed drink vendors to serve you weekly. Free to attend with live music\, lots of grass to sit on with friends and family\, plenty of parking and a large playground\,  we are a great family event for locals.  Relax in the park\, bring your lawn chairs and a blanket and let us cook for you! Reno Street Food is the original weekly gourmet street food event in Reno put on by locals for locals.
URL:https://oldediblerenotahoe.com/event/food-truck-friday-2-2024-08-02/
CATEGORIES:Food & Drink
END:VEVENT
BEGIN:VEVENT
DTSTART;TZID=America/Los_Angeles:20240731T170000
DTEND;TZID=America/Los_Angeles:20240731T203000
DTSTAMP:20260424T091549
CREATED:20240526T213638Z
LAST-MODIFIED:20240526T213638Z
UID:38812-1722445200-1722457800@oldediblerenotahoe.com
SUMMARY:Feed the Camel
DESCRIPTION:
URL:https://oldediblerenotahoe.com/event/feed-the-camel-3-2024-07-31/
LOCATION:McKinley Arts and Culture Center\, 925 Riverside Dr.\, Reno\, NV
CATEGORIES:Food & Drink
END:VEVENT
BEGIN:VEVENT
DTSTART;TZID=America/Los_Angeles:20240728T103000
DTEND;TZID=America/Los_Angeles:20240728T143000
DTSTAMP:20260424T091549
CREATED:20230922T193120Z
LAST-MODIFIED:20230922T193120Z
UID:36273-1722162600-1722177000@oldediblerenotahoe.com
SUMMARY:Sunday Music Brunch
DESCRIPTION:Sunday Music Brunch at the Nevada Museum of Art Café is the perfect precursor to an afternoon exploring galleries. Chef Colin Smith has updated the menu to include an eclectic array of options from traditional breakfast fare to lunch options–both of which pair nicely with juice\, coffee\, champagne or a mimosa. Enjoy live music by Colin Ross from 11:30 to 2:30. Doors open at 10:30 am and service continues until 2:30 pm. Reservations are required for parties of five or more\, but encouraged for all as space is limited. Museum members receive 10% savings as a benefit of membership. \nCall the Café at 775-284-2921 for more information.
URL:https://oldediblerenotahoe.com/event/sundaymusicbrunch-2024-07-28/
LOCATION:Nevada Museum of Art\, 160 West Liberty\, Reno\, Nevada\, 89501
CATEGORIES:Food & Drink,Music
ATTACH;FMTTYPE=image/jpeg:https://oldediblerenotahoe.com/wp-content/uploads/2023/09/Roundabout_CafeAtNMA-Spring2022-3186-768x432-1.jpg
END:VEVENT
BEGIN:VEVENT
DTSTART;TZID=America/Los_Angeles:20240727T120000
DTEND;TZID=America/Los_Angeles:20240727T220000
DTSTAMP:20260424T091549
CREATED:20240318T034005Z
LAST-MODIFIED:20240318T034005Z
UID:37893-1722081600-1722117600@oldediblerenotahoe.com
SUMMARY:10th Annual Biggest Little City Wing Fest
DESCRIPTION:For the 10th year\, THE ROW brings the Biggest Little City Wing Fest back to the heart of Reno. Bibs are optional where we serve over 20\,000 pounds of cluck-a-licious wings. Award-winning cooks from all over win cash prizes for being the best of the best. \nTHE ROW has cookers from near and far for your tasting pleasure. More than 20\,000 pounds of chicken wings are slathered in sauce\, smoked\, fired\, and grilled to satisfy taste buds across northern Nevada. Come enjoy two days of fiery competition that’s sure to get fierce. \nCookers will present their wings at The Sauce Showdown in the Wing Ring Stadium to be judged in categories like “Best Unique Flavor Wings\,” “Celebrity Choice\,” “Best Sweet Wing\,” and the ever-popular “People’s Choice” with awards presented on Saturday night.
URL:https://oldediblerenotahoe.com/event/10th-annual-biggest-little-city-wing-fest-2024-07-27/
LOCATION:The Row
CATEGORIES:Food & Drink
END:VEVENT
BEGIN:VEVENT
DTSTART;TZID=America/Los_Angeles:20240726T160000
DTEND;TZID=America/Los_Angeles:20240726T210000
DTSTAMP:20260424T091549
CREATED:20240226T200900Z
LAST-MODIFIED:20240226T200900Z
UID:37419-1722009600-1722027600@oldediblerenotahoe.com
SUMMARY:Food Truck Friday
DESCRIPTION:Come hungry and leave full with over 35 rotating gourmet food\, craft desserts\, beer\, wine\, and mixed drink vendors to serve you weekly. Free to attend with live music\, lots of grass to sit on with friends and family\, plenty of parking and a large playground\,  we are a great family event for locals.  Relax in the park\, bring your lawn chairs and a blanket and let us cook for you! Reno Street Food is the original weekly gourmet street food event in Reno put on by locals for locals.
URL:https://oldediblerenotahoe.com/event/food-truck-friday-2-2024-07-26/
CATEGORIES:Food & Drink
END:VEVENT
BEGIN:VEVENT
DTSTART;TZID=America/Los_Angeles:20240726T130000
DTEND;TZID=America/Los_Angeles:20240726T220000
DTSTAMP:20260424T091549
CREATED:20240318T034005Z
LAST-MODIFIED:20240318T034005Z
UID:37892-1721998800-1722031200@oldediblerenotahoe.com
SUMMARY:10th Annual Biggest Little City Wing Fest
DESCRIPTION:For the 10th year\, THE ROW brings the Biggest Little City Wing Fest back to the heart of Reno. Bibs are optional where we serve over 20\,000 pounds of cluck-a-licious wings. Award-winning cooks from all over win cash prizes for being the best of the best. \nTHE ROW has cookers from near and far for your tasting pleasure. More than 20\,000 pounds of chicken wings are slathered in sauce\, smoked\, fired\, and grilled to satisfy taste buds across northern Nevada. Come enjoy two days of fiery competition that’s sure to get fierce. \nCookers will present their wings at The Sauce Showdown in the Wing Ring Stadium to be judged in categories like “Best Unique Flavor Wings\,” “Celebrity Choice\,” “Best Sweet Wing\,” and the ever-popular “People’s Choice” with awards presented on Saturday night.
URL:https://oldediblerenotahoe.com/event/10th-annual-biggest-little-city-wing-fest/
LOCATION:The Row
CATEGORIES:Food & Drink
END:VEVENT
BEGIN:VEVENT
DTSTART;TZID=America/Los_Angeles:20240725T180000
DTEND;TZID=America/Los_Angeles:20240725T210000
DTSTAMP:20260424T091549
CREATED:20240318T032402Z
LAST-MODIFIED:20240318T032402Z
UID:37880-1721930400-1721941200@oldediblerenotahoe.com
SUMMARY:Winemaker Dinner - Frank Family Vineyards
DESCRIPTION:
URL:https://oldediblerenotahoe.com/event/winemaker-dinner-frank-family-vineyards/
LOCATION:Nugget Casino Resort\, 1100 Nugget Avenue\,\, Sparks\, NV
CATEGORIES:21+,Food & Drink,Wine
END:VEVENT
BEGIN:VEVENT
DTSTART;TZID=America/Los_Angeles:20240724T180000
DTEND;TZID=America/Los_Angeles:20240724T213000
DTSTAMP:20260424T091549
CREATED:20240603T222326Z
LAST-MODIFIED:20240603T222326Z
UID:38850-1721844000-1721856600@oldediblerenotahoe.com
SUMMARY:55th Annual Governor's Dinner
DESCRIPTION:Relive the madness by celebrating the 20th anniversary of the 2004 Sweet 16 Team! Hear from former Head Coach Trent Johnson and the basketball greats that made up the Wolf Pack Men’s Basketball team.
URL:https://oldediblerenotahoe.com/event/55th-annual-governors-dinner/
LOCATION:Governor’s Mansion\, 606 Mountain Street\, Carson City\, NV
CATEGORIES:Food & Drink,Gala
ATTACH;FMTTYPE=image/png:https://oldediblerenotahoe.com/wp-content/uploads/2024/06/governorsdinner.png
END:VEVENT
BEGIN:VEVENT
DTSTART;TZID=America/Los_Angeles:20240724T170000
DTEND;TZID=America/Los_Angeles:20240724T203000
DTSTAMP:20260424T091549
CREATED:20240526T213638Z
LAST-MODIFIED:20240526T213638Z
UID:38811-1721840400-1721853000@oldediblerenotahoe.com
SUMMARY:Feed the Camel
DESCRIPTION:
URL:https://oldediblerenotahoe.com/event/feed-the-camel-3-2024-07-24/
LOCATION:McKinley Arts and Culture Center\, 925 Riverside Dr.\, Reno\, NV
CATEGORIES:Food & Drink
END:VEVENT
END:VCALENDAR