BEGIN:VCALENDAR
VERSION:2.0
PRODID:-//Edible Reno-Tahoe - ECPv6.15.20//NONSGML v1.0//EN
CALSCALE:GREGORIAN
METHOD:PUBLISH
X-ORIGINAL-URL:https://oldediblerenotahoe.com
X-WR-CALDESC:Events for Edible Reno-Tahoe
REFRESH-INTERVAL;VALUE=DURATION:PT1H
X-Robots-Tag:noindex
X-PUBLISHED-TTL:PT1H
BEGIN:VTIMEZONE
TZID:America/Los_Angeles
BEGIN:DAYLIGHT
TZOFFSETFROM:-0800
TZOFFSETTO:-0700
TZNAME:PDT
DTSTART:20230312T100000
END:DAYLIGHT
BEGIN:STANDARD
TZOFFSETFROM:-0700
TZOFFSETTO:-0800
TZNAME:PST
DTSTART:20231105T090000
END:STANDARD
BEGIN:DAYLIGHT
TZOFFSETFROM:-0800
TZOFFSETTO:-0700
TZNAME:PDT
DTSTART:20240310T100000
END:DAYLIGHT
BEGIN:STANDARD
TZOFFSETFROM:-0700
TZOFFSETTO:-0800
TZNAME:PST
DTSTART:20241103T090000
END:STANDARD
BEGIN:DAYLIGHT
TZOFFSETFROM:-0800
TZOFFSETTO:-0700
TZNAME:PDT
DTSTART:20250309T100000
END:DAYLIGHT
BEGIN:STANDARD
TZOFFSETFROM:-0700
TZOFFSETTO:-0800
TZNAME:PST
DTSTART:20251102T090000
END:STANDARD
END:VTIMEZONE
BEGIN:VEVENT
DTSTART;TZID=America/Los_Angeles:20240727T120000
DTEND;TZID=America/Los_Angeles:20240727T220000
DTSTAMP:20260424T120909
CREATED:20240318T034005Z
LAST-MODIFIED:20240318T034005Z
UID:37893-1722081600-1722117600@oldediblerenotahoe.com
SUMMARY:10th Annual Biggest Little City Wing Fest
DESCRIPTION:For the 10th year\, THE ROW brings the Biggest Little City Wing Fest back to the heart of Reno. Bibs are optional where we serve over 20\,000 pounds of cluck-a-licious wings. Award-winning cooks from all over win cash prizes for being the best of the best. \nTHE ROW has cookers from near and far for your tasting pleasure. More than 20\,000 pounds of chicken wings are slathered in sauce\, smoked\, fired\, and grilled to satisfy taste buds across northern Nevada. Come enjoy two days of fiery competition that’s sure to get fierce. \nCookers will present their wings at The Sauce Showdown in the Wing Ring Stadium to be judged in categories like “Best Unique Flavor Wings\,” “Celebrity Choice\,” “Best Sweet Wing\,” and the ever-popular “People’s Choice” with awards presented on Saturday night.
URL:https://oldediblerenotahoe.com/event/10th-annual-biggest-little-city-wing-fest-2024-07-27/
LOCATION:The Row
CATEGORIES:Food & Drink
END:VEVENT
BEGIN:VEVENT
DTSTART;TZID=America/Los_Angeles:20240726T160000
DTEND;TZID=America/Los_Angeles:20240726T210000
DTSTAMP:20260424T120909
CREATED:20240226T200900Z
LAST-MODIFIED:20240226T200900Z
UID:37419-1722009600-1722027600@oldediblerenotahoe.com
SUMMARY:Food Truck Friday
DESCRIPTION:Come hungry and leave full with over 35 rotating gourmet food\, craft desserts\, beer\, wine\, and mixed drink vendors to serve you weekly. Free to attend with live music\, lots of grass to sit on with friends and family\, plenty of parking and a large playground\,  we are a great family event for locals.  Relax in the park\, bring your lawn chairs and a blanket and let us cook for you! Reno Street Food is the original weekly gourmet street food event in Reno put on by locals for locals.
URL:https://oldediblerenotahoe.com/event/food-truck-friday-2-2024-07-26/
LOCATION:CA
CATEGORIES:Food & Drink
END:VEVENT
BEGIN:VEVENT
DTSTART;TZID=America/Los_Angeles:20240726T130000
DTEND;TZID=America/Los_Angeles:20240726T220000
DTSTAMP:20260424T120909
CREATED:20240318T034005Z
LAST-MODIFIED:20240318T034005Z
UID:37892-1721998800-1722031200@oldediblerenotahoe.com
SUMMARY:10th Annual Biggest Little City Wing Fest
DESCRIPTION:For the 10th year\, THE ROW brings the Biggest Little City Wing Fest back to the heart of Reno. Bibs are optional where we serve over 20\,000 pounds of cluck-a-licious wings. Award-winning cooks from all over win cash prizes for being the best of the best. \nTHE ROW has cookers from near and far for your tasting pleasure. More than 20\,000 pounds of chicken wings are slathered in sauce\, smoked\, fired\, and grilled to satisfy taste buds across northern Nevada. Come enjoy two days of fiery competition that’s sure to get fierce. \nCookers will present their wings at The Sauce Showdown in the Wing Ring Stadium to be judged in categories like “Best Unique Flavor Wings\,” “Celebrity Choice\,” “Best Sweet Wing\,” and the ever-popular “People’s Choice” with awards presented on Saturday night.
URL:https://oldediblerenotahoe.com/event/10th-annual-biggest-little-city-wing-fest/
LOCATION:The Row
CATEGORIES:Food & Drink
END:VEVENT
BEGIN:VEVENT
DTSTART;TZID=America/Los_Angeles:20240725T180000
DTEND;TZID=America/Los_Angeles:20240725T210000
DTSTAMP:20260424T120909
CREATED:20240318T032402Z
LAST-MODIFIED:20240318T032402Z
UID:37880-1721930400-1721941200@oldediblerenotahoe.com
SUMMARY:Winemaker Dinner - Frank Family Vineyards
DESCRIPTION:
URL:https://oldediblerenotahoe.com/event/winemaker-dinner-frank-family-vineyards/
LOCATION:Nugget Casino Resort\, 1100 Nugget Avenue\,\, Sparks\, NV
CATEGORIES:21+,Food & Drink,Wine
END:VEVENT
BEGIN:VEVENT
DTSTART;TZID=America/Los_Angeles:20240724T180000
DTEND;TZID=America/Los_Angeles:20240724T213000
DTSTAMP:20260424T120909
CREATED:20240603T222326Z
LAST-MODIFIED:20240603T222326Z
UID:38850-1721844000-1721856600@oldediblerenotahoe.com
SUMMARY:55th Annual Governor's Dinner
DESCRIPTION:Relive the madness by celebrating the 20th anniversary of the 2004 Sweet 16 Team! Hear from former Head Coach Trent Johnson and the basketball greats that made up the Wolf Pack Men’s Basketball team.
URL:https://oldediblerenotahoe.com/event/55th-annual-governors-dinner/
LOCATION:Governor’s Mansion\, 606 Mountain Street\, Carson City\, NV
CATEGORIES:Food & Drink,Gala
ATTACH;FMTTYPE=image/png:https://oldediblerenotahoe.com/wp-content/uploads/2024/06/governorsdinner.png
END:VEVENT
BEGIN:VEVENT
DTSTART;TZID=America/Los_Angeles:20240724T170000
DTEND;TZID=America/Los_Angeles:20240724T203000
DTSTAMP:20260424T120909
CREATED:20240526T213638Z
LAST-MODIFIED:20240526T213638Z
UID:38811-1721840400-1721853000@oldediblerenotahoe.com
SUMMARY:Feed the Camel
DESCRIPTION:
URL:https://oldediblerenotahoe.com/event/feed-the-camel-3-2024-07-24/
LOCATION:McKinley Arts and Culture Center\, 925 Riverside Dr.\, Reno\, NV
CATEGORIES:Food & Drink
END:VEVENT
BEGIN:VEVENT
DTSTART;TZID=America/Los_Angeles:20240721T110000
DTEND;TZID=America/Los_Angeles:20240721T130000
DTSTAMP:20260424T120909
CREATED:20240318T041208Z
LAST-MODIFIED:20240318T041208Z
UID:37929-1721559600-1721566800@oldediblerenotahoe.com
SUMMARY:Brunch in the Barn at the Farm
DESCRIPTION:Join Sierra Valley Farms for Sunday Branch in its 1938 barn. Unique menus utilizing local and organic ingredients will be exquisitely prepared each Sunday.
URL:https://oldediblerenotahoe.com/event/brunch-in-the-barn-at-the-farm-2-2024-07-21/
LOCATION:Sierra Valley Farms\, 1329 County Road A23\, Beckwourth\, CA
CATEGORIES:Food & Drink
END:VEVENT
BEGIN:VEVENT
DTSTART;TZID=America/Los_Angeles:20240721T103000
DTEND;TZID=America/Los_Angeles:20240721T143000
DTSTAMP:20260424T120909
CREATED:20230922T193120Z
LAST-MODIFIED:20230922T193120Z
UID:36272-1721557800-1721572200@oldediblerenotahoe.com
SUMMARY:Sunday Music Brunch
DESCRIPTION:Sunday Music Brunch at the Nevada Museum of Art Café is the perfect precursor to an afternoon exploring galleries. Chef Colin Smith has updated the menu to include an eclectic array of options from traditional breakfast fare to lunch options–both of which pair nicely with juice\, coffee\, champagne or a mimosa. Enjoy live music by Colin Ross from 11:30 to 2:30. Doors open at 10:30 am and service continues until 2:30 pm. Reservations are required for parties of five or more\, but encouraged for all as space is limited. Museum members receive 10% savings as a benefit of membership. \nCall the Café at 775-284-2921 for more information.
URL:https://oldediblerenotahoe.com/event/sundaymusicbrunch-2024-07-21/
LOCATION:Nevada Museum of Art\, 160 West Liberty\, Reno\, Nevada\, 89501
CATEGORIES:Food & Drink,Music
ATTACH;FMTTYPE=image/jpeg:https://oldediblerenotahoe.com/wp-content/uploads/2023/09/Roundabout_CafeAtNMA-Spring2022-3186-768x432-1.jpg
END:VEVENT
BEGIN:VEVENT
DTSTART;TZID=America/Los_Angeles:20240720T170000
DTEND;TZID=America/Los_Angeles:20240720T190000
DTSTAMP:20260424T120909
CREATED:20240624T190510Z
LAST-MODIFIED:20240624T190510Z
UID:38885-1721494800-1721502000@oldediblerenotahoe.com
SUMMARY:Equestrian Saturday Night BBQ
DESCRIPTION:Join fellow equestrians for a fun-filled and family-friendly evening of games\, crafts\, contests and a delicious barbecue dinner.\nHighlights include: \n\nPony rides for ages 2-6 (must weigh less than 60 pounds)\nCornhole and roping station\nFamily dress-up and photo station\nHunt for the golden horseshoe\nFamily water balloon toss\n\nMenu features hot dogs\, veggie burgers and hamburgers personalized with favorites from an extensive topping bar that includes bacon\, sauteed mushrooms\, avocado\, veggies\, cheddar\, Swiss and blue cheese. Additional sides and desserts include baked beans\, salads\, brownies and vanilla ice cream.
URL:https://oldediblerenotahoe.com/event/equestrian-saturday-night-bbq/
LOCATION:Alder Creek Adventure Center\, 15275 Alder Creek Rd\, Truckee\, CA\, 96161
CATEGORIES:Activity,Food & Drink
END:VEVENT
BEGIN:VEVENT
DTSTART;TZID=America/Los_Angeles:20240719T160000
DTEND;TZID=America/Los_Angeles:20240719T210000
DTSTAMP:20260424T120909
CREATED:20240226T200900Z
LAST-MODIFIED:20240226T200900Z
UID:37418-1721404800-1721422800@oldediblerenotahoe.com
SUMMARY:Food Truck Friday
DESCRIPTION:Come hungry and leave full with over 35 rotating gourmet food\, craft desserts\, beer\, wine\, and mixed drink vendors to serve you weekly. Free to attend with live music\, lots of grass to sit on with friends and family\, plenty of parking and a large playground\,  we are a great family event for locals.  Relax in the park\, bring your lawn chairs and a blanket and let us cook for you! Reno Street Food is the original weekly gourmet street food event in Reno put on by locals for locals.
URL:https://oldediblerenotahoe.com/event/food-truck-friday-2-2024-07-19/
LOCATION:CA
CATEGORIES:Food & Drink
END:VEVENT
BEGIN:VEVENT
DTSTART;TZID=America/Los_Angeles:20240717T170000
DTEND;TZID=America/Los_Angeles:20240717T203000
DTSTAMP:20260424T120909
CREATED:20240526T213638Z
LAST-MODIFIED:20240526T213638Z
UID:38810-1721235600-1721248200@oldediblerenotahoe.com
SUMMARY:Feed the Camel
DESCRIPTION:
URL:https://oldediblerenotahoe.com/event/feed-the-camel-3-2024-07-17/
LOCATION:McKinley Arts and Culture Center\, 925 Riverside Dr.\, Reno\, NV
CATEGORIES:Food & Drink
END:VEVENT
BEGIN:VEVENT
DTSTART;TZID=America/Los_Angeles:20240714T103000
DTEND;TZID=America/Los_Angeles:20240714T143000
DTSTAMP:20260424T120909
CREATED:20230922T193120Z
LAST-MODIFIED:20230922T193120Z
UID:36271-1720953000-1720967400@oldediblerenotahoe.com
SUMMARY:Sunday Music Brunch
DESCRIPTION:Sunday Music Brunch at the Nevada Museum of Art Café is the perfect precursor to an afternoon exploring galleries. Chef Colin Smith has updated the menu to include an eclectic array of options from traditional breakfast fare to lunch options–both of which pair nicely with juice\, coffee\, champagne or a mimosa. Enjoy live music by Colin Ross from 11:30 to 2:30. Doors open at 10:30 am and service continues until 2:30 pm. Reservations are required for parties of five or more\, but encouraged for all as space is limited. Museum members receive 10% savings as a benefit of membership. \nCall the Café at 775-284-2921 for more information.
URL:https://oldediblerenotahoe.com/event/sundaymusicbrunch-2024-07-14/
LOCATION:Nevada Museum of Art\, 160 West Liberty\, Reno\, Nevada\, 89501
CATEGORIES:Food & Drink,Music
ATTACH;FMTTYPE=image/jpeg:https://oldediblerenotahoe.com/wp-content/uploads/2023/09/Roundabout_CafeAtNMA-Spring2022-3186-768x432-1.jpg
END:VEVENT
BEGIN:VEVENT
DTSTART;TZID=America/Los_Angeles:20240713T163000
DTEND;TZID=America/Los_Angeles:20240713T193000
DTSTAMP:20260424T120909
CREATED:20240318T040557Z
LAST-MODIFIED:20240318T041627Z
UID:37922-1720888200-1720899000@oldediblerenotahoe.com
SUMMARY:Dinner in the Barn
DESCRIPTION:This spectacular dinner series celebrates food\, farm\, and community. Each night is an all-inclusive four course dinner of farm-fresh food\, farm tour\, live music\, and beverages. \nBe dazzled by Executive Chef\, Mike Trombetta\, along with local guest chefs who incorporate over 40 different local\, organic ingredients into the menu that is developed the night of the dinners for your surprise.
URL:https://oldediblerenotahoe.com/event/dinner-in-the-barn-2/
LOCATION:Sierra Valley Farms\, 1329 County Road A23\, Beckwourth\, CA
CATEGORIES:Food & Drink
END:VEVENT
BEGIN:VEVENT
DTSTART;TZID=America/Los_Angeles:20240712T160000
DTEND;TZID=America/Los_Angeles:20240712T210000
DTSTAMP:20260424T120909
CREATED:20240226T200900Z
LAST-MODIFIED:20240226T200900Z
UID:37417-1720800000-1720818000@oldediblerenotahoe.com
SUMMARY:Food Truck Friday
DESCRIPTION:Come hungry and leave full with over 35 rotating gourmet food\, craft desserts\, beer\, wine\, and mixed drink vendors to serve you weekly. Free to attend with live music\, lots of grass to sit on with friends and family\, plenty of parking and a large playground\,  we are a great family event for locals.  Relax in the park\, bring your lawn chairs and a blanket and let us cook for you! Reno Street Food is the original weekly gourmet street food event in Reno put on by locals for locals.
URL:https://oldediblerenotahoe.com/event/food-truck-friday-2-2024-07-12/
LOCATION:CA
CATEGORIES:Food & Drink
END:VEVENT
BEGIN:VEVENT
DTSTART;TZID=America/Los_Angeles:20240710T170000
DTEND;TZID=America/Los_Angeles:20240710T203000
DTSTAMP:20260424T120909
CREATED:20240526T213638Z
LAST-MODIFIED:20240526T213638Z
UID:38809-1720630800-1720643400@oldediblerenotahoe.com
SUMMARY:Feed the Camel
DESCRIPTION:
URL:https://oldediblerenotahoe.com/event/feed-the-camel-3-2024-07-10/
LOCATION:McKinley Arts and Culture Center\, 925 Riverside Dr.\, Reno\, NV
CATEGORIES:Food & Drink
END:VEVENT
BEGIN:VEVENT
DTSTART;TZID=America/Los_Angeles:20240707T110000
DTEND;TZID=America/Los_Angeles:20240707T130000
DTSTAMP:20260424T120909
CREATED:20240318T041208Z
LAST-MODIFIED:20240318T041208Z
UID:37928-1720350000-1720357200@oldediblerenotahoe.com
SUMMARY:Brunch in the Barn at the Farm
DESCRIPTION:Join Sierra Valley Farms for Sunday Branch in its 1938 barn. Unique menus utilizing local and organic ingredients will be exquisitely prepared each Sunday.
URL:https://oldediblerenotahoe.com/event/brunch-in-the-barn-at-the-farm-2-2024-07-07/
LOCATION:Sierra Valley Farms\, 1329 County Road A23\, Beckwourth\, CA
CATEGORIES:Food & Drink
END:VEVENT
BEGIN:VEVENT
DTSTART;TZID=America/Los_Angeles:20240707T103000
DTEND;TZID=America/Los_Angeles:20240707T143000
DTSTAMP:20260424T120909
CREATED:20230922T193120Z
LAST-MODIFIED:20230922T193120Z
UID:36270-1720348200-1720362600@oldediblerenotahoe.com
SUMMARY:Sunday Music Brunch
DESCRIPTION:Sunday Music Brunch at the Nevada Museum of Art Café is the perfect precursor to an afternoon exploring galleries. Chef Colin Smith has updated the menu to include an eclectic array of options from traditional breakfast fare to lunch options–both of which pair nicely with juice\, coffee\, champagne or a mimosa. Enjoy live music by Colin Ross from 11:30 to 2:30. Doors open at 10:30 am and service continues until 2:30 pm. Reservations are required for parties of five or more\, but encouraged for all as space is limited. Museum members receive 10% savings as a benefit of membership. \nCall the Café at 775-284-2921 for more information.
URL:https://oldediblerenotahoe.com/event/sundaymusicbrunch-2024-07-07/
LOCATION:Nevada Museum of Art\, 160 West Liberty\, Reno\, Nevada\, 89501
CATEGORIES:Food & Drink,Music
ATTACH;FMTTYPE=image/jpeg:https://oldediblerenotahoe.com/wp-content/uploads/2023/09/Roundabout_CafeAtNMA-Spring2022-3186-768x432-1.jpg
END:VEVENT
BEGIN:VEVENT
DTSTART;TZID=America/Los_Angeles:20240705T160000
DTEND;TZID=America/Los_Angeles:20240705T210000
DTSTAMP:20260424T120909
CREATED:20240226T200900Z
LAST-MODIFIED:20240226T200900Z
UID:37416-1720195200-1720213200@oldediblerenotahoe.com
SUMMARY:Food Truck Friday
DESCRIPTION:Come hungry and leave full with over 35 rotating gourmet food\, craft desserts\, beer\, wine\, and mixed drink vendors to serve you weekly. Free to attend with live music\, lots of grass to sit on with friends and family\, plenty of parking and a large playground\,  we are a great family event for locals.  Relax in the park\, bring your lawn chairs and a blanket and let us cook for you! Reno Street Food is the original weekly gourmet street food event in Reno put on by locals for locals.
URL:https://oldediblerenotahoe.com/event/food-truck-friday-2-2024-07-05/
LOCATION:CA
CATEGORIES:Food & Drink
END:VEVENT
BEGIN:VEVENT
DTSTART;TZID=America/Los_Angeles:20240703T170000
DTEND;TZID=America/Los_Angeles:20240703T203000
DTSTAMP:20260424T120909
CREATED:20240526T213638Z
LAST-MODIFIED:20240526T213638Z
UID:38808-1720026000-1720038600@oldediblerenotahoe.com
SUMMARY:Feed the Camel
DESCRIPTION:
URL:https://oldediblerenotahoe.com/event/feed-the-camel-3-2024-07-03/
LOCATION:McKinley Arts and Culture Center\, 925 Riverside Dr.\, Reno\, NV
CATEGORIES:Food & Drink
END:VEVENT
BEGIN:VEVENT
DTSTART;TZID=America/Los_Angeles:20240630T110000
DTEND;TZID=America/Los_Angeles:20240630T130000
DTSTAMP:20260424T120909
CREATED:20240318T041208Z
LAST-MODIFIED:20240318T041208Z
UID:37927-1719745200-1719752400@oldediblerenotahoe.com
SUMMARY:Brunch in the Barn at the Farm
DESCRIPTION:Join Sierra Valley Farms for Sunday Branch in its 1938 barn. Unique menus utilizing local and organic ingredients will be exquisitely prepared each Sunday.
URL:https://oldediblerenotahoe.com/event/brunch-in-the-barn-at-the-farm-2-2024-06-30/
LOCATION:Sierra Valley Farms\, 1329 County Road A23\, Beckwourth\, CA
CATEGORIES:Food & Drink
END:VEVENT
BEGIN:VEVENT
DTSTART;TZID=America/Los_Angeles:20240630T103000
DTEND;TZID=America/Los_Angeles:20240630T143000
DTSTAMP:20260424T120909
CREATED:20230922T193120Z
LAST-MODIFIED:20230922T193120Z
UID:36269-1719743400-1719757800@oldediblerenotahoe.com
SUMMARY:Sunday Music Brunch
DESCRIPTION:Sunday Music Brunch at the Nevada Museum of Art Café is the perfect precursor to an afternoon exploring galleries. Chef Colin Smith has updated the menu to include an eclectic array of options from traditional breakfast fare to lunch options–both of which pair nicely with juice\, coffee\, champagne or a mimosa. Enjoy live music by Colin Ross from 11:30 to 2:30. Doors open at 10:30 am and service continues until 2:30 pm. Reservations are required for parties of five or more\, but encouraged for all as space is limited. Museum members receive 10% savings as a benefit of membership. \nCall the Café at 775-284-2921 for more information.
URL:https://oldediblerenotahoe.com/event/sundaymusicbrunch-2024-06-30/
LOCATION:Nevada Museum of Art\, 160 West Liberty\, Reno\, Nevada\, 89501
CATEGORIES:Food & Drink,Music
ATTACH;FMTTYPE=image/jpeg:https://oldediblerenotahoe.com/wp-content/uploads/2023/09/Roundabout_CafeAtNMA-Spring2022-3186-768x432-1.jpg
END:VEVENT
BEGIN:VEVENT
DTSTART;TZID=America/Los_Angeles:20240628T170000
DTEND;TZID=America/Los_Angeles:20240628T203000
DTSTAMP:20260424T120909
CREATED:20240618T053524Z
LAST-MODIFIED:20240618T053524Z
UID:38876-1719594000-1719606600@oldediblerenotahoe.com
SUMMARY:Achieve Tahoe's Summer Wine Tasting
DESCRIPTION:Support outdoor recreation programs that build health\, confidence\, and independence for people with disabilities while enjoying wine from some of Northern California’s top wineries at Achieve Tahoe’s Summer Wine Tasting.
URL:https://oldediblerenotahoe.com/event/achieve-tahoes-summer-wine-tasting-2/
LOCATION:PlumpJack Cafe & Bar\, 1920 Olympic Valley Rd\, Olympic Valley\, CA\, 96146
CATEGORIES:21+,Food & Drink,Nonprofit,Wine
ATTACH;FMTTYPE=image/png:https://oldediblerenotahoe.com/wp-content/uploads/2024/06/AT_SummerWine-banner200x150.png
END:VEVENT
BEGIN:VEVENT
DTSTART;TZID=America/Los_Angeles:20240628T160000
DTEND;TZID=America/Los_Angeles:20240628T210000
DTSTAMP:20260424T120910
CREATED:20240226T200900Z
LAST-MODIFIED:20240226T200900Z
UID:37415-1719590400-1719608400@oldediblerenotahoe.com
SUMMARY:Food Truck Friday
DESCRIPTION:Come hungry and leave full with over 35 rotating gourmet food\, craft desserts\, beer\, wine\, and mixed drink vendors to serve you weekly. Free to attend with live music\, lots of grass to sit on with friends and family\, plenty of parking and a large playground\,  we are a great family event for locals.  Relax in the park\, bring your lawn chairs and a blanket and let us cook for you! Reno Street Food is the original weekly gourmet street food event in Reno put on by locals for locals.
URL:https://oldediblerenotahoe.com/event/food-truck-friday-2-2024-06-28/
LOCATION:CA
CATEGORIES:Food & Drink
END:VEVENT
BEGIN:VEVENT
DTSTART;TZID=America/Los_Angeles:20240627T183000
DTEND;TZID=America/Los_Angeles:20240627T213000
DTSTAMP:20260424T120910
CREATED:20240119T000835Z
LAST-MODIFIED:20240119T000835Z
UID:37182-1719513000-1719523800@oldediblerenotahoe.com
SUMMARY:Winemaker Dinner: Far Niente & Nickel & Nickel
DESCRIPTION:
URL:https://oldediblerenotahoe.com/event/winemaker-dinner-far-niente-nickel-nickel/
LOCATION:Anthony’s Chophouse\, 1100 Nugget Ave\, Sparks\, NV\, 89431
CATEGORIES:21+,Food & Drink,Wine
END:VEVENT
BEGIN:VEVENT
DTSTART;TZID=America/Los_Angeles:20240626T170000
DTEND;TZID=America/Los_Angeles:20240626T203000
DTSTAMP:20260424T120910
CREATED:20240526T213638Z
LAST-MODIFIED:20240526T213638Z
UID:38807-1719421200-1719433800@oldediblerenotahoe.com
SUMMARY:Feed the Camel
DESCRIPTION:
URL:https://oldediblerenotahoe.com/event/feed-the-camel-3-2024-06-26/
LOCATION:McKinley Arts and Culture Center\, 925 Riverside Dr.\, Reno\, NV
CATEGORIES:Food & Drink
END:VEVENT
BEGIN:VEVENT
DTSTART;TZID=America/Los_Angeles:20240623T103000
DTEND;TZID=America/Los_Angeles:20240623T143000
DTSTAMP:20260424T120910
CREATED:20230922T193120Z
LAST-MODIFIED:20230922T193120Z
UID:36268-1719138600-1719153000@oldediblerenotahoe.com
SUMMARY:Sunday Music Brunch
DESCRIPTION:Sunday Music Brunch at the Nevada Museum of Art Café is the perfect precursor to an afternoon exploring galleries. Chef Colin Smith has updated the menu to include an eclectic array of options from traditional breakfast fare to lunch options–both of which pair nicely with juice\, coffee\, champagne or a mimosa. Enjoy live music by Colin Ross from 11:30 to 2:30. Doors open at 10:30 am and service continues until 2:30 pm. Reservations are required for parties of five or more\, but encouraged for all as space is limited. Museum members receive 10% savings as a benefit of membership. \nCall the Café at 775-284-2921 for more information.
URL:https://oldediblerenotahoe.com/event/sundaymusicbrunch-2024-06-23/
LOCATION:Nevada Museum of Art\, 160 West Liberty\, Reno\, Nevada\, 89501
CATEGORIES:Food & Drink,Music
ATTACH;FMTTYPE=image/jpeg:https://oldediblerenotahoe.com/wp-content/uploads/2023/09/Roundabout_CafeAtNMA-Spring2022-3186-768x432-1.jpg
END:VEVENT
BEGIN:VEVENT
DTSTART;TZID=America/Los_Angeles:20240622T180000
DTEND;TZID=America/Los_Angeles:20240622T210000
DTSTAMP:20260424T120910
CREATED:20240504T173856Z
LAST-MODIFIED:20240504T173856Z
UID:38435-1719079200-1719090000@oldediblerenotahoe.com
SUMMARY:Pigs & Pinot
DESCRIPTION:The ultimate celebration of all things pork and wine with Celebrity Chef\, Charlie Palmer. Indulge in this mount-watering experience filled with succulent pork dishes and exquisite pinot noirs.
URL:https://oldediblerenotahoe.com/event/pigs-pinot-2/
LOCATION:Grand Sierra Resort\, 2500 E 2nd St\, Reno\, NV
CATEGORIES:Food & Drink
END:VEVENT
BEGIN:VEVENT
DTSTART;TZID=America/Los_Angeles:20240622T150000
DTEND;TZID=America/Los_Angeles:20240622T200000
DTSTAMP:20260424T120910
CREATED:20240318T034603Z
LAST-MODIFIED:20240318T034603Z
UID:37898-1719068400-1719086400@oldediblerenotahoe.com
SUMMARY:Capital City Brewfest
DESCRIPTION:There’s no better way to kickoff summertime in the high desert than sipping your way through more than two dozen local breweries in the heart of historic Carson City. Breweries\, distilleries\, and both cider and kombucha makers will be serving up samples alongside local food trucks and live music. \n 
URL:https://oldediblerenotahoe.com/event/capital-city-brewfest-3/
LOCATION:Downtown Carson City
CATEGORIES:21+,Festival,Food & Drink
END:VEVENT
BEGIN:VEVENT
DTSTART;TZID=America/Los_Angeles:20240621T160000
DTEND;TZID=America/Los_Angeles:20240621T210000
DTSTAMP:20260424T120910
CREATED:20240226T200900Z
LAST-MODIFIED:20240226T200900Z
UID:37414-1718985600-1719003600@oldediblerenotahoe.com
SUMMARY:Food Truck Friday
DESCRIPTION:Come hungry and leave full with over 35 rotating gourmet food\, craft desserts\, beer\, wine\, and mixed drink vendors to serve you weekly. Free to attend with live music\, lots of grass to sit on with friends and family\, plenty of parking and a large playground\,  we are a great family event for locals.  Relax in the park\, bring your lawn chairs and a blanket and let us cook for you! Reno Street Food is the original weekly gourmet street food event in Reno put on by locals for locals.
URL:https://oldediblerenotahoe.com/event/food-truck-friday-2-2024-06-21/
LOCATION:CA
CATEGORIES:Food & Drink
END:VEVENT
BEGIN:VEVENT
DTSTART;TZID=America/Los_Angeles:20240619T170000
DTEND;TZID=America/Los_Angeles:20240619T203000
DTSTAMP:20260424T120910
CREATED:20240526T213638Z
LAST-MODIFIED:20240526T213638Z
UID:38806-1718816400-1718829000@oldediblerenotahoe.com
SUMMARY:Feed the Camel
DESCRIPTION:
URL:https://oldediblerenotahoe.com/event/feed-the-camel-3-2024-06-19/
LOCATION:McKinley Arts and Culture Center\, 925 Riverside Dr.\, Reno\, NV
CATEGORIES:Food & Drink
END:VEVENT
END:VCALENDAR