BEGIN:VCALENDAR
VERSION:2.0
PRODID:-//Edible Reno-Tahoe - ECPv6.15.20//NONSGML v1.0//EN
CALSCALE:GREGORIAN
METHOD:PUBLISH
X-ORIGINAL-URL:https://oldediblerenotahoe.com
X-WR-CALDESC:Events for Edible Reno-Tahoe
REFRESH-INTERVAL;VALUE=DURATION:PT1H
X-Robots-Tag:noindex
X-PUBLISHED-TTL:PT1H
BEGIN:VTIMEZONE
TZID:America/Los_Angeles
BEGIN:DAYLIGHT
TZOFFSETFROM:-0800
TZOFFSETTO:-0700
TZNAME:PDT
DTSTART:20220313T100000
END:DAYLIGHT
BEGIN:STANDARD
TZOFFSETFROM:-0700
TZOFFSETTO:-0800
TZNAME:PST
DTSTART:20221106T090000
END:STANDARD
BEGIN:DAYLIGHT
TZOFFSETFROM:-0800
TZOFFSETTO:-0700
TZNAME:PDT
DTSTART:20230312T100000
END:DAYLIGHT
BEGIN:STANDARD
TZOFFSETFROM:-0700
TZOFFSETTO:-0800
TZNAME:PST
DTSTART:20231105T090000
END:STANDARD
BEGIN:DAYLIGHT
TZOFFSETFROM:-0800
TZOFFSETTO:-0700
TZNAME:PDT
DTSTART:20240310T100000
END:DAYLIGHT
BEGIN:STANDARD
TZOFFSETFROM:-0700
TZOFFSETTO:-0800
TZNAME:PST
DTSTART:20241103T090000
END:STANDARD
END:VTIMEZONE
BEGIN:VEVENT
DTSTART;TZID=America/Los_Angeles:20231005T093000
DTEND;TZID=America/Los_Angeles:20231005T103000
DTSTAMP:20260425T032427
CREATED:20230927T213737Z
LAST-MODIFIED:20230927T213737Z
UID:34174-1696498200-1696501800@oldediblerenotahoe.com
SUMMARY:Vinyasa Flow Yoga
DESCRIPTION:A dynamic and flowing style of hatha yoga which links breath and movement through a creative series of postures that balance strength and flexibility while cultivating mindfulness through a continuous flow. Vinyasa is cleansing\, heat building and suitable for all levels. Feel supported through gentle hands-on assists while you cleanse your body and focus on your mind.
URL:https://oldediblerenotahoe.com/event/tpovinyasaflow-2023-10-05/
LOCATION:The Peace Offering\, 10075 West River Street\, Suite B\, Truckee\, CA\, 96161
CATEGORIES:Exercise,Health & Wellness
END:VEVENT
BEGIN:VEVENT
DTSTART;TZID=America/Los_Angeles:20231004T093000
DTEND;TZID=America/Los_Angeles:20231004T103000
DTSTAMP:20260425T032427
CREATED:20230927T214318Z
LAST-MODIFIED:20230927T214318Z
UID:34226-1696411800-1696415400@oldediblerenotahoe.com
SUMMARY:Kundalini Yoga
DESCRIPTION:Kundalini Yoga is a practice that has been gifted to us to strengthen and improve our nervous system; to clear and focus the mind; and to bring balance to the body. The specific Kundalini kriya and yoga poses chosen for a class is the same for up to 6 weeks to set the vibration in your body.
URL:https://oldediblerenotahoe.com/event/tpokundaliniyoga/
LOCATION:The Peace Offering\, 10075 West River Street\, Suite B\, Truckee\, CA\, 96161
CATEGORIES:Exercise,Health & Wellness
END:VEVENT
BEGIN:VEVENT
DTSTART;TZID=America/Los_Angeles:20231003T120000
DTEND;TZID=America/Los_Angeles:20231003T130000
DTSTAMP:20260425T032427
CREATED:20230927T214103Z
LAST-MODIFIED:20230927T214103Z
UID:34212-1696334400-1696338000@oldediblerenotahoe.com
SUMMARY:Lunch Time Power Nap
DESCRIPTION:Power Nap will gently guide your body into deeply restorative shapes (entirely on the ground) with the full support of bolsters\, blocks\, blankets and uber chill tunes. As 80% of your relaxation response moves from the belly up\, the power of the poses will be EMBODIED and profound physical and mental relaxation will naturally follow.
URL:https://oldediblerenotahoe.com/event/tpopowernap/
LOCATION:The Peace Offering\, 10075 West River Street\, Suite B\, Truckee\, CA\, 96161
CATEGORIES:Exercise,Health & Wellness
END:VEVENT
BEGIN:VEVENT
DTSTART;TZID=America/Los_Angeles:20231003T093000
DTEND;TZID=America/Los_Angeles:20231003T103000
DTSTAMP:20260425T032427
CREATED:20230927T213737Z
LAST-MODIFIED:20230927T213737Z
UID:34172-1696325400-1696329000@oldediblerenotahoe.com
SUMMARY:Vinyasa Flow Yoga
DESCRIPTION:A dynamic and flowing style of hatha yoga which links breath and movement through a creative series of postures that balance strength and flexibility while cultivating mindfulness through a continuous flow. Vinyasa is cleansing\, heat building and suitable for all levels. Feel supported through gentle hands-on assists while you cleanse your body and focus on your mind.
URL:https://oldediblerenotahoe.com/event/tpovinyasaflow/
LOCATION:The Peace Offering\, 10075 West River Street\, Suite B\, Truckee\, CA\, 96161
CATEGORIES:Exercise,Health & Wellness
END:VEVENT
BEGIN:VEVENT
DTSTART;TZID=America/Los_Angeles:20231002T163000
DTEND;TZID=America/Los_Angeles:20231002T173000
DTSTAMP:20260425T032427
CREATED:20230927T213424Z
LAST-MODIFIED:20230927T213823Z
UID:34157-1696264200-1696267800@oldediblerenotahoe.com
SUMMARY:Slow Flow
DESCRIPTION:A tranquil and rejuvenating journey that invites you to embrace the serenity within. In this gentle and mindful practice\, the focus is on finding balance\, both physically and mentally\, while allowing ourselves to move with grace and ease.
URL:https://oldediblerenotahoe.com/event/tposlowflow/
LOCATION:The Peace Offering\, 10075 West River Street\, Suite B\, Truckee\, CA\, 96161
CATEGORIES:Exercise,Health & Wellness
END:VEVENT
END:VCALENDAR