BEGIN:VCALENDAR
VERSION:2.0
PRODID:-//Edible Reno-Tahoe - ECPv6.15.20//NONSGML v1.0//EN
CALSCALE:GREGORIAN
METHOD:PUBLISH
X-ORIGINAL-URL:https://oldediblerenotahoe.com
X-WR-CALDESC:Events for Edible Reno-Tahoe
REFRESH-INTERVAL;VALUE=DURATION:PT1H
X-Robots-Tag:noindex
X-PUBLISHED-TTL:PT1H
BEGIN:VTIMEZONE
TZID:America/Los_Angeles
BEGIN:DAYLIGHT
TZOFFSETFROM:-0800
TZOFFSETTO:-0700
TZNAME:PDT
DTSTART:20220313T100000
END:DAYLIGHT
BEGIN:STANDARD
TZOFFSETFROM:-0700
TZOFFSETTO:-0800
TZNAME:PST
DTSTART:20221106T090000
END:STANDARD
BEGIN:DAYLIGHT
TZOFFSETFROM:-0800
TZOFFSETTO:-0700
TZNAME:PDT
DTSTART:20230312T100000
END:DAYLIGHT
BEGIN:STANDARD
TZOFFSETFROM:-0700
TZOFFSETTO:-0800
TZNAME:PST
DTSTART:20231105T090000
END:STANDARD
BEGIN:DAYLIGHT
TZOFFSETFROM:-0800
TZOFFSETTO:-0700
TZNAME:PDT
DTSTART:20240310T100000
END:DAYLIGHT
BEGIN:STANDARD
TZOFFSETFROM:-0700
TZOFFSETTO:-0800
TZNAME:PST
DTSTART:20241103T090000
END:STANDARD
END:VTIMEZONE
BEGIN:VEVENT
DTSTART;TZID=America/Los_Angeles:20231203T110000
DTEND;TZID=America/Los_Angeles:20231203T170000
DTSTAMP:20260425T063159
CREATED:20231128T030721Z
LAST-MODIFIED:20231128T030721Z
UID:35602-1701601200-1701622800@oldediblerenotahoe.com
SUMMARY:Deck the Halls at Reno Public Market
DESCRIPTION:
URL:https://oldediblerenotahoe.com/event/deck-the-halls-at-reno-public-market-2023-12-03/
LOCATION:Reno Public Market\, 299 E Plumb Ln\, Reno\, NV\, 89502
CATEGORIES:Holiday,Shopping
END:VEVENT
BEGIN:VEVENT
DTSTART;TZID=America/Los_Angeles:20231203T110000
DTEND;TZID=America/Los_Angeles:20231203T140000
DTSTAMP:20260425T063159
CREATED:20231128T034946Z
LAST-MODIFIED:20231128T034946Z
UID:35621-1701601200-1701612000@oldediblerenotahoe.com
SUMMARY:Handmade Holiday Faire
DESCRIPTION:Enjoy a hot beverage while you make your own crafts to give as gifts and shop for gifts from local vendors. Take a picture with Santa and Mrs. Claus! Browse the local vendor stalls for gifts for family and friends\, including jewelry\, pottery\, soap\, printmaking\, and more! Each ticket includes one free drink\, and two free DIY crafts.
URL:https://oldediblerenotahoe.com/event/handmade-holiday-faire/
LOCATION:Urban Teaching Farm\, 1700 E 2nd Street\, Reno\, NV\, 89502
CATEGORIES:Holiday,Shopping
END:VEVENT
BEGIN:VEVENT
DTSTART;TZID=America/Los_Angeles:20231202T193000
DTEND;TZID=America/Los_Angeles:20231202T213000
DTSTAMP:20260425T063159
CREATED:20231208T001937Z
LAST-MODIFIED:20231208T001937Z
UID:35647-1701545400-1701552600@oldediblerenotahoe.com
SUMMARY:Christmas with the Crawfords
DESCRIPTION:Brüka celebrates the holidays with pure Hollywood camp presenting Christmas with the Crawfords. This hilarious cult classic is based on an actual Christmas Eve live radio broadcast from Joan Crawford’s Brentwood mansion in 1949. Filled with exaggerated silver screen icons\, this mash-up musical parody is a loving homage to Hollywood’s “Golden Age” and features appearances of Tinsel Town divas such as Judy Garland\, Carmen Miranda\, Gloria Swanson\, Hedda Hopper\, Ethel Merman\, and the Andrews Sisters. Christmas With The Crawfords is a delightful alternative to the usual saccharine fare offered during the holidays and is guaranteed to make anyone who sees it feel much better about their own family at any time of year.
URL:https://oldediblerenotahoe.com/event/christmas-with-the-crawfords-2023-12-02/
LOCATION:Brüka Theatre\, 99 North Virginia Street\, Reno\, NV\, 89501
CATEGORIES:Holiday,Theatre
END:VEVENT
BEGIN:VEVENT
DTSTART;TZID=America/Los_Angeles:20231202T170000
DTEND;TZID=America/Los_Angeles:20231202T200000
DTSTAMP:20260425T063159
CREATED:20230928T211445Z
LAST-MODIFIED:20230928T211445Z
UID:34292-1701536400-1701547200@oldediblerenotahoe.com
SUMMARY:27th Annual Carson Valley Parade of Lights
DESCRIPTION:Get together with your family members and friends for a festive parade along Highway 395\, from Eddy Street to Minden Park. Enjoy floats\, marching bands\, Color Guard\, and a special North Pole guest. This year’s theme is “Tiger Tidings: Spreading Championship Joy\,” with the Douglas Tigers State Champions as Grand Marshals.
URL:https://oldediblerenotahoe.com/event/2023cvparadeoflights/
LOCATION:NV
CATEGORIES:Activity,Community Events,Family friendly,Holiday
ATTACH;FMTTYPE=image/png:https://oldediblerenotahoe.com/wp-content/uploads/2023/09/paradeoflights.png
END:VEVENT
BEGIN:VEVENT
DTSTART;TZID=America/Los_Angeles:20231202T140000
DTEND;TZID=America/Los_Angeles:20231202T160000
DTSTAMP:20260425T063159
CREATED:20231110T014316Z
LAST-MODIFIED:20231110T014316Z
UID:35447-1701525600-1701532800@oldediblerenotahoe.com
SUMMARY:Holiday Wreath Building Workshop
DESCRIPTION:Join Heartwood Florist and Tahoe Wine Collective from 2pm-4pm Saturday December 2nd to welcome the holiday season with an afternoon of wine and wreath building. \nRegistration fee includes all the supplies and fixings to create your own wreath\, glass of wine\, and small snacks (cheese\, almonds\, olives\, and crackers.
URL:https://oldediblerenotahoe.com/event/holiday-wreath-building-workshop/
LOCATION:Tahoe Wine Collective\, 760 North Lake Boulevard\, Tahoe City\, CA
CATEGORIES:Activity,Holiday,Wine
ATTACH;FMTTYPE=image/png:https://oldediblerenotahoe.com/wp-content/uploads/2023/11/Heartwoodsara.png
END:VEVENT
BEGIN:VEVENT
DTSTART;TZID=America/Los_Angeles:20231202T120000
DTEND;TZID=America/Los_Angeles:20231202T150000
DTSTAMP:20260425T063159
CREATED:20231025T180251Z
LAST-MODIFIED:20231025T180251Z
UID:34859-1701518400-1701529200@oldediblerenotahoe.com
SUMMARY:V&T Candy Cane Express Train
DESCRIPTION:Embrace the holiday spirit on the Candy Cane Express in 2023. This iconic Virginia & Truckee Railway journey departs from Virginia City\, taking you through a winter wonderland to Gold Hill. \nExperience: \n\nHeated Passenger Cars\nChristmas Stories and Carols\nFestive Decorations\nComplimentary Hot Chocolate and Cookies\nSnowy Nevada Scenery\nUnique Shopping\nChance to spot Mustangs in winter coats\n\nStart a memorable tradition. Reserve your tickets in advance\, as seating is limited.
URL:https://oldediblerenotahoe.com/event/vt-candy-cane-express-train-2023-12-02/
LOCATION:Virginia City Depot\, 166 F Street\, Virginia City\, NV\, 89440
CATEGORIES:Activity,Family friendly,Holiday
ATTACH;FMTTYPE=image/jpeg:https://oldediblerenotahoe.com/wp-content/uploads/2023/10/64f81df474589.jpg
END:VEVENT
BEGIN:VEVENT
DTSTART;TZID=America/Los_Angeles:20231202T110000
DTEND;TZID=America/Los_Angeles:20231202T210000
DTSTAMP:20260425T063159
CREATED:20231213T182958Z
LAST-MODIFIED:20231213T182958Z
UID:35717-1701514800-1701550800@oldediblerenotahoe.com
SUMMARY:Holly Jolly Honey Pop-Up Bar
DESCRIPTION:Honey Bar is bringing festive cocktails with their Holly Jolly Honey Pop-Up Bar at Reno Public Market.
URL:https://oldediblerenotahoe.com/event/holly-jolly-honey-pop-up-bar-2023-12-02/
LOCATION:Reno Public Market\, 299 E Plumb Ln\, Reno\, NV\, 89502
CATEGORIES:21+,Food & Drink,Holiday
END:VEVENT
BEGIN:VEVENT
DTSTART;TZID=America/Los_Angeles:20231202T110000
DTEND;TZID=America/Los_Angeles:20231202T170000
DTSTAMP:20260425T063159
CREATED:20231128T030721Z
LAST-MODIFIED:20231128T030721Z
UID:35601-1701514800-1701536400@oldediblerenotahoe.com
SUMMARY:Deck the Halls at Reno Public Market
DESCRIPTION:
URL:https://oldediblerenotahoe.com/event/deck-the-halls-at-reno-public-market-2023-12-02/
LOCATION:Reno Public Market\, 299 E Plumb Ln\, Reno\, NV\, 89502
CATEGORIES:Holiday,Shopping
END:VEVENT
BEGIN:VEVENT
DTSTART;TZID=America/Los_Angeles:20231202T083000
DTEND;TZID=America/Los_Angeles:20231202T093000
DTSTAMP:20260425T063159
CREATED:20231128T024055Z
LAST-MODIFIED:20231128T024055Z
UID:35567-1701505800-1701509400@oldediblerenotahoe.com
SUMMARY:Genoa's Breakfast with Santa
DESCRIPTION:On Saturday\, December 2\, Genoa sponsors a visit from Santa along with a Pancake Breakfast at Town Hall for the whole family! Breakfast consists of pancakes with syrup\, sausage\, breakfast beverages and\, best of all\, a visit from Santa Claus himself! This year\, the breakfast has just TWO seatings — 8:30 a.m. and 10:15 a.m. Tickets for children\, age 3 years and younger\, are FREE! \nTickets for the event are $5.00 and must be purchased prior to the breakfast event. Purchase tickets from the Town Office by calling 775-782-8696. Seating is limited and tickets go fast!
URL:https://oldediblerenotahoe.com/event/genoas-breakfast-with-santa/
LOCATION:Genoa Town Hall\, 2287 Main Street\, Minden\, NV
CATEGORIES:Family friendly,Holiday
END:VEVENT
BEGIN:VEVENT
DTSTART;VALUE=DATE:20231202
DTEND;VALUE=DATE:20231203
DTSTAMP:20260425T063159
CREATED:20231128T024657Z
LAST-MODIFIED:20231128T024657Z
UID:35575-1701475200-1701561599@oldediblerenotahoe.com
SUMMARY:Holiday Gala at the Museum
DESCRIPTION:The Douglas County Historical Society is excited to present their Holiday Gala\, complete with family-friendly games and activities\, a festive Gallery of Trees\, and a display of entries for the Annual Gingerbread House Decorating Contest. Come to the Carson Valley Museum and Cultural Center on Saturday\, December 2nd for festivities\, including Santa’s Cookie Shop. Later in the day\, you’re welcome to view the Parade of Lights from the museum’s front lawn.
URL:https://oldediblerenotahoe.com/event/holiday-gala-at-the-museum/
LOCATION:Carson Valley Museum & Cultural Center\, 1477 US Highway 395 N\, Gardnerville\, NV\, 89410
CATEGORIES:Family friendly,Holiday
END:VEVENT
BEGIN:VEVENT
DTSTART;TZID=America/Los_Angeles:20231201T193000
DTEND;TZID=America/Los_Angeles:20231201T213000
DTSTAMP:20260425T063159
CREATED:20231208T001937Z
LAST-MODIFIED:20231208T001937Z
UID:35645-1701459000-1701466200@oldediblerenotahoe.com
SUMMARY:Christmas with the Crawfords
DESCRIPTION:Brüka celebrates the holidays with pure Hollywood camp presenting Christmas with the Crawfords. This hilarious cult classic is based on an actual Christmas Eve live radio broadcast from Joan Crawford’s Brentwood mansion in 1949. Filled with exaggerated silver screen icons\, this mash-up musical parody is a loving homage to Hollywood’s “Golden Age” and features appearances of Tinsel Town divas such as Judy Garland\, Carmen Miranda\, Gloria Swanson\, Hedda Hopper\, Ethel Merman\, and the Andrews Sisters. Christmas With The Crawfords is a delightful alternative to the usual saccharine fare offered during the holidays and is guaranteed to make anyone who sees it feel much better about their own family at any time of year.
URL:https://oldediblerenotahoe.com/event/christmas-with-the-crawfords/
LOCATION:Brüka Theatre\, 99 North Virginia Street\, Reno\, NV\, 89501
CATEGORIES:Holiday,Theatre
END:VEVENT
BEGIN:VEVENT
DTSTART;TZID=America/Los_Angeles:20231201T180000
DTEND;TZID=America/Los_Angeles:20231201T210000
DTSTAMP:20260425T063159
CREATED:20231128T020206Z
LAST-MODIFIED:20231128T020206Z
UID:35534-1701453600-1701464400@oldediblerenotahoe.com
SUMMARY:Cornish Christmas
DESCRIPTION:Downtown Grass Valley will be filled with the sights and sounds of an old-fashioned Christmas: carolers\, musicians\, and a fire pit to warm your hands.  Look for Santa and Mrs. Claus\, the Snow Queen\, the Tree Lady\, and other holiday characters.  The event hosts craft and food vendors\, and the town shops\, restaurants\, wine-tasting rooms\, tap houses\, and bars are open.  The streets will be awash in festive holiday décor\, lights\, and sparkling windows.
URL:https://oldediblerenotahoe.com/event/cornish-christmas-2023-12-01/
LOCATION:Downtown Grass Valley
CATEGORIES:Festival,Holiday,Shopping
ATTACH;FMTTYPE=image/jpeg:https://oldediblerenotahoe.com/wp-content/uploads/2023/11/DgC-DSBAkYeQn6aXgAwMl33f.jpg
END:VEVENT
BEGIN:VEVENT
DTSTART;TZID=America/Los_Angeles:20231201T173000
DTEND;TZID=America/Los_Angeles:20231201T193000
DTSTAMP:20260425T063159
CREATED:20231128T023911Z
LAST-MODIFIED:20231128T023911Z
UID:35564-1701451800-1701459000@oldediblerenotahoe.com
SUMMARY:Genoa Town Tree Lighting
DESCRIPTION:
URL:https://oldediblerenotahoe.com/event/genoa-town-tree-lighting/
LOCATION:Genoa Town Church
CATEGORIES:Family friendly,Holiday
END:VEVENT
BEGIN:VEVENT
DTSTART;TZID=America/Los_Angeles:20231201T170000
DTEND;TZID=America/Los_Angeles:20231201T200000
DTSTAMP:20260425T063159
CREATED:20231114T201420Z
LAST-MODIFIED:20231114T202025Z
UID:35473-1701450000-1701460800@oldediblerenotahoe.com
SUMMARY:Sparkle!
DESCRIPTION:Enjoy that old-fashioned holiday feeling with a tree-lighting\, light parade\, music\, live entertainment\, late night shopping and dining\, and a visit with Santa in Downtown Quincy. \nFind out more here.
URL:https://oldediblerenotahoe.com/event/sparkle/
LOCATION:Downtown Quincy
CATEGORIES:Holiday
ATTACH;FMTTYPE=image/png:https://oldediblerenotahoe.com/wp-content/uploads/2023/11/sparkle.png
END:VEVENT
BEGIN:VEVENT
DTSTART;TZID=America/Los_Angeles:20231201T160000
DTEND;TZID=America/Los_Angeles:20231201T200000
DTSTAMP:20260425T063159
CREATED:20231208T003949Z
LAST-MODIFIED:20231208T003949Z
UID:35661-1701446400-1701460800@oldediblerenotahoe.com
SUMMARY:Downtown Truckee's Festive Fridays
DESCRIPTION:Festive Fridays bring the holiday spirit with music\, themed fun\, and special sales to shop local and shop small this holiday season. Downtown businesses are keeping their doors open ’til 8:00 p.m.! TART Connect service to downtown will be FREE\, and they’ll have a weekly selfie contest on social media to give away some amazing gift card bundles.
URL:https://oldediblerenotahoe.com/event/downtown-truckees-festive-fridays/
LOCATION:Downtown Truckee\, Truckee\, CA
CATEGORIES:Holiday,Shopping
END:VEVENT
BEGIN:VEVENT
DTSTART;TZID=America/Los_Angeles:20231201T110000
DTEND;TZID=America/Los_Angeles:20231201T210000
DTSTAMP:20260425T063159
CREATED:20231213T182958Z
LAST-MODIFIED:20231213T182958Z
UID:35716-1701428400-1701464400@oldediblerenotahoe.com
SUMMARY:Holly Jolly Honey Pop-Up Bar
DESCRIPTION:Honey Bar is bringing festive cocktails with their Holly Jolly Honey Pop-Up Bar at Reno Public Market.
URL:https://oldediblerenotahoe.com/event/holly-jolly-honey-pop-up-bar-2023-12-01/
LOCATION:Reno Public Market\, 299 E Plumb Ln\, Reno\, NV\, 89502
CATEGORIES:21+,Food & Drink,Holiday
END:VEVENT
BEGIN:VEVENT
DTSTART;TZID=America/Los_Angeles:20231201T110000
DTEND;TZID=America/Los_Angeles:20231201T170000
DTSTAMP:20260425T063159
CREATED:20231128T030721Z
LAST-MODIFIED:20231128T030721Z
UID:35600-1701428400-1701450000@oldediblerenotahoe.com
SUMMARY:Deck the Halls at Reno Public Market
DESCRIPTION:
URL:https://oldediblerenotahoe.com/event/deck-the-halls-at-reno-public-market-2023-12-01/
LOCATION:Reno Public Market\, 299 E Plumb Ln\, Reno\, NV\, 89502
CATEGORIES:Holiday,Shopping
END:VEVENT
BEGIN:VEVENT
DTSTART;VALUE=DATE:20231201
DTEND;VALUE=DATE:20240101
DTSTAMP:20260425T063159
CREATED:20231213T181431Z
LAST-MODIFIED:20231213T181431Z
UID:35702-1701388800-1704067199@oldediblerenotahoe.com
SUMMARY:Christmas on the Comstock
DESCRIPTION:Christmas on the Comstock goes all out in December. This Victorian-style holiday celebration features an official tree lighting\, a saloon crawl\, our Believe Again Christmas Giveaway\, the V&T Candy Cane Express\, the Train O’ Lights\, a holiday performance and much more. Prepare for this to be your new favorite holiday tradition. \nVisit their website to view full list of events and times.
URL:https://oldediblerenotahoe.com/event/christmas-on-the-comstock/
LOCATION:Virginia City
CATEGORIES:Community Events,Holiday
END:VEVENT
BEGIN:VEVENT
DTSTART;TZID=America/Los_Angeles:20231130T173000
DTEND;TZID=America/Los_Angeles:20231130T190000
DTSTAMP:20260425T063159
CREATED:20231128T024433Z
LAST-MODIFIED:20231128T024433Z
UID:35572-1701365400-1701370800@oldediblerenotahoe.com
SUMMARY:Town of Gardnerville Christmas Kickoff
DESCRIPTION:Town of Gardnerville’s 17th Annual Christmas Kickoff will be held November 30th\, 2023 from 5:30 p.m. to 7:00 p.m. at the Heritage Park. Bring the family for an evening of electric carriage rides\, caroling\, local dancers\, fireworks\, and\, of course\, a visit with Santa!
URL:https://oldediblerenotahoe.com/event/town-of-gardnerville-christmas-kickoff/
LOCATION:Heritage Park\, 1447 Courthouse Alley\, Gardnerville\, NV\, 89410
CATEGORIES:Holiday
END:VEVENT
BEGIN:VEVENT
DTSTART;TZID=America/Los_Angeles:20231130T110000
DTEND;TZID=America/Los_Angeles:20231130T210000
DTSTAMP:20260425T063159
CREATED:20231213T182958Z
LAST-MODIFIED:20231213T182958Z
UID:35715-1701342000-1701378000@oldediblerenotahoe.com
SUMMARY:Holly Jolly Honey Pop-Up Bar
DESCRIPTION:Honey Bar is bringing festive cocktails with their Holly Jolly Honey Pop-Up Bar at Reno Public Market.
URL:https://oldediblerenotahoe.com/event/holly-jolly-honey-pop-up-bar-2023-11-30/
LOCATION:Reno Public Market\, 299 E Plumb Ln\, Reno\, NV\, 89502
CATEGORIES:21+,Food & Drink,Holiday
END:VEVENT
BEGIN:VEVENT
DTSTART;TZID=America/Los_Angeles:20231130T110000
DTEND;TZID=America/Los_Angeles:20231130T170000
DTSTAMP:20260425T063159
CREATED:20231128T030721Z
LAST-MODIFIED:20231128T030721Z
UID:35599-1701342000-1701363600@oldediblerenotahoe.com
SUMMARY:Deck the Halls at Reno Public Market
DESCRIPTION:
URL:https://oldediblerenotahoe.com/event/deck-the-halls-at-reno-public-market-2023-11-30/
LOCATION:Reno Public Market\, 299 E Plumb Ln\, Reno\, NV\, 89502
CATEGORIES:Holiday,Shopping
END:VEVENT
BEGIN:VEVENT
DTSTART;TZID=America/Los_Angeles:20231129T110000
DTEND;TZID=America/Los_Angeles:20231129T210000
DTSTAMP:20260425T063159
CREATED:20231213T182958Z
LAST-MODIFIED:20231213T182958Z
UID:35714-1701255600-1701291600@oldediblerenotahoe.com
SUMMARY:Holly Jolly Honey Pop-Up Bar
DESCRIPTION:Honey Bar is bringing festive cocktails with their Holly Jolly Honey Pop-Up Bar at Reno Public Market.
URL:https://oldediblerenotahoe.com/event/holly-jolly-honey-pop-up-bar-2023-11-29/
LOCATION:Reno Public Market\, 299 E Plumb Ln\, Reno\, NV\, 89502
CATEGORIES:21+,Food & Drink,Holiday
END:VEVENT
BEGIN:VEVENT
DTSTART;TZID=America/Los_Angeles:20231129T110000
DTEND;TZID=America/Los_Angeles:20231129T170000
DTSTAMP:20260425T063159
CREATED:20231128T030721Z
LAST-MODIFIED:20231128T030721Z
UID:35598-1701255600-1701277200@oldediblerenotahoe.com
SUMMARY:Deck the Halls at Reno Public Market
DESCRIPTION:
URL:https://oldediblerenotahoe.com/event/deck-the-halls-at-reno-public-market-2023-11-29/
LOCATION:Reno Public Market\, 299 E Plumb Ln\, Reno\, NV\, 89502
CATEGORIES:Holiday,Shopping
END:VEVENT
BEGIN:VEVENT
DTSTART;TZID=America/Los_Angeles:20231128T110000
DTEND;TZID=America/Los_Angeles:20231128T170000
DTSTAMP:20260425T063159
CREATED:20231128T030721Z
LAST-MODIFIED:20231128T030721Z
UID:35597-1701169200-1701190800@oldediblerenotahoe.com
SUMMARY:Deck the Halls at Reno Public Market
DESCRIPTION:
URL:https://oldediblerenotahoe.com/event/deck-the-halls-at-reno-public-market-2023-11-28/
LOCATION:Reno Public Market\, 299 E Plumb Ln\, Reno\, NV\, 89502
CATEGORIES:Holiday,Shopping
END:VEVENT
BEGIN:VEVENT
DTSTART;TZID=America/Los_Angeles:20231127T110000
DTEND;TZID=America/Los_Angeles:20231127T210000
DTSTAMP:20260425T063159
CREATED:20231213T182958Z
LAST-MODIFIED:20231213T182958Z
UID:35713-1701082800-1701118800@oldediblerenotahoe.com
SUMMARY:Holly Jolly Honey Pop-Up Bar
DESCRIPTION:Honey Bar is bringing festive cocktails with their Holly Jolly Honey Pop-Up Bar at Reno Public Market.
URL:https://oldediblerenotahoe.com/event/holly-jolly-honey-pop-up-bar-2023-11-27/
LOCATION:Reno Public Market\, 299 E Plumb Ln\, Reno\, NV\, 89502
CATEGORIES:21+,Food & Drink,Holiday
END:VEVENT
BEGIN:VEVENT
DTSTART;TZID=America/Los_Angeles:20231127T110000
DTEND;TZID=America/Los_Angeles:20231127T170000
DTSTAMP:20260425T063159
CREATED:20231128T030721Z
LAST-MODIFIED:20231128T030721Z
UID:35596-1701082800-1701104400@oldediblerenotahoe.com
SUMMARY:Deck the Halls at Reno Public Market
DESCRIPTION:
URL:https://oldediblerenotahoe.com/event/deck-the-halls-at-reno-public-market-2023-11-27/
LOCATION:Reno Public Market\, 299 E Plumb Ln\, Reno\, NV\, 89502
CATEGORIES:Holiday,Shopping
END:VEVENT
BEGIN:VEVENT
DTSTART;TZID=America/Los_Angeles:20231126T110000
DTEND;TZID=America/Los_Angeles:20231126T210000
DTSTAMP:20260425T063159
CREATED:20231213T182958Z
LAST-MODIFIED:20231213T182958Z
UID:35712-1700996400-1701032400@oldediblerenotahoe.com
SUMMARY:Holly Jolly Honey Pop-Up Bar
DESCRIPTION:Honey Bar is bringing festive cocktails with their Holly Jolly Honey Pop-Up Bar at Reno Public Market.
URL:https://oldediblerenotahoe.com/event/holly-jolly-honey-pop-up-bar-2023-11-26/
LOCATION:Reno Public Market\, 299 E Plumb Ln\, Reno\, NV\, 89502
CATEGORIES:21+,Food & Drink,Holiday
END:VEVENT
BEGIN:VEVENT
DTSTART;TZID=America/Los_Angeles:20231126T110000
DTEND;TZID=America/Los_Angeles:20231126T170000
DTSTAMP:20260425T063159
CREATED:20231128T030721Z
LAST-MODIFIED:20231128T030721Z
UID:35595-1700996400-1701018000@oldediblerenotahoe.com
SUMMARY:Deck the Halls at Reno Public Market
DESCRIPTION:
URL:https://oldediblerenotahoe.com/event/deck-the-halls-at-reno-public-market-2023-11-26/
LOCATION:Reno Public Market\, 299 E Plumb Ln\, Reno\, NV\, 89502
CATEGORIES:Holiday,Shopping
END:VEVENT
BEGIN:VEVENT
DTSTART;TZID=America/Los_Angeles:20231125T120000
DTEND;TZID=America/Los_Angeles:20231125T150000
DTSTAMP:20260425T063159
CREATED:20231025T180251Z
LAST-MODIFIED:20231025T180251Z
UID:34858-1700913600-1700924400@oldediblerenotahoe.com
SUMMARY:V&T Candy Cane Express Train
DESCRIPTION:Embrace the holiday spirit on the Candy Cane Express in 2023. This iconic Virginia & Truckee Railway journey departs from Virginia City\, taking you through a winter wonderland to Gold Hill. \nExperience: \n\nHeated Passenger Cars\nChristmas Stories and Carols\nFestive Decorations\nComplimentary Hot Chocolate and Cookies\nSnowy Nevada Scenery\nUnique Shopping\nChance to spot Mustangs in winter coats\n\nStart a memorable tradition. Reserve your tickets in advance\, as seating is limited.
URL:https://oldediblerenotahoe.com/event/vt-candy-cane-express-train-2023-11-25/
LOCATION:Virginia City Depot\, 166 F Street\, Virginia City\, NV\, 89440
CATEGORIES:Activity,Family friendly,Holiday
ATTACH;FMTTYPE=image/jpeg:https://oldediblerenotahoe.com/wp-content/uploads/2023/10/64f81df474589.jpg
END:VEVENT
BEGIN:VEVENT
DTSTART;TZID=America/Los_Angeles:20231125T110000
DTEND;TZID=America/Los_Angeles:20231125T210000
DTSTAMP:20260425T063159
CREATED:20231213T182958Z
LAST-MODIFIED:20231213T182958Z
UID:35711-1700910000-1700946000@oldediblerenotahoe.com
SUMMARY:Holly Jolly Honey Pop-Up Bar
DESCRIPTION:Honey Bar is bringing festive cocktails with their Holly Jolly Honey Pop-Up Bar at Reno Public Market.
URL:https://oldediblerenotahoe.com/event/holly-jolly-honey-pop-up-bar/
LOCATION:Reno Public Market\, 299 E Plumb Ln\, Reno\, NV\, 89502
CATEGORIES:21+,Food & Drink,Holiday
END:VEVENT
END:VCALENDAR