BEGIN:VCALENDAR
VERSION:2.0
PRODID:-//Edible Reno-Tahoe - ECPv6.15.20//NONSGML v1.0//EN
CALSCALE:GREGORIAN
METHOD:PUBLISH
X-WR-CALNAME:Edible Reno-Tahoe
X-ORIGINAL-URL:https://oldediblerenotahoe.com
X-WR-CALDESC:Events for Edible Reno-Tahoe
REFRESH-INTERVAL;VALUE=DURATION:PT1H
X-Robots-Tag:noindex
X-PUBLISHED-TTL:PT1H
BEGIN:VTIMEZONE
TZID:America/Los_Angeles
BEGIN:DAYLIGHT
TZOFFSETFROM:-0800
TZOFFSETTO:-0700
TZNAME:PDT
DTSTART:20220313T100000
END:DAYLIGHT
BEGIN:STANDARD
TZOFFSETFROM:-0700
TZOFFSETTO:-0800
TZNAME:PST
DTSTART:20221106T090000
END:STANDARD
BEGIN:DAYLIGHT
TZOFFSETFROM:-0800
TZOFFSETTO:-0700
TZNAME:PDT
DTSTART:20230312T100000
END:DAYLIGHT
BEGIN:STANDARD
TZOFFSETFROM:-0700
TZOFFSETTO:-0800
TZNAME:PST
DTSTART:20231105T090000
END:STANDARD
BEGIN:DAYLIGHT
TZOFFSETFROM:-0800
TZOFFSETTO:-0700
TZNAME:PDT
DTSTART:20240310T100000
END:DAYLIGHT
BEGIN:STANDARD
TZOFFSETFROM:-0700
TZOFFSETTO:-0800
TZNAME:PST
DTSTART:20241103T090000
END:STANDARD
END:VTIMEZONE
BEGIN:VEVENT
DTSTART;TZID=America/Los_Angeles:20231123T083000
DTEND;TZID=America/Los_Angeles:20231123T120000
DTSTAMP:20260425T061210
CREATED:20231024T221331Z
LAST-MODIFIED:20231024T221331Z
UID:34805-1700728200-1700740800@oldediblerenotahoe.com
SUMMARY:25th Annual Scheels Turkey Trot
DESCRIPTION:Kickstart your Thanksgiving morning with the Scheels Turkey Trot at 8:30 a.m. This annual event\, hosted at Scheels\, offers a choice between a timed 10K run or a two-mile untimed walk/run around Sparks Marina. The 10K takes you through city streets and bike paths\, and both routes begin and end at Scheels. Join in for a healthy and fun pre-feast activity that also gives back to the community.
URL:https://oldediblerenotahoe.com/event/tt2023/
LOCATION:Scheels\, 1200 Scheels Drive\, Sparks\, NV\, 89431
CATEGORIES:Activity,Exercise,Family friendly,Health & Wellness,Holiday
ATTACH;FMTTYPE=image/jpeg:https://oldediblerenotahoe.com/wp-content/uploads/2023/10/race99949-social1200x630.bI0BwJ.jpg
END:VEVENT
BEGIN:VEVENT
DTSTART;TZID=America/Los_Angeles:20231123T083000
DTEND;TZID=America/Los_Angeles:20231123T110000
DTSTAMP:20260425T061210
CREATED:20231110T011920Z
LAST-MODIFIED:20231110T011920Z
UID:35433-1700728200-1700737200@oldediblerenotahoe.com
SUMMARY:Carson Valley Turkey Trot
DESCRIPTION:Jump start your Thanksgiving Day celebrations with an energizing race for a worthy cause! Proceeds for the 7th annual Carson Valley Turkey Trot Fun Run will support the Douglas Animal Welfare Group and the Carson Valley Community Food Closet. \nThis fun run takes place in the beautiful Carson Valley\, starting at Minden Park in downtown Minden. Trot through this picturesque downtown neighborhood as a fun way to start the Thanksgiving holiday.
URL:https://oldediblerenotahoe.com/event/carson-valley-turkey-trot/
LOCATION:Minden Park\, 1610 Esmeralda Ave.\, Minden\, NV\, 89423
CATEGORIES:Activity,Exercise,Holiday
ATTACH;FMTTYPE=image/jpeg:https://oldediblerenotahoe.com/wp-content/uploads/2023/11/turkey-trot-2023.jpg
END:VEVENT
BEGIN:VEVENT
DTSTART;VALUE=DATE:20231123
DTEND;VALUE=DATE:20231124
DTSTAMP:20260425T061210
CREATED:20231110T015434Z
LAST-MODIFIED:20231110T015435Z
UID:35466-1700697600-1700783999@oldediblerenotahoe.com
SUMMARY:Thanksgiving
DESCRIPTION:
URL:https://oldediblerenotahoe.com/event/thanksgiving/
LOCATION:NV
CATEGORIES:Holiday
END:VEVENT
BEGIN:VEVENT
DTSTART;VALUE=DATE:20231121
DTEND;VALUE=DATE:20240101
DTSTAMP:20260425T061210
CREATED:20231110T010632Z
LAST-MODIFIED:20231110T010632Z
UID:35426-1700524800-1704067199@oldediblerenotahoe.com
SUMMARY:Miracle® at the Holbrooke
DESCRIPTION:The Iron Door Speakeasy at The Holbrooke Hotel is taking a hiatus until January to transform into the exclusive Miracle® pop-up Christmas bar\, making Gold Country history. From late November\, experience the holidays with over-the-top decor\, unique cocktails\, and kooky Christmas collectibles. Miracle® at The Holbrooke offers a reservation-recommended experience\, making it the ideal venue for festive gatherings. Don’t miss this limited engagement before the Iron Door Speakeasy resumes regular operations in January.
URL:https://oldediblerenotahoe.com/event/miracle-at-the-holbrooke/
LOCATION:The Iron Door Speakeasy at the Holbrooke Hotel\, 211 West Main St\, Grass Valley\, CA\, 95945
CATEGORIES:Food & Drink,Holiday
ATTACH;FMTTYPE=image/png:https://oldediblerenotahoe.com/wp-content/uploads/2023/11/image4.png
END:VEVENT
BEGIN:VEVENT
DTSTART;VALUE=DATE:20231120
DTEND;VALUE=DATE:20240101
DTSTAMP:20260425T061210
CREATED:20231110T004259Z
LAST-MODIFIED:20231110T010813Z
UID:35417-1700438400-1704067199@oldediblerenotahoe.com
SUMMARY:Miracle® on Mill Street
DESCRIPTION:The iconic Christmas-themed cocktail pop-up\, Miracle®\, is hitting 10 Torr Distilling & Brewing for the first time for the 2023 holiday season. Running from November 20 to December 31\, Miracle on Mill Street promises an unforgettable experience with festive cocktails\, vibrant decor\, and new mug designs available for purchase. \nFeaturing favorites like the Christmapolitan and Christmas Cricket\, along with new concoctions like Rudolph’s Replacement and The Krampus\, Miracle on Mill Street offers a holiday oasis. As a gesture of goodwill\, Miracle will donate 10% of proceeds from signature glassware sales (Santa Pants\, Christmas Carol Barrel\, Santa Heads) to the Seva Foundation\, supporting global eye care initiatives.
URL:https://oldediblerenotahoe.com/event/miracleonmill/
LOCATION:10 Torr Distilling & Brewing\, 490 Mill Street\, Reno\, NV\, 89502
CATEGORIES:Food & Drink,Holiday
ATTACH;FMTTYPE=image/png:https://oldediblerenotahoe.com/wp-content/uploads/2023/11/Sippin-2023-RandySchmidt_NorthPoleBowl-48.png
END:VEVENT
BEGIN:VEVENT
DTSTART;TZID=America/Los_Angeles:20231118T100000
DTEND;TZID=America/Los_Angeles:20231118T150000
DTSTAMP:20260425T061210
CREATED:20231106T214857Z
LAST-MODIFIED:20231106T214857Z
UID:35370-1700301600-1700319600@oldediblerenotahoe.com
SUMMARY:Holiday Music & Art Festival
DESCRIPTION:Sierra Arts Foundation\, a nonprofit that advocates for arts and the artists that create it within a 200 mile radius of the Reno\, Sparks region\, is hosting the first Holiday Music and Art Festival in partnership with the Carson City Parks and Recreation department at Silver Saddle Ranch on November 18 from 10 a.m. to 3 p.m. The event is free to the public and will feature artists\, vendors\, musicians and other nonprofit groups in advance of the holiday season.
URL:https://oldediblerenotahoe.com/event/holiday-music-art-festival/
LOCATION:Silver Saddle Ranch\, Carson City\, NV
CATEGORIES:Arts,Festival,Holiday,Music
END:VEVENT
BEGIN:VEVENT
DTSTART;TZID=America/Los_Angeles:20231115T170000
DTEND;TZID=America/Los_Angeles:20231115T200000
DTSTAMP:20260425T061210
CREATED:20231110T014741Z
LAST-MODIFIED:20231110T014741Z
UID:35450-1700067600-1700078400@oldediblerenotahoe.com
SUMMARY:ThankFul
DESCRIPTION:Nevada Dining at the University of Nevada Reno brings back “ThankFul” for its third year\, running from November 13 to 17\, with the main event on November 15. The nationwide initiative\, focusing on community and gratitude\, includes a “Swipe Drive” and “Buck Drive” to combat food insecurity. The main event features a Friendsgiving dinner on November 15 from 5 to 8 p.m.\, offering traditional and alternative Thanksgiving options. Activities include “Cookies for Good\,” the ThankFul Tree\, and Gratitude Pumpkins. Nevada Dining is donating 150 Meal Plan vouchers to Pack Provisions\, the University’s food pantry\, promoting social wellness.
URL:https://oldediblerenotahoe.com/event/thankful2023/
LOCATION:University of Nevada\, Reno Pack Place
CATEGORIES:Food & Drink,Holiday
ATTACH;FMTTYPE=image/png:https://oldediblerenotahoe.com/wp-content/uploads/2023/11/image.png
END:VEVENT
BEGIN:VEVENT
DTSTART;TZID=America/Los_Angeles:20231112T100000
DTEND;TZID=America/Los_Angeles:20231112T180000
DTSTAMP:20260425T061210
CREATED:20231110T004954Z
LAST-MODIFIED:20231110T004954Z
UID:35424-1699783200-1699812000@oldediblerenotahoe.com
SUMMARY:Fleas the Season
DESCRIPTION:The Reno Punk Rock Flea Market’s second holiday celebration\, Fleas the Season\, is set for November 11-12 at the Neil Road Recreation Center in Reno. As a non-profit in its first holiday season\, the event features twelve bands\, 60+ local vendors\, food trucks\, kids’ crafts\, a live Krampus\, and more. \nTransitioning from Sparks to Reno\, this family-friendly event offers punk rock yoga\, Cosplay for Kindness\, and live music\, including bands like December Pilot and Middle Aged Queers. Attendees can enjoy food trucks\, shop at vendor booths\, and participate in activities like a video game corner and the infamous stuffie pit. \nCo-founder Jessi Sprocket Janusee encourages holiday shopping with live music\, art\, and family fun. The event partners with Black Rabbit Meads for a special bar. Open from 10 a.m. to 6 p.m.\, entry is $5 pre-sale\, $10 at the door\, and kids under 12 enter free. \nFor more details\, visit rprfm.org.
URL:https://oldediblerenotahoe.com/event/fleas-the-season-2023-11-12/
LOCATION:Neil Road Recreation Center\, 3925 Neil Rd\, Reno\, NV\, 89502
CATEGORIES:Activity,Holiday,Music,Nonprofit
ATTACH;FMTTYPE=image/jpeg:https://oldediblerenotahoe.com/wp-content/uploads/2023/11/finalmainflyer1.jpg
END:VEVENT
BEGIN:VEVENT
DTSTART;TZID=America/Los_Angeles:20231111T110000
DTEND;TZID=America/Los_Angeles:20231111T130000
DTSTAMP:20260425T061210
CREATED:20231103T020647Z
LAST-MODIFIED:20231103T020647Z
UID:35310-1699700400-1699707600@oldediblerenotahoe.com
SUMMARY:Reno's Veterans Day Parade
DESCRIPTION:On November 11\, the City of Reno celebrates brave and selfless military service to our country and our sincere appreciation to the individuals who have served or are currently serving. To honor these folks\, the City of Reno Veterans Day Parade will be hosted downtown on Saturday\, November 11 at 11:11 a.m.
URL:https://oldediblerenotahoe.com/event/renos-veterans-day-parade/
LOCATION:Downtown Reno
CATEGORIES:Holiday
END:VEVENT
BEGIN:VEVENT
DTSTART;TZID=America/Los_Angeles:20231111T110000
DTEND;TZID=America/Los_Angeles:20231111T120000
DTSTAMP:20260425T061210
CREATED:20231103T013656Z
LAST-MODIFIED:20231103T013656Z
UID:35219-1699700400-1699704000@oldediblerenotahoe.com
SUMMARY:Virginia City Veterans Day Parade
DESCRIPTION:Join Virginia City as they proudly honor America’s veterans in their our annual Veterans Day Parade.
URL:https://oldediblerenotahoe.com/event/virginia-city-veterans-day-parade/
LOCATION:Virginia City
CATEGORIES:Activity,Holiday
END:VEVENT
BEGIN:VEVENT
DTSTART;TZID=America/Los_Angeles:20231111T100000
DTEND;TZID=America/Los_Angeles:20231111T180000
DTSTAMP:20260425T061210
CREATED:20231110T004954Z
LAST-MODIFIED:20231110T004954Z
UID:35421-1699696800-1699725600@oldediblerenotahoe.com
SUMMARY:Fleas the Season
DESCRIPTION:The Reno Punk Rock Flea Market’s second holiday celebration\, Fleas the Season\, is set for November 11-12 at the Neil Road Recreation Center in Reno. As a non-profit in its first holiday season\, the event features twelve bands\, 60+ local vendors\, food trucks\, kids’ crafts\, a live Krampus\, and more. \nTransitioning from Sparks to Reno\, this family-friendly event offers punk rock yoga\, Cosplay for Kindness\, and live music\, including bands like December Pilot and Middle Aged Queers. Attendees can enjoy food trucks\, shop at vendor booths\, and participate in activities like a video game corner and the infamous stuffie pit. \nCo-founder Jessi Sprocket Janusee encourages holiday shopping with live music\, art\, and family fun. The event partners with Black Rabbit Meads for a special bar. Open from 10 a.m. to 6 p.m.\, entry is $5 pre-sale\, $10 at the door\, and kids under 12 enter free. \nFor more details\, visit rprfm.org.
URL:https://oldediblerenotahoe.com/event/fleas-the-season/
LOCATION:Neil Road Recreation Center\, 3925 Neil Rd\, Reno\, NV\, 89502
CATEGORIES:Activity,Holiday,Music,Nonprofit
ATTACH;FMTTYPE=image/jpeg:https://oldediblerenotahoe.com/wp-content/uploads/2023/11/finalmainflyer1.jpg
END:VEVENT
BEGIN:VEVENT
DTSTART;VALUE=DATE:20231111
DTEND;VALUE=DATE:20231112
DTSTAMP:20260425T061210
CREATED:20231103T015645Z
LAST-MODIFIED:20231103T020510Z
UID:35293-1699660800-1699747199@oldediblerenotahoe.com
SUMMARY:Veterans Day
DESCRIPTION:
URL:https://oldediblerenotahoe.com/event/veterans-day/
LOCATION:NV
CATEGORIES:Holiday
END:VEVENT
BEGIN:VEVENT
DTSTART;TZID=America/Los_Angeles:20231031T170000
DTEND;TZID=America/Los_Angeles:20231031T210000
DTSTAMP:20260425T061210
CREATED:20231031T163329Z
LAST-MODIFIED:20231031T163329Z
UID:35127-1698771600-1698786000@oldediblerenotahoe.com
SUMMARY:NV Energy's First Annual Truck or Treat
DESCRIPTION:
URL:https://oldediblerenotahoe.com/event/nv-energys-first-annual-truck-or-treat/
LOCATION:NV Energy (Ohm)\, 1 Ohm Pl\, Reno\, NV
CATEGORIES:Activity,Family friendly,Holiday
ATTACH;FMTTYPE=image/jpeg:https://oldediblerenotahoe.com/wp-content/uploads/2023/10/IMG_1064.jpg
END:VEVENT
BEGIN:VEVENT
DTSTART;TZID=America/Los_Angeles:20231031T163000
DTEND;TZID=America/Los_Angeles:20231031T200000
DTSTAMP:20260425T061210
CREATED:20231005T211448Z
LAST-MODIFIED:20231005T211448Z
UID:34569-1698769800-1698782400@oldediblerenotahoe.com
SUMMARY:Hauntober Parade and Safe Trick-or-Treating
DESCRIPTION:Join the Hauntober Parade and Safe Trick-or-Treating on Halloween night\, October 31 in Virginia City. All ages\, including adults\, kids\, and pets\, are encouraged to come in costume for the parade and contest. Check-in at 4:30 p.m. at Virginia City Jerky Company\, parade starts at 5 p.m.\, followed by safe trick-or-treating at local shops.
URL:https://oldediblerenotahoe.com/event/hauntoberparade/
LOCATION:Virginia City
CATEGORIES:Activity,Family friendly,Holiday
END:VEVENT
BEGIN:VEVENT
DTSTART;TZID=America/Los_Angeles:20231031T163000
DTEND;TZID=America/Los_Angeles:20231031T193000
DTSTAMP:20260425T061210
CREATED:20231031T163139Z
LAST-MODIFIED:20231031T163139Z
UID:35125-1698769800-1698780600@oldediblerenotahoe.com
SUMMARY:Genoa's Annual Halloween Party
DESCRIPTION:The Town of Genoa is summoning all spirits\, ghouls\, and their eerie companions to the Genoa Town Hall\, October 31 for an evening of spooky fun from 4:30 pm.
URL:https://oldediblerenotahoe.com/event/genoas-annual-halloween-party/
LOCATION:Genoa Town Hall\, 2287 Main Street\, Minden\, NV
CATEGORIES:Activity,Family friendly,Holiday
END:VEVENT
BEGIN:VEVENT
DTSTART;TZID=America/Los_Angeles:20231031T163000
DTEND;TZID=America/Los_Angeles:20231031T180000
DTSTAMP:20260425T061210
CREATED:20231031T162647Z
LAST-MODIFIED:20231031T162647Z
UID:35118-1698769800-1698775200@oldediblerenotahoe.com
SUMMARY:RED Truck or Treat
DESCRIPTION:The Reno Experience District (RED) is hosting a Trunk-or-Treat on October 31 from 4:30-6 p.m. at 2072 Experience Way. The event is open to the public and will have trick-or-treating and food trucks!
URL:https://oldediblerenotahoe.com/event/red-truck-or-treat/
LOCATION:Reno Experience District (RED)\, 2072 Experience Way\, Reno\, NV
CATEGORIES:Activity,Family friendly,Holiday
END:VEVENT
BEGIN:VEVENT
DTSTART;TZID=America/Los_Angeles:20231031T160000
DTEND;TZID=America/Los_Angeles:20231031T200000
DTSTAMP:20260425T061210
CREATED:20231031T162130Z
LAST-MODIFIED:20231031T162130Z
UID:35113-1698768000-1698782400@oldediblerenotahoe.com
SUMMARY:Reno Public Market Trick-or-Treating
DESCRIPTION:
URL:https://oldediblerenotahoe.com/event/rpmtrickortreating/
LOCATION:Reno Public Market\, 299 E Plumb Ln\, Reno\, NV\, 89502
CATEGORIES:Activity,Family friendly,Holiday
END:VEVENT
BEGIN:VEVENT
DTSTART;TZID=America/Los_Angeles:20231031T160000
DTEND;TZID=America/Los_Angeles:20231031T180000
DTSTAMP:20260425T061210
CREATED:20231005T204009Z
LAST-MODIFIED:20231005T204009Z
UID:34536-1698768000-1698775200@oldediblerenotahoe.com
SUMMARY:Tahoe City Downtown Trick-or-Treat
DESCRIPTION:Tahoe City is teaming up with local businesses to offer a free\, fun\, and safe location for families to trick-or-treat on Halloween.
URL:https://oldediblerenotahoe.com/event/tahoecitytrickortreat/
LOCATION:NV
CATEGORIES:Activity,Family friendly,Holiday
END:VEVENT
BEGIN:VEVENT
DTSTART;TZID=America/Los_Angeles:20231031T150000
DTEND;TZID=America/Los_Angeles:20231031T230000
DTSTAMP:20260425T061210
CREATED:20231031T163015Z
LAST-MODIFIED:20231031T163015Z
UID:35121-1698764400-1698793200@oldediblerenotahoe.com
SUMMARY:Fright at the Fairgrounds
DESCRIPTION:The Douglas County Sheriff’s Office invites you to a night of frights and delights at Fright at the Fairgrounds – where fear is just the beginning.  The Not So Scary is $5.00 for kids and $10.00 for adults and the Full Scare is $20.00.
URL:https://oldediblerenotahoe.com/event/fright-at-the-fairgrounds/
LOCATION:Douglas County Fairgrounds\, Gardnerville\, NV
CATEGORIES:Activity,Family friendly,Holiday
ATTACH;FMTTYPE=image/jpeg:https://oldediblerenotahoe.com/wp-content/uploads/2023/10/IMG_1063.jpg
END:VEVENT
BEGIN:VEVENT
DTSTART;TZID=America/Los_Angeles:20231031T150000
DTEND;TZID=America/Los_Angeles:20231031T180000
DTSTAMP:20260425T061210
CREATED:20231031T162417Z
LAST-MODIFIED:20231031T162417Z
UID:35116-1698764400-1698775200@oldediblerenotahoe.com
SUMMARY:Trick or Treat CAR-Nival Halloween Party
DESCRIPTION:The National Automobile Museum is holding its Trick or Treat CAR-Nival Halloween Party on October 31st from 3 to 6:30 pm. Admission is $3 at the door. People can indulge in candy stations\, play games\, and win amazing prizes! Plus\, the Museum’s theatre will be showing It’s the Great Pumpkin\, Charlie Brown!
URL:https://oldediblerenotahoe.com/event/trick-or-treat-car-nival-halloween-party/
LOCATION:National Automobile Museum\, 10 South Lake St.\, Reno\, 89501
CATEGORIES:Activity,Family friendly,Holiday
END:VEVENT
BEGIN:VEVENT
DTSTART;TZID=America/Los_Angeles:20231031T100000
DTEND;TZID=America/Los_Angeles:20231031T170000
DTSTAMP:20260425T061210
CREATED:20231002T212325Z
LAST-MODIFIED:20231002T212325Z
UID:34395-1698746400-1698771600@oldediblerenotahoe.com
SUMMARY:Corley Ranch Harvest Festival & Pumpkin Patch
DESCRIPTION:Corley Ranch’s October Harvest Festival & Pumpkin Patch is an autumn magical delight\, whether you’re seeking weekday serenity or weekend wonder! Limited activities during the weekday; however\, the ranch comes alive with activities on the weekend including pig races\, giant sling shot and hay wagon rides.
URL:https://oldediblerenotahoe.com/event/corleyharvestfestival-2023-10-31/
LOCATION:Corley Ranch\, Carson Valley\, NV
CATEGORIES:Family friendly,Festival,Holiday
ATTACH;FMTTYPE=image/png:https://oldediblerenotahoe.com/wp-content/uploads/2023/10/corley.png
END:VEVENT
BEGIN:VEVENT
DTSTART;TZID=America/Los_Angeles:20231030T100000
DTEND;TZID=America/Los_Angeles:20231030T170000
DTSTAMP:20260425T061210
CREATED:20231002T212325Z
LAST-MODIFIED:20231002T212325Z
UID:34394-1698660000-1698685200@oldediblerenotahoe.com
SUMMARY:Corley Ranch Harvest Festival & Pumpkin Patch
DESCRIPTION:Corley Ranch’s October Harvest Festival & Pumpkin Patch is an autumn magical delight\, whether you’re seeking weekday serenity or weekend wonder! Limited activities during the weekday; however\, the ranch comes alive with activities on the weekend including pig races\, giant sling shot and hay wagon rides.
URL:https://oldediblerenotahoe.com/event/corleyharvestfestival-2023-10-30/
LOCATION:Corley Ranch\, Carson Valley\, NV
CATEGORIES:Family friendly,Festival,Holiday
ATTACH;FMTTYPE=image/png:https://oldediblerenotahoe.com/wp-content/uploads/2023/10/corley.png
END:VEVENT
BEGIN:VEVENT
DTSTART;TZID=America/Los_Angeles:20231029T100000
DTEND;TZID=America/Los_Angeles:20231029T170000
DTSTAMP:20260425T061210
CREATED:20231002T212325Z
LAST-MODIFIED:20231002T212325Z
UID:34393-1698573600-1698598800@oldediblerenotahoe.com
SUMMARY:Corley Ranch Harvest Festival & Pumpkin Patch
DESCRIPTION:Corley Ranch’s October Harvest Festival & Pumpkin Patch is an autumn magical delight\, whether you’re seeking weekday serenity or weekend wonder! Limited activities during the weekday; however\, the ranch comes alive with activities on the weekend including pig races\, giant sling shot and hay wagon rides.
URL:https://oldediblerenotahoe.com/event/corleyharvestfestival-2023-10-29/
LOCATION:Corley Ranch\, Carson Valley\, NV
CATEGORIES:Family friendly,Festival,Holiday
ATTACH;FMTTYPE=image/png:https://oldediblerenotahoe.com/wp-content/uploads/2023/10/corley.png
END:VEVENT
BEGIN:VEVENT
DTSTART;TZID=America/Los_Angeles:20231028T173000
DTEND;TZID=America/Los_Angeles:20231028T193000
DTSTAMP:20260425T061210
CREATED:20231004T015853Z
LAST-MODIFIED:20231004T015853Z
UID:34493-1698514200-1698521400@oldediblerenotahoe.com
SUMMARY:Pumpkin Carving Contest
DESCRIPTION:Participate in a spook-tacular pumpkin carving contest at Boatworks at Lake Tahoe! Bring your expertly carved pumpkins to showcase your hauntingly good skills and a chance to win exciting prizes.
URL:https://oldediblerenotahoe.com/event/pumpkincarvingcontest/
LOCATION:Boatworks Mall\, 760 North Lake Boulevard\, #2\, Tahoe City\, CA\, 96145
CATEGORIES:Activity,Holiday
ATTACH;FMTTYPE=image/png:https://oldediblerenotahoe.com/wp-content/uploads/2023/10/pumpkin.png
END:VEVENT
BEGIN:VEVENT
DTSTART;TZID=America/Los_Angeles:20231028T100000
DTEND;TZID=America/Los_Angeles:20231028T170000
DTSTAMP:20260425T061210
CREATED:20231024T231404Z
LAST-MODIFIED:20231024T231404Z
UID:34851-1698487200-1698512400@oldediblerenotahoe.com
SUMMARY:12th Annual Halloween Trick or Treat at The Discovery
DESCRIPTION:Head to The Discovery for a hauntingly good time at the 12th annual Halloween Trick or Treat. Visit the museum in costume and trick-or-treat from gallery to gallery. There’ll be spooky decorations and delicious treats for all the friendly or scary ghosts\, ghouls and goblins who dare to attend.
URL:https://oldediblerenotahoe.com/event/12th-annual-halloween-trick-or-treat-at-the-discovery/
LOCATION:Terry Lee Wells Discovery Museum\, 490 S. Center Street\, Reno\, NV\, 89501
CATEGORIES:Activity,Family friendly,Holiday
ATTACH;FMTTYPE=image/jpeg:https://oldediblerenotahoe.com/wp-content/uploads/2023/10/2023_Halloween_Trick_or_Treat-1180x550-1.jpg
END:VEVENT
BEGIN:VEVENT
DTSTART;TZID=America/Los_Angeles:20231028T100000
DTEND;TZID=America/Los_Angeles:20231028T170000
DTSTAMP:20260425T061210
CREATED:20231002T212325Z
LAST-MODIFIED:20231002T212325Z
UID:34392-1698487200-1698512400@oldediblerenotahoe.com
SUMMARY:Corley Ranch Harvest Festival & Pumpkin Patch
DESCRIPTION:Corley Ranch’s October Harvest Festival & Pumpkin Patch is an autumn magical delight\, whether you’re seeking weekday serenity or weekend wonder! Limited activities during the weekday; however\, the ranch comes alive with activities on the weekend including pig races\, giant sling shot and hay wagon rides.
URL:https://oldediblerenotahoe.com/event/corleyharvestfestival-2023-10-28/
LOCATION:Corley Ranch\, Carson Valley\, NV
CATEGORIES:Family friendly,Festival,Holiday
ATTACH;FMTTYPE=image/png:https://oldediblerenotahoe.com/wp-content/uploads/2023/10/corley.png
END:VEVENT
BEGIN:VEVENT
DTSTART;TZID=America/Los_Angeles:20231027T100000
DTEND;TZID=America/Los_Angeles:20231027T170000
DTSTAMP:20260425T061210
CREATED:20231002T212325Z
LAST-MODIFIED:20231002T212325Z
UID:34391-1698400800-1698426000@oldediblerenotahoe.com
SUMMARY:Corley Ranch Harvest Festival & Pumpkin Patch
DESCRIPTION:Corley Ranch’s October Harvest Festival & Pumpkin Patch is an autumn magical delight\, whether you’re seeking weekday serenity or weekend wonder! Limited activities during the weekday; however\, the ranch comes alive with activities on the weekend including pig races\, giant sling shot and hay wagon rides.
URL:https://oldediblerenotahoe.com/event/corleyharvestfestival-2023-10-27/
LOCATION:Corley Ranch\, Carson Valley\, NV
CATEGORIES:Family friendly,Festival,Holiday
ATTACH;FMTTYPE=image/png:https://oldediblerenotahoe.com/wp-content/uploads/2023/10/corley.png
END:VEVENT
BEGIN:VEVENT
DTSTART;VALUE=DATE:20231027
DTEND;VALUE=DATE:20231028
DTSTAMP:20260425T061210
CREATED:20231011T000442Z
LAST-MODIFIED:20231011T000443Z
UID:34592-1698364800-1698451199@oldediblerenotahoe.com
SUMMARY:Nevada Day
DESCRIPTION:
URL:https://oldediblerenotahoe.com/event/nevada-day/
LOCATION:NV
CATEGORIES:Holiday
END:VEVENT
BEGIN:VEVENT
DTSTART;TZID=America/Los_Angeles:20231026T171500
DTEND;TZID=America/Los_Angeles:20231026T191500
DTSTAMP:20260425T061210
CREATED:20230927T221440Z
LAST-MODIFIED:20230927T221440Z
UID:34286-1698340500-1698347700@oldediblerenotahoe.com
SUMMARY:Halloween Sugar Cookie Decorating Class
DESCRIPTION:Discover the art of outlining\, flooding\, and decorating 8 large cookies with royal icing. Learn how to prepare royal icing\, achieve the right consistency\, and mix colors. You’ll also be introduced to essential tools and where to find them. \nYou’ll leave with your beautifully boxed cookies. Ages 12 and up are welcome.
URL:https://oldediblerenotahoe.com/event/mixhalloweencookies-2023-10-26/
LOCATION:Mix Bakeshop\, 1117 California Avenue\, Reno\, NV\, 89509
CATEGORIES:Cooking Classes,Holiday
END:VEVENT
BEGIN:VEVENT
DTSTART;TZID=America/Los_Angeles:20231026T100000
DTEND;TZID=America/Los_Angeles:20231026T170000
DTSTAMP:20260425T061210
CREATED:20231002T212325Z
LAST-MODIFIED:20231002T212325Z
UID:34390-1698314400-1698339600@oldediblerenotahoe.com
SUMMARY:Corley Ranch Harvest Festival & Pumpkin Patch
DESCRIPTION:Corley Ranch’s October Harvest Festival & Pumpkin Patch is an autumn magical delight\, whether you’re seeking weekday serenity or weekend wonder! Limited activities during the weekday; however\, the ranch comes alive with activities on the weekend including pig races\, giant sling shot and hay wagon rides.
URL:https://oldediblerenotahoe.com/event/corleyharvestfestival-2023-10-26/
LOCATION:Corley Ranch\, Carson Valley\, NV
CATEGORIES:Family friendly,Festival,Holiday
ATTACH;FMTTYPE=image/png:https://oldediblerenotahoe.com/wp-content/uploads/2023/10/corley.png
END:VEVENT
END:VCALENDAR