BEGIN:VCALENDAR
VERSION:2.0
PRODID:-//Edible Reno-Tahoe - ECPv6.15.20//NONSGML v1.0//EN
CALSCALE:GREGORIAN
METHOD:PUBLISH
X-WR-CALNAME:Edible Reno-Tahoe
X-ORIGINAL-URL:https://oldediblerenotahoe.com
X-WR-CALDESC:Events for Edible Reno-Tahoe
REFRESH-INTERVAL;VALUE=DURATION:PT1H
X-Robots-Tag:noindex
X-PUBLISHED-TTL:PT1H
BEGIN:VTIMEZONE
TZID:America/Los_Angeles
BEGIN:DAYLIGHT
TZOFFSETFROM:-0800
TZOFFSETTO:-0700
TZNAME:PDT
DTSTART:20220313T100000
END:DAYLIGHT
BEGIN:STANDARD
TZOFFSETFROM:-0700
TZOFFSETTO:-0800
TZNAME:PST
DTSTART:20221106T090000
END:STANDARD
BEGIN:DAYLIGHT
TZOFFSETFROM:-0800
TZOFFSETTO:-0700
TZNAME:PDT
DTSTART:20230312T100000
END:DAYLIGHT
BEGIN:STANDARD
TZOFFSETFROM:-0700
TZOFFSETTO:-0800
TZNAME:PST
DTSTART:20231105T090000
END:STANDARD
BEGIN:DAYLIGHT
TZOFFSETFROM:-0800
TZOFFSETTO:-0700
TZNAME:PDT
DTSTART:20240310T100000
END:DAYLIGHT
BEGIN:STANDARD
TZOFFSETFROM:-0700
TZOFFSETTO:-0800
TZNAME:PST
DTSTART:20241103T090000
END:STANDARD
BEGIN:DAYLIGHT
TZOFFSETFROM:-0800
TZOFFSETTO:-0700
TZNAME:PDT
DTSTART:20250309T100000
END:DAYLIGHT
BEGIN:STANDARD
TZOFFSETFROM:-0700
TZOFFSETTO:-0800
TZNAME:PST
DTSTART:20251102T090000
END:STANDARD
END:VTIMEZONE
BEGIN:VEVENT
DTSTART;TZID=America/Los_Angeles:20240504T190000
DTEND;TZID=America/Los_Angeles:20240504T220000
DTSTAMP:20260424T102130
CREATED:20231227T230553Z
LAST-MODIFIED:20231227T230553Z
UID:36366-1714849200-1714860000@oldediblerenotahoe.com
SUMMARY:Cinco De Mayo Celebración
DESCRIPTION:
URL:https://oldediblerenotahoe.com/event/cinco-de-mayo-celebracion/
LOCATION:Brewery Arts Center\, 449 W King St.\, Carson City\, NV\, 89703
CATEGORIES:Activity,Arts,Family friendly,Holiday
END:VEVENT
BEGIN:VEVENT
DTSTART;VALUE=DATE:20240331
DTEND;VALUE=DATE:20240401
DTSTAMP:20260424T102130
CREATED:20231216T222751Z
LAST-MODIFIED:20231216T222751Z
UID:36008-1711843200-1711929599@oldediblerenotahoe.com
SUMMARY:Easter
DESCRIPTION:
URL:https://oldediblerenotahoe.com/event/easter/
LOCATION:NV
CATEGORIES:Holiday
END:VEVENT
BEGIN:VEVENT
DTSTART;TZID=America/Los_Angeles:20240330T100000
DTEND;TZID=America/Los_Angeles:20240330T180000
DTSTAMP:20260424T102130
CREATED:20240311T044251Z
LAST-MODIFIED:20240311T044251Z
UID:37788-1711792800-1711821600@oldediblerenotahoe.com
SUMMARY:Easter Egg Hunt at Chocolate Nugget
DESCRIPTION:The Chocolate Nugget Candy Factory is thrilled to announce its upcoming Easter event\, set to take place on Saturday\, March 30 from 10 a.m. to 6 p.m. at its Washoe City location. This free community event promises a delightful day filled with egg hunts for children of all ages\, photos with the Easter Bunny\, games\, prizes and more. \nAttendees can look forward to an array of activities\, including: \n\nEgg Hunts: The highlight of the day will be the egg hunts\, with three separate hunts tailored for different age groups. The first hunt is designed for the littlest ones aged 1 to 5\, followed by a hunt for ages 5 to 11\, and finally\, a hunt for ages 12 to 15. Participants will have a blast searching for eggs filled with surprises scattered throughout the premises.\nPhotos with the Easter Bunny: Capture the magic of the season with special photo opportunities with the Easter Bunny.\n360 Photos: Take your Easter photos to the next level with 360-degree photo opportunities. Create unforgettable snapshots to share with friends and family.\nGames and Prizes: Exciting games and challenges await attendees\, with chances to win fun prizes.\nCoffee Truck: Guests can refuel and recharge at the event with delicious offerings from a local coffee truck\, Carbon Coffee.\nEaster Eggs for Shopping: Explore the vast selection of Easter eggs available for purchase.\n\nAdding to the charm of the event\, attendees will have the unique opportunity to witness a vintage chocolate molder in action\, one of only three in the world.
URL:https://oldediblerenotahoe.com/event/easter-egg-hunt-at-chocolate-nugget/
LOCATION:Chocolate Nugget Candy Factory\, 611 US-395\, New Washoe City\, NV\, 89704
CATEGORIES:Activity,Family friendly,Holiday
END:VEVENT
BEGIN:VEVENT
DTSTART;TZID=America/Los_Angeles:20240329T170000
DTEND;TZID=America/Los_Angeles:20240329T190000
DTSTAMP:20260424T102130
CREATED:20240311T043026Z
LAST-MODIFIED:20240311T043026Z
UID:37775-1711731600-1711738800@oldediblerenotahoe.com
SUMMARY:Tahoe Symphony: St Matthew Passion LIVE
DESCRIPTION:The St. Matthew Passion was written for two separate Choirs\, accompanied by two small Orchestras. In most Arias\, only one Orchestra provides accompaniment. The Choirs are sometimes separated\, but more often sing in unison or antiphony – moving the story forward and also providing commentary on the events. At different times\, the Choruses appear as an unruly mob\, or quiet witnesses\, or actual participants in the story. \nOriginally composed in Bach’s native tongue\, German\, the Tahoe Symphony will perform Part Two of Passion in English to honor legacy while bringing the Passion story to life for a broader audience. \nDates/Times:\nMarch 22\, 7 pm\, Reno (St John’s Episcopal Church)\nMarch 24\, 4 pm\, Reno (Trinity Episcopal Church)\nMarch 27\, 7 pm\, Incline Village (St Francis of Assisi)\nMarch 29\, 5 pm\, Gardnerville (Trinity Lutheran Church)
URL:https://oldediblerenotahoe.com/event/tahoe-symphony-st-matthew-passion-live-2024-03-29/
LOCATION:NV
CATEGORIES:Holiday,Music
ATTACH;FMTTYPE=image/png:https://oldediblerenotahoe.com/wp-content/uploads/2024/03/stmatthewpassion.png
END:VEVENT
BEGIN:VEVENT
DTSTART;TZID=America/Los_Angeles:20240327T190000
DTEND;TZID=America/Los_Angeles:20240327T210000
DTSTAMP:20260424T102130
CREATED:20240311T043026Z
LAST-MODIFIED:20240311T043026Z
UID:37774-1711566000-1711573200@oldediblerenotahoe.com
SUMMARY:Tahoe Symphony: St Matthew Passion LIVE
DESCRIPTION:The St. Matthew Passion was written for two separate Choirs\, accompanied by two small Orchestras. In most Arias\, only one Orchestra provides accompaniment. The Choirs are sometimes separated\, but more often sing in unison or antiphony – moving the story forward and also providing commentary on the events. At different times\, the Choruses appear as an unruly mob\, or quiet witnesses\, or actual participants in the story. \nOriginally composed in Bach’s native tongue\, German\, the Tahoe Symphony will perform Part Two of Passion in English to honor legacy while bringing the Passion story to life for a broader audience. \nDates/Times:\nMarch 22\, 7 pm\, Reno (St John’s Episcopal Church)\nMarch 24\, 4 pm\, Reno (Trinity Episcopal Church)\nMarch 27\, 7 pm\, Incline Village (St Francis of Assisi)\nMarch 29\, 5 pm\, Gardnerville (Trinity Lutheran Church)
URL:https://oldediblerenotahoe.com/event/tahoe-symphony-st-matthew-passion-live-2024-03-27/
LOCATION:NV
CATEGORIES:Holiday,Music
ATTACH;FMTTYPE=image/png:https://oldediblerenotahoe.com/wp-content/uploads/2024/03/stmatthewpassion.png
END:VEVENT
BEGIN:VEVENT
DTSTART;TZID=America/Los_Angeles:20240324T160000
DTEND;TZID=America/Los_Angeles:20240324T180000
DTSTAMP:20260424T102130
CREATED:20240311T043026Z
LAST-MODIFIED:20240311T043026Z
UID:37773-1711296000-1711303200@oldediblerenotahoe.com
SUMMARY:Tahoe Symphony: St Matthew Passion LIVE
DESCRIPTION:The St. Matthew Passion was written for two separate Choirs\, accompanied by two small Orchestras. In most Arias\, only one Orchestra provides accompaniment. The Choirs are sometimes separated\, but more often sing in unison or antiphony – moving the story forward and also providing commentary on the events. At different times\, the Choruses appear as an unruly mob\, or quiet witnesses\, or actual participants in the story. \nOriginally composed in Bach’s native tongue\, German\, the Tahoe Symphony will perform Part Two of Passion in English to honor legacy while bringing the Passion story to life for a broader audience. \nDates/Times:\nMarch 22\, 7 pm\, Reno (St John’s Episcopal Church)\nMarch 24\, 4 pm\, Reno (Trinity Episcopal Church)\nMarch 27\, 7 pm\, Incline Village (St Francis of Assisi)\nMarch 29\, 5 pm\, Gardnerville (Trinity Lutheran Church)
URL:https://oldediblerenotahoe.com/event/tahoe-symphony-st-matthew-passion-live-2024-03-24/
LOCATION:NV
CATEGORIES:Holiday,Music
ATTACH;FMTTYPE=image/png:https://oldediblerenotahoe.com/wp-content/uploads/2024/03/stmatthewpassion.png
END:VEVENT
BEGIN:VEVENT
DTSTART;TZID=America/Los_Angeles:20240322T190000
DTEND;TZID=America/Los_Angeles:20240322T210000
DTSTAMP:20260424T102130
CREATED:20240311T043026Z
LAST-MODIFIED:20240311T043026Z
UID:37771-1711134000-1711141200@oldediblerenotahoe.com
SUMMARY:Tahoe Symphony: St Matthew Passion LIVE
DESCRIPTION:The St. Matthew Passion was written for two separate Choirs\, accompanied by two small Orchestras. In most Arias\, only one Orchestra provides accompaniment. The Choirs are sometimes separated\, but more often sing in unison or antiphony – moving the story forward and also providing commentary on the events. At different times\, the Choruses appear as an unruly mob\, or quiet witnesses\, or actual participants in the story. \nOriginally composed in Bach’s native tongue\, German\, the Tahoe Symphony will perform Part Two of Passion in English to honor legacy while bringing the Passion story to life for a broader audience. \nDates/Times:\nMarch 22\, 7 pm\, Reno (St John’s Episcopal Church)\nMarch 24\, 4 pm\, Reno (Trinity Episcopal Church)\nMarch 27\, 7 pm\, Incline Village (St Francis of Assisi)\nMarch 29\, 5 pm\, Gardnerville (Trinity Lutheran Church)
URL:https://oldediblerenotahoe.com/event/tahoe-symphony-st-matthew-passion-live/
LOCATION:NV
CATEGORIES:Holiday,Music
ATTACH;FMTTYPE=image/png:https://oldediblerenotahoe.com/wp-content/uploads/2024/03/stmatthewpassion.png
END:VEVENT
BEGIN:VEVENT
DTSTART;VALUE=DATE:20240317
DTEND;VALUE=DATE:20240318
DTSTAMP:20260424T102130
CREATED:20231216T222721Z
LAST-MODIFIED:20231216T222722Z
UID:36006-1710633600-1710719999@oldediblerenotahoe.com
SUMMARY:St. Patrick's Day
DESCRIPTION:
URL:https://oldediblerenotahoe.com/event/st-patricks-day/
LOCATION:NV
CATEGORIES:Holiday
END:VEVENT
BEGIN:VEVENT
DTSTART;TZID=America/Los_Angeles:20240316T200000
DTEND;TZID=America/Los_Angeles:20240317T200000
DTSTAMP:20260424T102130
CREATED:20231228T000711Z
LAST-MODIFIED:20231228T000711Z
UID:36513-1710619200-1710705600@oldediblerenotahoe.com
SUMMARY:Reno Leprechaun Crawl
DESCRIPTION:Join the largest St. Patrick’s Day celebration of the season. 5\,000 crawlers and the organizers of Reno Zombie Crawl and Reno Santa Crawl invite you to their other massive bar crawl\, Reno Leprechaun Crawl.
URL:https://oldediblerenotahoe.com/event/reno-leprechaun-crawl-3/
LOCATION:Downtown Reno
CATEGORIES:21+,Beer,Holiday
END:VEVENT
BEGIN:VEVENT
DTSTART;VALUE=DATE:20240219
DTEND;VALUE=DATE:20240220
DTSTAMP:20260424T102130
CREATED:20231216T222622Z
LAST-MODIFIED:20231216T222650Z
UID:36004-1708300800-1708387199@oldediblerenotahoe.com
SUMMARY:Presidents' Day
DESCRIPTION:
URL:https://oldediblerenotahoe.com/event/presidents-day/
LOCATION:NV
CATEGORIES:Holiday
END:VEVENT
BEGIN:VEVENT
DTSTART;TZID=America/Los_Angeles:20240217T170000
DTEND;TZID=America/Los_Angeles:20240217T223000
DTSTAMP:20260424T102130
CREATED:20240212T181833Z
LAST-MODIFIED:20240212T181833Z
UID:37305-1708189200-1708209000@oldediblerenotahoe.com
SUMMARY:Cucina Lupo Valentine's Day Dinner
DESCRIPTION:
URL:https://oldediblerenotahoe.com/event/cucina-lupo-valentines-day-dinner-2024-02-17/
LOCATION:Cucina Lupo\, 308 N Curry St.\, Carson City\, NV\, 89703
CATEGORIES:Food & Drink,Holiday
END:VEVENT
BEGIN:VEVENT
DTSTART;TZID=America/Los_Angeles:20240216T180000
DTEND;TZID=America/Los_Angeles:20240216T200000
DTSTAMP:20260424T102130
CREATED:20231216T221002Z
LAST-MODIFIED:20231216T221002Z
UID:35982-1708106400-1708113600@oldediblerenotahoe.com
SUMMARY:Cooking Class: Couples Love Bites
DESCRIPTION:Join us as we dim the lights for a romantic evening for two at Nothing to It! Experience the makings of a sumptuous enchanted evening\, cooking with your very own valentine. Champagne flows\, candles sparkle and your heartstrings sing. Romance in the kitchen\, anyone?
URL:https://oldediblerenotahoe.com/event/cooking-class-couples-love-bites-2024-02-16/
LOCATION:Nothing To It!\, 225 Crummer Lane\, Reno\, NV\, 89502\, United States
CATEGORIES:Cooking Classes,Holiday
END:VEVENT
BEGIN:VEVENT
DTSTART;TZID=America/Los_Angeles:20240216T170000
DTEND;TZID=America/Los_Angeles:20240216T223000
DTSTAMP:20260424T102130
CREATED:20240212T181833Z
LAST-MODIFIED:20240212T181833Z
UID:37304-1708102800-1708122600@oldediblerenotahoe.com
SUMMARY:Cucina Lupo Valentine's Day Dinner
DESCRIPTION:
URL:https://oldediblerenotahoe.com/event/cucina-lupo-valentines-day-dinner-2024-02-16/
LOCATION:Cucina Lupo\, 308 N Curry St.\, Carson City\, NV\, 89703
CATEGORIES:Food & Drink,Holiday
END:VEVENT
BEGIN:VEVENT
DTSTART;TZID=America/Los_Angeles:20240215T180000
DTEND;TZID=America/Los_Angeles:20240215T200000
DTSTAMP:20260424T102130
CREATED:20231216T221002Z
LAST-MODIFIED:20231216T221002Z
UID:35981-1708020000-1708027200@oldediblerenotahoe.com
SUMMARY:Cooking Class: Couples Love Bites
DESCRIPTION:Join us as we dim the lights for a romantic evening for two at Nothing to It! Experience the makings of a sumptuous enchanted evening\, cooking with your very own valentine. Champagne flows\, candles sparkle and your heartstrings sing. Romance in the kitchen\, anyone?
URL:https://oldediblerenotahoe.com/event/cooking-class-couples-love-bites-2024-02-15/
LOCATION:Nothing To It!\, 225 Crummer Lane\, Reno\, NV\, 89502\, United States
CATEGORIES:Cooking Classes,Holiday
END:VEVENT
BEGIN:VEVENT
DTSTART;TZID=America/Los_Angeles:20240215T170000
DTEND;TZID=America/Los_Angeles:20240215T223000
DTSTAMP:20260424T102130
CREATED:20240212T181833Z
LAST-MODIFIED:20240212T181833Z
UID:37303-1708016400-1708036200@oldediblerenotahoe.com
SUMMARY:Cucina Lupo Valentine's Day Dinner
DESCRIPTION:
URL:https://oldediblerenotahoe.com/event/cucina-lupo-valentines-day-dinner-2024-02-15/
LOCATION:Cucina Lupo\, 308 N Curry St.\, Carson City\, NV\, 89703
CATEGORIES:Food & Drink,Holiday
END:VEVENT
BEGIN:VEVENT
DTSTART;TZID=America/Los_Angeles:20240215T170000
DTEND;TZID=America/Los_Angeles:20240215T220000
DTSTAMP:20260424T102130
CREATED:20240212T182030Z
LAST-MODIFIED:20240212T182030Z
UID:37301-1708016400-1708034400@oldediblerenotahoe.com
SUMMARY:Liberty Food & Wine Exchange Valentine's Day Dinner
DESCRIPTION:
URL:https://oldediblerenotahoe.com/event/liberty-food-wine-exchange-valentines-day-dinner-2024-02-15/
LOCATION:Liberty Food and Wine Exchange\, 100 N Sierra St\, Reno\, NV\, 89501
CATEGORIES:Food & Drink,Holiday
END:VEVENT
BEGIN:VEVENT
DTSTART;TZID=America/Los_Angeles:20240214T180000
DTEND;TZID=America/Los_Angeles:20240214T200000
DTSTAMP:20260424T102130
CREATED:20231216T221002Z
LAST-MODIFIED:20231216T221002Z
UID:35980-1707933600-1707940800@oldediblerenotahoe.com
SUMMARY:Cooking Class: Couples Love Bites
DESCRIPTION:Join us as we dim the lights for a romantic evening for two at Nothing to It! Experience the makings of a sumptuous enchanted evening\, cooking with your very own valentine. Champagne flows\, candles sparkle and your heartstrings sing. Romance in the kitchen\, anyone?
URL:https://oldediblerenotahoe.com/event/cooking-class-couples-love-bites/
LOCATION:Nothing To It!\, 225 Crummer Lane\, Reno\, NV\, 89502\, United States
CATEGORIES:Cooking Classes,Holiday
END:VEVENT
BEGIN:VEVENT
DTSTART;TZID=America/Los_Angeles:20240214T170000
DTEND;TZID=America/Los_Angeles:20240214T223000
DTSTAMP:20260424T102130
CREATED:20240212T181833Z
LAST-MODIFIED:20240212T182118Z
UID:37296-1707930000-1707949800@oldediblerenotahoe.com
SUMMARY:Cucina Lupo Valentine's Day Dinner
DESCRIPTION:
URL:https://oldediblerenotahoe.com/event/cucina-lupo-valentines-day-dinner/
LOCATION:Cucina Lupo\, 308 N Curry St.\, Carson City\, NV\, 89703
CATEGORIES:Food & Drink,Holiday
END:VEVENT
BEGIN:VEVENT
DTSTART;TZID=America/Los_Angeles:20240214T170000
DTEND;TZID=America/Los_Angeles:20240214T220000
DTSTAMP:20260424T102130
CREATED:20240212T182030Z
LAST-MODIFIED:20240212T182030Z
UID:37300-1707930000-1707948000@oldediblerenotahoe.com
SUMMARY:Liberty Food & Wine Exchange Valentine's Day Dinner
DESCRIPTION:
URL:https://oldediblerenotahoe.com/event/liberty-food-wine-exchange-valentines-day-dinner/
LOCATION:Liberty Food and Wine Exchange\, 100 N Sierra St\, Reno\, NV\, 89501
CATEGORIES:Food & Drink,Holiday
END:VEVENT
BEGIN:VEVENT
DTSTART;VALUE=DATE:20240214
DTEND;VALUE=DATE:20240215
DTSTAMP:20260424T102130
CREATED:20231216T222557Z
LAST-MODIFIED:20231216T222558Z
UID:36002-1707868800-1707955199@oldediblerenotahoe.com
SUMMARY:Valentine's Day
DESCRIPTION:
URL:https://oldediblerenotahoe.com/event/valentines-day/
LOCATION:NV
CATEGORIES:Holiday
END:VEVENT
BEGIN:VEVENT
DTSTART;VALUE=DATE:20240115
DTEND;VALUE=DATE:20240116
DTSTAMP:20260424T102130
CREATED:20231216T222513Z
LAST-MODIFIED:20231216T222514Z
UID:36000-1705276800-1705363199@oldediblerenotahoe.com
SUMMARY:Martin Luther King Jr. Day
DESCRIPTION:
URL:https://oldediblerenotahoe.com/event/martin-luther-king-jr-day/
LOCATION:NV
CATEGORIES:Holiday
END:VEVENT
BEGIN:VEVENT
DTSTART;TZID=America/Los_Angeles:20240114T160000
DTEND;TZID=America/Los_Angeles:20240114T180000
DTSTAMP:20260424T102130
CREATED:20231213T181803Z
LAST-MODIFIED:20231213T181803Z
UID:35709-1705248000-1705255200@oldediblerenotahoe.com
SUMMARY:Palisades Tahoe Sunset Happy Hour
DESCRIPTION:This après experience is one of a kind! The breathtaking views allow you to take in the sights of Lake Tahoe\, as well as the snow capped peaks\, all while enjoying happy hour drink and food specials.
URL:https://oldediblerenotahoe.com/event/palisades-tahoe-sunset-happy-hour-2024-01-14/
LOCATION:Palisades Tahoe\, 1960 Squaw Valley Road\, Olympic Valley\, CA\, 96146
CATEGORIES:Activity,Food & Drink,Holiday
ATTACH;FMTTYPE=image/webp:https://oldediblerenotahoe.com/wp-content/uploads/2023/12/2021-12-16-PTOV-HighCampNewSnowEIP0397-jpg.webp
END:VEVENT
BEGIN:VEVENT
DTSTART;VALUE=DATE:20240101
DTEND;VALUE=DATE:20240102
DTSTAMP:20260424T102130
CREATED:20231216T201616Z
LAST-MODIFIED:20231216T201617Z
UID:35850-1704067200-1704153599@oldediblerenotahoe.com
SUMMARY:New Year's Day
DESCRIPTION:
URL:https://oldediblerenotahoe.com/event/new-years-day/
LOCATION:NV
CATEGORIES:Holiday
END:VEVENT
BEGIN:VEVENT
DTSTART;TZID=America/Los_Angeles:20231231T213000
DTEND;TZID=America/Los_Angeles:20240101T213000
DTSTAMP:20260424T102130
CREATED:20231227T212157Z
LAST-MODIFIED:20231227T212157Z
UID:36234-1704058200-1704144600@oldediblerenotahoe.com
SUMMARY:'24K Gold New Year's Eve at Reno Public Market
DESCRIPTION:Gear up to shine bright at our ’24K Gold New Year’s Eve Party! It’s the ultimate chance to welcome the New Year with all the glitz and good vibes. Imagine grooving to Lizano’s tunes\, decked out in your coolest gold getup\, as the night ignites with excitement at our FREE celebration!
URL:https://oldediblerenotahoe.com/event/24k-gold-new-years-eve-at-reno-public-market/
LOCATION:Reno Public Market\, 299 E Plumb Ln\, Reno\, NV\, 89502
CATEGORIES:Holiday
END:VEVENT
BEGIN:VEVENT
DTSTART;TZID=America/Los_Angeles:20231231T210000
DTEND;TZID=America/Los_Angeles:20240101T020000
DTSTAMP:20260424T102130
CREATED:20231217T002148Z
LAST-MODIFIED:20231217T002148Z
UID:36204-1704056400-1704074400@oldediblerenotahoe.com
SUMMARY:Ring In The New Year at The Depot
DESCRIPTION:Celebrating the start of 2024 and its ninth anniversary\, The Depot Craft Brewery and Distillery (The Depot) will host a 90s themed New Year’s Eve party. The fly celebration will begin Thursday\, Dec. 31 at 9 p.m. and wrap Friday\, Jan. 1 at 2 a.m. as the RickRoom warehouse is converted into a rave scene. The event will include a live DJ\, costume contest\, karaoke and more.
URL:https://oldediblerenotahoe.com/event/ring-in-the-new-year-at-the-depot/
LOCATION:The Depot\, 325 EAST FOURTH STREET\, Reno\, Nevada\, 89501
CATEGORIES:Holiday
ATTACH;FMTTYPE=image/png:https://oldediblerenotahoe.com/wp-content/uploads/2023/12/The-Depot-New-Years-Eve-V1-2.png
END:VEVENT
BEGIN:VEVENT
DTSTART;TZID=America/Los_Angeles:20231231T210000
DTEND;TZID=America/Los_Angeles:20231231T233000
DTSTAMP:20260424T102130
CREATED:20231128T015049Z
LAST-MODIFIED:20231128T015049Z
UID:35525-1704056400-1704065400@oldediblerenotahoe.com
SUMMARY:South 40 New Years Eve Dance Party
DESCRIPTION:
URL:https://oldediblerenotahoe.com/event/south-40-new-years-eve-dance-party/
LOCATION:South 40\, 1445 South Meadows Parkway\, Reno\, NV
CATEGORIES:Holiday,Music
END:VEVENT
BEGIN:VEVENT
DTSTART;TZID=America/Los_Angeles:20231231T190000
DTEND;TZID=America/Los_Angeles:20231231T230000
DTSTAMP:20260424T102130
CREATED:20231217T003021Z
LAST-MODIFIED:20231217T003021Z
UID:36211-1704049200-1704063600@oldediblerenotahoe.com
SUMMARY:Neutral Ground New Years Eve
DESCRIPTION:Join The Holland Project for a special NYE edition of our monthly all-ages show\, Neutral Ground featuring House Warning\, Drought and The Grimtones.
URL:https://oldediblerenotahoe.com/event/neutral-ground-new-years-eve/
LOCATION:The Holland Project\, 140 Vesta Street\, Reno\, NV\, 89502
CATEGORIES:Holiday,Music
ATTACH;FMTTYPE=image/webp:https://oldediblerenotahoe.com/wp-content/uploads/2023/12/4x6.webp
END:VEVENT
BEGIN:VEVENT
DTSTART;TZID=America/Los_Angeles:20231231T170000
DTEND;TZID=America/Los_Angeles:20231231T193000
DTSTAMP:20260424T102130
CREATED:20231213T180300Z
LAST-MODIFIED:20231222T224844Z
UID:35697-1704042000-1704051000@oldediblerenotahoe.com
SUMMARY:Grafted New Year's Eve Soirée
DESCRIPTION:Elevate your New Year’s Eve at Grafted’s exclusive soirée. Indulge in a sophisticated three-course meal meticulously curated for the occasion\, each course perfectly paired with exquisite sparkling wines. Delight your senses with a culinary journey that reflects elegance and refinement. The ambiance will be adorned with live music\, adding a touch of melodic charm to your evening.
URL:https://oldediblerenotahoe.com/event/grafted-new-years-eve-soiree/
LOCATION:Grafted Whiskey & Wine Bar\, 7300 Rancharrah Pkwy.\, Ste. 160\, Reno\, NV
CATEGORIES:21+,Food & Drink,Holiday
ATTACH;FMTTYPE=image/jpeg:https://oldediblerenotahoe.com/wp-content/uploads/2023/12/grafted-dinner-92-scaled-e1701040632740-2048x1154-1.jpeg
END:VEVENT
BEGIN:VEVENT
DTSTART;TZID=America/Los_Angeles:20231229T160000
DTEND;TZID=America/Los_Angeles:20231229T180000
DTSTAMP:20260424T102130
CREATED:20231213T181803Z
LAST-MODIFIED:20231213T181803Z
UID:35708-1703865600-1703872800@oldediblerenotahoe.com
SUMMARY:Palisades Tahoe Sunset Happy Hour
DESCRIPTION:This après experience is one of a kind! The breathtaking views allow you to take in the sights of Lake Tahoe\, as well as the snow capped peaks\, all while enjoying happy hour drink and food specials.
URL:https://oldediblerenotahoe.com/event/palisades-tahoe-sunset-happy-hour-2023-12-29/
LOCATION:Palisades Tahoe\, 1960 Squaw Valley Road\, Olympic Valley\, CA\, 96146
CATEGORIES:Activity,Food & Drink,Holiday
ATTACH;FMTTYPE=image/webp:https://oldediblerenotahoe.com/wp-content/uploads/2023/12/2021-12-16-PTOV-HighCampNewSnowEIP0397-jpg.webp
END:VEVENT
BEGIN:VEVENT
DTSTART;TZID=America/Los_Angeles:20231228T190000
DTEND;TZID=America/Los_Angeles:20231228T210000
DTSTAMP:20260424T102130
CREATED:20231115T213820Z
LAST-MODIFIED:20231115T213820Z
UID:35496-1703790000-1703797200@oldediblerenotahoe.com
SUMMARY:Christmas in Space: A Stellar Holiday Cirque
DESCRIPTION:Step into a world where intergalactic wonder meets Yuletide joy in “Christmas in Space\,” an electrifying extravaganza brought to you by Q Productions Las Vegas. Hold onto your (space) seats\, because this show features an unparalleled cast of acrobats\, daredevils\, and cirque performers who will leave you mesmerized. At the forefront of entertainment technology\, the show utilizes mind-blowing projection mapping and interactive lasers that redefine ‘holiday lights.’ Are you a thrill-seeker? Prepare to be astonished by The Cyclone\, a jaw-dropping daredevil act that suspends a Harley Davidson motorcycle—and its fearless rider—45 feet in the air. But that’s not all; the rider also tows two spectacularly fearless female acrobats performing dizzying aerials. Adding a dash of scientific marvel to the mix is Lady Light Lasergirl\, an award-winning laser performer who has dazzled audiences on Discovery Channel’s Outrageous Acts of Science and Fox Network’s Game of Talents. But what would Christmas be without heart? The show’s sentimental core centers on an inquisitive Alien who lands in a theater\, determined to abduct a Janitor for a holiday crash course. When he opens a Stargate\, his extraterrestrial buddies come rushing in\, and together they embark on a journey of discovering the true meaning of Christmas and the Holiday Season.
URL:https://oldediblerenotahoe.com/event/christmas-in-space-a-stellar-holiday-cirque-2023-12-28/
LOCATION:Grand Sierra Resort\, 2500 E 2nd St\, Reno\, NV
CATEGORIES:Holiday,Theatre
ATTACH;FMTTYPE=image/png:https://oldediblerenotahoe.com/wp-content/uploads/2023/11/IMG_1329.png
END:VEVENT
END:VCALENDAR