BEGIN:VCALENDAR
VERSION:2.0
PRODID:-//Edible Reno-Tahoe - ECPv6.15.20//NONSGML v1.0//EN
CALSCALE:GREGORIAN
METHOD:PUBLISH
X-WR-CALNAME:Edible Reno-Tahoe
X-ORIGINAL-URL:https://oldediblerenotahoe.com
X-WR-CALDESC:Events for Edible Reno-Tahoe
REFRESH-INTERVAL;VALUE=DURATION:PT1H
X-Robots-Tag:noindex
X-PUBLISHED-TTL:PT1H
BEGIN:VTIMEZONE
TZID:America/Los_Angeles
BEGIN:DAYLIGHT
TZOFFSETFROM:-0800
TZOFFSETTO:-0700
TZNAME:PDT
DTSTART:20230312T100000
END:DAYLIGHT
BEGIN:STANDARD
TZOFFSETFROM:-0700
TZOFFSETTO:-0800
TZNAME:PST
DTSTART:20231105T090000
END:STANDARD
BEGIN:DAYLIGHT
TZOFFSETFROM:-0800
TZOFFSETTO:-0700
TZNAME:PDT
DTSTART:20240310T100000
END:DAYLIGHT
BEGIN:STANDARD
TZOFFSETFROM:-0700
TZOFFSETTO:-0800
TZNAME:PST
DTSTART:20241103T090000
END:STANDARD
BEGIN:DAYLIGHT
TZOFFSETFROM:-0800
TZOFFSETTO:-0700
TZNAME:PDT
DTSTART:20250309T100000
END:DAYLIGHT
BEGIN:STANDARD
TZOFFSETFROM:-0700
TZOFFSETTO:-0800
TZNAME:PST
DTSTART:20251102T090000
END:STANDARD
END:VTIMEZONE
BEGIN:VEVENT
DTSTART;TZID=America/Los_Angeles:20240425T070000
DTEND;TZID=America/Los_Angeles:20240425T090000
DTSTAMP:20260424T181300
CREATED:20240216T231304Z
LAST-MODIFIED:20240216T231304Z
UID:37385-1714028400-1714035600@oldediblerenotahoe.com
SUMMARY:If You Can See It\, You Can Be It
DESCRIPTION:Jeff started his culinary career in the unlikeliest of places: prison. While serving for nearly ten years\, he discovered an untapped passion for cooking\, which led to executive chef positions at Bellagio and Caesars Palace. \nJeff’s inspiring story has been featured on Oprah’s Life Class\, Good Morning America\, Today Show\, ABC World News Tonight\, CNN\, The Steve Harvey Show\, and in major publications such as The New York Times\, Newsweek\, USA Today\, People Magazine\, the Washington Post\, and many others.
URL:https://oldediblerenotahoe.com/event/if-you-can-see-it-you-can-be-it/
LOCATION:National Automobile Museum\, 10 South Lake St.\, Reno\, 89501
CATEGORIES:Lecture
END:VEVENT
BEGIN:VEVENT
DTSTART;TZID=America/Los_Angeles:20240322T070000
DTEND;TZID=America/Los_Angeles:20240322T090000
DTSTAMP:20260424T181300
CREATED:20240216T230955Z
LAST-MODIFIED:20240216T230955Z
UID:37381-1711090800-1711098000@oldediblerenotahoe.com
SUMMARY:A Fireside Chat with President Sandoval
DESCRIPTION:
URL:https://oldediblerenotahoe.com/event/a-fireside-chat-with-president-sandoval/
LOCATION:National Automobile Museum\, 10 South Lake St.\, Reno\, 89501
CATEGORIES:Lecture
END:VEVENT
BEGIN:VEVENT
DTSTART;TZID=America/Los_Angeles:20240206T180000
DTEND;TZID=America/Los_Angeles:20240206T200000
DTSTAMP:20260424T181300
CREATED:20240216T230836Z
LAST-MODIFIED:20240216T230836Z
UID:37379-1707242400-1707249600@oldediblerenotahoe.com
SUMMARY:A Conversation with Governor Joe Lombardo
DESCRIPTION:
URL:https://oldediblerenotahoe.com/event/joelombardo/
LOCATION:National Automobile Museum\, 10 South Lake St.\, Reno\, 89501
CATEGORIES:Lecture
END:VEVENT
BEGIN:VEVENT
DTSTART;TZID=America/Los_Angeles:20240103T160000
DTEND;TZID=America/Los_Angeles:20240103T193000
DTSTAMP:20260424T181300
CREATED:20231216T210839Z
LAST-MODIFIED:20231216T210839Z
UID:35924-1704297600-1704310200@oldediblerenotahoe.com
SUMMARY:Lecture: What Makes Nevada Wild?
DESCRIPTION:Join experts from Nevada Department of Wildlife to explore what makes Nevada wild! NDOW representatives will open the door for museum visitors of all ages to learn more about the bats\, birds\, snakes and lizards of Nevada\, and learn how to become a confident\, competent and ethical outdoor enthusiast.
URL:https://oldediblerenotahoe.com/event/lecture-what-makes-nevada-wild/
LOCATION:Terry Lee Wells Discovery Museum\, 490 S. Center Street\, Reno\, NV\, 89501
CATEGORIES:Family friendly,Lecture
END:VEVENT
END:VCALENDAR