BEGIN:VCALENDAR
VERSION:2.0
PRODID:-//Edible Reno-Tahoe - ECPv6.15.20//NONSGML v1.0//EN
CALSCALE:GREGORIAN
METHOD:PUBLISH
X-ORIGINAL-URL:https://oldediblerenotahoe.com
X-WR-CALDESC:Events for Edible Reno-Tahoe
REFRESH-INTERVAL;VALUE=DURATION:PT1H
X-Robots-Tag:noindex
X-PUBLISHED-TTL:PT1H
BEGIN:VTIMEZONE
TZID:America/Los_Angeles
BEGIN:DAYLIGHT
TZOFFSETFROM:-0800
TZOFFSETTO:-0700
TZNAME:PDT
DTSTART:20220313T100000
END:DAYLIGHT
BEGIN:STANDARD
TZOFFSETFROM:-0700
TZOFFSETTO:-0800
TZNAME:PST
DTSTART:20221106T090000
END:STANDARD
BEGIN:DAYLIGHT
TZOFFSETFROM:-0800
TZOFFSETTO:-0700
TZNAME:PDT
DTSTART:20230312T100000
END:DAYLIGHT
BEGIN:STANDARD
TZOFFSETFROM:-0700
TZOFFSETTO:-0800
TZNAME:PST
DTSTART:20231105T090000
END:STANDARD
BEGIN:DAYLIGHT
TZOFFSETFROM:-0800
TZOFFSETTO:-0700
TZNAME:PDT
DTSTART:20240310T100000
END:DAYLIGHT
BEGIN:STANDARD
TZOFFSETFROM:-0700
TZOFFSETTO:-0800
TZNAME:PST
DTSTART:20241103T090000
END:STANDARD
END:VTIMEZONE
BEGIN:VEVENT
DTSTART;TZID=America/Los_Angeles:20231216T150000
DTEND;TZID=America/Los_Angeles:20231216T220000
DTSTAMP:20260425T100105
CREATED:20231128T021911Z
LAST-MODIFIED:20231128T021911Z
UID:35552-1702738800-1702764000@oldediblerenotahoe.com
SUMMARY:Tahoe Live
DESCRIPTION:
URL:https://oldediblerenotahoe.com/event/tahoe-live-2023-12-16/
LOCATION:Palisades Tahoe\, 1960 Squaw Valley Road\, Olympic Valley\, CA\, 96146
CATEGORIES:Festival,Music
ATTACH;FMTTYPE=image/png:https://oldediblerenotahoe.com/wp-content/uploads/2023/11/MicrosoftTeams-image-7.png
END:VEVENT
BEGIN:VEVENT
DTSTART;TZID=America/Los_Angeles:20231215T150000
DTEND;TZID=America/Los_Angeles:20231215T220000
DTSTAMP:20260425T100105
CREATED:20231128T021911Z
LAST-MODIFIED:20231128T021911Z
UID:35550-1702652400-1702677600@oldediblerenotahoe.com
SUMMARY:Tahoe Live
DESCRIPTION:
URL:https://oldediblerenotahoe.com/event/tahoe-live/
LOCATION:Palisades Tahoe\, 1960 Squaw Valley Road\, Olympic Valley\, CA\, 96146
CATEGORIES:Festival,Music
ATTACH;FMTTYPE=image/png:https://oldediblerenotahoe.com/wp-content/uploads/2023/11/MicrosoftTeams-image-7.png
END:VEVENT
BEGIN:VEVENT
DTSTART;TZID=America/Los_Angeles:20231210T140000
DTEND;TZID=America/Los_Angeles:20231210T160000
DTSTAMP:20260425T100105
CREATED:20231128T031454Z
LAST-MODIFIED:20231128T031454Z
UID:35613-1702216800-1702224000@oldediblerenotahoe.com
SUMMARY:Reno Phil's Spirit of the Season
DESCRIPTION:Relive your favorite holiday movie moments with the Reno Philharmonic’s Spirit of the Season concerts. You’ll be able to experience the magic of the movies as the Reno Phil Orchestra and Chorus plays cinematic scores from some of your favorite festive features!
URL:https://oldediblerenotahoe.com/event/reno-phils-spirit-of-the-season-2-2023-12-10/
LOCATION:Reno Philharmonic\, 925 Riverside Dr.\, Suite 3\, Reno\, NV
CATEGORIES:Holiday,Music
ATTACH;FMTTYPE=image/jpeg:https://oldediblerenotahoe.com/wp-content/uploads/2023/11/unnamed.jpg
END:VEVENT
BEGIN:VEVENT
DTSTART;TZID=America/Los_Angeles:20231209T190000
DTEND;TZID=America/Los_Angeles:20231209T210000
DTSTAMP:20260425T100105
CREATED:20231128T031454Z
LAST-MODIFIED:20231128T031454Z
UID:35612-1702148400-1702155600@oldediblerenotahoe.com
SUMMARY:Reno Phil's Spirit of the Season
DESCRIPTION:Relive your favorite holiday movie moments with the Reno Philharmonic’s Spirit of the Season concerts. You’ll be able to experience the magic of the movies as the Reno Phil Orchestra and Chorus plays cinematic scores from some of your favorite festive features!
URL:https://oldediblerenotahoe.com/event/reno-phils-spirit-of-the-season-2-2023-12-09-2/
LOCATION:Reno Philharmonic\, 925 Riverside Dr.\, Suite 3\, Reno\, NV
CATEGORIES:Holiday,Music
ATTACH;FMTTYPE=image/jpeg:https://oldediblerenotahoe.com/wp-content/uploads/2023/11/unnamed.jpg
END:VEVENT
BEGIN:VEVENT
DTSTART;TZID=America/Los_Angeles:20231209T173000
DTEND;TZID=America/Los_Angeles:20231209T203000
DTSTAMP:20260425T100105
CREATED:20231128T024301Z
LAST-MODIFIED:20231128T024301Z
UID:35569-1702143000-1702153800@oldediblerenotahoe.com
SUMMARY:Genoa Cowboy Country Christmas
DESCRIPTION:
URL:https://oldediblerenotahoe.com/event/genoa-cowboy-country-christmas/
LOCATION:Genoa Town Hall\, 2287 Main Street\, Minden\, NV
CATEGORIES:Holiday,Music
ATTACH;FMTTYPE=image/png:https://oldediblerenotahoe.com/wp-content/uploads/2023/11/Cowboy_Christmas_Logo.png
END:VEVENT
BEGIN:VEVENT
DTSTART;TZID=America/Los_Angeles:20231209T140000
DTEND;TZID=America/Los_Angeles:20231209T160000
DTSTAMP:20260425T100105
CREATED:20231128T031454Z
LAST-MODIFIED:20231128T031454Z
UID:35611-1702130400-1702137600@oldediblerenotahoe.com
SUMMARY:Reno Phil's Spirit of the Season
DESCRIPTION:Relive your favorite holiday movie moments with the Reno Philharmonic’s Spirit of the Season concerts. You’ll be able to experience the magic of the movies as the Reno Phil Orchestra and Chorus plays cinematic scores from some of your favorite festive features!
URL:https://oldediblerenotahoe.com/event/reno-phils-spirit-of-the-season-2-2023-12-09/
LOCATION:Reno Philharmonic\, 925 Riverside Dr.\, Suite 3\, Reno\, NV
CATEGORIES:Holiday,Music
ATTACH;FMTTYPE=image/jpeg:https://oldediblerenotahoe.com/wp-content/uploads/2023/11/unnamed.jpg
END:VEVENT
BEGIN:VEVENT
DTSTART;TZID=America/Los_Angeles:20231208T190000
DTEND;TZID=America/Los_Angeles:20231208T210000
DTSTAMP:20260425T100105
CREATED:20231128T031454Z
LAST-MODIFIED:20231128T031454Z
UID:35609-1702062000-1702069200@oldediblerenotahoe.com
SUMMARY:Reno Phil's Spirit of the Season
DESCRIPTION:Relive your favorite holiday movie moments with the Reno Philharmonic’s Spirit of the Season concerts. You’ll be able to experience the magic of the movies as the Reno Phil Orchestra and Chorus plays cinematic scores from some of your favorite festive features!
URL:https://oldediblerenotahoe.com/event/reno-phils-spirit-of-the-season-2/
LOCATION:Reno Philharmonic\, 925 Riverside Dr.\, Suite 3\, Reno\, NV
CATEGORIES:Holiday,Music
ATTACH;FMTTYPE=image/jpeg:https://oldediblerenotahoe.com/wp-content/uploads/2023/11/unnamed.jpg
END:VEVENT
BEGIN:VEVENT
DTSTART;TZID=America/Los_Angeles:20231203T140000
DTEND;TZID=America/Los_Angeles:20231203T160000
DTSTAMP:20260425T100105
CREATED:20231128T015745Z
LAST-MODIFIED:20231128T015745Z
UID:35527-1701612000-1701619200@oldediblerenotahoe.com
SUMMARY:Holiday Jazz: Music of the Season
DESCRIPTION:Join the Reno Jazz Orchestra for a festive musical extravaganza. This event features the Reno Youth Jazz Orchestra opening for the main act—a two-hour holiday jazz showcase directed by Dr. Doug Pierce and featuring vocalist Cliff Porter. \nImmerse yourself in the magic of the season with big band renditions of holiday classics\, including “Snow Samba\,” “Sugar Rum Cherry\,” “God Rest ye Trombones\,” “Let it Snow\,” and more. Bring friends and family for a joyous celebration\, as the orchestra\, renowned for its 17-piece ensemble\, sets the stage for an unforgettable holiday experience.
URL:https://oldediblerenotahoe.com/event/holiday-jazz-music-of-the-season/
LOCATION:The Theatre\, 505 Keystone Ave\, Reno\, NV\, 89503
CATEGORIES:Music,Nonprofit
ATTACH;FMTTYPE=image/jpeg:https://oldediblerenotahoe.com/wp-content/uploads/2023/11/Reno-Jazz-Orchestra-Holiday-Show.jpg
END:VEVENT
BEGIN:VEVENT
DTSTART;TZID=America/Los_Angeles:20231126T190000
DTEND;TZID=America/Los_Angeles:20231126T210000
DTSTAMP:20260425T100105
CREATED:20231115T214529Z
LAST-MODIFIED:20231115T214529Z
UID:35506-1701025200-1701032400@oldediblerenotahoe.com
SUMMARY:Dr. Seuss' How the Grinch Stole Christmas! The Musical
DESCRIPTION:Discover the magic of Dr. Seuss’ classic holiday tale as it comes to life on stage. Featuring the hit songs “You’re A Mean One\, Mr. Grinch” and “Welcome Christmas\,” The Grinch discovers there’s more to Christmas than he bargained for in this heart-warming holiday classic. Max the Dog narrates as the mean and scheming Grinch\, whose heart is “two sizes too small\,” decides to steal Christmas away from the Whos\, an endlessly cheerful bunch bursting with holiday spirit. Celebrate the holidays with the show The New York Times calls “100 times better than any bedtime story!”
URL:https://oldediblerenotahoe.com/event/dr-seuss-how-the-grinch-stole-christmas-the-musical-2023-11-26-2/
LOCATION:Pioneer Center\, 100 S. Virginia St.\, Reno\, NV\, 89501
CATEGORIES:Music,Theatre
ATTACH;FMTTYPE=image/png:https://oldediblerenotahoe.com/wp-content/uploads/2023/11/Reno_Grinch_2000x742.png
END:VEVENT
BEGIN:VEVENT
DTSTART;TZID=America/Los_Angeles:20231126T130000
DTEND;TZID=America/Los_Angeles:20231126T150000
DTSTAMP:20260425T100105
CREATED:20231115T214529Z
LAST-MODIFIED:20231115T214529Z
UID:35505-1701003600-1701010800@oldediblerenotahoe.com
SUMMARY:Dr. Seuss' How the Grinch Stole Christmas! The Musical
DESCRIPTION:Discover the magic of Dr. Seuss’ classic holiday tale as it comes to life on stage. Featuring the hit songs “You’re A Mean One\, Mr. Grinch” and “Welcome Christmas\,” The Grinch discovers there’s more to Christmas than he bargained for in this heart-warming holiday classic. Max the Dog narrates as the mean and scheming Grinch\, whose heart is “two sizes too small\,” decides to steal Christmas away from the Whos\, an endlessly cheerful bunch bursting with holiday spirit. Celebrate the holidays with the show The New York Times calls “100 times better than any bedtime story!”
URL:https://oldediblerenotahoe.com/event/dr-seuss-how-the-grinch-stole-christmas-the-musical-2023-11-26/
LOCATION:Pioneer Center\, 100 S. Virginia St.\, Reno\, NV\, 89501
CATEGORIES:Music,Theatre
ATTACH;FMTTYPE=image/png:https://oldediblerenotahoe.com/wp-content/uploads/2023/11/Reno_Grinch_2000x742.png
END:VEVENT
BEGIN:VEVENT
DTSTART;TZID=America/Los_Angeles:20231125T190000
DTEND;TZID=America/Los_Angeles:20231125T210000
DTSTAMP:20260425T100105
CREATED:20231115T214529Z
LAST-MODIFIED:20231115T214529Z
UID:35504-1700938800-1700946000@oldediblerenotahoe.com
SUMMARY:Dr. Seuss' How the Grinch Stole Christmas! The Musical
DESCRIPTION:Discover the magic of Dr. Seuss’ classic holiday tale as it comes to life on stage. Featuring the hit songs “You’re A Mean One\, Mr. Grinch” and “Welcome Christmas\,” The Grinch discovers there’s more to Christmas than he bargained for in this heart-warming holiday classic. Max the Dog narrates as the mean and scheming Grinch\, whose heart is “two sizes too small\,” decides to steal Christmas away from the Whos\, an endlessly cheerful bunch bursting with holiday spirit. Celebrate the holidays with the show The New York Times calls “100 times better than any bedtime story!”
URL:https://oldediblerenotahoe.com/event/dr-seuss-how-the-grinch-stole-christmas-the-musical-2023-11-25-2/
LOCATION:Pioneer Center\, 100 S. Virginia St.\, Reno\, NV\, 89501
CATEGORIES:Music,Theatre
ATTACH;FMTTYPE=image/png:https://oldediblerenotahoe.com/wp-content/uploads/2023/11/Reno_Grinch_2000x742.png
END:VEVENT
BEGIN:VEVENT
DTSTART;TZID=America/Los_Angeles:20231125T150000
DTEND;TZID=America/Los_Angeles:20231125T170000
DTSTAMP:20260425T100105
CREATED:20231115T214529Z
LAST-MODIFIED:20231115T214529Z
UID:35503-1700924400-1700931600@oldediblerenotahoe.com
SUMMARY:Dr. Seuss' How the Grinch Stole Christmas! The Musical
DESCRIPTION:Discover the magic of Dr. Seuss’ classic holiday tale as it comes to life on stage. Featuring the hit songs “You’re A Mean One\, Mr. Grinch” and “Welcome Christmas\,” The Grinch discovers there’s more to Christmas than he bargained for in this heart-warming holiday classic. Max the Dog narrates as the mean and scheming Grinch\, whose heart is “two sizes too small\,” decides to steal Christmas away from the Whos\, an endlessly cheerful bunch bursting with holiday spirit. Celebrate the holidays with the show The New York Times calls “100 times better than any bedtime story!”
URL:https://oldediblerenotahoe.com/event/dr-seuss-how-the-grinch-stole-christmas-the-musical-2023-11-25/
LOCATION:Pioneer Center\, 100 S. Virginia St.\, Reno\, NV\, 89501
CATEGORIES:Music,Theatre
ATTACH;FMTTYPE=image/png:https://oldediblerenotahoe.com/wp-content/uploads/2023/11/Reno_Grinch_2000x742.png
END:VEVENT
BEGIN:VEVENT
DTSTART;TZID=America/Los_Angeles:20231124T190000
DTEND;TZID=America/Los_Angeles:20231124T210000
DTSTAMP:20260425T100105
CREATED:20231115T214529Z
LAST-MODIFIED:20231115T214529Z
UID:35502-1700852400-1700859600@oldediblerenotahoe.com
SUMMARY:Dr. Seuss' How the Grinch Stole Christmas! The Musical
DESCRIPTION:Discover the magic of Dr. Seuss’ classic holiday tale as it comes to life on stage. Featuring the hit songs “You’re A Mean One\, Mr. Grinch” and “Welcome Christmas\,” The Grinch discovers there’s more to Christmas than he bargained for in this heart-warming holiday classic. Max the Dog narrates as the mean and scheming Grinch\, whose heart is “two sizes too small\,” decides to steal Christmas away from the Whos\, an endlessly cheerful bunch bursting with holiday spirit. Celebrate the holidays with the show The New York Times calls “100 times better than any bedtime story!”
URL:https://oldediblerenotahoe.com/event/dr-seuss-how-the-grinch-stole-christmas-the-musical-2023-11-24-2/
LOCATION:Pioneer Center\, 100 S. Virginia St.\, Reno\, NV\, 89501
CATEGORIES:Music,Theatre
ATTACH;FMTTYPE=image/png:https://oldediblerenotahoe.com/wp-content/uploads/2023/11/Reno_Grinch_2000x742.png
END:VEVENT
BEGIN:VEVENT
DTSTART;TZID=America/Los_Angeles:20231124T150000
DTEND;TZID=America/Los_Angeles:20231124T170000
DTSTAMP:20260425T100105
CREATED:20231115T214529Z
LAST-MODIFIED:20231115T214529Z
UID:35501-1700838000-1700845200@oldediblerenotahoe.com
SUMMARY:Dr. Seuss' How the Grinch Stole Christmas! The Musical
DESCRIPTION:Discover the magic of Dr. Seuss’ classic holiday tale as it comes to life on stage. Featuring the hit songs “You’re A Mean One\, Mr. Grinch” and “Welcome Christmas\,” The Grinch discovers there’s more to Christmas than he bargained for in this heart-warming holiday classic. Max the Dog narrates as the mean and scheming Grinch\, whose heart is “two sizes too small\,” decides to steal Christmas away from the Whos\, an endlessly cheerful bunch bursting with holiday spirit. Celebrate the holidays with the show The New York Times calls “100 times better than any bedtime story!”
URL:https://oldediblerenotahoe.com/event/dr-seuss-how-the-grinch-stole-christmas-the-musical-2023-11-24/
LOCATION:Pioneer Center\, 100 S. Virginia St.\, Reno\, NV\, 89501
CATEGORIES:Music,Theatre
ATTACH;FMTTYPE=image/png:https://oldediblerenotahoe.com/wp-content/uploads/2023/11/Reno_Grinch_2000x742.png
END:VEVENT
BEGIN:VEVENT
DTSTART;TZID=America/Los_Angeles:20231122T190000
DTEND;TZID=America/Los_Angeles:20231122T210000
DTSTAMP:20260425T100105
CREATED:20231115T214529Z
LAST-MODIFIED:20231115T214529Z
UID:35500-1700679600-1700686800@oldediblerenotahoe.com
SUMMARY:Dr. Seuss' How the Grinch Stole Christmas! The Musical
DESCRIPTION:Discover the magic of Dr. Seuss’ classic holiday tale as it comes to life on stage. Featuring the hit songs “You’re A Mean One\, Mr. Grinch” and “Welcome Christmas\,” The Grinch discovers there’s more to Christmas than he bargained for in this heart-warming holiday classic. Max the Dog narrates as the mean and scheming Grinch\, whose heart is “two sizes too small\,” decides to steal Christmas away from the Whos\, an endlessly cheerful bunch bursting with holiday spirit. Celebrate the holidays with the show The New York Times calls “100 times better than any bedtime story!”
URL:https://oldediblerenotahoe.com/event/dr-seuss-how-the-grinch-stole-christmas-the-musical-2023-11-22/
LOCATION:Pioneer Center\, 100 S. Virginia St.\, Reno\, NV\, 89501
CATEGORIES:Music,Theatre
ATTACH;FMTTYPE=image/png:https://oldediblerenotahoe.com/wp-content/uploads/2023/11/Reno_Grinch_2000x742.png
END:VEVENT
BEGIN:VEVENT
DTSTART;TZID=America/Los_Angeles:20231121T190000
DTEND;TZID=America/Los_Angeles:20231121T210000
DTSTAMP:20260425T100105
CREATED:20231115T214529Z
LAST-MODIFIED:20231115T214529Z
UID:35498-1700593200-1700600400@oldediblerenotahoe.com
SUMMARY:Dr. Seuss' How the Grinch Stole Christmas! The Musical
DESCRIPTION:Discover the magic of Dr. Seuss’ classic holiday tale as it comes to life on stage. Featuring the hit songs “You’re A Mean One\, Mr. Grinch” and “Welcome Christmas\,” The Grinch discovers there’s more to Christmas than he bargained for in this heart-warming holiday classic. Max the Dog narrates as the mean and scheming Grinch\, whose heart is “two sizes too small\,” decides to steal Christmas away from the Whos\, an endlessly cheerful bunch bursting with holiday spirit. Celebrate the holidays with the show The New York Times calls “100 times better than any bedtime story!”
URL:https://oldediblerenotahoe.com/event/dr-seuss-how-the-grinch-stole-christmas-the-musical/
LOCATION:Pioneer Center\, 100 S. Virginia St.\, Reno\, NV\, 89501
CATEGORIES:Music,Theatre
ATTACH;FMTTYPE=image/png:https://oldediblerenotahoe.com/wp-content/uploads/2023/11/Reno_Grinch_2000x742.png
END:VEVENT
BEGIN:VEVENT
DTSTART;TZID=America/Los_Angeles:20231119T190000
DTEND;TZID=America/Los_Angeles:20231119T210000
DTSTAMP:20260425T100105
CREATED:20231103T020222Z
LAST-MODIFIED:20231103T020222Z
UID:35309-1700420400-1700427600@oldediblerenotahoe.com
SUMMARY:Disney's The Lion King
DESCRIPTION:
URL:https://oldediblerenotahoe.com/event/disneys-the-lion-king-2023-11-19-2/
LOCATION:Grand Sierra Resort\, 2500 E 2nd St\, Reno\, NV
CATEGORIES:Music,Theatre
END:VEVENT
BEGIN:VEVENT
DTSTART;TZID=America/Los_Angeles:20231119T130000
DTEND;TZID=America/Los_Angeles:20231119T170000
DTSTAMP:20260425T100105
CREATED:20231103T020222Z
LAST-MODIFIED:20231103T020222Z
UID:35308-1700398800-1700413200@oldediblerenotahoe.com
SUMMARY:Disney's The Lion King
DESCRIPTION:
URL:https://oldediblerenotahoe.com/event/disneys-the-lion-king-2023-11-19/
LOCATION:Grand Sierra Resort\, 2500 E 2nd St\, Reno\, NV
CATEGORIES:Music,Theatre
END:VEVENT
BEGIN:VEVENT
DTSTART;TZID=America/Los_Angeles:20231118T200000
DTEND;TZID=America/Los_Angeles:20231118T220000
DTSTAMP:20260425T100105
CREATED:20231103T020222Z
LAST-MODIFIED:20231103T020222Z
UID:35307-1700337600-1700344800@oldediblerenotahoe.com
SUMMARY:Disney's The Lion King
DESCRIPTION:
URL:https://oldediblerenotahoe.com/event/disneys-the-lion-king-2023-11-18-2/
LOCATION:Grand Sierra Resort\, 2500 E 2nd St\, Reno\, NV
CATEGORIES:Music,Theatre
END:VEVENT
BEGIN:VEVENT
DTSTART;TZID=America/Los_Angeles:20231118T140000
DTEND;TZID=America/Los_Angeles:20231118T170000
DTSTAMP:20260425T100105
CREATED:20231103T020222Z
LAST-MODIFIED:20231103T020222Z
UID:35306-1700316000-1700326800@oldediblerenotahoe.com
SUMMARY:Disney's The Lion King
DESCRIPTION:
URL:https://oldediblerenotahoe.com/event/disneys-the-lion-king-2023-11-18/
LOCATION:Grand Sierra Resort\, 2500 E 2nd St\, Reno\, NV
CATEGORIES:Music,Theatre
END:VEVENT
BEGIN:VEVENT
DTSTART;TZID=America/Los_Angeles:20231118T100000
DTEND;TZID=America/Los_Angeles:20231118T150000
DTSTAMP:20260425T100105
CREATED:20231106T214857Z
LAST-MODIFIED:20231106T214857Z
UID:35370-1700301600-1700319600@oldediblerenotahoe.com
SUMMARY:Holiday Music & Art Festival
DESCRIPTION:Sierra Arts Foundation\, a nonprofit that advocates for arts and the artists that create it within a 200 mile radius of the Reno\, Sparks region\, is hosting the first Holiday Music and Art Festival in partnership with the Carson City Parks and Recreation department at Silver Saddle Ranch on November 18 from 10 a.m. to 3 p.m. The event is free to the public and will feature artists\, vendors\, musicians and other nonprofit groups in advance of the holiday season.
URL:https://oldediblerenotahoe.com/event/holiday-music-art-festival/
LOCATION:Silver Saddle Ranch\, Carson City\, NV
CATEGORIES:Arts,Festival,Holiday,Music
END:VEVENT
BEGIN:VEVENT
DTSTART;TZID=America/Los_Angeles:20231117T200000
DTEND;TZID=America/Los_Angeles:20231117T220000
DTSTAMP:20260425T100105
CREATED:20231103T020222Z
LAST-MODIFIED:20231103T020222Z
UID:35305-1700251200-1700258400@oldediblerenotahoe.com
SUMMARY:Disney's The Lion King
DESCRIPTION:
URL:https://oldediblerenotahoe.com/event/disneys-the-lion-king-2023-11-17/
LOCATION:Grand Sierra Resort\, 2500 E 2nd St\, Reno\, NV
CATEGORIES:Music,Theatre
END:VEVENT
BEGIN:VEVENT
DTSTART;TZID=America/Los_Angeles:20231116T193000
DTEND;TZID=America/Los_Angeles:20231116T213000
DTSTAMP:20260425T100105
CREATED:20231103T020222Z
LAST-MODIFIED:20231103T020222Z
UID:35304-1700163000-1700170200@oldediblerenotahoe.com
SUMMARY:Disney's The Lion King
DESCRIPTION:
URL:https://oldediblerenotahoe.com/event/disneys-the-lion-king-2023-11-16-2/
LOCATION:Grand Sierra Resort\, 2500 E 2nd St\, Reno\, NV
CATEGORIES:Music,Theatre
END:VEVENT
BEGIN:VEVENT
DTSTART;TZID=America/Los_Angeles:20231116T130000
DTEND;TZID=America/Los_Angeles:20231116T170000
DTSTAMP:20260425T100105
CREATED:20231103T020222Z
LAST-MODIFIED:20231103T020222Z
UID:35303-1700139600-1700154000@oldediblerenotahoe.com
SUMMARY:Disney's The Lion King
DESCRIPTION:
URL:https://oldediblerenotahoe.com/event/disneys-the-lion-king-2023-11-16/
LOCATION:Grand Sierra Resort\, 2500 E 2nd St\, Reno\, NV
CATEGORIES:Music,Theatre
END:VEVENT
BEGIN:VEVENT
DTSTART;TZID=America/Los_Angeles:20231115T193000
DTEND;TZID=America/Los_Angeles:20231115T213000
DTSTAMP:20260425T100105
CREATED:20231103T020222Z
LAST-MODIFIED:20231103T020222Z
UID:35302-1700076600-1700083800@oldediblerenotahoe.com
SUMMARY:Disney's The Lion King
DESCRIPTION:
URL:https://oldediblerenotahoe.com/event/disneys-the-lion-king-2023-11-15/
LOCATION:Grand Sierra Resort\, 2500 E 2nd St\, Reno\, NV
CATEGORIES:Music,Theatre
END:VEVENT
BEGIN:VEVENT
DTSTART;TZID=America/Los_Angeles:20231114T193000
DTEND;TZID=America/Los_Angeles:20231114T213000
DTSTAMP:20260425T100105
CREATED:20231103T020222Z
LAST-MODIFIED:20231103T020222Z
UID:35301-1699990200-1699997400@oldediblerenotahoe.com
SUMMARY:Disney's The Lion King
DESCRIPTION:
URL:https://oldediblerenotahoe.com/event/disneys-the-lion-king-2023-11-14/
LOCATION:Grand Sierra Resort\, 2500 E 2nd St\, Reno\, NV
CATEGORIES:Music,Theatre
END:VEVENT
BEGIN:VEVENT
DTSTART;TZID=America/Los_Angeles:20231114T170000
DTEND;TZID=America/Los_Angeles:20231114T170000
DTSTAMP:20260425T100105
CREATED:20231106T221055Z
LAST-MODIFIED:20231106T221055Z
UID:35384-1699981200-1699981200@oldediblerenotahoe.com
SUMMARY:Cocktails with Kelly
DESCRIPTION:Join the Reno Chamber Orchestra’s Maestro Kelly Kuo for happy hour cocktails at the Revive Bar in the Element Hotel Lobby. Each attendee will receive one complimentary beer or wine drink ticket courtesy of the Element Hotel\, the Reno Chamber Orchestra’s partner for out of town musician lodging for the 23/24 season! Additional drinks and light bites are available for purchase.
URL:https://oldediblerenotahoe.com/event/cocktails-with-kelly/
LOCATION:Revive Bar in the Element Hotel Lobby\, 2030 Element Lane\, Reno
CATEGORIES:21+,Beer,Music,Wine
ATTACH;FMTTYPE=image/jpeg:https://oldediblerenotahoe.com/wp-content/uploads/2023/11/kelly.jpg
END:VEVENT
BEGIN:VEVENT
DTSTART;TZID=America/Los_Angeles:20231112T200000
DTEND;TZID=America/Los_Angeles:20231112T220000
DTSTAMP:20260425T100105
CREATED:20231103T020222Z
LAST-MODIFIED:20231103T020222Z
UID:35300-1699819200-1699826400@oldediblerenotahoe.com
SUMMARY:Disney's The Lion King
DESCRIPTION:
URL:https://oldediblerenotahoe.com/event/disneys-the-lion-king-2023-11-12-2/
LOCATION:Grand Sierra Resort\, 2500 E 2nd St\, Reno\, NV
CATEGORIES:Music,Theatre
END:VEVENT
BEGIN:VEVENT
DTSTART;TZID=America/Los_Angeles:20231112T160000
DTEND;TZID=America/Los_Angeles:20231112T180000
DTSTAMP:20260425T100105
CREATED:20231103T021111Z
LAST-MODIFIED:20231103T021111Z
UID:35314-1699804800-1699812000@oldediblerenotahoe.com
SUMMARY:Nakamatsu Plays Brahms
DESCRIPTION:Audience favorite Jon Nakamatsu returns to Reno to perform the Brahms Piano Concerto No. 1 – surging with youthful fire\, tender passion\, and thunderous power. Written when Brahms was only 25 years old\, the piano concerto is one of music history’s most monumental and stunning creative achievements. The program opens with a composition from Nigerian composer Nkeiru Okoye\, a response to the 9/11 tragedy. In her words\, “It was a march to acknowledge those fighting on our behalf of our safety\, and yet a sparkling celebration of life for those who continue living.” Sibelius No. 6 speaks to the soul while evoking the change in seasons due to its interplay with the listener’s senses.
URL:https://oldediblerenotahoe.com/event/nakamatsu-plays-brahms-2023-11-12/
LOCATION:Reno Philharmonic\, 925 Riverside Dr.\, Suite 3\, Reno\, NV
CATEGORIES:Music
END:VEVENT
BEGIN:VEVENT
DTSTART;TZID=America/Los_Angeles:20231112T130000
DTEND;TZID=America/Los_Angeles:20231112T150000
DTSTAMP:20260425T100105
CREATED:20231103T020222Z
LAST-MODIFIED:20231103T020222Z
UID:35299-1699794000-1699801200@oldediblerenotahoe.com
SUMMARY:Disney's The Lion King
DESCRIPTION:
URL:https://oldediblerenotahoe.com/event/disneys-the-lion-king-2023-11-12/
LOCATION:Grand Sierra Resort\, 2500 E 2nd St\, Reno\, NV
CATEGORIES:Music,Theatre
END:VEVENT
END:VCALENDAR