BEGIN:VCALENDAR
VERSION:2.0
PRODID:-//Edible Reno-Tahoe - ECPv6.15.20//NONSGML v1.0//EN
CALSCALE:GREGORIAN
METHOD:PUBLISH
X-WR-CALNAME:Edible Reno-Tahoe
X-ORIGINAL-URL:https://oldediblerenotahoe.com
X-WR-CALDESC:Events for Edible Reno-Tahoe
REFRESH-INTERVAL;VALUE=DURATION:PT1H
X-Robots-Tag:noindex
X-PUBLISHED-TTL:PT1H
BEGIN:VTIMEZONE
TZID:America/Los_Angeles
BEGIN:DAYLIGHT
TZOFFSETFROM:-0800
TZOFFSETTO:-0700
TZNAME:PDT
DTSTART:20230312T100000
END:DAYLIGHT
BEGIN:STANDARD
TZOFFSETFROM:-0700
TZOFFSETTO:-0800
TZNAME:PST
DTSTART:20231105T090000
END:STANDARD
BEGIN:DAYLIGHT
TZOFFSETFROM:-0800
TZOFFSETTO:-0700
TZNAME:PDT
DTSTART:20240310T100000
END:DAYLIGHT
BEGIN:STANDARD
TZOFFSETFROM:-0700
TZOFFSETTO:-0800
TZNAME:PST
DTSTART:20241103T090000
END:STANDARD
BEGIN:DAYLIGHT
TZOFFSETFROM:-0800
TZOFFSETTO:-0700
TZNAME:PDT
DTSTART:20250309T100000
END:DAYLIGHT
BEGIN:STANDARD
TZOFFSETFROM:-0700
TZOFFSETTO:-0800
TZNAME:PST
DTSTART:20251102T090000
END:STANDARD
END:VTIMEZONE
BEGIN:VEVENT
DTSTART;TZID=America/Los_Angeles:20240727T163000
DTEND;TZID=America/Los_Angeles:20240727T213000
DTSTAMP:20260425T211355
CREATED:20240504T171944Z
LAST-MODIFIED:20240504T171944Z
UID:38422-1722097800-1722115800@oldediblerenotahoe.com
SUMMARY:Horses & Harmony Benefit Concert
DESCRIPTION:Every year\, LEAD with Horses puts on a benefit concert\, fundraiser\, and auction to raise money and build awareness for the work we do in equine assisted therapy. \nHorses & Harmony brings community members together to enjoy music\, the outdoors and to raise funds to support life-changing horse programs. The concert features Reno’s Decoy band. Your support can help to make this event a true success.
URL:https://oldediblerenotahoe.com/event/horses-harmony-benefit-concert/
LOCATION:LEAD with Horses\, 19440 Annie Lane\, Reno\, NV\, 89521
CATEGORIES:Nonprofit
END:VEVENT
END:VCALENDAR