BEGIN:VCALENDAR
VERSION:2.0
PRODID:-//Edible Reno-Tahoe - ECPv6.15.20//NONSGML v1.0//EN
CALSCALE:GREGORIAN
METHOD:PUBLISH
X-ORIGINAL-URL:https://oldediblerenotahoe.com
X-WR-CALDESC:Events for Edible Reno-Tahoe
REFRESH-INTERVAL;VALUE=DURATION:PT1H
X-Robots-Tag:noindex
X-PUBLISHED-TTL:PT1H
BEGIN:VTIMEZONE
TZID:America/Los_Angeles
BEGIN:DAYLIGHT
TZOFFSETFROM:-0800
TZOFFSETTO:-0700
TZNAME:PDT
DTSTART:20230312T100000
END:DAYLIGHT
BEGIN:STANDARD
TZOFFSETFROM:-0700
TZOFFSETTO:-0800
TZNAME:PST
DTSTART:20231105T090000
END:STANDARD
BEGIN:DAYLIGHT
TZOFFSETFROM:-0800
TZOFFSETTO:-0700
TZNAME:PDT
DTSTART:20240310T100000
END:DAYLIGHT
BEGIN:STANDARD
TZOFFSETFROM:-0700
TZOFFSETTO:-0800
TZNAME:PST
DTSTART:20241103T090000
END:STANDARD
BEGIN:DAYLIGHT
TZOFFSETFROM:-0800
TZOFFSETTO:-0700
TZNAME:PDT
DTSTART:20250309T100000
END:DAYLIGHT
BEGIN:STANDARD
TZOFFSETFROM:-0700
TZOFFSETTO:-0800
TZNAME:PST
DTSTART:20251102T090000
END:STANDARD
END:VTIMEZONE
BEGIN:VEVENT
DTSTART;TZID=America/Los_Angeles:20240815T163000
DTEND;TZID=America/Los_Angeles:20240815T213000
DTSTAMP:20260425T211902
CREATED:20240216T231912Z
LAST-MODIFIED:20240624T192054Z
UID:37394-1723739400-1723757400@oldediblerenotahoe.com
SUMMARY:KTMB Raise the River
DESCRIPTION:KTMB’s annual Raise the River Fundraiser\, powered by NV Energy Foundation\, is back this year with a new look and feel! Join us for a casual evening on the National Automobile Museum patio along the banks of the Truckee River. Enjoy a mix-and-mingle cocktail reception with libations and unique sensory experiences with our sponsors. Consider splurging a little and be part of the Panasonic Energy Raised Experience Lounge\, which will offer appetizers and a commemorative glass filled with a unique cocktail from High Mark Distillery. Following this\, a delectable dinner will be served family-style\, with sweet treats from Grand Sierra Resort. There will also be prizes\, raffles\, and fun fundraising for a great cause.
URL:https://oldediblerenotahoe.com/event/ktmb-raise-the-river/
CATEGORIES:Nonprofit
END:VEVENT
END:VCALENDAR